{"text_format":"1","workbook":"xlsx","n_sheets":25,"sheets":["メニュー","Sheet1","Sheet2","Sheet3","Sheet5","houkoku_ari","houkoku_nashi","Sheet8","Sheet9","tmpTokureiBunkatsuList","MASTA","WORK","WORK2","WORK4","syo3_data6_work","Sheet6","Sheet7","Specific_stime","納付金・調整金","納付金・調整金8","報奨金","特例給付金","Sheet10","Sheet11","printTokureiBunkatsuList"],"not_rendered":{"charts":0,"images":46,"macros":1,"external_links":0,"defined_names":32,"comments":0,"pivot_tables":0},"unopened":[],"bounds":{"document_bytes":16777216,"sheet_cells":100000,"rows_first":2000,"rows_last":500,"rows_between":2000,"halvings":0,"cell_chars":16384,"cell_head_chars":4096},"cells_cut":0,"cells_raw":0,"read":"whole","date_system":"1900"}

{"sheet":"メニュー","index":0,"n_rows":120,"n_cols":34,"rows_kept":120,"cut":false,"hidden":false,"merged":[[0,0,1,38],[2,0,2,38],[17,1,18,9],[43,33,44,35],[41,1,42,9],[110,1,110,36],[3,0,3,38],[7,11,8,12],[35,1,36,9],[35,33,36,35],[26,33,27,35],[7,33,8,35],[26,1,27,9],[7,13,8,16],[12,33,13,35],[17,33,18,35],[7,17,8,18],[33,1,33,35],[7,1,8,10],[12,1,13,9]]}
["障害者雇用納付金申告書、障害者雇用調整金、在宅就業障害者特例調整金及び特例給付金支給申請書"]
[]
["報奨金、在宅就業障害者特例報奨金及び特例給付金支給申請書"]
["並びに特例給付金支給申請書（Version12.0.0）"]
[]
[null,"以下の項目を１から順に入力して下さい。"]
[]
[null,"１．申告・申請年度",null,null,null,null,null,null,null,null,null,"令和",null,5,null,null,null,"年度",null,null,null,null,null,null,null,null,null,null,null,null,null,null,null,{"$f":"IF($N$8=\"\",\"未入力\",\"入力済\")","v":"入力済"}]
[]
[null,null,null,null,null,null,null,null,null,null,null,"↑申告・申請する年度を選択して下さい。"]
[null,null,null,null,null,null,null,null,null,null,null,"（例：令和 5年度 ＝R04年4月～R05年3月の申告・申請内容）"]
[null,"※バックアップデータを活用される場合は、9で取り込みを行ってください。"]
[null,"２．事業主情報入力",null,null,null,null,null,null,null,null,null,null,null,null,null,null,null,null,null,null,null,null,null,null,null,null,null,null,null,null,null,null,null,{"$f":"IF(Sheet1!$C$3=\"\",\"未入力\",\"入力済\")","v":"未入力"}]
[]
[null,null,null,null,null,null,null,null,null,null,null,"↑クリックし、事業主情報を入力して下さい。"]
[]
[]
[null,"３．事業所情報入力",null,null,null,null,null,null,null,null,null,null,null,null,null,null,null,null,null,null,null,null,null,null,null,null,null,null,null,null,null,null,null,{"$f":"IF(Sheet2!$R$2=0,\"未入力\",\"入力済\")","v":"未入力"}]
[]
[null,null,null,null,null,null,null,null,null,null,null,"↑クリックし、新規事業所情報を入力して下さい。"]
[]
[]
[]
[null,null,null,null,null,null,null,null,null,null,null,"↑クリックすると、登録済み事業所の一覧が表示されます。"]
[null,"※事業所を削除した場合は、必ず10で再採番処理を行ってください。"]
[]
[null,"４．障害者情報入力",null,null,null,null,null,null,null,null,null,null,null,null,null,null,null,null,null,null,null,null,null,null,null,null,null,null,null,null,null,null,null,{"$f":"IF(Sheet3!$Q$1=0,\"未入力\",\"入力済\")","v":"未入力"}]
[]
[null,null,null,null,null,null,null,null,null,null,null,"↑クリックし、新規障害者情報を入力して下さい。"]
[]
[]
[]
[null,null,null,null,null,null,null,null,null,null,null,"↑クリックすると、登録済み障害者の一覧が表示されます。"]
[null,"※バックアップデータを活用される場合は、所定及び実労働時間等の確認・修正を行って下さい。"]
[]
[null,"５．申告・申請金額計算",null,null,null,null,null,null,null,null,null,null,null,null,null,null,null,null,null,null,null,null,null,null,null,null,null,null,null,null,null,null,null,{"$f":"IF(MASTA!$D$13>0,\"計算済\",\"未計算\")","v":"未計算"}]
[]
[null,null,null,null,null,null,null,null,null,null,null,"↑クリックすると、申告・申請金額の自動計算および、"]
[null,null,null,null,null,null,null,null,null,null,null,"　 報告書Ⅰ、Ⅱを作成します。"]
[null,null,null,null,null,null,null,null,null,null,null,"　 エラーがある場合は、該当箇所を表示します。"]
[]
[null,"６．申告・申請情報入力"]
[]
[null,null,null,null,null,null,null,null,null,null,{"$f":"IF(MASTA!$D$17>0,IF(MASTA!$D$17<11,SUBSTITUTE(VLOOKUP(MASTA!$D$17,MASTA!AS2:AT11,2,FALSE),\"納付金・調整金8\",\"納付金・調整金\"),\"\"),\"\")","v":""},null,null,null,null,null,null,null,null,null,{"$f":"IF(MASTA!$D$17>0,IF(MASTA!$D$17<10,VLOOKUP(MASTA!$D$17,MASTA!AS2:AU11,3,FALSE),\"\"),\"\")","v":""},null,null,null,null,null,null,null,null,null,null,null,null,{"$f":"IF(MASTA!$D$17>0,IF(OR(MASTA!$D$17<9,MASTA!$D$17=10),IF(MASTA!$D$21>0,\"入力済\",\"未入力\"),\"\"),\"未入力\")","v":"未入力"}]
[]
[null,null,null,null,null,null,null,null,null,null,null,"↑クリックし、申告・申請情報を入力して下さい。"]
[null,null,null,null,null,null,null,null,null,null,null,"　 「申告・申請金額計算」を実行しないと、入力出来ません。"]
[null,null,null,{"$f":"IF(AND(納付金調整金相殺額<=0,報奨金申請額=0,特例給付金申請額=0),\"\",IF(MASTA!$D$17>0,IF(OR(MASTA!$D$17<8,MASTA!$D$17=10),MASTA!$BC$2,\"\"),\"\"))","v":""}]
[null,null,null,{"$f":"IF(AND(納付金調整金相殺額<=0,報奨金申請額=0,特例給付金申請額=0),\"\",IF(MASTA!$D$17>0,IF(OR(MASTA!$D$17<8,MASTA!$D$17=10),MASTA!$BC$3,\"\"),\"\"))","v":""}]
[null,null,null,{"$f":"IF(AND(納付金調整金相殺額<=0,報奨金申請額=0,特例給付金申請額=0),\"\",IF(MASTA!$D$17>0,IF(OR(MASTA!$D$17<8,MASTA!$D$17=10),MASTA!$BC$4,\"\"),\"\"))","v":""}]
[null,null,null,{"$f":"IF(AND(納付金調整金相殺額<=0,報奨金申請額=0,特例給付金申請額=0),\"\",IF(MASTA!$D$17>0,IF(OR(MASTA!$D$17<8,MASTA!$D$17=10),MASTA!$BC$5,\"\"),\"\"))","v":""}]
[null,null,null,{"$f":"IF(AND(納付金調整金相殺額<=0,報奨金申請額=0,特例給付金申請額=0),\"\",IF(MASTA!$D$17>0,IF(OR(MASTA!$D$17<8,MASTA!$D$17=10),MASTA!$BC$6,\"\"),\"\"))","v":""}]
[null,null,null,{"$f":"IF(AND(納付金調整金相殺額<=0,報奨金申請額=0,特例給付金申請額=0),\"\",IF(MASTA!$D$17>0,IF(OR(MASTA!$D$17<8,MASTA!$D$17=10),MASTA!$BC$7,\"\"),\"\"))","v":""}]
[]
[null,null,null,null,null,null,null,null,null,null,null,"　 以下のボタンから、各様式を表示し、内容を確認して下さい。"]
[null,null,null,null,null,null,null,null,null,null,null,"　 修正箇所がある場合は、該当箇所に戻り修正する事が可能です。"]
[null,"【内容確認画面】",null,null,null,null,null,null,null,null,null,"　"]
[]
[]
[]
[null,null,{"$f":"IF(MASTA!$D$17>0,IF(MASTA!$D$17<9,\"↑\"&VLOOKUP(MASTA!$D$17,MASTA!AS2:AT9,2,FALSE)&\"を表示\",\"↑申告・申請書を表示\"),\"↑申告・申請書を表示\")","v":"↑申告・申請書を表示"},null,null,null,null,null,null,null,null,null,null,"↑分割支給先一覧表（調整金）を表示",null,null,null,null,null,null,null,null,null,null,null,"↑報告書Ⅰを表示"]
[]
[]
[]
[null,null,null,null,null,null,null,null,null,null,null,null,null,null,null,null,null,null,null,null,null,null,null,null,null,"↑報告書Ⅱ（常用）を表示"]
[]
[]
[null,null,{"$f":"IF(MASTA!$D$19>0,IF(MASTA!$D$19<7,\"↑\"&VLOOKUP(MASTA!$D$19,MASTA!AS2:AT9,2,FALSE)&\"を表示\",\"\"),\"\")","v":""},null,null,null,null,null,null,null,null,null,null,"↑分割支給先一覧表（報奨金）を表示"]
[null,null,null,null,null,null,null,null,null,null,null,null,null,null,null,null,null,null,null,null,null,null,null,null,null,"↑報告書Ⅱ（短時間）を表示"]
[]
[]
[]
[null,null,null,null,null,null,null,null,null,null,null,null,null,"↑分割支給先一覧表(特例給付金のみ)を表示",null,null,null,null,null,null,null,null,null,null,null,"↑報告書Ⅱ(特定短時間)を表示"]
[]
[]
[]
[null,"７．印刷"]
[]
[null,null,null,null,null,null,null,null,null,null,"↑クリックし、申告・申請書類を印刷して下さい。"]
[null,"※全てのシートが出力されます。該当シートのみ出力したい場合は、内容確認画面から出力してください。"]
[null,"８．提出方法"]
[null,"　　Ⅰの申告申請窓口へ提出かⅡの電子申告申請による提出のいずれか一方により提出してください。"]
[]
[null,"Ⅰ","申告申請窓口へ提出",null,null,null,null,null,null,null,null,null,null,null,null,null,null,null,"Ⅱ","電子申告申請による提出"]
[null,null,null,null,null,null,null,null,null,null,null,null,null,null,null,null,null,null,"※別途ＩＤ、パスワードが必要です。"]
[null,null,"印刷した申告・申請書等(各2部：正・",null,null,null,null,null,null,null,null,null,null,null,null,null,null,null,null,"①","電子申告申請データの作成"]
[null,null,"受付窓口控)を管轄の申告申請窓口に"]
[null,null,"郵送又は持参のうえ提出してください。"]
[null,null,"※事業主控えは手許に保管してください。"]
[null,null,"※受理日（受理印）の確認を希望される",null,null,null,null,null,null,null,null,null,null,null,null,null,null,null,null,null,null,"↑クリックして、電子申告申請データを"]
[null,null,"　 場合は、様式「受理日確認印を希望する",null,null,null,null,null,null,null,null,null,null,null,null,null,null,null,null,null,null,"　作成してください。"]
[null,null,"　 事業主の皆様へ」を併せて提出して"]
[null,null,"　 ください。",null,null,null,null,null,null,null,null,null,null,null,null,null,null,null,null,"②","当機構ホームページの「電子申告・申請"]
[null,null,"　 様式は、記入説明書又は当機構ホーム",null,null,null,null,null,null,null,null,null,null,null,null,null,null,null,"　　","　　","システム」から電子申告申請を行ってください。"]
[null,null,"　 ページからダウンロードしてください。",null,null,null,null,null,null,null,null,null,null,null,null,null,null,null,null,null,{"$f":"IF(AND(納付金調整金相殺額<=0,報奨金申請額=0,特例給付金申請額=0),\"\",IF(MASTA!$D$17>0,IF(MASTA!$D$17<8,MASTA!$BC$8,\"\"),\"\"))","v":""}]
[null,null,null,null,null,null,null,null,null,null,null,null,null,null,null,null,null,null,null,null,{"$f":"IF(AND(納付金調整金相殺額<=0,報奨金申請額=0,特例給付金申請額=0),\"\",IF(MASTA!$D$17>0,IF(MASTA!$D$17<8,MASTA!$BC$9,\"\"),\"\"))","v":""}]
[null,null,null,null,null,null,null,null,null,null,null,null,null,null,null,null,null,null,null,null,{"$f":"IF(AND(納付金調整金相殺額<=0,報奨金申請額=0,特例給付金申請額=0),\"\",IF(MASTA!$D$17>0,IF(MASTA!$D$17<8,MASTA!$BC$10,\"\"),\"\"))","v":""}]
[null,null,null,null,null,null,null,null,null,null,"以上で申告・申請書の作成は終了です。お疲れ様でした。"]
[null,"９．バックアップデータ作成機能"]
[null,"次年度以降の申告申請に活用できますので、バックアップデータの作成をお勧めします。"]
[null,"※10で統合するためのデータを作成する場合も、こちらを使用してください。"]
[]
[]
[]
[null,null,null,"バックアップデータ（XML）の作成をします。",null,null,null,null,null,null,null,null,null,null,null,null,null,null,"必要なバックアップデータを取り込みます。"]
[]
[null,"１０．統合機能"]
[null,"各事業所にて作成した事業所情報と障害者情報を統合できます。"]
[null,"各事業所ごとにバックアップデータを用意し、データ統合ボタンを押下してください。"]
[null,"※事業主情報と申告・申請情報は取り込まれません。"]
[null,"データを統合すると、事業所別連番は、本ファイルに含まれる最大の事業所別連番の次番より、再採番されます。"]
[]
[]
[]
[null,null,null,"事業所情報と障害者情報を統合します。",null,null,null,null,null,null,null,null,null,null,null,null,null,null,"事業所別連番を再採番します。"]
[]
[null,"１１．削除機能"]
[null,"本ファイルに含まれる事業所情報と障害者情報を全て削除する機能です。"]
[null,"※事業主情報と申告・申請情報は削除されません。"]
[null,"※統合機能等で取り込み誤りがあった場合に使用してください。"]

{"sheet":"Sheet1","index":1,"n_rows":3,"n_cols":20,"rows_kept":3,"cut":false,"hidden":true,"merged":[[30,11,32,22],[30,23,32,23],[30,10,32,10],[28,10,29,23]]}
[1,2,3,4,5,6,7,8,9,10,11,12,13,14,15,16,17,18,19,20]
["企業番号","ＣＤ","県コード","職安コード","住所フリガナ","住所漢字","郵便番号親","郵便番号子","法人番号","法人番号なし","電話番号3","名称フリガナ","名称漢字","代表者の役職","氏名フリガナ","氏名","産業中分類番号","主たる事業の内容","申告年度元号","申告年度年"]
[null,null,null,null,null,null,null,null,null,null,null,null,null,null,null,null,null,null,null,{"$f":"メニュー!$N$8","v":5}]

{"sheet":"Sheet2","index":2,"n_rows":5,"n_cols":219,"rows_kept":5,"cut":false,"hidden":false,"merged":[[4,3,4,5],[4,6,4,9],[0,4,1,9],[2,3,2,5],[2,6,2,9],[3,3,3,5],[3,6,3,9]]}
[null,null,"     ",null,null,null,null,null,null,null,"登録件数",0,null,null,null,null,null,"↓最終事業所番号",null,null,null,null,null,null,null,null,null,{"$f":"SUM(AB4:AB$65519)","v":0},{"$f":"SUM(AC4:AC$65519)","v":0},{"$f":"SUM(AD4:AD$65519)","v":0},{"$f":"SUM(AE4:AE$65519)","v":0},{"$f":"SUM(AF4:AF$65519)","v":0},{"$f":"SUM(AG4:AG$65519)","v":0},{"$f":"SUM(AH4:AH$65519)","v":0},{"$f":"SUM(AI4:AI$65519)","v":0},{"$f":"SUM(AJ4:AJ$65519)","v":0},{"$f":"SUM(AK4:AK$65519)","v":0},{"$f":"SUM(AL4:AL$65519)","v":0},{"$f":"SUM(AM4:AM$65519)","v":0},{"$f":"SUM(AN4:AN$65519)","v":0},{"$f":"SUM(AO4:AO$65519)","v":0},{"$f":"SUM(AP4:AP$65519)","v":0},{"$f":"SUM(AQ4:AQ$65519)","v":0},{"$f":"SUM(AR4:AR$65519)","v":0},{"$f":"SUM(AS4:AS$65519)","v":0},{"$f":"SUM(AT4:AT$65519)","v":0},{"$f":"SUM(AU4:AU$65519)","v":0},{"$f":"SUM(AV4:AV$65519)","v":0},{"$f":"SUM(AW4:AW$65519)","v":0},{"$f":"SUM(AX4:AX$65519)","v":0},{"$f":"SUM(AY4:AY$65519)","v":0},{"$f":"SUM(AZ4:AZ$65519)","v":0},{"$f":"SUM(BA4:BA$65519)","v":0},{"$f":"SUM(BB4:BB$65519)","v":0},{"$f":"SUM(BC4:BC$65519)","v":0},{"$f":"SUM(BD4:BD$65519)","v":0},{"$f":"SUM(BE4:BE$65519)","v":0},{"$f":"SUM(BF4:BF$65519)","v":0},{"$f":"SUM(BG4:BG$65519)","v":0},{"$f":"SUM(BH4:BH$65519)","v":0},{"$f":"SUM(BI4:BI$65519)","v":0},{"$f":"SUM(BJ4:BJ$65519)","v":0},{"$f":"SUM(BK4:BK$65519)","v":0},{"$f":"SUM(BL4:BL$65519)","v":0},{"$f":"SUM(BM4:BM$65519)","v":0},{"$f":"SUM(BN4:BN$65519)","v":0},{"$f":"SUM(BO4:BO$65519)","v":0},{"$f":"SUM(BP4:BP$65519)","v":0},{"$f":"SUM(BQ4:BQ$65519)","v":0},{"$f":"SUM(BR4:BR$65519)","v":0},{"$f":"SUM(BS4:BS$65519)","v":0},{"$f":"SUM(BT4:BT$65519)","v":0},{"$f":"SUM(BU4:BU$65519)","v":0},{"$f":"SUM(BV4:BV$65519)","v":0},{"$f":"SUM(BW4:BW$65519)","v":0},{"$f":"SUM(BX4:BX$65519)","v":0},{"$f":"SUM(BY4:BY$65519)","v":0},{"$f":"SUM(BZ4:BZ$65519)","v":0},{"$f":"SUM(CA4:CA$65519)","v":0},{"$f":"SUM(CB4:CB$65519)","v":0},{"$f":"SUM(CC4:CC$65519)","v":0},{"$f":"SUM(CD4:CD$65519)","v":0},{"$f":"SUM(CE4:CE$65519)","v":0},{"$f":"SUM(CF4:CF$65519)","v":0},{"$f":"SUM(CG4:CG$65519)","v":0},{"$f":"SUM(CH4:CH$65519)","v":0},{"$f":"SUM(CI4:CI$65519)","v":0},{"$f":"SUM(CJ4:CJ$65519)","v":0},{"$f":"SUM(CK4:CK$65519)","v":0},{"$f":"SUM(CL4:CL$65519)","v":0},{"$f":"SUM(CM4:CM$65519)","v":0},{"$f":"SUM(CN4:CN$65519)","v":0},{"$f":"SUM(CO4:CO$65519)","v":0},{"$f":"SUM(CP4:CP$65519)","v":0},{"$f":"SUM(CQ4:CQ$65519)","v":0},{"$f":"SUM(CR4:CR$65519)","v":0},{"$f":"SUM(CS4:CS$65519)","v":0},{"$f":"SUM(CT4:CT$65519)","v":0},{"$f":"SUM(CU4:CU$65519)","v":0},{"$f":"SUM(CV4:CV$65519)","v":0},{"$f":"SUM(CW4:CW$65519)","v":0},{"$f":"SUM(CX4:CX$65519)","v":0},{"$f":"SUM(CY4:CY$65519)","v":0},{"$f":"SUM(CZ4:CZ$65519)","v":0},{"$f":"SUM(DA4:DA$65519)","v":0},{"$f":"SUM(DB4:DB$65519)","v":0},{"$f":"SUM(DC4:DC$65519)","v":0},{"$f":"SUM(DD4:DD$65519)","v":0},{"$f":"SUM(DE4:DE$65519)","v":0},{"$f":"SUM(DF4:DF$65519)","v":0},{"$f":"SUM(DG4:DG$65519)","v":0},{"$f":"SUM(DH4:DH$65519)","v":0},{"$f":"SUM(DI4:DI$65519)","v":0},{"$f":"SUM(DJ4:DJ$65519)","v":0},{"$f":"SUM(DK4:DK$65519)","v":0},{"$f":"SUM(DL4:DL$65519)","v":0},{"$f":"SUM(DM4:DM$65519)","v":0},{"$f":"SUM(DN4:DN$65519)","v":0},{"$f":"SUM(DO4:DO$65519)","v":0},{"$f":"SUM(DP4:DP$65519)","v":0},{"$f":"SUM(DQ4:DQ$65519)","v":0},{"$f":"SUM(DR4:DR$65519)","v":0},{"$f":"SUM(DS4:DS$65519)","v":0},{"$f":"SUM(DT4:DT$65519)","v":0},{"$f":"SUM(DU4:DU$65519)","v":0},{"$f":"SUM(DV4:DV$65519)","v":0},{"$f":"SUM(DW4:DW$65519)","v":0},{"$f":"SUM(DX4:DX$65519)","v":0},{"$f":"SUM(DY4:DY$65519)","v":0},{"$f":"SUM(DZ4:DZ$65519)","v":0},{"$f":"SUM(EA4:EA$65519)","v":0},{"$f":"SUM(EB4:EB$65519)","v":0},{"$f":"SUM(EC4:EC$65519)","v":0},{"$f":"SUM(ED4:ED$65519)","v":0},{"$f":"SUM(EE4:EE$65519)","v":0},{"$f":"SUM(EF4:EF$65519)","v":0},{"$f":"SUM(EG4:EG$65519)","v":0},{"$f":"SUM(EH4:EH$65519)","v":0},{"$f":"SUM(EI4:EI$65519)","v":0},{"$f":"SUM(EJ4:EJ$65519)","v":0},{"$f":"SUM(EK4:EK$65519)","v":0},{"$f":"SUM(EL4:EL$65519)","v":0},{"$f":"SUM(EM4:EM$65519)","v":0},{"$f":"SUM(EN4:EN$65519)","v":0},{"$f":"SUM(EO4:EO$65519)","v":0},{"$f":"SUM(EP4:EP$65519)","v":0},{"$f":"SUM(EQ4:EQ$65519)","v":0},null,{"$f":"SUM(ES4:ES$65519)","v":0},{"$f":"SUM(ET4:ET$65519)","v":0},{"$f":"SUM(EU4:EU$65519)","v":0},{"$f":"SUM(EV4:EV$65519)","v":0},{"$f":"SUM(EW4:EW$65519)","v":0},{"$f":"SUM(EX4:EX$65519)","v":0},{"$f":"SUM(EY4:EY$65519)","v":0},{"$f":"SUM(EZ4:EZ$65519)","v":0},{"$f":"SUM(FA4:FA$65519)","v":0},{"$f":"SUM(FB4:FB$65519)","v":0},{"$f":"SUM(FC4:FC$65519)","v":0},{"$f":"SUM(FD4:FD$65519)","v":0},{"$f":"SUM(FE4:FE$65519)","v":0},{"$f":"SUM(FF4:FF$65519)","v":0},{"$f":"SUM(FG4:FG$65519)","v":0},{"$f":"SUM(FH4:FH$65519)","v":0},{"$f":"SUM(FI4:FI$65519)","v":0},{"$f":"SUM(FJ4:FJ$65519)","v":0},{"$f":"SUM(FK4:FK$65519)","v":0},{"$f":"SUM(FL4:FL$65519)","v":0},{"$f":"SUM(FM4:FM$65519)","v":0},null,null,null,null,null,null,null,null,null,null,null,null,null,null,null,null,null,null,null,null,null,null,null,null,{"$f":"SUM(GL4:GL$65523)","v":0},{"$f":"SUM(GM4:GM$65523)","v":0},{"$f":"SUM(GN4:GN$65523)","v":0},{"$f":"SUM(GO4:GO$65523)","v":0},{"$f":"SUM(GP4:GP$65523)","v":0},{"$f":"SUM(GQ4:GQ$65523)","v":0},{"$f":"SUM(GR4:GR$65523)","v":0},{"$f":"SUM(GS4:GS$65523)","v":0},{"$f":"SUM(GT4:GT$65523)","v":0},{"$f":"SUM(GU4:GU$65523)","v":0},{"$f":"SUM(GV4:GV$65523)","v":0},{"$f":"SUM(GW4:GW$65523)","v":0},{"$f":"SUM(GX4:GX$65523)","v":0}]
[null,null,null,null,null,null,null,null,null,null,null,null,null,null,null,null,null,{"$f":"MAX(S3:S4)","v":0},19,20,21,22,23,24,25,26,27,28,29,30,31,32,33,34,35,36,37,38,39,40,41,42,43,44,45,46,47,48,49,50,51,52,53,54,55,56,57,58,59,60,61,62,63,64,65,66,67,68,69,70,71,72,73,74,75,76,77,78,79,80,81,82,83,84,85,86,87,88,89,90,91,92,93,94,95,96,97,98,99,100,101,102,103,104,105,106,107,108,109,110,111,112,113,114,115,116,117,118,119,120,121,122,123,124,125,126,127,128,129,130,131,132,133,134,135,136,137,138,139,140,141,142,143,144,145,146,147,148,149,150,151,152,153,154,155,156,157,158,159,160,161,162,163,164,165,166,167,168,169,170,171,172,173,174,175,176,177,178,179,180,181,182,183,184,185,186,187,188,189,190,191,192,193,194,195,196,197,198,199,200,201,202,203,204,205,206,207,208,209,210,211,212,213,214,215,216,217,218,219]
[null,"NO","事業所\n別連番","名称",null,null,"所在地",null,null,null,null,"算定\n基礎日",null,null,null,null,null,null,"事業所別連番","名称","事業の種類","事業の種類","除外率ありなし","除外率の産業分類","除外率","所在地","算定基礎日","常用4月","常用5月","常用6月","常用7月","常用8月","常用9月","常用10月","常用11月","常用12月","常用1月","常用2月","常用3月","算定基礎\n4月","算定基礎\n5月","算定基礎\n6月","算定基礎\n7月","算定基礎\n8月","算定基礎\n9月","算定基礎\n10月","算定基礎\n11月","算定基礎\n12月","算定基礎\n1月","算定基礎\n2月","算定基礎\n3月","重度障害\n4月","重度障害\n5月","重度障害\n6月","重度障害\n7月","重度障害\n8月","重度障害\n9月","重度障害\n10月","重度障害\n11月","重度障害\n12月","重度障害\n1月","重度障害\n2月","重度障害\n3月","重度以外\n4月","重度以外\n5月","重度以外\n6月","重度以外\n7月","重度以外\n8月","重度以外\n9月","重度以外\n10月","重度以外\n11月","重度以外\n12月","重度以外\n1月","重度以外\n2月","重度以外\n3月","精神\n4月","精神\n5月","精神\n6月","精神\n7月","精神\n8月","精神\n9月","精神\n10月","精神\n11月","精神\n12月","精神\n1月","精神\n2月","精神\n3月","短時\n4月","短時\n5月","短時\n6月","短時\n7月","短時\n8月","短時\n9月","短時\n10月","短時\n11月","短時\n12月","短時\n1月","短時\n2月","短時\n3月","短時精神\n4月","短時精神\n5月","短時精神\n6月","短時精神\n7月","短時精神\n8月","短時精神\n9月","短時精神\n10月","短時精神\n11月","短時精神\n12月","短時精神\n1月","短時精神\n2月","短時精神\n3月","合計\n4月","合計\n5月","合計\n6月","合計\n7月","合計\n8月","合計\n9月","合計\n10月","合計\n11月","合計\n12月","合計\n1月","合計\n2月","合計\n3月","短期4月","短期5月","短期6月","短期7月","短期8月","短期9月","短期10月","短期11月","短期12月","短期1月","短期2月","短期3月","常用総数4月","常用総数5月","常用総数6月","常用総数7月","常用総数8月","常用総数9月","常用総数10月","常用総数11月","常用総数12月","常用総数1月","常用総数2月","常用総数3月","除外率2","算定基礎\n4月","算定基礎\n5月","算定基礎\n6月","算定基礎\n7月","算定基礎\n8月","算定基礎\n9月","算定基礎\n10月","算定基礎\n11月","算定基礎\n12月","算定基礎\n1月","算定基礎\n2月","算定基礎\n3月","常用労働\n合計","短時労働\n合計","重度障害\n合計","以外障害\n合計","重度短時\n合計","以外短時\n合計","実労働者\n数合計","実障害者\n数合計","カウント障害者数合計","常用デフォルト所定4月","常用デフォルト所定5月","常用デフォルト所定6月","常用デフォルト所定7月","常用デフォルト所定8月","常用デフォルト所定9月","常用デフォルト所定10月","常用デフォルト所定11月","常用デフォルト所定12月","常用デフォルト所定1月","常用デフォルト所定2月","常用デフォルト所定3月","短時デフォルト所定4月","短時デフォルト所定5月","短時デフォルト所定6月","短時デフォルト所定7月","短時デフォルト所定8月","短時デフォルト所定9月","短時デフォルト所定10月","短時デフォルト所定11月","短時デフォルト所定12月","短時デフォルト所定1月","短時デフォルト所定2月","短時デフォルト所定3月","特定労働者4月","特定労働者5月","特定労働者6月","特定労働者7月","特定労働者8月","特定労働者9月","特定労働者10月","特定労働者11月","特定労働者12月","特定労働者1月","特定労働者2月","特定労働者3月","特定労働者合計","特定デフォルト所定4月","特定デフォルト所定5月","特定デフォルト所定6月","特定デフォルト所定7月","特定デフォルト所定8月","特定デフォルト所定9月","特定デフォルト所定10月","特定デフォルト所定11月","特定デフォルト所定12月","特定デフォルト所定1月","特定デフォルト所定2月","特定デフォルト所定3月","事業所区分"]
[null,1,{"$f":"IF($S4=0,\"\",RIGHT($S4+1000,3))","v":""},{"$f":"IF($T4=0,\"\",$T4)","v":""},null,null,{"$f":"IF($Z4=0,\"\",$Z4)","v":""},null,null,null,null,{"$f":"IF($AA4=0,\"\",$AA4)","v":""},null,null,null,null,null,null,null,null,null,null,null,null,null,null,null,0,0,0,0,0,0,0,0,0,0,0,0,{"$f":"IF($Y4=\"\",EF4,EF4-ROUNDDOWN(EF4*$Y4/100,0))","v":0},0,0,0,0,0,0,0,0,0,0,0,null,null,null,null,null,null,null,null,null,null,null,null,null,null,null,null,null,null,null,null,null,null,null,null,null,null,null,null,null,null,null,null,null,null,null,null,null,null,null,null,null,null,null,null,null,null,null,null,null,null,null,null,null,null,null,null,null,null,null,null,null,null,null,null,null,null,null,null,null,null,null,null,0,0,0,0,0,0,0,0,0,0,0,0,{"$f":"AB4+0.5*DT4","v":0},0,0,0,0,0,0,0,0,0,0,0,null,{"$f":"IF($ER4=\"\",EF4,EF4-ROUNDDOWN(EF4*$ER4/100,0))","v":0},0,0,0,0,0,0,0,0,0,0,0,{"$f":"SUM(AB4:AM4)","v":0},{"$f":"SUM(DT4:EE4)","v":0},0,0,0,0,{"$f":"FE4+FF4","v":0},0,{"$f":"SUM(DH4:DS4)","v":0},0,0,0,0,0,0,0,0,0,0,0,0,0,0,0,0,0,0,0,0,0,0,0,0,0,0,0,0,0,0,0,0,0,0,0,0,0,0,0,0,0,0,0,0,0,0,0,0,0,0]
[null,2,{"$f":"IF($S5=0,\"\",RIGHT($S5+1000,3))","v":""},{"$f":"IF($T5=0,\"\",$T5)","v":""},null,null,{"$f":"IF($Z5=0,\"\",$Z5)","v":""},null,null,null,null,{"$f":"IF($AA5=0,\"\",$AA5)","v":""},null,null,null,null,null,null,null,null,null,null,null,null,null,null,null,0,0,0,0,0,0,0,0,0,0,0,0,0,0,0,0,0,0,0,0,0,0,0,0,null,null,null,null,null,null,null,null,null,null,null,null,null,null,null,null,null,null,null,null,null,null,null,null,null,null,null,null,null,null,null,null,null,null,null,null,null,null,null,null,null,null,null,null,null,null,null,null,null,null,null,null,null,null,null,null,null,null,null,null,null,null,null,null,null,null,null,null,null,null,null,null,0,0,0,0,0,0,0,0,0,0,0,0,0,0,0,0,0,0,0,0,0,0,0,0,null,0,0,0,0,0,0,0,0,0,0,0,0,{"$f":"SUM(AB5:AM5)","v":0},{"$f":"SUM(DT5:EE5)","v":0},0,0,0,0,{"$f":"FE5+FF5","v":0},0,{"$f":"SUM(DH5:DS5)","v":0},0,0,0,0,0,0,0,0,0,0,0,0,0,0,0,0,0,0,0,0,0,0,0,0,0,0,0,0,0,0,0,0,0,0,0,0,0,0,0,0,0,0,0,0,0,0,0,0,0,0]

{"sheet":"Sheet3","index":3,"n_rows":6,"n_cols":204,"rows_kept":6,"cut":false,"hidden":false,"merged":[[5,4,5,5],[4,4,4,5],[2,1,3,1],[2,2,3,2],[2,3,3,3],[2,4,3,5],[0,5,1,14],[2,9,2,11],[2,12,2,14],[2,21,3,21],[2,6,3,6],[2,7,3,7],[2,19,3,19],[2,20,3,20],[2,8,3,8],[2,18,3,18],[2,15,2,17]]}
[null,null,"     ",null,null,null,null,null,null,null,null,null,null,null,null,"登録件数",0,null,0]
[null,null,null,null,null,null,null,null,null,null,null,null,null,null,null,null,null,null,null,null,null,null,null,24,25,26,27,28,29,30,31,32,33,34,35,36,37,38,39,40,41,42,43,44,45,46,47,48,49,50,51,52,53,54,55,56,57,58,59,60,61,62,63,64,65,66,67,68,69,70,71,72,73,74,75,76,77,78,79,80,81,82,83,84,85,86,87,88,89,90,91,92,93,94,95,96,97,98,99,100,101,102,103,104,105,106,107,108,109,110,111,112,113,114,115,116,117,118,119,120,121,122,123,124,125,126,127,128,129,130,131,132,133,134,135,136,137,138,139,140,141,142,143,144,145,146,147,148,149,150,151,152,153,154,155,156,157,158,159,160,161,162,163,164,165,166,167,168,169,170,171,172,173,174,175,176,177,178,179,180,181,182,183,184,185,186,187,188,189,190,191,192,193,194,195,196,197,198,199,200,201,202,203,204]
[null,"NO","事業所\n別連番","雇用区分","フリガナ",null,"性別","生年月日","手帳番号","身体障害者",null,null,"知的障害者",null,null,"精神障害者",null,null,"雇入年月日","障害年月日","等級変更\n年月日","離職年月日"]
[null,null,null,null,null,null,null,null,null,"確認","現等級","前等級","確認","現程度","前程度","確認","現程度","前程度",null,null,null,null,"入力順","事業所別連番","雇用区分","ﾌﾘｶﾞﾅｾｲ","ﾌﾘｶﾞﾅﾒｲ","氏名","性別","生年月日","手帳番号","身体あり","確認記号","現等級","前等級","知的あり","確認記号","現程度","前程度","精神あり","確認記号","雇入年月日","年度内障害者年月日","等級変更年月日","離職年月日","転入出ありなし","転入年月日","転出年月日","転入前の事業所名","転出先の事業所名","重度障害\n4月","重度障害\n5月","重度障害\n6月","重度障害\n7月","重度障害\n8月","重度障害\n9月","重度障害\n10月","重度障害\n11月","重度障害\n12月","重度障害\n1月","重度障害\n2月","重度障害\n3月","重度知的\n4月","重度知的\n5月","重度知的\n6月","重度知的\n7月","重度知的\n8月","重度知的\n9月","重度知的\n10月","重度知的\n11月","重度知的\n12月","重度知的\n1月","重度知的\n2月","重度知的\n3月","重度以外\n4月","重度以外\n5月","重度以外\n6月","重度以外\n7月","重度以外\n8月","重度以外\n9月","重度以外\n10月","重度以外\n11月","重度以外\n12月","重度以外\n1月","重度以外\n2月","重度以外\n3月","重度以外知的\n4月","重度以外知的\n5月","重度以外知的\n6月","重度以外知的\n7月","重度以外知的\n8月","重度以外知的\n9月","重度以外知的\n10月","重度以外知的\n11月","重度以外知的\n12月","重度以外知的\n1月","重度以外知的\n2月","重度以外知的\n3月","精神\n4月","精神\n5月","精神\n6月","精神\n7月","精神\n8月","精神\n9月","精神\n10月","精神\n11月","精神\n12月","精神\n1月","精神\n2月","精神\n3月","短時\n4月","短時\n5月","短時\n6月","短時\n7月","短時\n8月","短時\n9月","短時\n10月","短時\n11月","短時\n12月","短時\n1月","短時\n2月","短時\n3月","短時知的\n4月","短時知的\n5月","短時知的\n6月","短時知的\n7月","短時知的\n8月","短時知的\n9月","短時知的\n10月","短時知的\n11月","短時知的\n12月","短時知的\n1月","短時知的\n2月","短時知的\n3月","短時精神\n4月","短時精神\n5月","短時精神\n6月","短時精神\n7月","短時精神\n8月","短時精神\n9月","短時精神\n10月","短時精神\n11月","短時精神\n12月","短時精神\n1月","短時精神\n2月","短時精神\n3月","合計\n4月","合計\n5月","合計\n6月","合計\n7月","合計\n8月","合計\n9月","合計\n10月","合計\n11月","合計\n12月","合計\n1月","合計\n2月","合計\n3月","年齢（雇入時点）","生年月日","雇入年月日","年度内障害者年月日","等級変更年月日","離職年月日","転入年月日","転出年月日","手帳の確認","変動の有無","手帳の有効期限","所定労働時間\n４月","所定労働時間\n５月","所定労働時間\n６月","所定労働時間\n７月","所定労働時間\n８月","所定労働時間\n９月","所定労働時間\n１０月","所定労働時間\n１１月","所定労働時間\n１２月","所定労働時間\n１月","所定労働時間\n２月","所定労働時間\n１３月","実労働時間\n４月","実労働時間\n５月","実労働時間\n６月","実労働時間\n７月","実労働時間\n８月","実労働時間\n９月","実労働時間\n１０月","実労働時間\n１１月","実労働時間\n１２月","実労働時間\n１月","実労働時間\n２月","実労働時間\n３月","実労働時間\n平均","所定労働時間合計","実労働時間合計","手帳の有効期限(西暦)","現程度(精神)","前程度(精神)","前雇入年月日","前離職年月日","前雇入年月日（西暦）","前離職年月日（西暦）","確認フラグ"]
[null,1,{"$f":"IF($X5=0,\"\",$X5)","v":""},{"$f":"IF($Y5=0,\"\",VLOOKUP($Y5,MASTA!$C$2:$D$4,2))","v":""},{"$f":"IF($Z5=0,\"\",$Z5 & \" \" & $AA5 )","v":""},null,{"$f":"IF($AC5=0,\"\",IF($AC5=1,\"男\",\"女\"))","v":""},{"$f":"IF($AD5=0,\"\",MID($AD5,1,1)&\"/\"&MID($AD5,2,2)&\"/\"&MID($AD5,4,2)&\"/\"&MID($AD5,6,2))","v":""},{"$f":"IF($AE5=0,\"\",TRIM($AE5))","v":""},{"$f":"IF($AG5=0,\"\",TRIM($AG5))","v":""},{"$f":"IF($AH5=0,\"\",TRIM($AH5))","v":""},{"$f":"IF($AI5=0,\"\",TRIM($AI5))","v":""},{"$f":"IF($AK5=0,\"\",TRIM($AK5))","v":""},{"$f":"IF($AL5=0,\"\",IF($AL5=9,\"障害取消\",IF($AL5=1,\"重度\",\"重度以外\")))","v":""},{"$f":"IF($AM5=0,\"\",IF($AM5=1,\"重度\",\"重度以外\"))","v":""},{"$f":"IF($AO5=0,\"\",TRIM($AO5))","v":""},{"$f":"IF($GP5=0,\"\",IF($GP5=9,\"障害取消\",IF($GP5=1,\"精神障害\",\"精神障害\")))","v":""},{"$f":"IF($GQ5=0,\"\",IF($GQ5=1,\"精神障害\",\"精神障害\"))","v":""},{"$f":"IF($AP5=0,\"\",MID($AP5,1,1)&\"/\"&MID($AP5,2,2)&\"/\"&MID($AP5,4,2)&\"/\"&MID($AP5,6,2))","v":""},{"$f":"IF($AQ5=0,\"\",MID($AQ5,1,1)&\"/\"&MID($AQ5,2,2)&\"/\"&MID($AQ5,4,2)&\"/\"&MID($AQ5,6,2))","v":""},{"$f":"IF($AR5=0,\"\",MID($AR5,1,1)&\"/\"&MID($AR5,2,2)&\"/\"&MID($AR5,4,2)&\"/\"&MID($AR5,6,2))","v":""},{"$f":"IF($AS5=0,\"\",MID($AS5,1,1)&\"/\"&MID($AS5,2,2)&\"/\"&MID($AS5,4,2)&\"/\"&MID($AS5,6,2))","v":""},1]
[null,2,"",{"$f":"IF($Y6=0,\"\",VLOOKUP($Y6,MASTA!$C$2:$D$4,2))","v":""},"",null,"","","","","","","","","","","","","","","","",2]

{"sheet":"Sheet5","index":4,"n_rows":0,"n_cols":0,"rows_kept":0,"cut":false,"hidden":false,"merged":[[0,3,0,4]]}

{"sheet":"houkoku_ari","index":5,"n_rows":34,"n_cols":78,"rows_kept":34,"cut":false,"hidden":true,"merged":[[29,69,29,73],[27,44,27,47],[32,49,32,52],[30,49,31,52],[32,54,32,57],[32,59,32,62],[32,64,32,67],[32,69,32,73],[17,1,32,1],[26,2,32,2],[17,54,17,58],[27,69,27,73],[28,69,28,73],[29,59,29,62],[29,49,29,52],[28,54,28,57],[28,49,28,52],[26,54,26,57],[26,59,26,62],[24,44,25,47],[30,54,31,57],[27,64,27,67],[28,24,28,27],[28,29,28,32],[8,42,11,45],[10,17,11,40],[32,4,32,6],[32,9,32,12],[32,14,32,17],[32,19,32,22],[32,24,32,27],[32,29,32,32],[32,34,32,37],[32,39,32,42],[32,44,32,47],[17,9,17,13],[29,29,29,32],[29,34,29,37],[30,34,31,37],[30,44,31,47],[27,34,27,37],[27,39,27,42],[28,39,28,42],[30,39,31,42],[29,44,29,47],[29,39,29,42],[28,44,28,47],[20,19,21,22],[24,64,25,67],[26,34,26,37],[26,29,26,32],[26,24,26,27],[28,34,28,37],[27,29,27,32],[27,49,27,52],[27,54,27,57],[27,59,27,62],[28,64,28,67],[26,49,26,52],[28,59,28,62],[29,54,29,57],[30,29,31,32],[24,39,25,42],[24,29,25,32],[18,39,18,43],[18,29,18,33],[22,24,23,27],[22,29,23,32],[30,24,31,27],[18,19,18,23],[19,19,19,22],[20,29,21,32],[20,34,21,37],[19,34,19,37],[20,24,21,27],[22,14,23,17],[22,19,23,22],[24,19,25,22],[19,29,19,32],[19,24,19,27],[24,24,25,27],[22,3,23,3],[22,4,23,6],[22,8,23,8],[22,9,23,12],[24,3,24,6],[24,8,25,8],[24,9,25,12],[24,14,25,17],[25,3,25,6],[28,9,28,12],[29,19,29,22],[29,24,29,27],[28,14,28,17],[27,14,27,17],[27,24,27,27],[28,19,28,22],[27,19,27,22],[26,14,26,17],[26,19,26,22],[31,4,31,7],[30,4,30,6],[8,2,11,2],[8,3,11,6],[8,8,11,8],[12,2,13,2],[14,3,16,6],[17,2,18,8],[17,14,17,18],[20,3,21,3],[20,4,21,6],[18,14,18,18],[19,4,19,6],[19,9,19,12],[19,14,19,17],[30,8,31,8],[30,9,31,12],[29,14,29,17],[30,14,31,17],[26,3,27,4],[26,9,26,12],[28,3,29,4],[29,9,29,12],[27,9,27,12],[30,19,31,22],[12,42,12,46],[16,61,16,63],[14,64,16,68],[8,9,8,14],[20,8,21,8],[20,9,21,12],[20,14,21,17],[18,9,18,13],[14,51,16,55],[20,39,21,42],[17,49,17,53],[20,44,21,47],[20,49,21,52],[20,54,21,57],[15,57,15,59],[16,57,16,59],[14,57,14,59],[18,34,18,38],[19,49,19,52],[19,54,19,57],[17,19,17,23],[19,44,19,47],[19,39,19,42],[17,29,17,33],[4,1,7,1],[4,2,7,7],[4,8,7,8],[5,17,6,18],[4,60,7,74],[1,1,1,2],[2,1,2,2],[8,1,15,1],[14,73,16,74],[14,69,16,72],[14,2,16,2],[12,3,13,6],[12,8,13,41],[5,9,6,10],[5,11,6,12],[5,13,6,14],[5,15,6,16],[14,8,16,50],[11,9,11,14],[8,15,11,15],[9,9,10,14],[13,42,13,46],[13,49,13,66],[19,69,19,73],[17,69,18,74],[19,64,19,67],[17,59,17,63],[18,54,18,58],[18,59,18,63],[5,19,6,20],[6,43,7,43],[12,69,12,74],[13,69,13,74],[17,39,17,43],[17,44,17,48],[18,44,18,48],[17,64,17,68],[18,64,18,68],[17,24,17,28],[18,24,18,28],[4,21,7,21],[12,47,12,68],[14,56,16,56],[19,59,19,62],[18,49,18,53],[17,34,17,38],[8,16,9,24],[20,69,21,73],[30,69,31,73],[30,59,31,62],[30,64,31,67],[22,69,23,73],[22,34,23,37],[22,39,23,42],[20,64,21,67],[20,59,21,62],[22,44,23,47],[22,49,23,52],[22,54,23,57],[22,59,23,62],[22,64,23,67],[24,34,25,37],[24,59,25,62],[24,69,25,73],[26,64,26,67],[26,69,26,73],[24,49,25,52],[24,54,25,57],[26,39,26,42],[26,44,26,47],[29,64,29,67]]}
[null,null,null,null,null,null,null,null,null,null,null,null,null,null,null,null,null,null,null,null,null,null,null,null,null,null,null,null,null,null,null,null,null,null,null,null,null,null,null,null,null,null,null,null,null,null,null,null,null,null,null,null,null,null,null,null,null,null,null,null,null,null,null,null,null,null,null,null,null,null,null,null,null,null,null,{"$f":"INT((ROW()+36-3)/36)","v":0}]
[]
[null,2,null,null,null,null,null,null,null,null,null,null,null,null,null,null,null,null,null,null,null,null,null,null,null,"障害者雇用状況等報告書（Ⅰ）"]
[]
[null,"①","事     業     主     番     号"]
[null,null,null,null,null,null,null,null,null,{"$f":"IF(Sheet1!$A$3=0,\"\",MID(Sheet1!$A$3,1,1))","v":""},null,{"$f":"IF(Sheet1!$A$3=0,\"\",MID(Sheet1!$A$3,2,1))","v":""},null,{"$f":"IF(Sheet1!$A$3=0,\"\",MID(Sheet1!$A$3,3,1))","v":""},null,{"$f":"IF(Sheet1!$A$3=0,\"\",MID(Sheet1!$A$3,4,1))","v":""},null,{"$f":"IF(Sheet1!$A$3=0,\"\",MID(Sheet1!$A$3,5,1))","v":""},null,{"$f":"IF(Sheet1!$A$3=0,\"\",MID(Sheet1!$A$3,6,1))","v":""}]
[]
[]
[null,"②　事　業　所","(ｲ)","事   業   所   別   連   番",null,null,null,null,null,null,null,null,null,null,null,null,"(ﾛ) 事業所の区分",null,null,null,null,null,null,null,null,null,null,null,null,null,null,null,null,null,null,null,null,null,null,null,null,null,{"$f":"IF(INDIRECT(\"Sheet2!HK\" & $BX1+3)=0,\"\",INDIRECT(\"Sheet2!HK\" & $BX1+3))","v":"事業所区分"}]
[null,null,null,null,null,null,null,null,null,{"$f":"IF(INDIRECT(\"Sheet2!S\" & $BX1+3)=0,\"\",RIGHT(INDIRECT(\"Sheet2!S\" & $BX1+3)+1000,3))","v":{"$error":"#VALUE!"}}]
[null,null,null,null,null,null,null,null,null,null,null,null,null,null,null,null,null,"次のいずれかに該当する場合は、右欄に次の番号を記載してください。\n１　特例子会社等の認定を受けた事業所\n２　就労継続支援A型事業所\n３　上記１及び２の両方に該当"]
[]
[1,null,"(ﾊ)","名                      称",null,null,null,null,{"$f":"IF(BX14=0,\"\",MID(BX14,1,87))","v":"名称"},null,null,null,null,null,null,null,null,null,null,null,null,null,null,null,null,null,null,null,null,null,null,null,null,null,null,null,null,null,null,null,null,null,"(ﾆ)",null,null,null,null,{"$f":"IF(BY14=0,\"\",MID(BY14,1,56))","v":"事業の種類"},null,null,null,null,null,null,null,null,null,null,null,null,null,null,null,null,null,null,null,null,null,"除外率の\n産業分類"]
[null,null,null,null,null,null,null,null,null,null,null,null,null,null,null,null,null,null,null,null,null,null,null,null,null,null,null,null,null,null,null,null,null,null,null,null,null,null,null,null,null,null,"事業の種類",null,null,null,null,null,"（",{"$f":"IF(BZ14=0,\"\",MID(BZ14,1,24))","v":"事業の種類"},null,null,null,null,null,null,null,null,null,null,null,null,null,null,null,null,null,"）",null,{"$f":"IF(INDIRECT(\"Sheet2!X\" & $BX1+3)=0,\"\",INDIRECT(\"Sheet2!X\" & $BX1+3))","v":"除外率の産業分類"},null,null,null,null,null,{"$f":"IF(INDIRECT(\"Sheet2!T\"&$BX1+3)=0,\"\",INDIRECT(\"Sheet2!T\"&$BX1+3))","v":"名称"},{"$f":"IF(INDIRECT(\"Sheet2!U\" & $BX1+3)=0,\"\",INDIRECT(\"Sheet2!U\" & $BX1+3))","v":"事業の種類"},{"$f":"IF(INDIRECT(\"Sheet2!V\" & $BX1+3)=0,\"\",INDIRECT(\"Sheet2!V\" & $BX1+3))","v":"事業の種類"}]
[null,null,"(ﾎ)","所          在          地",null,null,null,null,{"$f":"IF(BX17=0,\"\",MID(BX17,1,78))","v":"所在地"},null,null,null,null,null,null,null,null,null,null,null,null,null,null,null,null,null,null,null,null,null,null,null,null,null,null,null,null,null,null,null,null,null,null,null,null,null,null,null,null,null,null,"（ﾍ)\n　除 外 率",null,null,null,null,null,null,null,null,null,null,null,null," (ﾄ)\n　算定基礎日",null,null,null,null,{"$f":"IF(INDIRECT(\"Sheet2!AA\" & $BX1+3)=0,\"\",INDIRECT(\"Sheet2!AA\" & $BX1+3))","v":"算定基礎日"},null,null,null,"日"]
[null,null,null,null,null,null,null,null,null,null,null,null,null,null,null,null,null,null,null,null,null,null,null,null,null,null,null,null,null,null,null,null,null,null,null,null,null,null,null,null,null,null,null,null,null,null,null,null,null,null,null,null,null,null,null,null,null,{"$f":"IF(MASTA!$D$17=1,IF(INDIRECT(\"Sheet2!Y\" & $BX1+3)=\"\",0,INDIRECT(\"Sheet2!Y\" & $BX1+3)),IF(INDIRECT(\"Sheet2!ER\" & $BX1+3)=\"\",0,INDIRECT(\"Sheet2!ER\" & $BX1+3)))","v":"除外率2"}]
[null,null,null,null,null,null,null,null,null,null,null,null,null,null,null,null,null,null,null,null,null,null,null,null,null,null,null,null,null,null,null,null,null,null,null,null,null,null,null,null,null,null,null,null,null,null,null,null,null,null,null,null,null,null,null,null,null,null,null,null,null,100,null,null,null,null,null,null,null,null,null,null,null,null,null,{"$f":"IF(INDIRECT(\"Sheet2!Z\" & $BX1+3)=0,\"\",INDIRECT(\"Sheet2!Z\" & $BX1+3))","v":"所在地"}]
[null,"③ 労働者の月別雇用状況","区  　　　 　　分",null,null,null,null,null,null,{"$f":"IF(MASTA!$BG$6<>\"\",MASTA!$BG$6,\"\")","v":"令和4年"},null,null,null,null,{"$f":"IF(MASTA!$BH$6<>\"\",MASTA!$BH$6,\"\")","v":""},null,null,null,null,{"$f":"IF(MASTA!$BI$6<>\"\",MASTA!$BI$6,\"\")","v":""},null,null,null,null,{"$f":"IF(MASTA!$BJ$6<>\"\",MASTA!$BJ$6,\"\")","v":""},null,null,null,null,{"$f":"IF(MASTA!$BK$6<>\"\",MASTA!$BK$6,\"\")","v":""},null,null,null,null,{"$f":"IF(MASTA!$BL$6<>\"\",MASTA!$BL$6,\"\")","v":""},null,null,null,null,{"$f":"IF(MASTA!$BM$6<>\"\",MASTA!$BM$6,\"\")","v":""},null,null,null,null,{"$f":"IF(MASTA!$BN$6<>\"\",MASTA!$BN$6,\"\")","v":""},null,null,null,null,{"$f":"IF(MASTA!$BO$6<>\"\",MASTA!$BO$6,\"\")","v":""},null,null,null,null,{"$f":"IF(MASTA!$BP$6<>\"\",MASTA!$BP$6,\"\")","v":"令和5年"},null,null,null,null,{"$f":"IF(MASTA!$BQ$6<>\"\",MASTA!$BQ$6,\"\")","v":""},null,null,null,null,{"$f":"IF(MASTA!$BR$6<>\"\",MASTA!$BR$6,\"\")","v":""},null,null,null,null,"合　　計"]
[2,null,null,null,null,null,null,null,null,"４月",null,null,null,null,"５月",null,null,null,null,"６月",null,null,null,null,"７月",null,null,null,null,"８月",null,null,null,null,"９月",null,null,null,null,"10月",null,null,null,null,"11月",null,null,null,null,"12月",null,null,null,null,"１月",null,null,null,null,"２月",null,null,null,null,"３月"]
[null,null,null,"(ｲ)　","短時間労働者以外の　　　　　　　　　　　常用雇用労働者数",null,null,null,1,{"$f":"IF(INDIRECT(\"Sheet2!\" & \"AB\" & $BX1+3)=\"\",\"\",INDIRECT(\"Sheet2!\" & \"AB\" & $BX1+3))","v":"常用4月"},null,null,null,"人",{"$f":"IF(INDIRECT(\"Sheet2!\" & \"AC\" & $BX1+3)=\"\",\"\",INDIRECT(\"Sheet2!\" & \"AC\" & $BX1+3))","v":"常用5月"},null,null,null,"人",{"$f":"IF(INDIRECT(\"Sheet2!\" & \"AD\" & $BX1+3)=\"\",\"\",INDIRECT(\"Sheet2!\" & \"AD\" & $BX1+3))","v":"常用6月"},null,null,null,"人",{"$f":"IF(INDIRECT(\"Sheet2!\" & \"AE\" & $BX1+3)=\"\",\"\",INDIRECT(\"Sheet2!\" & \"AE\" & $BX1+3))","v":"常用7月"},null,null,null,"人",{"$f":"IF(INDIRECT(\"Sheet2!\" & \"AF\" & $BX1+3)=\"\",\"\",INDIRECT(\"Sheet2!\" & \"AF\" & $BX1+3))","v":"常用8月"},null,null,null,"人",{"$f":"IF(INDIRECT(\"Sheet2!\" & \"AG\" & $BX1+3)=\"\",\"\",INDIRECT(\"Sheet2!\" & \"AG\" & $BX1+3))","v":"常用9月"},null,null,null,"人",{"$f":"IF(INDIRECT(\"Sheet2!\" & \"AH\" & $BX1+3)=\"\",\"\",INDIRECT(\"Sheet2!\" & \"AH\" & $BX1+3))","v":"常用10月"},null,null,null,"人",{"$f":"IF(INDIRECT(\"Sheet2!\" & \"AI\" & $BX1+3)=\"\",\"\",INDIRECT(\"Sheet2!\" & \"AI\" & $BX1+3))","v":"常用11月"},null,null,null,"人",{"$f":"IF(INDIRECT(\"Sheet2!\" & \"AJ\" & $BX1+3)=\"\",\"\",INDIRECT(\"Sheet2!\" & \"AJ\" & $BX1+3))","v":"常用12月"},null,null,null,"人",{"$f":"IF(INDIRECT(\"Sheet2!\" & \"AK\" & $BX1+3)=\"\",\"\",INDIRECT(\"Sheet2!\" & \"AK\" & $BX1+3))","v":"常用1月"},null,null,null,"人",{"$f":"IF(INDIRECT(\"Sheet2!\" & \"AL\" & $BX1+3)=\"\",\"\",INDIRECT(\"Sheet2!\" & \"AL\" & $BX1+3))","v":"常用2月"},null,null,null,"人",{"$f":"IF(INDIRECT(\"Sheet2!\" & \"AM\" & $BX1+3)=\"\",\"\",INDIRECT(\"Sheet2!\" & \"AM\" & $BX1+3))","v":"常用3月"},null,null,null,"人",{"$f":"SUM(J20,O20,T20,Y20,AD20,AI20,AN20,AS20,AX20,BC20,BH20,BM20,)","v":0},null,null,null,null,"人"]
[null,null,null,"(ロ)　","短 時 間 労 働　者　数",null,null,null,2,{"$f":"IF(INDIRECT(\"Sheet2!\" & \"DT\" & $BX1+3)=\"\",\"\",INDIRECT(\"Sheet2!\" & \"DT\" & $BX1+3))","v":"短期4月"},null,null,null,"人",{"$f":"IF(INDIRECT(\"Sheet2!\" & \"DU\" & $BX1+3)=\"\",\"\",INDIRECT(\"Sheet2!\" & \"DU\" & $BX1+3))","v":"短期5月"},null,null,null,"人",{"$f":"IF(INDIRECT(\"Sheet2!\" & \"DV\" & $BX1+3)=\"\",\"\",INDIRECT(\"Sheet2!\" & \"DV\" & $BX1+3))","v":"短期6月"},null,null,null,"人",{"$f":"IF(INDIRECT(\"Sheet2!\" & \"DW\" & $BX1+3)=\"\",\"\",INDIRECT(\"Sheet2!\" & \"DW\" & $BX1+3))","v":"短期7月"},null,null,null,"人",{"$f":"IF(INDIRECT(\"Sheet2!\" & \"DX\" & $BX1+3)=\"\",\"\",INDIRECT(\"Sheet2!\" & \"DX\" & $BX1+3))","v":"短期8月"},null,null,null,"人",{"$f":"IF(INDIRECT(\"Sheet2!\" & \"DY\" & $BX1+3)=\"\",\"\",INDIRECT(\"Sheet2!\" & \"DY\" & $BX1+3))","v":"短期9月"},null,null,null,"人",{"$f":"IF(INDIRECT(\"Sheet2!\" & \"DZ\" & $BX1+3)=\"\",\"\",INDIRECT(\"Sheet2!\" & \"DZ\" & $BX1+3))","v":"短期10月"},null,null,null,"人",{"$f":"IF(INDIRECT(\"Sheet2!\" & \"EA\" & $BX1+3)=\"\",\"\",INDIRECT(\"Sheet2!\" & \"EA\" & $BX1+3))","v":"短期11月"},null,null,null,"人",{"$f":"IF(INDIRECT(\"Sheet2!\" & \"EB\" & $BX1+3)=\"\",\"\",INDIRECT(\"Sheet2!\" & \"EB\" & $BX1+3))","v":"短期12月"},null,null,null,"人",{"$f":"IF(INDIRECT(\"Sheet2!\" & \"EC\" & $BX1+3)=\"\",\"\",INDIRECT(\"Sheet2!\" & \"EC\" & $BX1+3))","v":"短期1月"},null,null,null,"人",{"$f":"IF(INDIRECT(\"Sheet2!\" & \"ED\" & $BX1+3)=\"\",\"\",INDIRECT(\"Sheet2!\" & \"ED\" & $BX1+3))","v":"短期2月"},null,null,null,"人",{"$f":"IF(INDIRECT(\"Sheet2!\" & \"EE\" & $BX1+3)=\"\",\"\",INDIRECT(\"Sheet2!\" & \"EE\" & $BX1+3))","v":"短期3月"},null,null,null,"人",{"$f":"SUM(J21,O21,T21,Y21,AD21,AI21,AN21,AS21,AX21,BC21,BH21,BM21)","v":0},null,null,null,null,"人"]
[]
[null,null,null,"(ﾊ)","常 用 雇 用 労 働 者 の 総 数      　　　　　　　　  　　　　　 ((ｲ)＋(ﾛ)×0.5)",null,null,null,3,{"$f":"IF(INDIRECT(\"Sheet2!\" & \"EF\" & $BX1+3)=\"\",\"\",INDIRECT(\"Sheet2!\" & \"EF\" & $BX1+3))","v":"常用総数4月"},null,null,null,"人",{"$f":"IF(INDIRECT(\"Sheet2!\" & \"EG\" & $BX1+3)=\"\",\"\",INDIRECT(\"Sheet2!\" & \"EG\" & $BX1+3))","v":"常用総数5月"},null,null,null,"人",{"$f":"IF(INDIRECT(\"Sheet2!\" & \"EH\" & $BX1+3)=\"\",\"\",INDIRECT(\"Sheet2!\" & \"EH\" & $BX1+3))","v":"常用総数6月"},null,null,null,"人",{"$f":"IF(INDIRECT(\"Sheet2!\" & \"EI\" & $BX1+3)=\"\",\"\",INDIRECT(\"Sheet2!\" & \"EI\" & $BX1+3))","v":"常用総数7月"},null,null,null,"人",{"$f":"IF(INDIRECT(\"Sheet2!\" & \"EJ\" & $BX1+3)=\"\",\"\",INDIRECT(\"Sheet2!\" & \"EJ\" & $BX1+3))","v":"常用総数8月"},null,null,null,"人",{"$f":"IF(INDIRECT(\"Sheet2!\" & \"EK\" & $BX1+3)=\"\",\"\",INDIRECT(\"Sheet2!\" & \"EK\" & $BX1+3))","v":"常用総数9月"},null,null,null,"人",{"$f":"IF(INDIRECT(\"Sheet2!\" & \"EL\" & $BX1+3)=\"\",\"\",INDIRECT(\"Sheet2!\" & \"EL\" & $BX1+3))","v":"常用総数10月"},null,null,null,"人",{"$f":"IF(INDIRECT(\"Sheet2!\" & \"EM\" & $BX1+3)=\"\",\"\",INDIRECT(\"Sheet2!\" & \"EM\" & $BX1+3))","v":"常用総数11月"},null,null,null,"人",{"$f":"IF(INDIRECT(\"Sheet2!\" & \"EN\" & $BX1+3)=\"\",\"\",INDIRECT(\"Sheet2!\" & \"EN\" & $BX1+3))","v":"常用総数12月"},null,null,null,"人",{"$f":"IF(INDIRECT(\"Sheet2!\" & \"EO\" & $BX1+3)=\"\",\"\",INDIRECT(\"Sheet2!\" & \"EO\" & $BX1+3))","v":"常用総数1月"},null,null,null,"人",{"$f":"IF(INDIRECT(\"Sheet2!\" & \"EP\" & $BX1+3)=\"\",\"\",INDIRECT(\"Sheet2!\" & \"EP\" & $BX1+3))","v":"常用総数2月"},null,null,null,"人",{"$f":"IF(INDIRECT(\"Sheet2!\" & \"EQ\" & $BX1+3)=\"\",\"\",INDIRECT(\"Sheet2!\" & \"EQ\" & $BX1+3))","v":"常用総数3月"},null,null,null,"人",{"$f":"SUM(J23,O23,T23,Y23,AD23,AI23,AN23,AS23,AX23,BC23,BH23,BM23)","v":0},null,null,null,null,"人"]
[null,null,null,null,null,null,null,null,null,null,null,null,null,null,null,null,null,null,null,null,null,null,null,null,null,null,null,null,null,null,null,null,null,null,null,null,null,null,null,null,null,null,null,null,null,null,null,null,null,null,null,null,null,null,null,null,null,null,null,null,null,null,null,null,null,null,null,null,null,0]
[null,null,"(ﾆ)","法定雇用障害者数の算定の基礎となる労働者の数",null,null,null,null,4,{"$f":"IF(Sheet1!$T$3=23,IF(INDIRECT(\"Sheet2!\" & \"AN\" & $BX1+3)=\"\",\"\",INDIRECT(\"Sheet2!\" & \"AN\" & $BX1+3)),IF(INDIRECT(\"Sheet2!\" & \"ES\" & $BX1+3)=\"\",\"\",INDIRECT(\"Sheet2!\" & \"ES\" & $BX1+3)))","v":"算定基礎\n4月"},null,null,null,"人",{"$f":"IF(Sheet1!$T$3=23,IF(INDIRECT(\"Sheet2!\" & \"AO\" & $BX1+3)=\"\",\"\",INDIRECT(\"Sheet2!\" & \"AO\" & $BX1+3)),IF(INDIRECT(\"Sheet2!\" & \"ET\" & $BX1+3)=\"\",\"\",INDIRECT(\"Sheet2!\" & \"ET\" & $BX1+3)))","v":"算定基礎\n5月"},null,null,null,"人",{"$f":"IF(Sheet1!$T$3=23,IF(INDIRECT(\"Sheet2!\" & \"AP\" & $BX1+3)=\"\",\"\",INDIRECT(\"Sheet2!\" & \"AP\" & $BX1+3)),IF(INDIRECT(\"Sheet2!\" & \"EU\" & $BX1+3)=\"\",\"\",INDIRECT(\"Sheet2!\" & \"EU\" & $BX1+3)))","v":"算定基礎\n6月"},null,null,null,"人",{"$f":"IF(INDIRECT(\"Sheet2!\" & \"EV\" & $BX1+3)=\"\",\"\",INDIRECT(\"Sheet2!\" & \"EV\" & $BX1+3))","v":"算定基礎\n7月"},null,null,null,"人",{"$f":"IF(INDIRECT(\"Sheet2!\" & \"EW\" & $BX1+3)=\"\",\"\",INDIRECT(\"Sheet2!\" & \"EW\" & $BX1+3))","v":"算定基礎\n8月"},null,null,null,"人",{"$f":"IF(INDIRECT(\"Sheet2!\" & \"EX\" & $BX1+3)=\"\",\"\",INDIRECT(\"Sheet2!\" & \"EX\" & $BX1+3))","v":"算定基礎\n9月"},null,null,null,"人",{"$f":"IF(INDIRECT(\"Sheet2!\" & \"EY\" & $BX1+3)=\"\",\"\",INDIRECT(\"Sheet2!\" & \"EY\" & $BX1+3))","v":"算定基礎\n10月"},null,null,null,"人",{"$f":"IF(INDIRECT(\"Sheet2!\" & \"EZ\" & $BX1+3)=\"\",\"\",INDIRECT(\"Sheet2!\" & \"EZ\" & $BX1+3))","v":"算定基礎\n11月"},null,null,null,"人",{"$f":"IF(INDIRECT(\"Sheet2!\" & \"FA\" & $BX1+3)=\"\",\"\",INDIRECT(\"Sheet2!\" & \"FA\" & $BX1+3))","v":"算定基礎\n12月"},null,null,null,"人",{"$f":"IF(INDIRECT(\"Sheet2!\" & \"FB\" & $BX1+3)=\"\",\"\",INDIRECT(\"Sheet2!\" & \"FB\" & $BX1+3))","v":"算定基礎\n1月"},null,null,null,"人",{"$f":"IF(INDIRECT(\"Sheet2!\" & \"FC\" & $BX1+3)=\"\",\"\",INDIRECT(\"Sheet2!\" & \"FC\" & $BX1+3))","v":"算定基礎\n2月"},null,null,null,"人",{"$f":"IF(INDIRECT(\"Sheet2!\" & \"FD\" & $BX1+3)=\"\",\"\",INDIRECT(\"Sheet2!\" & \"FD\" & $BX1+3))","v":"算定基礎\n3月"},null,null,null,"人",{"$f":"SUM(J25,O25,T25,Y25,AD25,AI25,AN25,AS25,AX25,BC25,BH25,BM25)","v":0},null,null,null,null,"人"]
[null,null,null,"((ﾊ）－(ﾊ)×②の(ﾍ))",null,null,null,null,null,null,null,null,null,null,null,null,null,null,null,null,null,null,null,null,null,null,null,null,null,null,null,null,null,null,null,null,null,null,null,null,null,null,null,null,null,null,null,null,null,null,null,null,null,null,null,null,null,null,null,null,null,null,null,null,null,null,null,null,null,{"$f":"SUM(J26,O26,T26,Y26,AD26,AI26,AN26,AS26,AX26,BC26,BH26,BM26)","v":0}]
[null,null,"(ﾎ)身体障害者、知的障害者及び精神障害者の数","(ﾍ)短時間労働者以外の常用雇用労働者",null,"(a)","重度身体障害者、重度知的障害者の数",null,5,{"$f":"INDIRECT(\"Sheet2!\" & \"AZ\" & $BX1+3)","v":"重度障害\n4月"},null,null,null,"人",{"$f":"INDIRECT(\"Sheet2!\" & \"BA\" & $BX1+3)","v":"重度障害\n5月"},null,null,null,"人",{"$f":"INDIRECT(\"Sheet2!\" & \"BB\" & $BX1+3)","v":"重度障害\n6月"},null,null,null,"人",{"$f":"INDIRECT(\"Sheet2!\" & \"BC\" & $BX1+3)","v":"重度障害\n7月"},null,null,null,"人",{"$f":"INDIRECT(\"Sheet2!\" & \"BD\" & $BX1+3)","v":"重度障害\n8月"},null,null,null,"人",{"$f":"INDIRECT(\"Sheet2!\" & \"BE\" & $BX1+3)","v":"重度障害\n9月"},null,null,null,"人",{"$f":"INDIRECT(\"Sheet2!\" & \"BF\" & $BX1+3)","v":"重度障害\n10月"},null,null,null,"人",{"$f":"INDIRECT(\"Sheet2!\" & \"BG\" & $BX1+3)","v":"重度障害\n11月"},null,null,null,"人",{"$f":"INDIRECT(\"Sheet2!\" & \"BH\" & $BX1+3)","v":"重度障害\n12月"},null,null,null,"人",{"$f":"INDIRECT(\"Sheet2!\" & \"BI\" & $BX1+3)","v":"重度障害\n1月"},null,null,null,"人",{"$f":"INDIRECT(\"Sheet2!\" & \"BJ\" & $BX1+3)","v":"重度障害\n2月"},null,null,null,"人",{"$f":"INDIRECT(\"Sheet2!\" & \"BK\" & $BX1+3)","v":"重度障害\n3月"},null,null,null,"人",{"$f":"SUM(J27,O27,T27,Y27,AD27,AI27,AN27,AS27,AX27,BC27,BH27,BM27,)","v":0},null,null,null,null,"人"]
[null,null,null,null,null,"(b)","重度以外の身体障害者、重度以外の知的障害者及び精神障害者の数",null,6,{"$f":"INDIRECT(\"Sheet2!\" & \"BL\" & $BX1+3)","v":"重度以外\n4月"},null,null,null,"人",{"$f":"INDIRECT(\"Sheet2!\" & \"BM\" & $BX1+3)","v":"重度以外\n5月"},null,null,null,"人",{"$f":"INDIRECT(\"Sheet2!\" & \"BN\" & $BX1+3)","v":"重度以外\n6月"},null,null,null,"人",{"$f":"INDIRECT(\"Sheet2!\" & \"BO\" & $BX1+3)","v":"重度以外\n7月"},null,null,null,"人",{"$f":"INDIRECT(\"Sheet2!\" & \"BP\" & $BX1+3)","v":"重度以外\n8月"},null,null,null,"人",{"$f":"INDIRECT(\"Sheet2!\" & \"BQ\" & $BX1+3)","v":"重度以外\n9月"},null,null,null,"人",{"$f":"INDIRECT(\"Sheet2!\" & \"BR\" & $BX1+3)","v":"重度以外\n10月"},null,null,null,"人",{"$f":"INDIRECT(\"Sheet2!\" & \"BS\" & $BX1+3)","v":"重度以外\n11月"},null,null,null,"人",{"$f":"INDIRECT(\"Sheet2!\" & \"BT\" & $BX1+3)","v":"重度以外\n12月"},null,null,null,"人",{"$f":"INDIRECT(\"Sheet2!\" & \"BU\" & $BX1+3)","v":"重度以外\n1月"},null,null,null,"人",{"$f":"INDIRECT(\"Sheet2!\" & \"BV\" & $BX1+3)","v":"重度以外\n2月"},null,null,null,"人",{"$f":"INDIRECT(\"Sheet2!\" & \"BW\" & $BX1+3)","v":"重度以外\n3月"},null,null,null,"人",0,null,null,null,null,"人"]
[null,null,null,"(ﾄ)短時間労働者",null,"(c)\n","重度身体障害者、重度知的障害者及び雇入又は手帳取得から3年以内の精神障害者の数",null,7,{"$f":"INDIRECT(\"Sheet2!\" & \"CJ\" & $BX1+3)","v":"短時\n4月"},null,null,null,"人",{"$f":"INDIRECT(\"Sheet2!\" & \"CK\" & $BX1+3)","v":"短時\n5月"},null,null,null,"人",{"$f":"INDIRECT(\"Sheet2!\" & \"CL\" & $BX1+3)","v":"短時\n6月"},null,null,null,"人",{"$f":"INDIRECT(\"Sheet2!\" & \"CM\" & $BX1+3)","v":"短時\n7月"},null,null,null,"人",{"$f":"INDIRECT(\"Sheet2!\" & \"CN\" & $BX1+3)","v":"短時\n8月"},null,null,null,"人",{"$f":"INDIRECT(\"Sheet2!\" & \"CO\" & $BX1+3)","v":"短時\n9月"},null,null,null,"人",{"$f":"INDIRECT(\"Sheet2!\" & \"CP\" & $BX1+3)","v":"短時\n10月"},null,null,null,"人",{"$f":"INDIRECT(\"Sheet2!\" & \"CQ\" & $BX1+3)","v":"短時\n11月"},null,null,null,"人",{"$f":"INDIRECT(\"Sheet2!\" & \"CR\" & $BX1+3)","v":"短時\n12月"},null,null,null,"人",{"$f":"INDIRECT(\"Sheet2!\" & \"CS\" & $BX1+3)","v":"短時\n1月"},null,null,null,"人",{"$f":"INDIRECT(\"Sheet2!\" & \"CT\" & $BX1+3)","v":"短時\n2月"},null,null,null,"人",{"$f":"INDIRECT(\"Sheet2!\" & \"CU\" & $BX1+3)","v":"短時\n3月"},null,null,null,"人",0,null,null,null,null,"人"]
[null,null,null,null,null,"(d)\n","重度以外の身体障害者、重度以外の知的障害者及び(c)に該当しない精神障害者の数",null,8,{"$f":"INDIRECT(\"Sheet2!\" & \"CV\" & $BX1+3)","v":"短時精神\n4月"},null,null,null,"人",{"$f":"INDIRECT(\"Sheet2!\" & \"CW\" & $BX1+3)","v":"短時精神\n5月"},null,null,null,"人",{"$f":"INDIRECT(\"Sheet2!\" & \"CX\" & $BX1+3)","v":"短時精神\n6月"},null,null,null,"人",{"$f":"INDIRECT(\"Sheet2!\" & \"CY\" & $BX1+3)","v":"短時精神\n7月"},null,null,null,"人",{"$f":"INDIRECT(\"Sheet2!\" & \"CZ\" & $BX1+3)","v":"短時精神\n8月"},null,null,null,"人",{"$f":"INDIRECT(\"Sheet2!\" & \"DA\" & $BX1+3)","v":"短時精神\n9月"},null,null,null,"人",{"$f":"INDIRECT(\"Sheet2!\" & \"DB\" & $BX1+3)","v":"短時精神\n10月"},null,null,null,"人",{"$f":"INDIRECT(\"Sheet2!\" & \"DC\" & $BX1+3)","v":"短時精神\n11月"},null,null,null,"人",{"$f":"INDIRECT(\"Sheet2!\" & \"DD\" & $BX1+3)","v":"短時精神\n12月"},null,null,null,"人",{"$f":"INDIRECT(\"Sheet2!\" & \"DE\" & $BX1+3)","v":"短時精神\n1月"},null,null,null,"人",{"$f":"INDIRECT(\"Sheet2!\" & \"DF\" & $BX1+3)","v":"短時精神\n2月"},null,null,null,"人",{"$f":"INDIRECT(\"Sheet2!\" & \"DG\" & $BX1+3)","v":"短時精神\n3月"},null,null,null,"人",0,null,null,null,null,"人"]
[null,null,null,"(f)","合             計",null,null,null,9,{"$f":"(J27*2)+SUM(J28:M29)+(J30*0.5)","v":{"$error":"#VALUE!"}},null,null,null,"人",{"$f":"(O27*2)+SUM(O28:R29)+(O30*0.5)","v":{"$error":"#VALUE!"}},null,null,null,"人",{"$f":"(T27*2)+SUM(T28:W29)+(T30*0.5)","v":{"$error":"#VALUE!"}},null,null,null,"人",{"$f":"(Y27*2)+SUM(Y28:AB29)+(Y30*0.5)","v":{"$error":"#VALUE!"}},null,null,null,"人",{"$f":"(AD27*2)+SUM(AD28:AG29)+(AD30*0.5)","v":{"$error":"#VALUE!"}},null,null,null,"人",{"$f":"(AI27*2)+SUM(AI28:AL29)+(AI30*0.5)","v":{"$error":"#VALUE!"}},null,null,null,"人",{"$f":"(AN27*2)+SUM(AN28:AQ29)+(AN30*0.5)","v":{"$error":"#VALUE!"}},null,null,null,"人",{"$f":"(AS27*2)+SUM(AS28:AV29)+(AS30*0.5)","v":{"$error":"#VALUE!"}},null,null,null,"人",{"$f":"(AX27*2)+SUM(AX28:BA29)+(AX30*0.5)","v":{"$error":"#VALUE!"}},null,null,null,"人",{"$f":"(BC27*2)+SUM(BC28:BF29)+(BC30*0.5)","v":{"$error":"#VALUE!"}},null,null,null,"人",{"$f":"(BH27*2)+SUM(BH28:BK29)+(BH30*0.5)","v":{"$error":"#VALUE!"}},null,null,null,"人",{"$f":"(BM27*2)+SUM(BM28:BP29)+(BM30*0.5)","v":{"$error":"#VALUE!"}},null,null,null,"人",{"$error":"#VALUE!"},null,null,null,null,"人"]
[null,null,null,null,"((a)×２＋(b)＋(c)＋(d)×0.5)",null,null,null,null,null,null,null,null,null,null,null,null,null,null,null,null,null,null,null,null,null,null,null,null,null,null,null,null,null,null,null,null,null,null,null,null,null,null,null,null,null,null,null,null,null,null,null,null,null,null,null,null,null,null,null,null,null,null,null,null,null,null,null,null,0]
[3,null,null,"(ﾁ)","週労働時間が10時間以上20時間未満の雇用障害者の数",null,null,null,10,{"$f":"INDIRECT(\"Sheet2!GL\" &  $BX1+3)","v":"特定労働者4月"},null,null,null,"人",{"$f":"INDIRECT(\"Sheet2!GM\" &  $BX1+3)","v":"特定労働者5月"},null,null,null,"人",{"$f":"INDIRECT(\"Sheet2!GN\" &  $BX1+3)","v":"特定労働者6月"},null,null,null,"人",{"$f":"INDIRECT(\"Sheet2!GO\" &  $BX1+3)","v":"特定労働者7月"},null,null,null,"人",{"$f":"INDIRECT(\"Sheet2!GP\" &  $BX1+3)","v":"特定労働者8月"},null,null,null,"人",{"$f":"INDIRECT(\"Sheet2!GQ\" &  $BX1+3)","v":"特定労働者9月"},null,null,null,"人",{"$f":"INDIRECT(\"Sheet2!GR\" &  $BX1+3)","v":"特定労働者10月"},null,null,null,"人",{"$f":"INDIRECT(\"Sheet2!GS\" &  $BX1+3)","v":"特定労働者11月"},null,null,null,"人",{"$f":"INDIRECT(\"Sheet2!GT\" &  $BX1+3)","v":"特定労働者12月"},null,null,null,"人",{"$f":"INDIRECT(\"Sheet2!GU\" &  $BX1+3)","v":"特定労働者1月"},null,null,null,"人",{"$f":"INDIRECT(\"Sheet2!GV\" &  $BX1+3)","v":"特定労働者2月"},null,null,null,"人",{"$f":"INDIRECT(\"Sheet2!GW\" &  $BX1+3)","v":"特定労働者3月"},null,null,null,"人",0,null,null,null,null,"人"]
[null,"注）「記入上の注意」をよく読んで記入して下さい。"]

{"sheet":"houkoku_nashi","index":6,"n_rows":34,"n_cols":78,"rows_kept":34,"cut":false,"hidden":true,"merged":[[29,69,29,73],[30,54,31,57],[30,59,31,62],[30,64,31,67],[30,69,31,73],[29,59,29,62],[30,39,31,42],[30,44,31,47],[28,64,28,67],[28,39,28,42],[28,44,28,47],[28,49,28,52],[28,54,28,57],[28,59,28,62],[30,49,31,52],[29,49,29,52],[29,54,29,57],[29,64,29,67],[29,44,29,47],[30,4,30,6],[30,8,31,8],[30,9,31,12],[30,14,31,17],[31,4,31,7],[30,24,31,27],[30,29,31,32],[30,34,31,37],[30,19,31,22],[27,19,27,22],[27,24,27,27],[27,29,27,32],[27,34,27,37],[29,24,29,27],[29,29,29,32],[29,34,29,37],[29,39,29,42],[28,24,28,27],[28,34,28,37],[27,39,27,42],[28,19,28,22],[29,19,29,22],[28,29,28,32],[24,69,25,73],[24,54,25,57],[24,59,25,62],[26,64,26,67],[26,69,26,73],[24,44,25,47],[28,69,28,73],[27,69,27,73],[27,59,27,62],[27,64,27,67],[27,54,27,57],[27,49,27,52],[27,44,27,47],[26,54,26,57],[26,59,26,62],[24,64,25,67],[24,29,25,32],[24,34,25,37],[24,39,25,42],[24,49,25,52],[26,14,26,17],[26,19,26,22],[26,24,26,27],[26,29,26,32],[26,34,26,37],[26,39,26,42],[26,44,26,47],[26,49,26,52],[20,59,21,62],[20,64,21,67],[20,69,21,73],[20,29,21,32],[20,34,21,37],[20,49,21,52],[20,54,21,57],[19,54,19,57],[22,4,23,6],[22,8,23,8],[22,9,23,12],[22,14,23,17],[22,19,23,22],[22,24,23,27],[22,59,23,62],[22,64,23,67],[22,29,23,32],[22,34,23,37],[22,39,23,42],[22,44,23,47],[22,49,23,52],[22,54,23,57],[17,49,17,53],[19,29,19,32],[19,34,19,37],[19,39,19,42],[19,44,19,47],[19,49,19,52],[19,69,19,73],[19,59,19,62],[19,64,19,67],[17,54,17,58],[28,3,29,4],[28,9,28,12],[28,14,28,17],[29,9,29,12],[29,14,29,17],[22,3,23,3],[22,69,23,73],[17,64,17,68],[17,69,18,74],[17,59,17,63],[18,59,18,63],[20,39,21,42],[20,44,21,47],[18,64,18,68],[18,29,18,33],[18,34,18,38],[17,29,17,33],[18,54,18,58],[18,39,18,43],[18,44,18,48],[18,49,18,53],[17,34,17,38],[17,39,17,43],[17,44,17,48],[18,19,18,23],[18,24,18,28],[19,24,19,27],[17,9,17,13],[17,2,18,8],[17,14,17,18],[25,3,25,6],[26,3,27,4],[26,9,26,12],[27,9,27,12],[27,14,27,17],[20,3,21,3],[20,4,21,6],[20,8,21,8],[20,9,21,12],[20,14,21,17],[24,3,24,6],[24,8,25,8],[24,9,25,12],[24,14,25,17],[20,19,21,22],[20,24,21,27],[24,19,25,22],[24,24,25,27],[4,60,7,74],[5,9,6,10],[5,11,6,12],[5,13,6,14],[5,15,6,16],[5,17,6,18],[8,9,8,14],[8,15,11,15],[9,9,10,14],[6,43,7,43],[14,73,16,74],[8,8,11,8],[12,8,13,41],[12,42,12,46],[12,47,12,68],[12,69,12,74],[13,42,13,46],[13,49,13,66],[13,69,13,74],[14,51,16,55],[14,69,16,72],[15,57,15,59],[16,57,16,59],[16,61,16,63],[14,64,16,68],[14,57,14,59],[14,56,16,56],[14,8,16,50],[8,42,11,45],[4,8,7,8],[4,21,7,21],[11,9,11,14],[1,1,1,2],[2,1,2,2],[4,1,7,1],[4,2,7,7],[5,19,6,20],[8,1,15,1],[8,2,11,2],[8,3,11,6],[12,2,13,2],[12,3,13,6],[14,2,16,2],[14,3,16,6],[10,17,11,40],[8,16,9,24],[32,49,32,52],[32,54,32,57],[32,59,32,62],[32,64,32,67],[32,69,32,73],[26,2,32,2],[17,1,32,1],[32,4,32,6],[32,9,32,12],[32,14,32,17],[32,19,32,22],[32,24,32,27],[32,29,32,32],[32,34,32,37],[32,39,32,42],[32,44,32,47],[17,24,17,28],[19,4,19,6],[19,9,19,12],[19,14,19,17],[19,19,19,22],[17,19,17,23],[18,9,18,13],[18,14,18,18]]}
[null,null,null,null,null,null,null,null,null,null,null,null,null,null,null,null,null,null,null,null,null,null,null,null,null,null,null,null,null,null,null,null,null,null,null,null,null,null,null,null,null,null,null,null,null,null,null,null,null,null,null,null,null,null,null,null,null,null,null,null,null,null,null,null,null,null,null,null,null,null,null,null,null,null,null,{"$f":"INT((ROW()+36-3)/36)","v":0}]
[]
[null,2,null,null,null,null,null,null,null,null,null,null,null,null,null,null,null,null,null,null,null,null,null,null,null,"障害者雇用状況等報告書（Ⅰ）"]
[]
[null,"①","事     業     主     番     号"]
[null,null,null,null,null,null,null,null,null,{"$f":"IF(Sheet1!$A$3=0,\"\",MID(Sheet1!$A$3,1,1))","v":""},null,{"$f":"IF(Sheet1!$A$3=0,\"\",MID(Sheet1!$A$3,2,1))","v":""},null,{"$f":"IF(Sheet1!$A$3=0,\"\",MID(Sheet1!$A$3,3,1))","v":""},null,{"$f":"IF(Sheet1!$A$3=0,\"\",MID(Sheet1!$A$3,4,1))","v":""},null,{"$f":"IF(Sheet1!$A$3=0,\"\",MID(Sheet1!$A$3,5,1))","v":""},null,{"$f":"IF(Sheet1!$A$3=0,\"\",MID(Sheet1!$A$3,6,1))","v":""}]
[]
[]
[null,"②　事　業　所","(ｲ)","事   業   所   別   連   番",null,null,null,null,null,null,null,null,null,null,null,null,"(ﾛ) 事業所の区分",null,null,null,null,null,null,null,null,null,null,null,null,null,null,null,null,null,null,null,null,null,null,null,null,null,{"$f":"IF(INDIRECT(\"Sheet2!HK\" & $BX1+3)=0,\"\",INDIRECT(\"Sheet2!HK\" & $BX1+3))","v":"事業所区分"}]
[null,null,null,null,null,null,null,null,null,{"$f":"IF(INDIRECT(\"Sheet2!S\" & $BX1+3)=0,\"\",RIGHT(INDIRECT(\"Sheet2!S\" & $BX1+3)+1000,3))","v":{"$error":"#VALUE!"}}]
[null,null,null,null,null,null,null,null,null,null,null,null,null,null,null,null,null,"次のいずれかに該当する場合は、右欄に次の番号を記載してください。\n１　特例子会社等の認定を受けた事業所\n２　就労継続支援A型事業所\n３　上記１及び２の両方に該当"]
[]
[1,null,"(ﾊ)","名                      称",null,null,null,null,{"$f":"IF(BX14=0,\"\",MID(BX14,1,87))","v":"名称"},null,null,null,null,null,null,null,null,null,null,null,null,null,null,null,null,null,null,null,null,null,null,null,null,null,null,null,null,null,null,null,null,null,"(ﾆ)",null,null,null,null,null,null,null,null,null,null,null,null,null,null,null,null,null,null,null,null,null,null,null,null,null,null,"除外率の\n産業分類"]
[null,null,null,null,null,null,null,null,null,null,null,null,null,null,null,null,null,null,null,null,null,null,null,null,null,null,null,null,null,null,null,null,null,null,null,null,null,null,null,null,null,null,"事業の種類",null,null,null,null,null,"（",null,null,null,null,null,null,null,null,null,null,null,null,null,null,null,null,null,null,"）",null,null,null,null,null,null,null,{"$f":"IF(INDIRECT(\"Sheet2!T\"&$BX1+3)=0,\"\",INDIRECT(\"Sheet2!T\"&$BX1+3))","v":"名称"},{"$f":"IF(INDIRECT(\"Sheet2!U\" & $BX1+3)=0,\"\",INDIRECT(\"Sheet2!U\" & $BX1+3))","v":"事業の種類"},{"$f":"IF(INDIRECT(\"Sheet2!V\" & $BX1+3)=0,\"\",INDIRECT(\"Sheet2!V\" & $BX1+3))","v":"事業の種類"}]
[null,null,"(ﾎ)","所          在          地",null,null,null,null,{"$f":"IF(BX17=0,\"\",MID(BX17,1,78))","v":"所在地"},null,null,null,null,null,null,null,null,null,null,null,null,null,null,null,null,null,null,null,null,null,null,null,null,null,null,null,null,null,null,null,null,null,null,null,null,null,null,null,null,null,null,"（ﾍ)\n　除 外 率",null,null,null,null,null,null,null,null,null,null,null,null," (ﾄ)\n　算定基礎日",null,null,null,null,{"$f":"IF(INDIRECT(\"Sheet2!AA\" & $BX1+3)=0,\"\",INDIRECT(\"Sheet2!AA\" & $BX1+3))","v":"算定基礎日"},null,null,null,"日"]
[]
[null,null,null,null,null,null,null,null,null,null,null,null,null,null,null,null,null,null,null,null,null,null,null,null,null,null,null,null,null,null,null,null,null,null,null,null,null,null,null,null,null,null,null,null,null,null,null,null,null,null,null,null,null,null,null,null,null,null,null,null,null,100,null,null,null,null,null,null,null,null,null,null,null,null,null,{"$f":"IF(INDIRECT(\"Sheet2!Z\" & $BX1+3)=0,\"\",INDIRECT(\"Sheet2!Z\" & $BX1+3))","v":"所在地"}]
[null,"③ 労働者の月別雇用状況","区  　　　 　　分",null,null,null,null,null,null,{"$f":"IF(MASTA!$BG$6<>\"\",MASTA!$BG$6,\"\")","v":"令和4年"},null,null,null,null,{"$f":"IF(MASTA!$BH$6<>\"\",MASTA!$BH$6,\"\")","v":""},null,null,null,null,{"$f":"IF(MASTA!$BI$6<>\"\",MASTA!$BI$6,\"\")","v":""},null,null,null,null,{"$f":"IF(MASTA!$BJ$6<>\"\",MASTA!$BJ$6,\"\")","v":""},null,null,null,null,{"$f":"IF(MASTA!$BK$6<>\"\",MASTA!$BK$6,\"\")","v":""},null,null,null,null,{"$f":"IF(MASTA!$BL$6<>\"\",MASTA!$BL$6,\"\")","v":""},null,null,null,null,{"$f":"IF(MASTA!$BM$6<>\"\",MASTA!$BM$6,\"\")","v":""},null,null,null,null,{"$f":"IF(MASTA!$BN$6<>\"\",MASTA!$BN$6,\"\")","v":""},null,null,null,null,{"$f":"IF(MASTA!$BO$6<>\"\",MASTA!$BO$6,\"\")","v":""},null,null,null,null,{"$f":"IF(MASTA!$BP$6<>\"\",MASTA!$BP$6,\"\")","v":"令和5年"},null,null,null,null,{"$f":"IF(MASTA!$BQ$6<>\"\",MASTA!$BQ$6,\"\")","v":""},null,null,null,null,{"$f":"IF(MASTA!$BR$6<>\"\",MASTA!$BR$6,\"\")","v":""},null,null,null,null,"合　　計"]
[2,null,null,null,null,null,null,null,null,"４月",null,null,null,null,"５月",null,null,null,null,"６月",null,null,null,null,"７月",null,null,null,null,"８月",null,null,null,null,"９月",null,null,null,null,"10月",null,null,null,null,"11月",null,null,null,null,"12月",null,null,null,null,"１月",null,null,null,null,"２月",null,null,null,null,"３月"]
[null,null,null,"(ｲ)　","短時間労働者以外の　　　　　　　　　　　常用雇用労働者数",null,null,null,1,{"$f":"IF(INDIRECT(\"Sheet2!\" & \"AB\" & $BX1+3)=\"\",\"\",INDIRECT(\"Sheet2!\" & \"AB\" & $BX1+3))","v":"常用4月"},null,null,null,"人",{"$f":"IF(INDIRECT(\"Sheet2!\" & \"AC\" & $BX1+3)=\"\",\"\",INDIRECT(\"Sheet2!\" & \"AC\" & $BX1+3))","v":"常用5月"},null,null,null,"人",{"$f":"IF(INDIRECT(\"Sheet2!\" & \"AD\" & $BX1+3)=\"\",\"\",INDIRECT(\"Sheet2!\" & \"AD\" & $BX1+3))","v":"常用6月"},null,null,null,"人",{"$f":"IF(INDIRECT(\"Sheet2!\" & \"AE\" & $BX1+3)=\"\",\"\",INDIRECT(\"Sheet2!\" & \"AE\" & $BX1+3))","v":"常用7月"},null,null,null,"人",{"$f":"IF(INDIRECT(\"Sheet2!\" & \"AF\" & $BX1+3)=\"\",\"\",INDIRECT(\"Sheet2!\" & \"AF\" & $BX1+3))","v":"常用8月"},null,null,null,"人",{"$f":"IF(INDIRECT(\"Sheet2!\" & \"AG\" & $BX1+3)=\"\",\"\",INDIRECT(\"Sheet2!\" & \"AG\" & $BX1+3))","v":"常用9月"},null,null,null,"人",{"$f":"IF(INDIRECT(\"Sheet2!\" & \"AH\" & $BX1+3)=\"\",\"\",INDIRECT(\"Sheet2!\" & \"AH\" & $BX1+3))","v":"常用10月"},null,null,null,"人",{"$f":"IF(INDIRECT(\"Sheet2!\" & \"AI\" & $BX1+3)=\"\",\"\",INDIRECT(\"Sheet2!\" & \"AI\" & $BX1+3))","v":"常用11月"},null,null,null,"人",{"$f":"IF(INDIRECT(\"Sheet2!\" & \"AJ\" & $BX1+3)=\"\",\"\",INDIRECT(\"Sheet2!\" & \"AJ\" & $BX1+3))","v":"常用12月"},null,null,null,"人",{"$f":"IF(INDIRECT(\"Sheet2!\" & \"AK\" & $BX1+3)=\"\",\"\",INDIRECT(\"Sheet2!\" & \"AK\" & $BX1+3))","v":"常用1月"},null,null,null,"人",{"$f":"IF(INDIRECT(\"Sheet2!\" & \"AL\" & $BX1+3)=\"\",\"\",INDIRECT(\"Sheet2!\" & \"AL\" & $BX1+3))","v":"常用2月"},null,null,null,"人",{"$f":"IF(INDIRECT(\"Sheet2!\" & \"AM\" & $BX1+3)=\"\",\"\",INDIRECT(\"Sheet2!\" & \"AM\" & $BX1+3))","v":"常用3月"},null,null,null,"人",{"$f":"SUM(J20,O20,T20,Y20,AD20,AI20,AN20,AS20,AX20,BC20,BH20,BM20,)","v":0},null,null,null,null,"人"]
[null,null,null,"(ロ)　","短 時 間 労 働　者　数",null,null,null,2,{"$f":"IF(INDIRECT(\"Sheet2!\" & \"DT\" & $BX1+3)=\"\",\"\",INDIRECT(\"Sheet2!\" & \"DT\" & $BX1+3))","v":"短期4月"},null,null,null,"人",{"$f":"IF(INDIRECT(\"Sheet2!\" & \"DU\" & $BX1+3)=\"\",\"\",INDIRECT(\"Sheet2!\" & \"DU\" & $BX1+3))","v":"短期5月"},null,null,null,"人",{"$f":"IF(INDIRECT(\"Sheet2!\" & \"DV\" & $BX1+3)=\"\",\"\",INDIRECT(\"Sheet2!\" & \"DV\" & $BX1+3))","v":"短期6月"},null,null,null,"人",{"$f":"IF(INDIRECT(\"Sheet2!\" & \"DW\" & $BX1+3)=\"\",\"\",INDIRECT(\"Sheet2!\" & \"DW\" & $BX1+3))","v":"短期7月"},null,null,null,"人",{"$f":"IF(INDIRECT(\"Sheet2!\" & \"DX\" & $BX1+3)=\"\",\"\",INDIRECT(\"Sheet2!\" & \"DX\" & $BX1+3))","v":"短期8月"},null,null,null,"人",{"$f":"IF(INDIRECT(\"Sheet2!\" & \"DY\" & $BX1+3)=\"\",\"\",INDIRECT(\"Sheet2!\" & \"DY\" & $BX1+3))","v":"短期9月"},null,null,null,"人",{"$f":"IF(INDIRECT(\"Sheet2!\" & \"DZ\" & $BX1+3)=\"\",\"\",INDIRECT(\"Sheet2!\" & \"DZ\" & $BX1+3))","v":"短期10月"},null,null,null,"人",{"$f":"IF(INDIRECT(\"Sheet2!\" & \"EA\" & $BX1+3)=\"\",\"\",INDIRECT(\"Sheet2!\" & \"EA\" & $BX1+3))","v":"短期11月"},null,null,null,"人",{"$f":"IF(INDIRECT(\"Sheet2!\" & \"EB\" & $BX1+3)=\"\",\"\",INDIRECT(\"Sheet2!\" & \"EB\" & $BX1+3))","v":"短期12月"},null,null,null,"人",{"$f":"IF(INDIRECT(\"Sheet2!\" & \"EC\" & $BX1+3)=\"\",\"\",INDIRECT(\"Sheet2!\" & \"EC\" & $BX1+3))","v":"短期1月"},null,null,null,"人",{"$f":"IF(INDIRECT(\"Sheet2!\" & \"ED\" & $BX1+3)=\"\",\"\",INDIRECT(\"Sheet2!\" & \"ED\" & $BX1+3))","v":"短期2月"},null,null,null,"人",{"$f":"IF(INDIRECT(\"Sheet2!\" & \"EE\" & $BX1+3)=\"\",\"\",INDIRECT(\"Sheet2!\" & \"EE\" & $BX1+3))","v":"短期3月"},null,null,null,"人",{"$f":"SUM(J21,O21,T21,Y21,AD21,AI21,AN21,AS21,AX21,BC21,BH21,BM21)","v":0},null,null,null,null,"人"]
[]
[null,null,null,"(ﾊ)","常 用 雇 用 労 働 者 の 総 数      　　　　　　　　  　　　　　 ((ｲ)＋(ﾛ)×0.5)",null,null,null,3,{"$f":"IF(INDIRECT(\"Sheet2!\" & \"EF\" & $BX1+3)=\"\",\"\",INDIRECT(\"Sheet2!\" & \"EF\" & $BX1+3))","v":"常用総数4月"},null,null,null,"人",{"$f":"IF(INDIRECT(\"Sheet2!\" & \"EG\" & $BX1+3)=\"\",\"\",INDIRECT(\"Sheet2!\" & \"EG\" & $BX1+3))","v":"常用総数5月"},null,null,null,"人",{"$f":"IF(INDIRECT(\"Sheet2!\" & \"EH\" & $BX1+3)=\"\",\"\",INDIRECT(\"Sheet2!\" & \"EH\" & $BX1+3))","v":"常用総数6月"},null,null,null,"人",{"$f":"IF(INDIRECT(\"Sheet2!\" & \"EI\" & $BX1+3)=\"\",\"\",INDIRECT(\"Sheet2!\" & \"EI\" & $BX1+3))","v":"常用総数7月"},null,null,null,"人",{"$f":"IF(INDIRECT(\"Sheet2!\" & \"EJ\" & $BX1+3)=\"\",\"\",INDIRECT(\"Sheet2!\" & \"EJ\" & $BX1+3))","v":"常用総数8月"},null,null,null,"人",{"$f":"IF(INDIRECT(\"Sheet2!\" & \"EK\" & $BX1+3)=\"\",\"\",INDIRECT(\"Sheet2!\" & \"EK\" & $BX1+3))","v":"常用総数9月"},null,null,null,"人",{"$f":"IF(INDIRECT(\"Sheet2!\" & \"EL\" & $BX1+3)=\"\",\"\",INDIRECT(\"Sheet2!\" & \"EL\" & $BX1+3))","v":"常用総数10月"},null,null,null,"人",{"$f":"IF(INDIRECT(\"Sheet2!\" & \"EM\" & $BX1+3)=\"\",\"\",INDIRECT(\"Sheet2!\" & \"EM\" & $BX1+3))","v":"常用総数11月"},null,null,null,"人",{"$f":"IF(INDIRECT(\"Sheet2!\" & \"EN\" & $BX1+3)=\"\",\"\",INDIRECT(\"Sheet2!\" & \"EN\" & $BX1+3))","v":"常用総数12月"},null,null,null,"人",{"$f":"IF(INDIRECT(\"Sheet2!\" & \"EO\" & $BX1+3)=\"\",\"\",INDIRECT(\"Sheet2!\" & \"EO\" & $BX1+3))","v":"常用総数1月"},null,null,null,"人",{"$f":"IF(INDIRECT(\"Sheet2!\" & \"EP\" & $BX1+3)=\"\",\"\",INDIRECT(\"Sheet2!\" & \"EP\" & $BX1+3))","v":"常用総数2月"},null,null,null,"人",{"$f":"IF(INDIRECT(\"Sheet2!\" & \"EQ\" & $BX1+3)=\"\",\"\",INDIRECT(\"Sheet2!\" & \"EQ\" & $BX1+3))","v":"常用総数3月"},null,null,null,"人",{"$f":"SUM(J23,O23,T23,Y23,AD23,AI23,AN23,AS23,AX23,BC23,BH23,BM23)","v":0},null,null,null,null,"人"]
[null,null,null,null,null,null,null,null,null,null,null,null,null,null,null,null,null,null,null,null,null,null,null,null,null,null,null,null,null,null,null,null,null,null,null,null,null,null,null,null,null,null,null,null,null,null,null,null,null,null,null,null,null,null,null,null,null,null,null,null,null,null,null,null,null,null,null,null,null,0]
[null,null,"(ﾆ)","法定雇用障害者数の算定の基礎となる労働者の数",null,null,null,null,4,{"$f":"IF(Sheet1!$T$3=23,IF(INDIRECT(\"Sheet2!\" & \"AN\" & $BX1+3)=\"\",\"\",INDIRECT(\"Sheet2!\" & \"AN\" & $BX1+3)),IF(INDIRECT(\"Sheet2!\" & \"ES\" & $BX1+3)=\"\",\"\",INDIRECT(\"Sheet2!\" & \"ES\" & $BX1+3)))","v":"算定基礎\n4月"},null,null,null,"人",{"$f":"IF(Sheet1!$T$3=23,IF(INDIRECT(\"Sheet2!\" & \"AO\" & $BX1+3)=\"\",\"\",INDIRECT(\"Sheet2!\" & \"AO\" & $BX1+3)),IF(INDIRECT(\"Sheet2!\" & \"ET\" & $BX1+3)=\"\",\"\",INDIRECT(\"Sheet2!\" & \"ET\" & $BX1+3)))","v":"算定基礎\n5月"},null,null,null,"人",{"$f":"IF(Sheet1!$T$3=23,IF(INDIRECT(\"Sheet2!\" & \"AP\" & $BX1+3)=\"\",\"\",INDIRECT(\"Sheet2!\" & \"AP\" & $BX1+3)),IF(INDIRECT(\"Sheet2!\" & \"EU\" & $BX1+3)=\"\",\"\",INDIRECT(\"Sheet2!\" & \"EU\" & $BX1+3)))","v":"算定基礎\n6月"},null,null,null,"人",{"$f":"IF(INDIRECT(\"Sheet2!\" & \"EV\" & $BX1+3)=\"\",\"\",INDIRECT(\"Sheet2!\" & \"EV\" & $BX1+3))","v":"算定基礎\n7月"},null,null,null,"人",{"$f":"IF(INDIRECT(\"Sheet2!\" & \"EW\" & $BX1+3)=\"\",\"\",INDIRECT(\"Sheet2!\" & \"EW\" & $BX1+3))","v":"算定基礎\n8月"},null,null,null,"人",{"$f":"IF(INDIRECT(\"Sheet2!\" & \"EX\" & $BX1+3)=\"\",\"\",INDIRECT(\"Sheet2!\" & \"EX\" & $BX1+3))","v":"算定基礎\n9月"},null,null,null,"人",{"$f":"IF(INDIRECT(\"Sheet2!\" & \"EY\" & $BX1+3)=\"\",\"\",INDIRECT(\"Sheet2!\" & \"EY\" & $BX1+3))","v":"算定基礎\n10月"},null,null,null,"人",{"$f":"IF(INDIRECT(\"Sheet2!\" & \"EZ\" & $BX1+3)=\"\",\"\",INDIRECT(\"Sheet2!\" & \"EZ\" & $BX1+3))","v":"算定基礎\n11月"},null,null,null,"人",{"$f":"IF(INDIRECT(\"Sheet2!\" & \"FA\" & $BX1+3)=\"\",\"\",INDIRECT(\"Sheet2!\" & \"FA\" & $BX1+3))","v":"算定基礎\n12月"},null,null,null,"人",{"$f":"IF(INDIRECT(\"Sheet2!\" & \"FB\" & $BX1+3)=\"\",\"\",INDIRECT(\"Sheet2!\" & \"FB\" & $BX1+3))","v":"算定基礎\n1月"},null,null,null,"人",{"$f":"IF(INDIRECT(\"Sheet2!\" & \"FC\" & $BX1+3)=\"\",\"\",INDIRECT(\"Sheet2!\" & \"FC\" & $BX1+3))","v":"算定基礎\n2月"},null,null,null,"人",{"$f":"IF(INDIRECT(\"Sheet2!\" & \"FD\" & $BX1+3)=\"\",\"\",INDIRECT(\"Sheet2!\" & \"FD\" & $BX1+3))","v":"算定基礎\n3月"},null,null,null,"人",{"$f":"SUM(J25,O25,T25,Y25,AD25,AI25,AN25,AS25,AX25,BC25,BH25,BM25)","v":0},null,null,null,null,"人"]
[null,null,null,"((ﾊ）－(ﾊ)×②の(ﾍ))",null,null,null,null,null,null,null,null,null,null,null,null,null,null,null,null,null,null,null,null,null,null,null,null,null,null,null,null,null,null,null,null,null,null,null,null,null,null,null,null,null,null,null,null,null,null,null,null,null,null,null,null,null,null,null,null,null,null,null,null,null,null,null,null,null,{"$f":"SUM(J26,O26,T26,Y26,AD26,AI26,AN26,AS26,AX26,BC26,BH26,BM26)","v":0}]
[null,null,"(ﾎ)身体障害者、知的障害者及び精神障害者の数","(ﾍ)短時間労働者以外の常用雇用労働者",null,"(a)","重度身体障害者、重度知的障害者の数",null,5,{"$f":"INDIRECT(\"Sheet2!\" & \"AZ\" & $BX1+3)","v":"重度障害\n4月"},null,null,null,"人",{"$f":"INDIRECT(\"Sheet2!\" & \"BA\" & $BX1+3)","v":"重度障害\n5月"},null,null,null,"人",{"$f":"INDIRECT(\"Sheet2!\" & \"BB\" & $BX1+3)","v":"重度障害\n6月"},null,null,null,"人",{"$f":"INDIRECT(\"Sheet2!\" & \"BC\" & $BX1+3)","v":"重度障害\n7月"},null,null,null,"人",{"$f":"INDIRECT(\"Sheet2!\" & \"BD\" & $BX1+3)","v":"重度障害\n8月"},null,null,null,"人",{"$f":"INDIRECT(\"Sheet2!\" & \"BE\" & $BX1+3)","v":"重度障害\n9月"},null,null,null,"人",{"$f":"INDIRECT(\"Sheet2!\" & \"BF\" & $BX1+3)","v":"重度障害\n10月"},null,null,null,"人",{"$f":"INDIRECT(\"Sheet2!\" & \"BG\" & $BX1+3)","v":"重度障害\n11月"},null,null,null,"人",{"$f":"INDIRECT(\"Sheet2!\" & \"BH\" & $BX1+3)","v":"重度障害\n12月"},null,null,null,"人",{"$f":"INDIRECT(\"Sheet2!\" & \"BI\" & $BX1+3)","v":"重度障害\n1月"},null,null,null,"人",{"$f":"INDIRECT(\"Sheet2!\" & \"BJ\" & $BX1+3)","v":"重度障害\n2月"},null,null,null,"人",{"$f":"INDIRECT(\"Sheet2!\" & \"BK\" & $BX1+3)","v":"重度障害\n3月"},null,null,null,"人",{"$f":"SUM(J27,O27,T27,Y27,AD27,AI27,AN27,AS27,AX27,BC27,BH27,BM27,)","v":0},null,null,null,null,"人"]
[null,null,null,null,null,"(b)","重度以外の身体障害者、重度以外の知的障害者及び精神障害者の数",null,6,{"$f":"INDIRECT(\"Sheet2!\" & \"BL\" & $BX1+3)","v":"重度以外\n4月"},null,null,null,"人",{"$f":"INDIRECT(\"Sheet2!\" & \"BM\" & $BX1+3)","v":"重度以外\n5月"},null,null,null,"人",{"$f":"INDIRECT(\"Sheet2!\" & \"BN\" & $BX1+3)","v":"重度以外\n6月"},null,null,null,"人",{"$f":"INDIRECT(\"Sheet2!\" & \"BO\" & $BX1+3)","v":"重度以外\n7月"},null,null,null,"人",{"$f":"INDIRECT(\"Sheet2!\" & \"BP\" & $BX1+3)","v":"重度以外\n8月"},null,null,null,"人",{"$f":"INDIRECT(\"Sheet2!\" & \"BQ\" & $BX1+3)","v":"重度以外\n9月"},null,null,null,"人",{"$f":"INDIRECT(\"Sheet2!\" & \"BR\" & $BX1+3)","v":"重度以外\n10月"},null,null,null,"人",{"$f":"INDIRECT(\"Sheet2!\" & \"BS\" & $BX1+3)","v":"重度以外\n11月"},null,null,null,"人",{"$f":"INDIRECT(\"Sheet2!\" & \"BT\" & $BX1+3)","v":"重度以外\n12月"},null,null,null,"人",{"$f":"INDIRECT(\"Sheet2!\" & \"BU\" & $BX1+3)","v":"重度以外\n1月"},null,null,null,"人",{"$f":"INDIRECT(\"Sheet2!\" & \"BV\" & $BX1+3)","v":"重度以外\n2月"},null,null,null,"人",{"$f":"INDIRECT(\"Sheet2!\" & \"BW\" & $BX1+3)","v":"重度以外\n3月"},null,null,null,"人",0,null,null,null,null,"人"]
[null,null,null,"(ﾄ)短時間労働者",null,"(c)\n","重度身体障害者、重度知的障害者及び雇入又は手帳取得から3年以内の精神障害者の数",null,7,{"$f":"INDIRECT(\"Sheet2!\" & \"CJ\" & $BX1+3)","v":"短時\n4月"},null,null,null,"人",{"$f":"INDIRECT(\"Sheet2!\" & \"CK\" & $BX1+3)","v":"短時\n5月"},null,null,null,"人",{"$f":"INDIRECT(\"Sheet2!\" & \"CL\" & $BX1+3)","v":"短時\n6月"},null,null,null,"人",{"$f":"INDIRECT(\"Sheet2!\" & \"CM\" & $BX1+3)","v":"短時\n7月"},null,null,null,"人",{"$f":"INDIRECT(\"Sheet2!\" & \"CN\" & $BX1+3)","v":"短時\n8月"},null,null,null,"人",{"$f":"INDIRECT(\"Sheet2!\" & \"CO\" & $BX1+3)","v":"短時\n9月"},null,null,null,"人",{"$f":"INDIRECT(\"Sheet2!\" & \"CP\" & $BX1+3)","v":"短時\n10月"},null,null,null,"人",{"$f":"INDIRECT(\"Sheet2!\" & \"CQ\" & $BX1+3)","v":"短時\n11月"},null,null,null,"人",{"$f":"INDIRECT(\"Sheet2!\" & \"CR\" & $BX1+3)","v":"短時\n12月"},null,null,null,"人",{"$f":"INDIRECT(\"Sheet2!\" & \"CS\" & $BX1+3)","v":"短時\n1月"},null,null,null,"人",{"$f":"INDIRECT(\"Sheet2!\" & \"CT\" & $BX1+3)","v":"短時\n2月"},null,null,null,"人",{"$f":"INDIRECT(\"Sheet2!\" & \"CU\" & $BX1+3)","v":"短時\n3月"},null,null,null,"人",0,null,null,null,null,"人"]
[null,null,null,null,null,"(d)\n","重度以外の身体障害者、重度以外の知的障害者及び(c)に該当しない精神障害者の数",null,8,{"$f":"INDIRECT(\"Sheet2!\" & \"CV\" & $BX1+3)","v":"短時精神\n4月"},null,null,null,"人",{"$f":"INDIRECT(\"Sheet2!\" & \"CW\" & $BX1+3)","v":"短時精神\n5月"},null,null,null,"人",{"$f":"INDIRECT(\"Sheet2!\" & \"CX\" & $BX1+3)","v":"短時精神\n6月"},null,null,null,"人",{"$f":"INDIRECT(\"Sheet2!\" & \"CY\" & $BX1+3)","v":"短時精神\n7月"},null,null,null,"人",{"$f":"INDIRECT(\"Sheet2!\" & \"CZ\" & $BX1+3)","v":"短時精神\n8月"},null,null,null,"人",{"$f":"INDIRECT(\"Sheet2!\" & \"DA\" & $BX1+3)","v":"短時精神\n9月"},null,null,null,"人",{"$f":"INDIRECT(\"Sheet2!\" & \"DB\" & $BX1+3)","v":"短時精神\n10月"},null,null,null,"人",{"$f":"INDIRECT(\"Sheet2!\" & \"DC\" & $BX1+3)","v":"短時精神\n11月"},null,null,null,"人",{"$f":"INDIRECT(\"Sheet2!\" & \"DD\" & $BX1+3)","v":"短時精神\n12月"},null,null,null,"人",{"$f":"INDIRECT(\"Sheet2!\" & \"DE\" & $BX1+3)","v":"短時精神\n1月"},null,null,null,"人",{"$f":"INDIRECT(\"Sheet2!\" & \"DF\" & $BX1+3)","v":"短時精神\n2月"},null,null,null,"人",{"$f":"INDIRECT(\"Sheet2!\" & \"DG\" & $BX1+3)","v":"短時精神\n3月"},null,null,null,"人",0,null,null,null,null,"人"]
[null,null,null,"(f)","合             計",null,null,null,9,{"$f":"(J27*2)+SUM(J28:M29)+(J30*0.5)","v":{"$error":"#VALUE!"}},null,null,null,"人",{"$f":"(O27*2)+SUM(O28:R29)+(O30*0.5)","v":{"$error":"#VALUE!"}},null,null,null,"人",{"$f":"(T27*2)+SUM(T28:W29)+(T30*0.5)","v":{"$error":"#VALUE!"}},null,null,null,"人",{"$f":"(Y27*2)+SUM(Y28:AB29)+(Y30*0.5)","v":{"$error":"#VALUE!"}},null,null,null,"人",{"$f":"(AD27*2)+SUM(AD28:AG29)+(AD30*0.5)","v":{"$error":"#VALUE!"}},null,null,null,"人",{"$f":"(AI27*2)+SUM(AI28:AL29)+(AI30*0.5)","v":{"$error":"#VALUE!"}},null,null,null,"人",{"$f":"(AN27*2)+SUM(AN28:AQ29)+(AN30*0.5)","v":{"$error":"#VALUE!"}},null,null,null,"人",{"$f":"(AS27*2)+SUM(AS28:AV29)+(AS30*0.5)","v":{"$error":"#VALUE!"}},null,null,null,"人",{"$f":"(AX27*2)+SUM(AX28:BA29)+(AX30*0.5)","v":{"$error":"#VALUE!"}},null,null,null,"人",{"$f":"(BC27*2)+SUM(BC28:BF29)+(BC30*0.5)","v":{"$error":"#VALUE!"}},null,null,null,"人",{"$f":"(BH27*2)+SUM(BH28:BK29)+(BH30*0.5)","v":{"$error":"#VALUE!"}},null,null,null,"人",{"$f":"(BM27*2)+SUM(BM28:BP29)+(BM30*0.5)","v":{"$error":"#VALUE!"}},null,null,null,"人",{"$error":"#VALUE!"},null,null,null,null,"人"]
[null,null,null,null,"((a)×２＋(b)＋(c)＋(d)×0.5)",null,null,null,null,null,null,null,null,null,null,null,null,null,null,null,null,null,null,null,null,null,null,null,null,null,null,null,null,null,null,null,null,null,null,null,null,null,null,null,null,null,null,null,null,null,null,null,null,null,null,null,null,null,null,null,null,null,null,null,null,null,null,null,null,0]
[3,null,null,"(ﾁ)","週労働時間が10時間以上20時間未満の雇用障害者の数",null,null,null,10,{"$f":"INDIRECT(\"Sheet2!GL\" &  $BX1+3)","v":"特定労働者4月"},null,null,null,"人",{"$f":"INDIRECT(\"Sheet2!GM\" &  $BX1+3)","v":"特定労働者5月"},null,null,null,"人",{"$f":"INDIRECT(\"Sheet2!GN\" &  $BX1+3)","v":"特定労働者6月"},null,null,null,"人",{"$f":"INDIRECT(\"Sheet2!GO\" &  $BX1+3)","v":"特定労働者7月"},null,null,null,"人",{"$f":"INDIRECT(\"Sheet2!GP\" &  $BX1+3)","v":"特定労働者8月"},null,null,null,"人",{"$f":"INDIRECT(\"Sheet2!GQ\" &  $BX1+3)","v":"特定労働者9月"},null,null,null,"人",{"$f":"INDIRECT(\"Sheet2!GR\" &  $BX1+3)","v":"特定労働者10月"},null,null,null,"人",{"$f":"INDIRECT(\"Sheet2!GS\" &  $BX1+3)","v":"特定労働者11月"},null,null,null,"人",{"$f":"INDIRECT(\"Sheet2!GT\" &  $BX1+3)","v":"特定労働者12月"},null,null,null,"人",{"$f":"INDIRECT(\"Sheet2!GU\" &  $BX1+3)","v":"特定労働者1月"},null,null,null,"人",{"$f":"INDIRECT(\"Sheet2!GV\" &  $BX1+3)","v":"特定労働者2月"},null,null,null,"人",{"$f":"INDIRECT(\"Sheet2!GW\" &  $BX1+3)","v":"特定労働者3月"},null,null,null,"人",0,null,null,null,null,"人"]
[null,"注）「記入上の注意」をよく読んで記入して下さい。"]

{"sheet":"Sheet8","index":7,"n_rows":5,"n_cols":37,"rows_kept":5,"cut":false,"hidden":false,"merged":[]}
[null,null,"     ",null,null,null,null,null,null,null,null,0,null,null,null,null,null,null,null,null,null,"↓最終分割支給No","↓対象",null,null,null,null,null,null,null,null,null,null,{"$f":"SUM(#REF!)","v":{"$error":"#REF!"}}]
[null,null,{"$f":"IF($W2=0,\"\",$W2)","v":"調整金"},null,null,null,null,null,null,null,null,null,null,null,null,null,null,null,null,null,null,{"$f":"MAX(X3:X4)","v":0},"調整金",24,25,26,27,28,29,30,31,32,33,34,35,36,37]
[null,"NO","金融機関","本店\n支店","支店名","金融機関\nコード","支店\nコード","預金種目","口座番号","口座名義人フリガナ","口座名義人","分割支給額",null,null,null,null,null,null,null,null,null,null,null,"Ｎｏ","金融機関","支店名","本店支店","金融機関コード","支店コード","預金種目","口座番号","口座名義人フリガナ","口座名義人漢字","分割支給額","法人略称前","法人略称後","口座名義フル"]
[null,{"$f":"IF($X4=0,\"\",$X4)","v":""},{"$f":"IF($Y4=0,\"\",$Y4)","v":""},{"$f":"IF($AA4=0,\"\",IF($AA4=1,\"本店\",\"支店\"))","v":""},{"$f":"IF($Z4=0,\"\",$Z4)","v":""},{"$f":"IF($AB4=0,\"\",$AB4)","v":""},{"$f":"IF($AC4=0,\"\",$AC4)","v":""},{"$f":"IF($AD4=0,\"\",IF($AD4=1,\"普通\",IF($AD4=2,\"当座\",\"その他\")))","v":""},{"$f":"IF($AE4=0,\"\",$AE4)","v":""},{"$f":"IF($AF4=0,\"\",$AK4)","v":""},{"$f":"IF($AG4=0,\"\",$AG4)","v":""},{"$f":"IF($AH4=0,\"\",$AH4)","v":""},null,null,null,null,null,null,null,null,null,null,null,null,null,null,null,null,null,null,null,null,null,null,null,null,{"$f":"IF($AF4=0,\"\",$AI4 & $AF4 & $AJ4)","v":""}]
[null,{"$f":"IF($X5=0,\"\",$X5)","v":""},{"$f":"IF($Y5=0,\"\",$Y5)","v":""},{"$f":"IF($AA5=0,\"\",IF($AA5=1,\"本店\",\"支店\"))","v":""},{"$f":"IF($Z5=0,\"\",$Z5)","v":""},{"$f":"IF($AB5=0,\"\",$AB5)","v":""},{"$f":"IF($AC5=0,\"\",$AC5)","v":""},{"$f":"IF($AD5=0,\"\",IF($AD5=1,\"普通\",IF($AD5=2,\"当座\",\"その他\")))","v":""},{"$f":"IF($AE5=0,\"\",$AE5)","v":""},{"$f":"IF($AF5=0,\"\",$AK5)","v":""},{"$f":"IF($AG5=0,\"\",$AG5)","v":""},{"$f":"IF($AH5=0,\"\",$AH5)","v":""},null,null,null,null,null,null,null,null,null,null,null,null,null,null,null,null,null,null,null,null,null,null,null,null,{"$f":"IF($AF5=0,\"\",$AI5 & $AF5 & $AJ5)","v":""}]

{"sheet":"Sheet9","index":8,"n_rows":5,"n_cols":37,"rows_kept":5,"cut":false,"hidden":false,"merged":[]}
[null,null,"     ",null,null,null,null,null,null,null,null,0,null,null,null,null,null,null,null,null,null,"↓最終分割支給No","↓対象",null,null,null,null,null,null,null,null,null,null,{"$f":"SUM(#REF!)","v":{"$error":"#REF!"}}]
[null,null,{"$f":"IF($W2=0,\"\",$W2)","v":"報奨金"},null,null,null,null,null,null,null,null,null,null,null,null,null,null,null,null,null,null,{"$f":"MAX(X3:X4)","v":0},"報奨金",24,25,26,27,28,29,30,31,32,33,34,35,36,37]
[null,"NO","金融機関","本店\n支店","支店名","金融機関\nコード","支店\nコード","預金種目","口座番号","口座名義人フリガナ","口座名義人","分割支給額",null,null,null,null,null,null,null,null,null,null,null,"Ｎｏ","金融機関","支店名","本店支店","金融機関コード","支店コード","預金種目","口座番号","口座名義人フリガナ","口座名義人漢字","分割支給額","法人略称前","法人略称後","口座名義フル"]
[null,{"$f":"IF($X4=0,\"\",$X4)","v":""},{"$f":"IF($Y4=0,\"\",$Y4)","v":""},{"$f":"IF($AA4=0,\"\",IF($AA4=1,\"本店\",\"支店\"))","v":""},{"$f":"IF($Z4=0,\"\",$Z4)","v":""},{"$f":"IF($AB4=0,\"\",$AB4)","v":""},{"$f":"IF($AC4=0,\"\",$AC4)","v":""},{"$f":"IF($AD4=0,\"\",IF($AD4=1,\"普通\",IF($AD4=2,\"当座\",\"その他\")))","v":""},{"$f":"IF($AE4=0,\"\",$AE4)","v":""},{"$f":"IF($AF4=0,\"\",$AK4)","v":""},{"$f":"IF($AG4=0,\"\",$AG4)","v":""},{"$f":"IF($AH4=0,\"\",$AH4)","v":""},null,null,null,null,null,null,null,null,null,null,null,null,null,null,null,null,null,null,null,null,null,null,null,null,{"$f":"IF($AF4=0,\"\",$AI4 & $AF4 & $AJ4)","v":""}]
[null,{"$f":"IF($X5=0,\"\",$X5)","v":""},{"$f":"IF($Y5=0,\"\",$Y5)","v":""},{"$f":"IF($AA5=0,\"\",IF($AA5=1,\"本店\",\"支店\"))","v":""},{"$f":"IF($Z5=0,\"\",$Z5)","v":""},{"$f":"IF($AB5=0,\"\",$AB5)","v":""},{"$f":"IF($AC5=0,\"\",$AC5)","v":""},{"$f":"IF($AD5=0,\"\",IF($AD5=1,\"普通\",IF($AD5=2,\"当座\",\"その他\")))","v":""},{"$f":"IF($AE5=0,\"\",$AE5)","v":""},{"$f":"IF($AF5=0,\"\",$AK5)","v":""},{"$f":"IF($AG5=0,\"\",$AG5)","v":""},{"$f":"IF($AH5=0,\"\",$AH5)","v":""},null,null,null,null,null,null,null,null,null,null,null,null,null,null,null,null,null,null,null,null,null,null,null,null,{"$f":"IF($AF5=0,\"\",$AI5 & $AF5 & $AJ5)","v":""}]

{"sheet":"tmpTokureiBunkatsuList","index":9,"n_rows":5,"n_cols":37,"rows_kept":5,"cut":false,"hidden":false,"merged":[]}
[null,null,"     ",null,null,null,null,null,null,null,null,0,null,null,null,null,null,null,null,null,null,"↓最終分割支給No","↓対象",null,null,null,null,null,null,null,null,null,null,{"$f":"SUM(#REF!)","v":{"$error":"#REF!"}}]
[null,null,{"$f":"IF($W2=0,\"\",$W2)","v":"特例給付金"},null,null,null,null,null,null,null,null,null,null,null,null,null,null,null,null,null,null,{"$f":"MAX(X3:X4)","v":0},"特例給付金",24,25,26,27,28,29,30,31,32,33,34,35,36,37]
[null,"NO","金融機関","本店\n支店","支店名","金融機関\nコード","支店\nコード","預金種目","口座番号","口座名義人フリガナ","口座名義人","分割支給額",null,null,null,null,null,null,null,null,null,null,null,"Ｎｏ","金融機関","支店名","本店支店","金融機関コード","支店コード","預金種目","口座番号","口座名義人フリガナ","口座名義人漢字","分割支給額","法人略称前","法人略称後","口座名義フル"]
[null,{"$f":"IF($X4=0,\"\",$X4)","v":""},{"$f":"IF($Y4=0,\"\",$Y4)","v":""},{"$f":"IF($AA4=0,\"\",IF($AA4=1,\"本店\",\"支店\"))","v":""},{"$f":"IF($Z4=0,\"\",$Z4)","v":""},{"$f":"IF($AB4=0,\"\",$AB4)","v":""},{"$f":"IF($AC4=0,\"\",$AC4)","v":""},{"$f":"IF($AD4=0,\"\",IF($AD4=1,\"普通\",IF($AD4=2,\"当座\",\"その他\")))","v":""},{"$f":"IF($AE4=0,\"\",$AE4)","v":""},{"$f":"IF($AF4=0,\"\",$AK4)","v":""},{"$f":"IF($AG4=0,\"\",$AG4)","v":""},{"$f":"IF($AH4=0,\"\",$AH4)","v":""},null,null,null,null,null,null,null,null,null,null,null,null,null,null,null,null,null,null,null,null,null,null,null,null,{"$f":"IF($AF4=0,\"\",$AI4 & $AF4 & $AJ4)","v":""}]
[null,{"$f":"IF($X5=0,\"\",$X5)","v":""},{"$f":"IF($Y5=0,\"\",$Y5)","v":""},{"$f":"IF($AA5=0,\"\",IF($AA5=1,\"本店\",\"支店\"))","v":""},{"$f":"IF($Z5=0,\"\",$Z5)","v":""},{"$f":"IF($AB5=0,\"\",$AB5)","v":""},{"$f":"IF($AC5=0,\"\",$AC5)","v":""},{"$f":"IF($AD5=0,\"\",IF($AD5=1,\"普通\",IF($AD5=2,\"当座\",\"その他\")))","v":""},{"$f":"IF($AE5=0,\"\",$AE5)","v":""},{"$f":"IF($AF5=0,\"\",$AK5)","v":""},{"$f":"IF($AG5=0,\"\",$AG5)","v":""},{"$f":"IF($AH5=0,\"\",$AH5)","v":""},null,null,null,null,null,null,null,null,null,null,null,null,null,null,null,null,null,null,null,null,null,null,null,null,{"$f":"IF($AF5=0,\"\",$AI5 & $AF5 & $AJ5)","v":""}]

{"sheet":"MASTA","index":10,"n_rows":74,"n_cols":1849,"rows_kept":74,"cut":false,"hidden":true,"merged":[]}
[null,"性別",null,"常用短時間区分",null,"確認記号",null,"現等級",null,"前等級",null,"知的確認記号",null,"知的現程度",null,"知的前程度",null,"延納の申請",null,"支給先の選択",null,"預金種目","元号コード","元号","元号略","開始年月日","終了年月日","JUDO_HANI(28)","TANJI_CHITEKI_TEIDO(29)","tanji_hani(30)","count_judo(31)","count_judo_igai(32)","count_tanji(33)","count_seisin(34)","tanji_seisin(35)","SINKOKU_NIN(36)","SINSEI_NIN(37)","産業分類","産業分類名","除外率1","除外率2","産業分類","産業分類名","除外率2","対象判定",null,null,null,"H23.4、H24","H23.7","合計","申請額合計","申告申請年度","申請期限","添付書類の注意喚起",null,"元号","申告申請年度選択","申・報Ⅰ４月","申・報Ⅰ５月","申・報Ⅰ６月","申・報Ⅰ７月","申・報Ⅰ８月","申・報Ⅰ９月","申・報Ⅰ１０月","申・報Ⅰ１１月","申・報Ⅰ１２月","申・報Ⅰ１月","申・報Ⅰ２月","申・報Ⅰ３月","報Ⅱ４月","報Ⅱ５月","報Ⅱ６月","報Ⅱ７月","報Ⅱ８月","報Ⅱ９月","報Ⅱ１０月","報Ⅱ１１月","報Ⅱ１２月","報Ⅱ１月","報Ⅱ２月","報Ⅱ３月",null,null,null,null,null,null,null,null,null,null,null,null,null,null,null,null,null,null,null,null,null,null,null,null,null,null,null,null,null,null,null,null,null,null,null,null,null,null,null,null,null,null,null,null,null,null,null,null,null,null,null,null,null,null,null,null,null,null,null,null,null,null,null,null,null,null,null,null,null,null,null,null,null,null,null,null,null,null,null,null,null,null,null,null,null,null,null,null,null,null,null,null,null,null,null,null,null,null,null,null,null,null,null,null,null,null,null,null,null,null,null,null,null,null,null,null,null,null,null,null,null,null,null,null,null,null,null,null,null,null,null,null,null,null,null,null,null,null,null,null,null,null,null,null,null,null,null,null,null,null,null,null,null,null,null,null,null,null,null,null,null,null,null,null,null,null,null,null,null,null,null,null,null,null,null,null,null,null,null,null,null,null,null,null,null,null,null,null,null,null,null,null,null,null,null,null,null,null,null,null,null,null,null,null,null,null,null,null,null,null,null,null,null,null,null,null,null,null,null,null,null,null,null,null,null,null,null,null,null,null,null,null,null,null,null,null,null,null,null,null,null,null,null,null,null,null,null,null,null,null,null,null,null,null,null,null,null,null,null,null,null,null,null,null,null,null,null,null,null,null,null,null,null,null,null,null,null,null,null,null,null,null,null,null,null,null,null,null,null,null,null,null,null,null,null,null,null,null,null,null,null,null,null,null,null,null,null,null,null,null,null,null,null,null,null,null,null,null,null,null,null,null,null,null,null,null,null,null,null,null,null,null,null,null,null,null,null,null,null,null,null,null,null,null,null,null,null,null,null,null,null,null,null,null,null,null,null,null,null,null,null,null,null,null,null,null,null,null,null,null,null,null,null,null,null,null,null,null,null,null,null,null,null,null,null,null,null,null,null,null,null,null,null,null,null,null,null,null,null,null,null,null,null,null,null,null,null,null,null,null,null,null,null,null,null,null,null,null,null,null,null,null,null,null,null,null,null,null,null,null,null,null,null,null,null,null,null,null,null,null,null,null,null,null,null,null,null,null,null,null,null,null,null,null,null,null,null,null,null,null,null,null,null,null,null,null,null,null,null,null,null,null,null,null,null,null,null,null,null,null,null,null,null,null,null,null,null,null,null,null,null,null,null,null,null,null,null,null,null,null,null,null,null,null,null,null,null,null,null,null,null,null,null,null,null,null,null,null,null,null,null,null,null,null,null,null,null,null,null,null,null,null,null,null,null,null,null,null,null,null,null,null,null,null,null,null,null,null,null,null,null,null,null,null,null,null,null,null,null,null,null,null,null,null,null,null,null,null,null,null,null,null,null,null,null,null,null,null,null,null,null,null,null,null,null,null,null,null,null,null,null,null,null,null,null,null,null,null,null,null,null,null,null,null,null,null,null,null,null,null,null,null,null,null,null,null,null,null,null,null,null,null,null,null,null,null,null,null,null,null,null,null,null,null,null,null,null,null,null,null,null,null,null,null,null,null,null,null,null,null,null,null,null,null,null,null,null,null,null,null,null,null,null,null,null,null,null,null,null,null,null,null,null,null,null,null,null,null,null,null,null,null,null,null,null,null,null,null,null,null,null,null,null,null,null,null,null,null,null,null,null,null,null,null,null,null,null,null,null,null,null,null,null,null,null,null,null,null,null,null,null,null,null,null,null,null,null,null,null,null,null,null,null,null,null,null,null,null,null,null,null,null,null,null,null,null,null,null,null,null,null,null,null,null,null,null,null,null,null,null,null,null,null,null,null,null,null,null,null,null,null,null,null,null,null,null,null,null,null,null,null,null,null,null,null,null,null,null,null,null,null,null,null,null,null,null,null,null,null,null,null,null,null,null,null,null,null,null,null,null,null,null,null,null,null,null,null,null,null,null,null,null,null,null,null,null,null,null,null,null,null,null,null,null,null,null,null,null,null,null,null,null,null,null,null,null,null,null,null,null,null,null,null,null,null,null,null,null,null,null,null,null,null,null,null,null,null,null,null,null,null,null,null,null,null,null,null,null,null,null,null,null,null,null,null,null,null,null,null,null,null,null,null,null,null,null,null,null,null,null,null,null,null,null,null,null,null,null,null,null,null,null,null,null,null,null,null,null,null,null,null,null,null,null,null,null,null,null,null,null,null,null,null,null,null,null,null,null,null,null,null,null,null,null,null,null,null,null,null,null,null,null,null,null,null,null,null,null,null,null,null,null,null,null,null,null,null,null,null,null,null,null,null,null,null,null,null,null,null,null,null,null,null,null,null,null,null,null,null,null,null,null,null,null,null,null,null,null,null,null,null,null,null,null,null,null,null,null,null,null,null,null,null,null,null,null,null,null,null,null,null,null,null,null,null,null,null,null,null,null,null,null,null,null,null,null,null,null,null,null,null,null,null,null,null,null,null,null,null,null,null,null,null,null,null,null,null,null,null,null,null,null,null,null,null,null,null,null,null,null,null,null,null,null,null,null,null,null,null,null,null,null,null,null,null,null,null,null,null,null,null,null,null,null,null,null,null,null,null,null,null,null,null,null,null,null,null,null,null,null,null,null,null,null,null,null,null,null,null,null,null,null,null,null,null,null,null,null,null,null,null,null,null,null,null,null,null,null,null,null,null,null,null,null,null,null,null,null,null,null,null,null,null,null,null,null,null,null,null,null,null,null,null,null,null,null,null,null,null,null,null,null,null,null,null,null,null,null,null,null,null,null,null,null,null,null,null,null,null,null,null,null,null,null,null,null,null,null,null,null,null,null,null,null,null,null,null,null,null,null,null,null,null,null,null,null,null,null,null,null,null,null,null,null,null,null,null,null,null,null,null,null,null,null,null,null,null,null,null,null,null,null,null,null,null,null,null,null,null,null,null,null,null,null,null,null,null,null,null,null,null,null,null,null,null,null,null,null,null,null,null,null,null,null,null,null,null,null,null,null,null,null,null,null,null,null,null,null,null,null,null,null,null,null,null,null,null,null,null,null,null,null,null,null,null,null,null,null,null,null,null,null,null,null,null,null,null,null,null,null,null,null,null,null,null,null,null,null,null,null,null,null,null,null,null,null,null,null,null,null,null,null,null,null,null,null,null,null,null,null,null,null,null,null,null,null,null,null,null,null,null,null,null,null,null,null,null,null,null,null,null,null,null,null,null,null,null,null,null,null,null,null,null,null,null,null,null,null,null,null,null,null,null,null,null,null,null,null,null,null,null,null,null,null,null,null,null,null,null,null,null,null,null,null,null,null,null,null,null,null,null,null,null,null,null,null,null,null,null,null,null,null,null,null,null,null,null,null,null,null,null,null,null,null,null,null,null,null,null,null,null,null,null,null,null,null,null,null,null,null,null,null,null,null,null,null,null,null,null,null,null,null,null,null,null,null,null,null,null,null,null,null,null,null,null,null,null,null,null,null,null,null,null,null,null,null,null,null,null,null,null,null,null,null,null,null,null,null,null,null,null,null,null,null,null,null,null,null,null,null,null,null,null,null,null,null,null,null,null,null,null,null,null,null,null,null,null,null,null,null,null,null,null,null,null,null,null,null,null,null,null,null,null,null,null,null,null,null,null,null,null,null,null,null,null,null,null,null,null,null,null,null,null,null,null,null,null,null,null,null,null,null,null,null,null,null,null,null,null,null,null,null,null,null,null,null,null,null,null,null,null,null,null,null,null,null,null,null,null,null,null,null,null,null,null,null,null,null,null,null,null,null,null,null,null,null,null,null,null,null,null,null,null,null,null,null,null,null,null,null,null,null,null,null,null,null,null,null,null,null,null,null,null,null,null,null,null,null,null,null,null,null,null,null,null,null,0,null,0,0,null,null,null,null,null,null,null,null,null,null,null,null,null,null,null,null,null,null,null,null,null,null,null,null,null,null,null,null,null,null,null,null,null,null,null,null,null,null,null,null,null,null,null,null,null,null,null,null,null,null,null,null,null,null,null,null,null,null,null,null,null,null,null,null,null,null,null,null,null,null,null,null,null,null,null,null,null,null,null,null,null,null,null,null,null,null,null,null,null,null,null,null,null,null,null,null,0]
[1,"1.男性",2,"常用",null,null,null,null,null,null,null,null,null,null,null,null,0,null,0,null,1,"1.普通","1","明治","M","1868/09/08","1912-07-29",2,1,2,2,1,1,1,0.5,301,300,null,null,null,null,null,null,null,1,"納付金・調整金(4月～6月）","　","Ｃ",0,0,{"$f":"SUM(AW2:AX2)","v":0},null,23,"2011-05-16"," ",null,5,"令和5","令和4年",null,null,null,null,null,null,null,null,"令和5年",null,null,"令和4年4月","令和4年5月","令和4年6月","令和4年7月","令和4年8月","令和4年9月","令和4年10月","令和4年11月","令和4年12月","令和5年1月","令和5年2月","令和5年3月"]
[2,"2.女性",4,"短時間","A","Ａ",1,1,1,1,"D","D",1,"1.重度",1,"1.重度",1,"1.する",1,"1.親事業主",2,"2.当座","2","大正","T","1912-07-30","1926-12-24","特定短時間カウント",null,null,null,null,null,null,null,null,null,17,"17：石油製品・石炭製品製造業",5,0,22,"22：鉄鋼業",20,2,"納付金・調整金(7月～3月）","　","Ｄ",0,0,0,null,24,"2012-05-15"," "]
[null,null,6,"特定短時間","B","Ｂ",2,2,2,2,"E","E",2,"2.重度以外",2,"2.重度以外",2,"2.しない",2,"2.特例子会社",9,"9.その他","3","昭和","S","1926-12-25","1989-01-07",1,null,null,null,null,null,null,null,null,null,22,"22：鉄鋼業",30,20,23,"23：非鉄金属製造業",5,3,"納付金・調整金","　","Ｇ",0,0,0,null,25,"2013-05-15"," "]
[null,null,null,null,"C","Ｃ",3,3,3,3,"F","F",9,"9.障害取消",null,null,null,null,null,null,null,null,"4","平成","H","1989-01-08","2019-04-30",null,null,null,null,null,null,null,null,null,null,23,"23：非鉄金属製造業",15,5,42,"42：鉄道業",30,4,"報奨金 (4月～6月)","　","D+G",{"$f":"SUM(AW3:AW4)","v":0},{"$f":"SUM(AX3:AX4)","v":0},0,0,26,"2014-05-15"," "]
[null,null,null,null,null,null,4,4,4,4,"G","G",null,null,null,null,null,null,null,null,null,null,"5","令和","R","2019-05-01","9999-12-31",null,null,null,null,null,null,null,null,null,null,31,"31：輸送用機械器具製造業",5,0,43,"43：道路旅客運送業",55,5,"報奨金 (7月～3月)","　","C2",0,0,0,0,27,"2015-05-15"," ",null,null,"令和5","令和4年",null,null,null,null,null,null,null,null,"令和5年",null,null,"令和4年4月","令和4年5月","令和4年6月","令和4年7月","令和4年8月","令和4年9月","令和4年10月","令和4年11月","令和4年12月","令和5年1月","令和5年2月","令和5年3月"]
[null,null,null,null,null,null,5,5,5,5,"H","H",null,null,null,null,null,null,null,null,null,null,null,null,null,null,null,null,null,null,null,null,null,null,null,null,null,33,"33：電気業",10,0,44,"44：道路貨物運送業",20,6,"報奨金","　","Ｃ-(D+G)",{"$f":"AW2-AW5","v":0},{"$f":"AX2-AX5","v":0},0,null,28,"2016-05-16"," "]
[null,null,null,"バージョン（CSV出力で使用）",null,null,6,6,6,6,"I","I",null,null,null,null,null,null,null,null,null,null,null,null,null,null,null,null,null,null,null,null,null,null,null,null,null,42,"42：鉄道業",40,30,45,"45：水運業",10,7,"特例給付金","　","(D+G)-Ｃ",{"$f":"AW5-AW2","v":0},{"$f":"AX5-AX2","v":0},0,null,29,"2017-05-15"," ",null,null,"申告申請年度選択","：メニューシートのコンボボックス"]
[null,null,null,"Version12.0.0",null,null,9,"9.障害取消",null,null,"J","J",null,null,null,null,null,null,null,null,null,null,null,null,null,null,null,null,null,null,null,null,null,null,null,null,null,43,"43：道路旅客運送業",65,55,46,"46：航空運輸業",5,8,"7月～3月","対象外","調分割する",0,null,null,null,30,"2018-05-15"," ",null,null,"申・報Ⅰ","：選択した申告申請年度に対し、申告申請書や報告書Ⅰの１２か月の見出しに表示する内容"]
[null,null,null,null,null,null,null,null,null,null,"K","K",null,null,null,null,null,null,null,null,null,null,null,null,null,null,null,null,null,null,null,null,null,null,null,null,null,44,"44：道路貨物運送業",30,20,47,"47：倉庫業",5,9," ","対象外","報分割する",0,null,null,null,31,"2019-05-15"," ",null,null,"報Ⅱ","：選択した申告申請年度に対し、報告書Ⅱの１２か月の見出しに表示する内容"]
[null,null,null,null,null,null,null,null,null,null,"L","L",null,null,null,null,null,null,null,null,null,null,null,null,null,null,null,null,null,null,null,null,null,null,null,null,null,45,"45：水運業",20,10,83,"83：医療業",30,10,"納付金・調整金8","29年度改修から未使用","計算上の調整金Ｇ（辞退時の有無に関係なく計算する）",0,null,null,null,2,"2020-05-15",null,null,null,"複写用の行","：上記で選択された内容を、申告申請書等に複写するための行。編集禁止。"]
[null,null,null,"計算フラグ",null,null,null,null,null,null,"M","M",null,null,null,null,null,null,null,null,null,null,null,null,null,null,null,null,null,null,null,null,null,null,null,null,null,46,"46：航空運輸業",15,5,231,"231：非鉄金属第一次製錬・精製業",15,null,null,null,"A1",0,null,null,null,3,"2021-05-17"]
[null,null,null,0,null,null,null,null,null,null,"N","N",null,null,null,null,null,null,null,null,null,null,null,null,null,null,null,null,null,null,null,null,null,null,null,null,null,47,"47：倉庫業",15,5,313,"313：船舶製造・修理業、舶用機関製造業",5,null,null,null,"A2",0,null,null,0,4,"2022-05-16"]
[null,null,null,null,null,null,null,null,null,null,null,null,null,null,null,null,null,null,null,null,null,null,null,null,null,null,null,null,null,null,null,null,null,null,null,null,null,83,"83：医療業",40,30,481,"481：港湾運送業",25,null,null,null,"Ｃ",0,null,null,null,5,"2023-05-15"]
[null,null,null,null,null,null,null,null,null,null,null,"精神確認記号",null,"精神現程度",null,"精神前程度",null,null,null,null,null,null,null,null,null,null,null,null,"提出代行者・事務代理者の表示",null,null,null,null,null,null,null,null,86,"86：郵便局",10,0,482,"482：貨物運送取扱業",15,null,null,null,"E",0]
[null,null,null,"対象判定1",null,null,null,null,null,null,null,null,null,null,null,null,null,null,null,null,null,null,null,null,null,null,null,null,null,null,null,null,null,null,null,null,null,163,"163：有機化学工業製品製造業",5,0,811,"811：幼稚園",60,null,null,null,"Ｇ",0]
[null,null,null,0,null,null,null,null,null,null,"P","P",1,"1.精神障害",1,"1.精神障害",null,null,null,null,null,null,null,null,null,null,null,null,"提出代行者",null,null,null,null,null,null,null,null,231,"231：非鉄金属第一次製錬・精製業",25,15,812,"812：小学校",55,null,null,null,"特例給付金",0,null,null,0]
[null,null,null,"対象判定2",null,null,null,null,null,null,"Q","Q",9,"9.障害取消",null,null,null,null,null,null,"前略称",null,null,"後略称",null,null,null,null,"事務代理者",null,null,null,null,null,null,null,null,313,"313：船舶製造・修理業、舶用機関製造業",15,5,815,"815：特別支援学校",45,null,null,null,"特例分割フラグ",0]
[null,null,null,0,null,null,null,null,null,null,"R","R",null,null,null,null,null,"未選択",null,null,null,null,null,null,null,null,null,null,null,null,null,null,null,null,null,null,null,481,"481：港湾運送業",35,25,816,"816：高等教育機関",30]
[null,null,null,"対象判定1入力フラグ",null,null,null,null,null,null,null,null,null,null,null,null,null,"株式会社",null,"ｶ)","株式会社",null,"(ｶ","株式会社",null,null,null,null,null,null,null,null,null,null,null,null,null,482,"482：貨物運送取扱業",25,15,853,"853：児童福祉事業",40]
[null,null,null,0,null,null,null,null,null,null,null,null,null,null,null,null,null,"有限会社",null,"ﾕ)","有限会社",null,"(ﾕ","有限会社",null,null,null,null,null,null,null,null,null,null,null,null,null,489,"489：その他の運輸に附帯するサービス業",10,0,"02","02：林業",35]
[null,null,null,"対象判定2入力フラグ",null,null,null,null,null,null,null,null,null,null,null,null,null,"合名会社",null,"ﾒ)","合名会社",null,"(ﾒ","合名会社",null,null,null,null,null,null,null,null,null,null,null,null,null,811,"811：幼稚園",70,60,"051","051：金属鉱業",40]
[null,null,null,0,null,null,null,null,null,null,null,null,null,null,null,null,null,"合資会社",null,"ｼ)","合資会社",null,"(ｼ","合資会社",null,null,null,null,null,null,null,null,null,null,null,null,null,812,"812：小学校",65,55,"052","052：石炭・亜炭鉱業",50]
[null,null,null,null,null,null,null,null,null,null,null,null,null,null,null,null,null,"合同会社",null,"ﾄﾞ)","合同会社",null,"(ﾄﾞ","合同会社",null,null,null,null,null,null,null,null,null,null,null,null,null,815,"815：特別支援学校",55,45,"054","054：採石業、砂・砂利・玉石採取業",10]
[null,null,null,null,null,null,null,null,null,null,null,null,null,null,null,null,null,"相互会社",null,"ｿ)","相互会社",null,"(ｿ","相互会社",null,null,null,null,null,null,null,null,null,null,null,null,null,816,"816：高等教育機関",40,30,"055","055：窯業原料用鉱物鉱業",10]
[null,null,null,null,null,null,null,null,null,null,null,null,null,null,null,null,null,"社団法人",null,"ｼﾔ)","社団法人",null,"(ｼﾔ","社団法人",null,null,null,null,null,null,null,null,null,null,null,null,null,853,"853：児童福祉事業",50,40,"059","059：その他の鉱業",10]
[null,null,null,null,null,null,null,null,null,null,null,null,null,null,null,null,null,"一般社団法人",null,"ｼﾔ)","一般社団法人",null,"(ｼﾔ","一般社団法人",null,null,null,null,null,null,null,null,null,null,null,null,null,"02","02：林業",45,35,"D","D：建設業",20]
[null,null,null,null,null,null,null,"雇用率",null,null,null,null,null,null,null,null,null,"公益社団法人",null,"ｼﾔ)","公益社団法人",null,"(ｼﾔ","公益社団法人",null,null,null,null,null,null,null,null,null,null,null,null,null,"051","051：金属鉱業",50,40,"N","N：介護老人保健施設",30]
[null,null,null,null,null,null,null,"4月",2.2999999999999998,null,null,null,null,null,null,null,null,"財団法人",null,"ｻﾞｲ)","財団法人",null,"(ｻﾞｲ","財団法人",null,null,null,null,null,null,null,null,null,null,null,null,null,"052","052：石炭・亜炭鉱業",60,50,"S","S：国内電気通信業",5]
[null,null,null,null,null,null,null,"5月",2.2999999999999998,null,null,null,null,null,null,null,null,"一般財団法人",null,"ｻﾞｲ)","一般財団法人",null,"(ｻﾞｲ","一般財団法人",null,null,null,null,null,null,null,null,null,null,null,null,null,"054","054：採石業、砂・砂利・玉石採取業",20,10,"T","T：警備業",25]
[null,null,null,null,null,null,null,"6月",2.2999999999999998,null,null,null,null,null,null,null,null,"公益財団法人",null,"ｻﾞｲ)","公益財団法人",null,"(ｻﾞｲ","公益財団法人",null,null,null,null,null,null,null,null,null,null,null,null,null,"055","055：窯業原料用鉱物鉱業",20,10,"V","V：船員等による船舶運航等の事業",80]
[null,null,null,null,null,null,null,"7月",2.2999999999999998,null,null,null,null,null,null,null,null,"学校法人",null,"ｶﾞｸ)","学校法人",null,"(ｶﾞｸ","学校法人",null,null,null,null,null,null,null,null,null,null,null,null,null,"059","059：その他の鉱業",20,10,"Z","Z：郵便事業",20]
[null,null,null,null,null,null,null,"8月",2.2999999999999998,null,null,null,null,null,null,null,null,"医療法人",null,"ｲ)","医療法人",null,"(ｲ","医療法人",null,null,null,null,null,null,null,null,null,null,null,null,null,"D","D：建設業",30,20]
[null,null,null,null,null,null,null,"9月",2.2999999999999998,null,null,null,null,null,null,null,null,"医療法人社団",null,"ｲ)","医療法人社団",null,"(ｲ","医療法人社団",null,null,null,null,null,null,null,null,null,null,null,null,null,"N","N：介護老人保健施設",40,30]
[null,null,null,null,null,null,null,"10月",2.2999999999999998,null,null,null,null,null,null,null,null,"医療法人財団",null,"ｲ)","医療法人財団",null,"(ｲ","医療法人財団",null,null,null,null,null,null,null,null,null,null,null,null,null,"S","S：国内電気通信業",15,5]
[null,null,null,null,null,null,null,"11月",2.2999999999999998,null,null,null,null,null,null,null,null,"社会医療法人",null,"ｲ)","社会医療法人",null,"(ｲ","社会医療法人",null,null,null,null,null,null,null,null,null,null,null,null,null,"T","T：警備業",35,25]
[null,null,null,null,null,null,null,"12月",2.2999999999999998,null,null,null,null,null,null,null,null,"特定医療法人社団",null,"ｲ)","特定医療法人社団",null,"(ｲ","特定医療法人社団",null,null,null,null,null,null,null,null,null,null,null,null,null,"V","V：船員等による船舶運航等の事業",90,80]
[null,null,null,null,null,null,null,"1月",2.2999999999999998,null,null,null,null,null,null,null,null,"宗教法人",null,"ｼﾕｳ)","宗教法人",null,"(ｼﾕｳ","宗教法人",null,null,null,null,null,null,null,null,null,null,null,null,null,"W","W：電気保安協会",10,0]
[null,null,null,null,null,null,null,"2月",2.2999999999999998,null,null,null,null,null,null,null,null,"社会福祉法人",null,"ﾌｸ)","社会福祉法人",null,"(ﾌｸ","社会福祉法人",null,null,null,null,null,null,null,null,null,null,null,null,null,"Y","Y：ビルメンテナンス業",10,0]
[null,null,null,null,null,null,null,"3月",2.2999999999999998,null,null,null,null,null,null,null,null,"特定非営利活動法人",null,"ﾄｸﾋ)","特定非営利活動法人",null,"(ﾄｸﾋ","特定非営利活動法人",null,null,null,null,null,null,null,null,null,null,null,null,null,"Z","Z：郵便事業",30,20]
[null,null,null,null,null,null,null,null,null,null,null,null,null,null,null,null,null,"生活協同組合",null,"ｾｲｷﾖｳ)","生活協同組合",null,"(ｾｲｷﾖｳ","生活協同組合",null,null,null,null,null,null,null,null,null,null,null,null,null,null,null,null,null,"平成28年度以降"]
[null,null,null,null,null,null,null,null,null,null,null,null,null,null,null,null,null,"農業協同組合",null,"ﾉｳｷﾖｳ)","農業協同組合",null,"(ﾉｳｷﾖｳ","農業協同組合",null,null,null,null,null,null,null,null,null,null,null,null,null,null,null,null,null,"産業分類","産業分類名","除外率2"]
[null,null,null,null,null,null,null,"報奨金乗数",null,null,null,null,null,null,null,null,null,"農業協同組合連合会",null,"ﾉｳｷﾖｳﾚﾝ)","農業協同組合連合会",null,"(ﾉｳｷﾖｳﾚﾝ","農業協同組合連合会"]
[null,null,null,null,null,null,null,"4月",4,null,null,null,null,null,null,null,null,"共済農業協同組合連合会",null,"ｷﾖｳｻｲﾚﾝ)","共済農業協同組合連合会",null,"(ｷﾖｳｻｲﾚﾝ","共済農業協同組合連合会",null,null,null,null,null,null,null,null,null,null,null,null,null,null,null,null,null,22,"22：鉄鋼業",20]
[null,null,null,null,null,null,null,"5月",4,null,null,null,null,null,null,null,null,"漁業協同組合",null,"ｷﾞﾖｷﾖｳ)","漁業協同組合",null,"(ｷﾞﾖｷﾖｳ","漁業協同組合",null,null,null,null,null,null,null,null,null,null,null,null,null,null,null,null,null,23,"23：非鉄金属製造業",5]
[null,null,null,null,null,null,null,"6月",4,null,null,null,null,null,null,null,null,"漁業協同組合連合会",null,"ｷﾞﾖﾚﾝ)","漁業協同組合連合会",null,"(ｷﾞﾖﾚﾝ","漁業協同組合連合会",null,null,null,null,null,null,null,null,null,null,null,null,null,null,null,null,null,42,"42：鉄道業",30]
[null,null,null,null,null,null,null,"7月",4,null,null,null,null,null,null,null,null,null,null,null,null,null,null,null,null,null,null,null,null,null,null,null,null,null,null,null,null,null,null,null,null,43,"43：道路旅客運送業",55]
[null,null,null,null,null,null,null,"8月",4,null,null,null,null,null,null,null,null,null,null,null,null,null,null,null,null,null,null,null,null,null,null,null,null,null,null,null,null,null,null,null,null,44,"44：道路貨物運送業",20]
[null,null,null,null,null,null,null,"9月",4,null,null,null,null,null,null,null,null,null,null,null,null,null,null,null,null,null,null,null,null,null,null,null,null,null,null,null,null,null,null,null,null,45,"45：水運業",10]
[null,null,null,null,null,null,null,"10月",4,null,null,null,null,null,null,null,null,null,null,null,null,null,null,null,null,null,null,null,null,null,null,null,null,null,null,null,null,null,null,null,null,46,"46：航空運輸業",5]
[null,null,null,null,null,null,null,"11月",4,null,null,null,null,null,null,null,null,null,null,null,null,null,null,null,null,null,null,null,null,null,null,null,null,null,null,null,null,null,null,null,null,47,"47：倉庫業",5]
[null,null,null,null,null,null,null,"12月",4,null,null,null,null,null,null,null,null,null,null,null,null,null,null,null,null,null,null,null,null,null,null,null,null,null,null,null,null,null,null,null,null,83,"83：医療業",30]
[null,null,null,null,null,null,null,"1月",4,null,null,null,null,null,null,null,null,null,null,null,null,null,null,null,null,null,null,null,null,null,null,null,null,null,null,null,null,null,null,null,null,231,"231：非鉄金属第一次製錬・精製業",15]
[null,null,null,null,null,null,null,"2月",4,null,null,null,null,null,null,null,null,null,null,null,null,null,null,null,null,null,null,null,null,null,null,null,null,null,null,null,null,null,null,null,null,313,"313：船舶製造・修理業、舶用機関製造業",5]
[null,null,null,null,null,null,null,"3月",4,null,null,null,null,null,null,null,null,null,null,null,null,null,null,null,null,null,null,null,null,null,null,null,null,null,null,null,null,null,null,null,null,481,"481：港湾運送業",25]
[null,null,null,null,null,null,null,null,null,null,null,null,null,null,null,null,null,null,null,null,null,null,null,null,null,null,null,null,null,null,null,null,null,null,null,null,null,null,null,null,null,482,"482：貨物運送取扱業",15]
[null,null,null,null,null,null,null,null,null,null,null,null,null,null,null,null,null,null,null,null,null,null,null,null,null,null,null,null,null,null,null,null,null,null,null,null,null,null,null,null,null,811,"811：幼稚園",60]
[null,null,null,null,null,null,null,null,null,null,null,null,null,null,null,null,null,null,null,null,null,null,null,null,null,null,null,null,null,null,null,null,null,null,null,null,null,null,null,null,null,812,"812：小学校",55]
[null,null,null,null,null,null,null,null,null,null,null,null,null,null,null,null,null,null,null,null,null,null,null,null,null,null,null,null,null,null,null,null,null,null,null,null,null,null,null,null,null,815,"815：特別支援学校",45]
[null,null,null,null,null,null,null,null,null,null,null,null,null,null,null,null,null,null,null,null,null,null,null,null,null,null,null,null,null,null,null,null,null,null,null,null,null,null,null,null,null,816,"816：高等教育機関",30]
[null,null,null,null,null,null,null,null,null,null,null,null,null,null,null,null,null,null,null,null,null,null,null,null,null,null,null,null,null,null,null,null,null,null,null,null,null,null,null,null,null,"819","819：幼保連携型認定こども園",60]
[null,null,null,null,null,null,null,null,null,null,null,null,null,null,null,null,null,null,null,null,null,null,null,null,null,null,null,null,null,null,null,null,null,null,null,null,null,null,null,null,null,853,"853：児童福祉事業",40]
[null,null,null,null,null,null,null,null,null,null,null,null,null,null,null,null,null,null,null,null,null,null,null,null,null,null,null,null,null,null,null,null,null,null,null,null,null,null,null,null,null,"02","02：林業",35]
[null,null,null,null,null,null,null,null,null,null,null,null,null,null,null,null,null,null,null,null,null,null,null,null,null,null,null,null,null,null,null,null,null,null,null,null,null,null,null,null,null,"051","051：金属鉱業",40]
[null,null,null,null,null,null,null,null,null,null,null,null,null,null,null,null,null,null,null,null,null,null,null,null,null,null,null,null,null,null,null,null,null,null,null,null,null,null,null,null,null,"052","052：石炭・亜炭鉱業",50]
[null,null,null,null,null,null,null,null,null,null,null,null,null,null,null,null,null,null,null,null,null,null,null,null,null,null,null,null,null,null,null,null,null,null,null,null,null,null,null,null,null,"054","054：採石業、砂・砂利・玉石採取業",10]
[null,null,null,null,null,null,null,null,null,null,null,null,null,null,null,null,null,null,null,null,null,null,null,null,null,null,null,null,null,null,null,null,null,null,null,null,null,null,null,null,null,"055","055：窯業原料用鉱物鉱業",10]
[null,null,null,null,null,null,null,null,null,null,null,null,null,null,null,null,null,null,null,null,null,null,null,null,null,null,null,null,null,null,null,null,null,null,null,null,null,null,null,null,null,"059","059：その他の鉱業",10]
[null,null,null,null,null,null,null,null,null,null,null,null,null,null,null,null,null,null,null,null,null,null,null,null,null,null,null,null,null,null,null,null,null,null,null,null,null,null,null,null,null,"D","D：建設業",20]
[null,null,null,null,null,null,null,null,null,null,null,null,null,null,null,null,null,null,null,null,null,null,null,null,null,null,null,null,null,null,null,null,null,null,null,null,null,null,null,null,null,"N","N：介護老人保健施設",30]
[null,null,null,null,null,null,null,null,null,null,null,null,null,null,null,null,null,null,null,null,null,null,null,null,null,null,null,null,null,null,null,null,null,null,null,null,null,null,null,null,null,"S","S：国内電気通信業",5]
[null,null,null,null,null,null,null,null,null,null,null,null,null,null,null,null,null,null,null,null,null,null,null,null,null,null,null,null,null,null,null,null,null,null,null,null,null,null,null,null,null,"T","T：警備業",25]
[null,null,null,null,null,null,null,null,null,null,null,null,null,null,null,null,null,null,null,null,null,null,null,null,null,null,null,null,null,null,null,null,null,null,null,null,null,null,null,null,null,"V","V：船員等による船舶運航等の事業",80]
[null,null,null,null,null,null,null,null,null,null,null,null,null,null,null,null,null,null,null,null,null,null,null,null,null,null,null,null,null,null,null,null,null,null,null,null,null,null,null,null,null,"Z","Z：郵便事業",20]

{"sheet":"WORK","index":11,"n_rows":0,"n_cols":0,"rows_kept":0,"cut":false,"hidden":true,"merged":[]}

{"sheet":"WORK2","index":12,"n_rows":0,"n_cols":0,"rows_kept":0,"cut":false,"hidden":true,"merged":[]}

{"sheet":"WORK4","index":13,"n_rows":0,"n_cols":0,"rows_kept":0,"cut":false,"hidden":true,"merged":[]}

{"sheet":"syo3_data6_work","index":14,"n_rows":0,"n_cols":0,"rows_kept":0,"cut":false,"hidden":true,"merged":[]}

{"sheet":"Sheet6","index":15,"n_rows":49,"n_cols":67,"rows_kept":49,"cut":false,"hidden":false,"merged":[[22,52,23,52],[27,31,28,31],[28,32,28,35],[27,52,28,52],[28,53,28,56],[32,31,33,31],[37,31,38,31],[42,31,43,31],[33,32,33,35],[38,32,38,35],[43,32,43,35],[32,52,33,52],[37,52,38,52],[42,52,43,52],[33,53,33,56],[38,53,38,56],[43,53,43,56],[41,34,41,37],[41,38,41,41],[41,42,41,45],[41,46,41,49],[41,50,41,53],[41,54,41,57],[39,50,39,53],[41,58,41,64],[42,58,43,58],[42,61,43,63],[42,59,43,59],[42,60,43,60],[42,57,43,57],[46,54,46,57],[46,58,46,64],[44,30,44,33],[44,34,44,37],[44,38,44,41],[44,42,44,45],[44,46,44,49],[44,50,44,53],[44,54,44,57],[44,58,44,64],[45,30,45,33],[45,54,45,57],[45,58,45,64],[39,54,39,57],[39,58,39,64],[37,47,38,47],[37,48,38,48],[37,59,38,59],[40,30,40,33],[40,34,40,37],[40,38,40,41],[40,42,40,45],[40,46,40,49],[40,50,40,53],[40,54,40,57],[40,58,40,64],[39,30,39,33],[39,34,39,37],[39,38,39,41],[39,42,39,45],[39,46,39,49],[30,38,30,41],[30,42,30,45],[30,46,30,49],[30,50,30,53],[30,54,30,57],[30,58,30,64],[31,30,31,33],[31,34,31,37],[31,38,31,41],[31,42,31,45],[31,46,31,49],[31,50,31,53],[31,54,31,57],[31,58,31,64],[30,34,30,37],[25,58,25,64],[26,58,26,64],[29,30,29,33],[29,34,29,37],[29,38,29,41],[29,42,29,45],[29,46,29,49],[29,50,29,53],[29,54,29,57],[29,58,29,64],[27,59,28,59],[27,61,28,63],[27,45,28,45],[27,46,28,46],[27,47,28,47],[27,48,28,48],[27,49,28,49],[27,50,28,50],[27,51,28,51],[20,32,21,32],[20,53,21,53],[24,30,24,33],[25,30,25,33],[26,30,26,33],[24,34,24,37],[25,34,25,37],[26,34,26,37],[24,38,24,41],[25,38,25,41],[26,38,26,41],[24,42,24,45],[25,42,25,45],[26,42,26,45],[26,46,26,49],[25,46,25,49],[24,46,24,49],[24,50,24,53],[25,50,25,53],[20,34,21,34],[20,31,21,31],[22,31,23,31],[23,32,23,35],[23,53,23,56],[48,29,48,31],[48,34,48,36],[42,49,43,49],[42,50,43,50],[42,44,43,44],[42,47,43,47],[42,45,43,45],[42,46,43,46],[42,48,43,48],[46,26,46,29],[45,34,45,37],[45,38,45,41],[45,42,45,45],[45,46,45,49],[45,50,45,53],[42,51,43,51],[42,39,43,39],[42,40,43,42],[46,30,46,33],[46,34,46,37],[46,38,46,41],[46,42,46,45],[46,46,46,49],[46,50,46,53],[46,14,46,17],[46,18,46,21],[42,37,43,37],[46,22,46,25],[42,38,43,38],[42,26,42,27],[43,26,43,27],[42,17,42,21],[42,22,43,22],[42,23,42,24],[42,25,43,25],[42,36,43,36],[42,28,43,28],[42,29,42,30],[43,29,43,30],[44,26,44,29],[45,26,45,29],[39,2,41,2],[39,3,41,3],[39,14,39,17],[40,10,40,13],[39,18,39,21],[40,14,40,17],[40,18,40,21],[40,4,40,9],[41,10,41,13],[41,14,41,17],[41,18,41,21],[44,2,46,2],[44,3,46,3],[44,4,44,9],[45,14,45,17],[45,18,45,21],[45,22,45,25],[44,10,44,13],[43,23,43,24],[44,14,44,17],[44,18,44,21],[44,22,44,25],[42,2,43,2],[42,3,43,3],[42,4,43,7],[42,8,43,11],[42,12,43,12],[42,13,43,13],[42,14,43,14],[42,15,43,15],[42,16,43,16],[45,4,45,9],[45,10,45,13],[46,4,46,9],[46,10,46,13],[37,12,38,12],[41,22,41,25],[41,26,41,29],[41,4,41,9],[39,4,39,9],[39,10,39,13],[37,15,38,15],[37,16,38,16],[37,13,38,13],[37,26,37,27],[38,23,38,24],[38,26,38,27],[37,22,38,22],[37,25,38,25],[37,23,37,24],[40,26,40,29],[40,22,40,25],[37,28,38,28],[37,29,37,30],[38,29,38,30],[41,30,41,33],[34,2,36,2],[37,38,38,38],[37,39,38,39],[37,40,38,42],[34,3,36,3],[34,4,34,9],[34,10,34,13],[37,2,38,2],[36,4,36,9],[36,10,36,13],[36,14,36,17],[36,18,36,21],[37,3,38,3],[37,4,38,7],[35,4,35,9],[37,17,37,21],[34,14,34,17],[34,18,34,21],[35,10,35,13],[35,14,35,17],[35,18,35,21],[37,8,38,11],[37,14,38,14],[35,26,35,29],[36,22,36,25],[36,26,36,29],[35,22,35,25],[37,46,38,46],[37,36,38,36],[37,37,38,37],[37,44,38,44],[37,45,38,45],[39,22,39,25],[39,26,39,29],[36,30,36,33],[35,30,35,33],[35,34,35,37],[35,38,35,41],[35,42,35,45],[35,46,35,49],[36,34,36,37],[36,38,36,41],[36,42,36,45],[36,46,36,49],[32,39,33,39],[32,40,33,42],[32,46,33,46],[34,30,34,33],[34,34,34,37],[34,38,34,41],[34,42,34,45],[34,46,34,49],[32,44,33,44],[32,47,33,47],[32,48,33,48],[32,38,33,38],[32,45,33,45],[34,22,34,25],[34,26,34,29],[32,22,33,22],[32,23,32,24],[32,25,33,25],[32,26,32,27],[32,36,33,36],[32,37,33,37],[33,23,33,24],[33,26,33,27],[32,28,33,28],[32,29,32,30],[33,29,33,30],[32,59,33,59],[37,58,38,58],[32,58,33,58],[37,57,38,57],[37,49,38,49],[37,50,38,50],[37,60,38,60],[37,61,38,63],[37,51,38,51],[32,61,33,63],[32,60,33,60],[32,57,33,57],[32,51,33,51],[32,49,33,49],[32,50,33,50],[34,50,34,53],[34,54,34,57],[34,58,34,64],[35,50,35,53],[35,54,35,57],[35,58,35,64],[36,50,36,53],[36,54,36,57],[36,58,36,64],[32,3,33,3],[32,4,33,7],[32,8,33,11],[32,12,33,12],[32,13,33,13],[32,14,33,14],[32,15,33,15],[32,16,33,16],[32,17,32,21],[29,3,31,3],[20,35,21,35],[27,57,28,57],[27,58,28,58],[31,26,31,29],[27,12,28,12],[27,13,28,13],[27,14,28,14],[27,15,28,15],[27,16,28,16],[29,18,29,21],[29,22,29,25],[29,26,29,29],[27,23,27,24],[31,22,31,25],[27,44,28,44],[31,18,31,21],[20,13,21,13],[20,14,21,14],[26,4,26,9],[25,10,25,13],[20,5,21,11],[22,17,22,21],[22,22,23,22],[20,23,21,23],[20,25,21,25],[20,26,21,26],[20,17,21,17],[20,28,21,28],[20,29,21,29],[22,28,23,28],[22,29,22,30],[23,29,23,30],[30,4,30,9],[29,4,29,9],[30,22,30,25],[30,26,30,29],[30,14,30,17],[25,4,25,9],[27,28,28,28],[27,29,27,30],[28,29,28,30],[30,18,30,21],[30,30,30,33],[32,2,33,2],[27,40,28,42],[27,60,28,60],[29,10,29,13],[29,14,29,17],[30,10,30,13],[20,39,21,39],[27,36,28,36],[27,37,28,37],[27,38,28,38],[22,48,23,48],[22,49,23,49],[22,50,23,50],[22,51,23,51],[27,39,28,39],[22,47,23,47],[20,40,21,43],[20,37,21,37],[26,26,26,29],[26,18,26,21],[22,36,23,36],[22,37,23,37],[22,38,23,38],[22,44,23,44],[22,59,23,59],[26,50,26,53],[24,54,24,57],[25,54,25,57],[26,54,26,57],[24,58,24,64],[20,15,21,15],[20,16,21,16],[20,19,21,19],[20,20,21,20],[20,21,21,21],[20,18,21,18],[20,33,21,33],[22,15,23,15],[22,16,23,16],[22,25,23,25],[22,26,22,27],[20,22,21,22],[20,36,21,36],[20,60,21,60],[22,57,23,57],[22,39,23,39],[22,40,23,42],[24,26,24,29],[13,55,15,64],[16,4,17,13],[16,15,17,43],[13,16,14,21],[22,61,23,63],[22,45,23,45],[22,58,23,58],[22,60,23,60],[22,46,23,46],[20,47,21,47],[20,46,21,46],[22,4,23,7],[22,12,23,12],[22,13,23,13],[22,14,23,14],[23,23,23,24],[23,26,23,27],[18,48,19,51],[20,61,21,64],[18,28,19,30],[18,31,19,35],[20,38,21,38],[19,57,19,64],[18,44,19,47],[0,3,0,4],[16,2,17,3],[5,55,6,55],[6,21,6,42],[6,44,8,47],[10,40,11,41],[10,42,11,43],[10,44,11,44],[10,45,11,46],[10,47,11,47],[10,50,11,50],[16,48,17,50],[16,51,17,51],[4,1,4,2],[4,20,4,43],[12,1,17,1],[12,2,15,3],[12,4,15,13],[8,1,11,1],[9,22,10,23],[9,24,10,25],[9,26,10,27],[10,34,10,35],[8,2,11,13],[27,2,28,2],[22,2,23,2],[27,3,28,3],[27,4,28,7],[27,8,28,11],[28,23,28,24],[27,25,28,25],[27,26,27,27],[25,14,25,17],[24,4,24,9],[22,3,23,3],[26,22,26,25],[25,22,25,25],[26,10,26,13],[26,14,26,17],[28,26,28,27],[27,17,27,21],[27,22,28,22],[24,10,24,13],[24,14,24,17],[22,8,23,11],[24,18,24,21],[24,22,24,25],[31,4,31,9],[31,10,31,13],[31,14,31,17],[8,36,11,36],[9,16,10,17],[9,18,10,19],[9,20,10,21],[18,1,46,1],[18,2,21,2],[18,3,21,3],[18,4,21,4],[18,12,21,12],[18,13,19,16],[18,17,19,21],[18,22,19,24],[18,25,19,27],[24,2,26,2],[24,3,26,3],[29,2,31,2],[25,18,25,21],[25,26,25,29],[22,23,22,24],[19,5,19,11],[18,36,19,43],[16,59,17,64],[20,55,21,55],[20,56,21,56],[20,57,21,57],[20,58,21,58],[16,44,17,47],[20,45,21,45],[20,44,21,44],[20,59,21,59],[18,52,19,56],[20,54,21,54],[20,49,21,49],[20,50,21,50],[20,51,21,51],[20,48,21,48],[20,52,21,52]]}
[]
[]
[null,null,null,null,null,null,null,null,null,null,null,null,null,null,null,null,null,null,null,null,null,null,null,null,null,null,null,null,null,null,null,null,null,null,null,null,null,null,null,null,null,null,null,null,null,null,null,null,null,null,null,null,null,null,null,null,null,null,null,null,null,null,null,null,null,{"$f":"INT((ROW()+48-3)/48)","v":1}]
[]
[null,3,null,null,null,null,null,null,null,null,null,null,null,null,null,null,null,null,null,null,"障害者雇用状況等報告書（Ⅱ）"]
[]
[null,null,null,null,null,null,null,null,null,null,null,null,null,null,null,null,null,null,null,null,"［","短時間労働者以外の常用雇用労働者用",null,null,null,null,null,null,null,null,null,null,null,null,null,null,null,null,null,null,null,null,null,"］"]
[]
[null,"①","事業主番号"]
[null,null,null,null,null,null,null,null,null,null,null,null,null,null,null,null,{"$f":"IF(Sheet1!$A$3=0,\"\",MID(Sheet1!$A$3,1,1))","v":""},null,{"$f":"IF(Sheet1!$A$3=0,\"\",MID(Sheet1!$A$3,2,1))","v":""},null,{"$f":"IF(Sheet1!$A$3=0,\"\",MID(Sheet1!$A$3,3,1))","v":""},null,{"$f":"IF(Sheet1!$A$3=0,\"\",MID(Sheet1!$A$3,4,1))","v":""},null,{"$f":"IF(Sheet1!$A$3=0,\"\",MID(Sheet1!$A$3,5,1))","v":""},null,{"$f":"IF(Sheet1!$A$3=0,\"\",MID(Sheet1!$A$3,6,1))","v":""}]
[]
[]
[null,"②　事　業　所","(ｲ)",null,"事業所別連番"]
[null,null,null,null,null,null,null,null,null,null,null,null,null,null,null,null,{"$f":"IF(INDIRECT(\"WORK2!\"&\"B\"&($BN3-1)*5+1)=\"\",\"\",RIGHT(INDIRECT(\"WORK2!\"&\"B\"&($BN3-1)*5+1)+1000,3))","v":""}]
[]
[]
[null,null,"(ﾛ)",null,"名　　　　　　 　　　 　称",null,null,null,null,null,null,null,null,null,null,{"$f":"IF(INDIRECT(\"WORK2!\" & \"GA\" & ($BN3-1)*5+1)=\"\",\"\",INDIRECT(\"WORK2!\" & \"GA\" & ($BN3-1)*5+1))","v":""},null,null,null,null,null,null,null,null,null,null,null,null,null,null,null,null,null,null,null,null,null,null,null,null,null,null,null,null,"　(ﾊ)\n  算定基礎日",null,null,null,{"$f":"IF(INDIRECT(\"WORK2!\" & \"GB\" & ($BN3-1)*5+1)=\"\",\"\",INDIRECT(\"WORK2!\" & \"GB\" & ($BN3-1)*5+1))","v":""},null,null,"日"]
[1]
[null,"③　身 体 障 害 者  、 知 的 障 害 者 及 び 精 神 障 害 者","手帳の確認\n(ｶ)","(ﾀ)所定労働時\n間変動の有無","(ｲ)",null,null,null,null,null,null,null,"(ﾛ)性別","(ﾊ) 生年月日",null,null,null,"(ﾆ)手帳番号",null,null,null,null,"（ﾎ）身体\n   障害者",null,null,"（ﾍ）知的\n　 障害者",null,null,"（ﾄ）精神\n   障害者",null,null,"(ﾁ)雇入れ年月日",null,null,null,null,"(ﾘ)転入年月日",null,null,null,null,null,null,null,"(ﾇ)年度内に身体\n障害者又は精神\n障害者となった\n年月日",null,null,null,"(ﾙ)年度内等級等\n　変更年月日",null,null,null,"(ｦ)離職年月日"]
[2,null,null,null,null,"氏　　　　　名",null,null,null,null,null,null,null,null,null,null,null,null,null,null,null,null,null,null,null,null,null,null,null,null,null,null,null,null,null,null,null,null,null,null,null,null,null,null,null,null,null,null,null,null,null,null,null,null,null,null,null,"(ﾜ)転出年月日"]
[null,null,null,null,null,"（カタカナで記載）",null,null,null,null,null,null,null,"元号","年","月","日","有効期限","元号","年","月","日","(a)確認","(b)等級","現","(a)確認","(b)程度","現","(a)確認","(b)程度","現",null,"元\n号","年","月","日","元号","年","月","日","転入前の\n事業所名等",null,null,null,"元号","年","月","日","元号","年","月","日",null,"元\n号","年","月","日","元号","年","月","日","転出先の\n事業所名等"]
[null,null,null,null,null,null,null,null,null,null,null,null,null,null,null,null,null,null,null,null,null,null,null,null,"前",null,null,"前",null,null,"前"]
[null,null,{"$f":"IF(INDIRECT(\"WORK2!\"&\"EO\"&($BO23-1)*5+$BN23)=\"\",\"\",IF(MID(INDIRECT(\"WORK2!\"&\"EO\"&($BO23-1)*5+$BN23),1,10)=\"1\",\"ﾚ\",\"\"))","v":""},{"$f":"IF(INDIRECT(\"WORK2!\"&\"EP\"&($BO23-1)*5+$BN23)=\"\",\"\",IF(MID(INDIRECT(\"WORK2!\"&\"EP\"&($BO23-1)*5+$BN23),1,10)=\"1\",\"ﾚ\",\"\"))","v":""},{"$f":"IF(INDIRECT(\"WORK2!\"&\"D\"&($BO23-1)*5+$BN23)=\"\",\"\",MID(INDIRECT(\"WORK2!\"&\"D\"&($BO23-1)*5+$BN23),1,10))","v":""},null,null,null,{"$f":"IF(INDIRECT(\"WORK2!\"&\"E\"&($BO23-1)*5+$BN23)=\"\",\"\",MID(INDIRECT(\"WORK2!\"&\"E\"&($BO23-1)*5+$BN23),1,10))","v":""},null,null,null,{"$f":"IF(INDIRECT(\"WORK2!\" & \"g\" & ($BO23-1)*5+$BN23)=\"\",\"\",INDIRECT(\"WORK2!\" & \"g\" & ($BO23-1)*5+$BN23))","v":""},{"$f":"IF(INDIRECT(\"WORK2!\" & \"h\" & ($BO23-1)*5+$BN23)=\"\",\"\",MID(INDIRECT(\"WORK2!\" & \"h\" & ($BO23-1)*5+$BN23),1,1))","v":""},{"$f":"IF(INDIRECT(\"WORK2!\" & \"h\" & ($BO23-1)*5+$BN23)=\"\",\"\",MID(INDIRECT(\"WORK2!\" & \"h\" & ($BO23-1)*5+$BN23),2,2))","v":""},{"$f":"IF(INDIRECT(\"WORK2!\" & \"h\" & ($BO23-1)*5+$BN23)=\"\",\"\",MID(INDIRECT(\"WORK2!\" & \"h\" & ($BO23-1)*5+$BN23),4,2))","v":""},{"$f":"IF(INDIRECT(\"WORK2!\" & \"h\" & ($BO23-1)*5+$BN23)=\"\",\"\",MID(INDIRECT(\"WORK2!\" & \"h\" & ($BO23-1)*5+$BN23),6,2))","v":""},{"$f":"IF(INDIRECT(\"WORK2!\" & \"I\" & ($BO23-1)*5+$BN23)=\"\",\"\",MID(INDIRECT(\"WORK2!\" & \"I\" & ($BO23-1)*5+$BN23),1,11))","v":""},null,null,null,null,{"$f":"IF(INDIRECT(\"WORK2!\" & \"K\" & ($BO23-1)*5+$BN23)=\"\",\"\",INDIRECT(\"WORK2!\" & \"K\" & ($BO23-1)*5+$BN23))","v":""},{"$f":"IF(INDIRECT(\"WORK2!\" & \"L\" & ($BO23-1)*5+$BN23)=\"\",\"\",INDIRECT(\"WORK2!\" & \"L\" & ($BO23-1)*5+$BN23))","v":""},null,{"$f":"IF(INDIRECT(\"WORK2!\" & \"O\" & ($BO23-1)*5+$BN23)=\"\",\"\",INDIRECT(\"WORK2!\" & \"O\" & ($BO23-1)*5+$BN23))","v":""},{"$f":"IF(INDIRECT(\"WORK2!\" & \"P\" & ($BO23-1)*5+$BN23)=\"\",\"\",INDIRECT(\"WORK2!\" & \"P\" & ($BO23-1)*5+$BN23))","v":""},null,{"$f":"IF(INDIRECT(\"WORK2!\" & \"S\" & ($BO23-1)*5+$BN23)=\"\",\"\",INDIRECT(\"WORK2!\" & \"S\" & ($BO23-1)*5+$BN23))","v":""},{"$f":"IF(INDIRECT(\"WORK2!\" & \"FT\" & ($BO23-1)*5+$BN23)=\"\",\"\",INDIRECT(\"WORK2!\" & \"FT\" & ($BO23-1)*5+$BN23))","v":""},null,null,{"$f":"IF(INDIRECT(\"WORK2!\" & \"t\" & ($BO23-1)*5+$BN23)=\"\",\"\",MID(INDIRECT(\"WORK2!\" & \"t\" & ($BO23-1)*5+$BN23),1,1))","v":""},{"$f":"IF(INDIRECT(\"WORK2!\" & \"t\" & ($BO23-1)*5+$BN23)=\"\",\"\",MID(INDIRECT(\"WORK2!\" & \"t\" & ($BO23-1)*5+$BN23),2,2))","v":""},{"$f":"IF(INDIRECT(\"WORK2!\" & \"t\" & ($BO23-1)*5+$BN23)=\"\",\"\",MID(INDIRECT(\"WORK2!\" & \"t\" & ($BO23-1)*5+$BN23),4,2))","v":""},{"$f":"IF(INDIRECT(\"WORK2!\" & \"t\" & ($BO23-1)*5+$BN23)=\"\",\"\",MID(INDIRECT(\"WORK2!\" & \"t\" & ($BO23-1)*5+$BN23),6,2))","v":""},{"$f":"IF(INDIRECT(\"WORK2!\" & \"y\" & ($BO23-1)*5+$BN23)=\"\",\"\",MID(INDIRECT(\"WORK2!\" & \"y\" & ($BO23-1)*5+$BN23),1,1))","v":""},{"$f":"IF(INDIRECT(\"WORK2!\" & \"y\" & ($BO23-1)*5+$BN23)=\"\",\"\",MID(INDIRECT(\"WORK2!\" & \"y\" & ($BO23-1)*5+$BN23),2,2))","v":""},{"$f":"IF(INDIRECT(\"WORK2!\" & \"y\" & ($BO23-1)*5+$BN23)=\"\",\"\",MID(INDIRECT(\"WORK2!\" & \"y\" & ($BO23-1)*5+$BN23),4,2))","v":""},{"$f":"IF(INDIRECT(\"WORK2!\" & \"y\" & ($BO23-1)*5+$BN23)=\"\",\"\",MID(INDIRECT(\"WORK2!\" & \"y\" & ($BO23-1)*5+$BN23),6,2))","v":""},{"$f":"IF(INDIRECT(\"WORK2!\" & \"AA\" & ($BO23-1)*5+$BN23)=\"\",\"\",MID(INDIRECT(\"WORK2!\" & \"AA\" & ($BO23-1)*5+$BN23),1,15))","v":""},null,null,null,{"$f":"IF(INDIRECT(\"WORK2!\" & \"u\" & ($BO23-1)*5+$BN23)=\"\",\"\",MID(INDIRECT(\"WORK2!\" & \"u\" & ($BO23-1)*5+$BN23),1,1))","v":""},{"$f":"IF(INDIRECT(\"WORK2!\" & \"u\" & ($BO23-1)*5+$BN23)=\"\",\"\",MID(INDIRECT(\"WORK2!\" & \"u\" & ($BO23-1)*5+$BN23),2,2))","v":""},{"$f":"IF(INDIRECT(\"WORK2!\" & \"u\" & ($BO23-1)*5+$BN23)=\"\",\"\",MID(INDIRECT(\"WORK2!\" & \"u\" & ($BO23-1)*5+$BN23),4,2))","v":""},{"$f":"IF(INDIRECT(\"WORK2!\" & \"u\" & ($BO23-1)*5+$BN23)=\"\",\"\",MID(INDIRECT(\"WORK2!\" & \"u\" & ($BO23-1)*5+$BN23),6,2))","v":""},{"$f":"IF(INDIRECT(\"WORK2!\" & \"v\" & ($BO23-1)*5+$BN23)=\"\",\"\",MID(INDIRECT(\"WORK2!\" & \"v\" & ($BO23-1)*5+$BN23),1,1))","v":""},{"$f":"IF(INDIRECT(\"WORK2!\" & \"v\" & ($BO23-1)*5+$BN23)=\"\",\"\",MID(INDIRECT(\"WORK2!\" & \"v\" & ($BO23-1)*5+$BN23),2,2))","v":""},{"$f":"IF(INDIRECT(\"WORK2!\" & \"v\" & ($BO23-1)*5+$BN23)=\"\",\"\",MID(INDIRECT(\"WORK2!\" & \"v\" & ($BO23-1)*5+$BN23),4,2))","v":""},{"$f":"IF(INDIRECT(\"WORK2!\" & \"v\" & ($BO23-1)*5+$BN23)=\"\",\"\",MID(INDIRECT(\"WORK2!\" & \"v\" & ($BO23-1)*5+$BN23),6,2))","v":""},null,{"$f":"IF(INDIRECT(\"WORK2!\" & \"W\" & ($BO23-1)*5+$BN23)=\"\",\"\",MID(INDIRECT(\"WORK2!\" & \"W\" & ($BO23-1)*5+$BN23),1,1))","v":""},{"$f":"IF(INDIRECT(\"WORK2!\" & \"W\" & ($BO23-1)*5+$BN23)=\"\",\"\",MID(INDIRECT(\"WORK2!\" & \"W\" & ($BO23-1)*5+$BN23),2,2))","v":""},{"$f":"IF(INDIRECT(\"WORK2!\" & \"W\" & ($BO23-1)*5+$BN23)=\"\",\"\",MID(INDIRECT(\"WORK2!\" & \"W\" & ($BO23-1)*5+$BN23),4,2))","v":""},{"$f":"IF(INDIRECT(\"WORK2!\" & \"W\" & ($BO23-1)*5+$BN23)=\"\",\"\",MID(INDIRECT(\"WORK2!\" & \"W\" & ($BO23-1)*5+$BN23),6,2))","v":""},{"$f":"IF(INDIRECT(\"WORK2!\" & \"z\" & ($BO23-1)*5+$BN23)=\"\",\"\",MID(INDIRECT(\"WORK2!\" & \"z\" & ($BO23-1)*5+$BN23),1,1))","v":""},{"$f":"IF(INDIRECT(\"WORK2!\" & \"Z\" & ($BO23-1)*5+$BN23)=\"\",\"\",MID(INDIRECT(\"WORK2!\" & \"Z\" & ($BO23-1)*5+$BN23),2,2))","v":""},{"$f":"IF(INDIRECT(\"WORK2!\" & \"Z\" & ($BO23-1)*5+$BN23)=\"\",\"\",MID(INDIRECT(\"WORK2!\" & \"Z\" & ($BO23-1)*5+$BN23),4,2))","v":""},{"$f":"IF(INDIRECT(\"WORK2!\" & \"Z\" & ($BO23-1)*5+$BN23)=\"\",\"\",MID(INDIRECT(\"WORK2!\" & \"Z\" & ($BO23-1)*5+$BN23),6,2))","v":""},{"$f":"IF(INDIRECT(\"WORK2!\" & \"AB\" & ($BO23-1)*5+$BN23)=\"\",\"\",MID(INDIRECT(\"WORK2!\" & \"AB\" & ($BO23-1)*5+$BN23),1,15))","v":""},null,null,null,1,{"$f":"INT((ROW()+48-3)/48)","v":1}]
[null,null,null,null,null,null,null,null,null,null,null,null,null,null,null,null,null,"有効期限",{"$f":"IF(INDIRECT(\"WORK2!\" & \"EQ\" & ($BO23-1)*5+$BN23)=\"\",\"\",MID(INDIRECT(\"WORK2!\" & \"EQ\" & ($BO23-1)*5+$BN23),1,1))","v":""},{"$f":"IF(INDIRECT(\"WORK2!\" & \"EQ\" & ($BO23-1)*5+$BN23)=\"\",\"\",MID(INDIRECT(\"WORK2!\" & \"EQ\" & ($BO23-1)*5+$BN23),2,2))","v":""},{"$f":"IF(INDIRECT(\"WORK2!\" & \"EQ\" & ($BO23-1)*5+$BN23)=\"\",\"\",MID(INDIRECT(\"WORK2!\" & \"EQ\" & ($BO23-1)*5+$BN23),4,2))","v":""},{"$f":"IF(INDIRECT(\"WORK2!\" & \"EQ\" & ($BO23-1)*5+$BN23)=\"\",\"\",MID(INDIRECT(\"WORK2!\" & \"EQ\" & ($BO23-1)*5+$BN23),6,2))","v":""},null,{"$f":"IF(INDIRECT(\"WORK2!\" & \"M\" & ($BO23-1)*5+$BN23)=\"\",\"\",INDIRECT(\"WORK2!\" & \"M\" & ($BO23-1)*5+$BN23))","v":""},null,null,{"$f":"IF(INDIRECT(\"WORK2!\" & \"Q\" & ($BO23-1)*5+$BN23)=\"\",\"\",INDIRECT(\"WORK2!\" & \"Q\" & ($BO23-1)*5+$BN23))","v":""},null,null,{"$f":"IF(INDIRECT(\"WORK2!\" & \"FU\" & ($BO23-1)*5+$BN23)=\"\",\"\",INDIRECT(\"WORK2!\" & \"FU\" & ($BO23-1)*5+$BN23))","v":""},null,null,null,null,null,null,null,null,null,null,null,null,null,"から",null,null,null,null,null,null,null,null,null,null,null,null,null,null,null,null,null,null,null,null,"へ"]
[null,null,null,"(ﾖ)","申告・申請年月",null,null,null,null,null,{"$f":"IF(MASTA!$BS$6<>\"\",MASTA!$BS$6,\"\")","v":"令和4年4月"},null,null,null,{"$f":"IF(MASTA!$BT$6<>\"\",MASTA!$BT$6,\"\")","v":"令和4年5月"},null,null,null,{"$f":"IF(MASTA!$BU$6<>\"\",MASTA!$BU$6,\"\")","v":"令和4年6月"},null,null,null,{"$f":"IF(MASTA!$BV$6<>\"\",MASTA!$BV$6,\"\")","v":"令和4年7月"},null,null,null,{"$f":"IF(MASTA!$BW$6<>\"\",MASTA!$BW$6,\"\")","v":"令和4年8月"},null,null,null,{"$f":"IF(MASTA!$BX$6<>\"\",MASTA!$BX$6,\"\")","v":"令和4年9月"},null,null,null,{"$f":"IF(MASTA!$BY$6<>\"\",MASTA!$BY$6,\"\")","v":"令和4年10月"},null,null,null,{"$f":"IF(MASTA!$BZ$6<>\"\",MASTA!$BZ$6,\"\")","v":"令和4年11月"},null,null,null,{"$f":"IF(MASTA!$CA$6<>\"\",MASTA!$CA$6,\"\")","v":"令和4年12月"},null,null,null,{"$f":"IF(MASTA!$CB$6<>\"\",MASTA!$CB$6,\"\")","v":"令和5年1月"},null,null,null,{"$f":"IF(MASTA!$CC$6<>\"\",MASTA!$CC$6,\"\")","v":"令和5年2月"},null,null,null,{"$f":"IF(MASTA!$CD$6<>\"\",MASTA!$CD$6,\"\")","v":"令和5年3月"},null,null,null,"計"]
[null,null,null,null,"月毎の所定労働時間",null,null,null,null,null,{"$f":"IF(INDIRECT(\"WORK2!\" & \"ER\" & ($BO23-1)*5+$BN23)=\"\",\"\",MID(INDIRECT(\"WORK2!\" & \"ER\" & ($BO23-1)*5+$BN23),1,11))","v":""},null,null,null,{"$f":"IF(INDIRECT(\"WORK2!\" & \"ES\" & ($BO23-1)*5+$BN23)=\"\",\"\",MID(INDIRECT(\"WORK2!\" & \"ES\" & ($BO23-1)*5+$BN23),1,11))","v":""},null,null,null,{"$f":"IF(INDIRECT(\"WORK2!\" & \"ET\" & ($BO23-1)*5+$BN23)=\"\",\"\",MID(INDIRECT(\"WORK2!\" & \"ET\" & ($BO23-1)*5+$BN23),1,11))","v":""},null,null,null,{"$f":"IF(INDIRECT(\"WORK2!\" & \"EU\" & ($BO23-1)*5+$BN23)=\"\",\"\",MID(INDIRECT(\"WORK2!\" & \"EU\" & ($BO23-1)*5+$BN23),1,11))","v":""},null,null,null,{"$f":"IF(INDIRECT(\"WORK2!\" & \"EV\" & ($BO23-1)*5+$BN23)=\"\",\"\",MID(INDIRECT(\"WORK2!\" & \"EV\" & ($BO23-1)*5+$BN23),1,11))","v":""},null,null,null,{"$f":"IF(INDIRECT(\"WORK2!\" & \"EW\" & ($BO23-1)*5+$BN23)=\"\",\"\",MID(INDIRECT(\"WORK2!\" & \"EW\" & ($BO23-1)*5+$BN23),1,11))","v":""},null,null,null,{"$f":"IF(INDIRECT(\"WORK2!\" & \"EX\" & ($BO23-1)*5+$BN23)=\"\",\"\",MID(INDIRECT(\"WORK2!\" & \"EX\" & ($BO23-1)*5+$BN23),1,11))","v":""},null,null,null,{"$f":"IF(INDIRECT(\"WORK2!\" & \"EY\" & ($BO23-1)*5+$BN23)=\"\",\"\",MID(INDIRECT(\"WORK2!\" & \"EY\" & ($BO23-1)*5+$BN23),1,11))","v":""},null,null,null,{"$f":"IF(INDIRECT(\"WORK2!\" & \"EZ\" & ($BO23-1)*5+$BN23)=\"\",\"\",MID(INDIRECT(\"WORK2!\" & \"EZ\" & ($BO23-1)*5+$BN23),1,11))","v":""},null,null,null,{"$f":"IF(INDIRECT(\"WORK2!\" & \"FA\" & ($BO23-1)*5+$BN23)=\"\",\"\",MID(INDIRECT(\"WORK2!\" & \"FA\" & ($BO23-1)*5+$BN23),1,11))","v":""},null,null,null,{"$f":"IF(INDIRECT(\"WORK2!\" & \"FB\" & ($BO23-1)*5+$BN23)=\"\",\"\",MID(INDIRECT(\"WORK2!\" & \"FB\" & ($BO23-1)*5+$BN23),1,11))","v":""},null,null,null,{"$f":"IF(INDIRECT(\"WORK2!\" & \"FC\" & ($BO23-1)*5+$BN23)=\"\",\"\",MID(INDIRECT(\"WORK2!\" & \"FC\" & ($BO23-1)*5+$BN23),1,11))","v":""},null,null,null,{"$f":"IF(INDIRECT(\"WORK2!\" & \"FQ\" & ($BO23-1)*5+$BN23)=\"\",\"\",INT(MID(INDIRECT(\"WORK2!\" & \"FQ\" & ($BO23-1)*5+$BN23),1,11)))","v":""}]
[null,null,null,null,"月毎の実労働時間",null,null,null,null,null,{"$f":"IF(INDIRECT(\"WORK2!\" & \"FD\" & ($BO23-1)*5+$BN23)=\"\",\"\",MID(INDIRECT(\"WORK2!\" & \"FD\" & ($BO23-1)*5+$BN23),1,11))","v":""},null,null,null,{"$f":"IF(INDIRECT(\"WORK2!\" & \"FE\" & ($BO23-1)*5+$BN23)=\"\",\"\",MID(INDIRECT(\"WORK2!\" & \"FE\" & ($BO23-1)*5+$BN23),1,11))","v":""},null,null,null,{"$f":"IF(INDIRECT(\"WORK2!\" & \"FF\" & ($BO23-1)*5+$BN23)=\"\",\"\",MID(INDIRECT(\"WORK2!\" & \"FF\" & ($BO23-1)*5+$BN23),1,11))","v":""},null,null,null,{"$f":"IF(INDIRECT(\"WORK2!\" & \"FG\" & ($BO23-1)*5+$BN23)=\"\",\"\",MID(INDIRECT(\"WORK2!\" & \"FG\" & ($BO23-1)*5+$BN23),1,11))","v":""},null,null,null,{"$f":"IF(INDIRECT(\"WORK2!\" & \"FH\" & ($BO23-1)*5+$BN23)=\"\",\"\",MID(INDIRECT(\"WORK2!\" & \"FH\" & ($BO23-1)*5+$BN23),1,11))","v":""},null,null,null,{"$f":"IF(INDIRECT(\"WORK2!\" & \"FI\" & ($BO23-1)*5+$BN23)=\"\",\"\",MID(INDIRECT(\"WORK2!\" & \"FI\" & ($BO23-1)*5+$BN23),1,11))","v":""},null,null,null,{"$f":"IF(INDIRECT(\"WORK2!\" & \"FJ\" & ($BO23-1)*5+$BN23)=\"\",\"\",MID(INDIRECT(\"WORK2!\" & \"FJ\" & ($BO23-1)*5+$BN23),1,11))","v":""},null,null,null,{"$f":"IF(INDIRECT(\"WORK2!\" & \"FK\" & ($BO23-1)*5+$BN23)=\"\",\"\",MID(INDIRECT(\"WORK2!\" & \"FK\" & ($BO23-1)*5+$BN23),1,11))","v":""},null,null,null,{"$f":"IF(INDIRECT(\"WORK2!\" & \"FL\" & ($BO23-1)*5+$BN23)=\"\",\"\",MID(INDIRECT(\"WORK2!\" & \"FL\" & ($BO23-1)*5+$BN23),1,11))","v":""},null,null,null,{"$f":"IF(INDIRECT(\"WORK2!\" & \"FM\" & ($BO23-1)*5+$BN23)=\"\",\"\",MID(INDIRECT(\"WORK2!\" & \"FM\" & ($BO23-1)*5+$BN23),1,11))","v":""},null,null,null,{"$f":"IF(INDIRECT(\"WORK2!\" & \"FN\" & ($BO23-1)*5+$BN23)=\"\",\"\",MID(INDIRECT(\"WORK2!\" & \"FN\" & ($BO23-1)*5+$BN23),1,11))","v":""},null,null,null,{"$f":"IF(INDIRECT(\"WORK2!\" & \"FO\" & ($BO23-1)*5+$BN23)=\"\",\"\",MID(INDIRECT(\"WORK2!\" & \"FO\" & ($BO23-1)*5+$BN23),1,11))","v":""},null,null,null,{"$f":"IF(INDIRECT(\"WORK2!\" & \"FR\" & ($BO23-1)*5+$BN23)=\"\",\"\",INT(MID(INDIRECT(\"WORK2!\" & \"FR\" & ($BO23-1)*5+$BN23),1,11)))","v":""}]
[null,null,{"$f":"IF(INDIRECT(\"WORK2!\"&\"EO\"&($BO28-1)*5+$BN28)=\"\",\"\",IF(MID(INDIRECT(\"WORK2!\"&\"EO\"&($BO28-1)*5+$BN28),1,10)=\"1\",\"ﾚ\",\"\"))","v":""},{"$f":"IF(INDIRECT(\"WORK2!\"&\"EP\"&($BO28-1)*5+$BN28)=\"\",\"\",IF(MID(INDIRECT(\"WORK2!\"&\"EP\"&($BO28-1)*5+$BN28),1,10)=\"1\",\"ﾚ\",\"\"))","v":""},{"$f":"IF(INDIRECT(\"WORK2!\"&\"D\"&($BO28-1)*5+$BN28)=\"\",\"\",MID(INDIRECT(\"WORK2!\"&\"D\"&($BO28-1)*5+$BN28),1,10))","v":""},null,null,null,{"$f":"IF(INDIRECT(\"WORK2!\"&\"E\"&($BO28-1)*5+$BN28)=\"\",\"\",MID(INDIRECT(\"WORK2!\"&\"E\"&($BO28-1)*5+$BN28),1,10))","v":""},null,null,null,{"$f":"IF(INDIRECT(\"WORK2!\" & \"g\" & ($BO28-1)*5+$BN28)=\"\",\"\",INDIRECT(\"WORK2!\" & \"g\" & ($BO28-1)*5+$BN28))","v":""},{"$f":"IF(INDIRECT(\"WORK2!\" & \"h\" & ($BO28-1)*5+$BN28)=\"\",\"\",MID(INDIRECT(\"WORK2!\" & \"h\" & ($BO28-1)*5+$BN28),1,1))","v":""},{"$f":"IF(INDIRECT(\"WORK2!\" & \"h\" & ($BO28-1)*5+$BN28)=\"\",\"\",MID(INDIRECT(\"WORK2!\" & \"h\" & ($BO28-1)*5+$BN28),2,2))","v":""},{"$f":"IF(INDIRECT(\"WORK2!\" & \"h\" & ($BO28-1)*5+$BN28)=\"\",\"\",MID(INDIRECT(\"WORK2!\" & \"h\" & ($BO28-1)*5+$BN28),4,2))","v":""},{"$f":"IF(INDIRECT(\"WORK2!\" & \"h\" & ($BO28-1)*5+$BN28)=\"\",\"\",MID(INDIRECT(\"WORK2!\" & \"h\" & ($BO28-1)*5+$BN28),6,2))","v":""},{"$f":"IF(INDIRECT(\"WORK2!\" & \"I\" & ($BO28-1)*5+$BN28)=\"\",\"\",MID(INDIRECT(\"WORK2!\" & \"I\" & ($BO28-1)*5+$BN28),1,11))","v":""},null,null,null,null,{"$f":"IF(INDIRECT(\"WORK2!\" & \"K\" & ($BO28-1)*5+$BN28)=\"\",\"\",INDIRECT(\"WORK2!\" & \"K\" & ($BO28-1)*5+$BN28))","v":""},{"$f":"IF(INDIRECT(\"WORK2!\" & \"L\" & ($BO28-1)*5+$BN28)=\"\",\"\",INDIRECT(\"WORK2!\" & \"L\" & ($BO28-1)*5+$BN28))","v":""},null,{"$f":"IF(INDIRECT(\"WORK2!\" & \"O\" & ($BO28-1)*5+$BN28)=\"\",\"\",INDIRECT(\"WORK2!\" & \"O\" & ($BO28-1)*5+$BN28))","v":""},{"$f":"IF(INDIRECT(\"WORK2!\" & \"P\" & ($BO28-1)*5+$BN28)=\"\",\"\",INDIRECT(\"WORK2!\" & \"P\" & ($BO28-1)*5+$BN28))","v":""},null,{"$f":"IF(INDIRECT(\"WORK2!\" & \"S\" & ($BO28-1)*5+$BN28)=\"\",\"\",INDIRECT(\"WORK2!\" & \"S\" & ($BO28-1)*5+$BN28))","v":""},{"$f":"IF(INDIRECT(\"WORK2!\" & \"FT\" & ($BO28-1)*5+$BN28)=\"\",\"\",INDIRECT(\"WORK2!\" & \"FT\" & ($BO28-1)*5+$BN28))","v":""},null,null,{"$f":"IF(INDIRECT(\"WORK2!\" & \"t\" & ($BO28-1)*5+$BN28)=\"\",\"\",MID(INDIRECT(\"WORK2!\" & \"t\" & ($BO28-1)*5+$BN28),1,1))","v":""},{"$f":"IF(INDIRECT(\"WORK2!\" & \"t\" & ($BO28-1)*5+$BN28)=\"\",\"\",MID(INDIRECT(\"WORK2!\" & \"t\" & ($BO28-1)*5+$BN28),2,2))","v":""},{"$f":"IF(INDIRECT(\"WORK2!\" & \"t\" & ($BO28-1)*5+$BN28)=\"\",\"\",MID(INDIRECT(\"WORK2!\" & \"t\" & ($BO28-1)*5+$BN28),4,2))","v":""},{"$f":"IF(INDIRECT(\"WORK2!\" & \"t\" & ($BO28-1)*5+$BN28)=\"\",\"\",MID(INDIRECT(\"WORK2!\" & \"t\" & ($BO28-1)*5+$BN28),6,2))","v":""},{"$f":"IF(INDIRECT(\"WORK2!\" & \"y\" & ($BO28-1)*5+$BN28)=\"\",\"\",MID(INDIRECT(\"WORK2!\" & \"y\" & ($BO28-1)*5+$BN28),1,1))","v":""},{"$f":"IF(INDIRECT(\"WORK2!\" & \"y\" & ($BO28-1)*5+$BN28)=\"\",\"\",MID(INDIRECT(\"WORK2!\" & \"y\" & ($BO28-1)*5+$BN28),2,2))","v":""},{"$f":"IF(INDIRECT(\"WORK2!\" & \"y\" & ($BO28-1)*5+$BN28)=\"\",\"\",MID(INDIRECT(\"WORK2!\" & \"y\" & ($BO28-1)*5+$BN28),4,2))","v":""},{"$f":"IF(INDIRECT(\"WORK2!\" & \"y\" & ($BO28-1)*5+$BN28)=\"\",\"\",MID(INDIRECT(\"WORK2!\" & \"y\" & ($BO28-1)*5+$BN28),6,2))","v":""},{"$f":"IF(INDIRECT(\"WORK2!\" & \"AA\" & ($BO28-1)*5+$BN28)=\"\",\"\",MID(INDIRECT(\"WORK2!\" & \"AA\" & ($BO28-1)*5+$BN28),1,15))","v":""},null,null,null,{"$f":"IF(INDIRECT(\"WORK2!\" & \"u\" & ($BO28-1)*5+$BN28)=\"\",\"\",MID(INDIRECT(\"WORK2!\" & \"u\" & ($BO28-1)*5+$BN28),1,1))","v":""},{"$f":"IF(INDIRECT(\"WORK2!\" & \"u\" & ($BO28-1)*5+$BN28)=\"\",\"\",MID(INDIRECT(\"WORK2!\" & \"u\" & ($BO28-1)*5+$BN28),2,2))","v":""},{"$f":"IF(INDIRECT(\"WORK2!\" & \"u\" & ($BO28-1)*5+$BN28)=\"\",\"\",MID(INDIRECT(\"WORK2!\" & \"u\" & ($BO28-1)*5+$BN28),4,2))","v":""},{"$f":"IF(INDIRECT(\"WORK2!\" & \"u\" & ($BO28-1)*5+$BN28)=\"\",\"\",MID(INDIRECT(\"WORK2!\" & \"u\" & ($BO28-1)*5+$BN28),6,2))","v":""},{"$f":"IF(INDIRECT(\"WORK2!\" & \"v\" & ($BO28-1)*5+$BN28)=\"\",\"\",MID(INDIRECT(\"WORK2!\" & \"v\" & ($BO28-1)*5+$BN28),1,1))","v":""},{"$f":"IF(INDIRECT(\"WORK2!\" & \"v\" & ($BO28-1)*5+$BN28)=\"\",\"\",MID(INDIRECT(\"WORK2!\" & \"v\" & ($BO28-1)*5+$BN28),2,2))","v":""},{"$f":"IF(INDIRECT(\"WORK2!\" & \"v\" & ($BO28-1)*5+$BN28)=\"\",\"\",MID(INDIRECT(\"WORK2!\" & \"v\" & ($BO28-1)*5+$BN28),4,2))","v":""},{"$f":"IF(INDIRECT(\"WORK2!\" & \"v\" & ($BO28-1)*5+$BN28)=\"\",\"\",MID(INDIRECT(\"WORK2!\" & \"v\" & ($BO28-1)*5+$BN28),6,2))","v":""},null,{"$f":"IF(INDIRECT(\"WORK2!\" & \"W\" & ($BO28-1)*5+$BN28)=\"\",\"\",MID(INDIRECT(\"WORK2!\" & \"W\" & ($BO28-1)*5+$BN28),1,1))","v":""},{"$f":"IF(INDIRECT(\"WORK2!\" & \"W\" & ($BO28-1)*5+$BN28)=\"\",\"\",MID(INDIRECT(\"WORK2!\" & \"W\" & ($BO28-1)*5+$BN28),2,2))","v":""},{"$f":"IF(INDIRECT(\"WORK2!\" & \"W\" & ($BO28-1)*5+$BN28)=\"\",\"\",MID(INDIRECT(\"WORK2!\" & \"W\" & ($BO28-1)*5+$BN28),4,2))","v":""},{"$f":"IF(INDIRECT(\"WORK2!\" & \"W\" & ($BO28-1)*5+$BN28)=\"\",\"\",MID(INDIRECT(\"WORK2!\" & \"W\" & ($BO28-1)*5+$BN28),6,2))","v":""},{"$f":"IF(INDIRECT(\"WORK2!\" & \"z\" & ($BO28-1)*5+$BN28)=\"\",\"\",MID(INDIRECT(\"WORK2!\" & \"z\" & ($BO28-1)*5+$BN28),1,1))","v":""},{"$f":"IF(INDIRECT(\"WORK2!\" & \"Z\" & ($BO28-1)*5+$BN28)=\"\",\"\",MID(INDIRECT(\"WORK2!\" & \"Z\" & ($BO28-1)*5+$BN28),2,2))","v":""},{"$f":"IF(INDIRECT(\"WORK2!\" & \"Z\" & ($BO28-1)*5+$BN28)=\"\",\"\",MID(INDIRECT(\"WORK2!\" & \"Z\" & ($BO28-1)*5+$BN28),4,2))","v":""},{"$f":"IF(INDIRECT(\"WORK2!\" & \"Z\" & ($BO28-1)*5+$BN28)=\"\",\"\",MID(INDIRECT(\"WORK2!\" & \"Z\" & ($BO28-1)*5+$BN28),6,2))","v":""},{"$f":"IF(INDIRECT(\"WORK2!\" & \"AB\" & ($BO28-1)*5+$BN28)=\"\",\"\",MID(INDIRECT(\"WORK2!\" & \"AB\" & ($BO28-1)*5+$BN28),1,15))","v":""},null,null,null,2,{"$f":"INT((ROW()+48-3)/48)","v":1}]
[null,null,null,null,null,null,null,null,null,null,null,null,null,null,null,null,null,"有効期限",{"$f":"IF(INDIRECT(\"WORK2!\" & \"EQ\" & ($BO28-1)*5+$BN28)=\"\",\"\",MID(INDIRECT(\"WORK2!\" & \"EQ\" & ($BO28-1)*5+$BN28),1,1))","v":""},{"$f":"IF(INDIRECT(\"WORK2!\" & \"EQ\" & ($BO28-1)*5+$BN28)=\"\",\"\",MID(INDIRECT(\"WORK2!\" & \"EQ\" & ($BO28-1)*5+$BN28),2,2))","v":""},{"$f":"IF(INDIRECT(\"WORK2!\" & \"EQ\" & ($BO28-1)*5+$BN28)=\"\",\"\",MID(INDIRECT(\"WORK2!\" & \"EQ\" & ($BO28-1)*5+$BN28),4,2))","v":""},{"$f":"IF(INDIRECT(\"WORK2!\" & \"EQ\" & ($BO28-1)*5+$BN28)=\"\",\"\",MID(INDIRECT(\"WORK2!\" & \"EQ\" & ($BO28-1)*5+$BN28),6,2))","v":""},null,{"$f":"IF(INDIRECT(\"WORK2!\" & \"M\" & ($BO28-1)*5+$BN28)=\"\",\"\",INDIRECT(\"WORK2!\" & \"M\" & ($BO28-1)*5+$BN28))","v":""},null,null,{"$f":"IF(INDIRECT(\"WORK2!\" & \"Q\" & ($BO28-1)*5+$BN28)=\"\",\"\",INDIRECT(\"WORK2!\" & \"Q\" & ($BO28-1)*5+$BN28))","v":""},null,null,{"$f":"IF(INDIRECT(\"WORK2!\" & \"FU\" & ($BO28-1)*5+$BN28)=\"\",\"\",INDIRECT(\"WORK2!\" & \"FU\" & ($BO28-1)*5+$BN28))","v":""},null,null,null,null,null,null,null,null,null,null,null,null,null,"から",null,null,null,null,null,null,null,null,null,null,null,null,null,null,null,null,null,null,null,null,"へ"]
[null,null,null,"(ﾖ)","申告・申請年月",null,null,null,null,null,{"$f":"IF(MASTA!$BS$6<>\"\",MASTA!$BS$6,\"\")","v":"令和4年4月"},null,null,null,{"$f":"IF(MASTA!$BT$6<>\"\",MASTA!$BT$6,\"\")","v":"令和4年5月"},null,null,null,{"$f":"IF(MASTA!$BU$6<>\"\",MASTA!$BU$6,\"\")","v":"令和4年6月"},null,null,null,{"$f":"IF(MASTA!$BV$6<>\"\",MASTA!$BV$6,\"\")","v":"令和4年7月"},null,null,null,{"$f":"IF(MASTA!$BW$6<>\"\",MASTA!$BW$6,\"\")","v":"令和4年8月"},null,null,null,{"$f":"IF(MASTA!$BX$6<>\"\",MASTA!$BX$6,\"\")","v":"令和4年9月"},null,null,null,{"$f":"IF(MASTA!$BY$6<>\"\",MASTA!$BY$6,\"\")","v":"令和4年10月"},null,null,null,{"$f":"IF(MASTA!$BZ$6<>\"\",MASTA!$BZ$6,\"\")","v":"令和4年11月"},null,null,null,{"$f":"IF(MASTA!$CA$6<>\"\",MASTA!$CA$6,\"\")","v":"令和4年12月"},null,null,null,{"$f":"IF(MASTA!$CB$6<>\"\",MASTA!$CB$6,\"\")","v":"令和5年1月"},null,null,null,{"$f":"IF(MASTA!$CC$6<>\"\",MASTA!$CC$6,\"\")","v":"令和5年2月"},null,null,null,{"$f":"IF(MASTA!$CD$6<>\"\",MASTA!$CD$6,\"\")","v":"令和5年3月"},null,null,null,"計"]
[null,null,null,null,"月毎の所定労働時間",null,null,null,null,null,{"$f":"IF(INDIRECT(\"WORK2!\" & \"ER\" & ($BO28-1)*5+$BN28)=\"\",\"\",MID(INDIRECT(\"WORK2!\" & \"ER\" & ($BO28-1)*5+$BN28),1,11))","v":""},null,null,null,{"$f":"IF(INDIRECT(\"WORK2!\" & \"ES\" & ($BO28-1)*5+$BN28)=\"\",\"\",MID(INDIRECT(\"WORK2!\" & \"ES\" & ($BO28-1)*5+$BN28),1,11))","v":""},null,null,null,{"$f":"IF(INDIRECT(\"WORK2!\" & \"ET\" & ($BO28-1)*5+$BN28)=\"\",\"\",MID(INDIRECT(\"WORK2!\" & \"ET\" & ($BO28-1)*5+$BN28),1,11))","v":""},null,null,null,{"$f":"IF(INDIRECT(\"WORK2!\" & \"EU\" & ($BO28-1)*5+$BN28)=\"\",\"\",MID(INDIRECT(\"WORK2!\" & \"EU\" & ($BO28-1)*5+$BN28),1,11))","v":""},null,null,null,{"$f":"IF(INDIRECT(\"WORK2!\" & \"EV\" & ($BO28-1)*5+$BN28)=\"\",\"\",MID(INDIRECT(\"WORK2!\" & \"EV\" & ($BO28-1)*5+$BN28),1,11))","v":""},null,null,null,{"$f":"IF(INDIRECT(\"WORK2!\" & \"EW\" & ($BO28-1)*5+$BN28)=\"\",\"\",MID(INDIRECT(\"WORK2!\" & \"EW\" & ($BO28-1)*5+$BN28),1,11))","v":""},null,null,null,{"$f":"IF(INDIRECT(\"WORK2!\" & \"EX\" & ($BO28-1)*5+$BN28)=\"\",\"\",MID(INDIRECT(\"WORK2!\" & \"EX\" & ($BO28-1)*5+$BN28),1,11))","v":""},null,null,null,{"$f":"IF(INDIRECT(\"WORK2!\" & \"EY\" & ($BO28-1)*5+$BN28)=\"\",\"\",MID(INDIRECT(\"WORK2!\" & \"EY\" & ($BO28-1)*5+$BN28),1,11))","v":""},null,null,null,{"$f":"IF(INDIRECT(\"WORK2!\" & \"EZ\" & ($BO28-1)*5+$BN28)=\"\",\"\",MID(INDIRECT(\"WORK2!\" & \"EZ\" & ($BO28-1)*5+$BN28),1,11))","v":""},null,null,null,{"$f":"IF(INDIRECT(\"WORK2!\" & \"FA\" & ($BO28-1)*5+$BN28)=\"\",\"\",MID(INDIRECT(\"WORK2!\" & \"FA\" & ($BO28-1)*5+$BN28),1,11))","v":""},null,null,null,{"$f":"IF(INDIRECT(\"WORK2!\" & \"FB\" & ($BO28-1)*5+$BN28)=\"\",\"\",MID(INDIRECT(\"WORK2!\" & \"FB\" & ($BO28-1)*5+$BN28),1,11))","v":""},null,null,null,{"$f":"IF(INDIRECT(\"WORK2!\" & \"FC\" & ($BO28-1)*5+$BN28)=\"\",\"\",MID(INDIRECT(\"WORK2!\" & \"FC\" & ($BO28-1)*5+$BN28),1,11))","v":""},null,null,null,{"$f":"IF(INDIRECT(\"WORK2!\" & \"FQ\" & ($BO28-1)*5+$BN28)=\"\",\"\",INT(MID(INDIRECT(\"WORK2!\" & \"FQ\" & ($BO28-1)*5+$BN28),1,11)))","v":""}]
[null,null,null,null,"月毎の実労働時間",null,null,null,null,null,{"$f":"IF(INDIRECT(\"WORK2!\" & \"FD\" & ($BO28-1)*5+$BN28)=\"\",\"\",MID(INDIRECT(\"WORK2!\" & \"FD\" & ($BO28-1)*5+$BN28),1,11))","v":""},null,null,null,{"$f":"IF(INDIRECT(\"WORK2!\" & \"FE\" & ($BO28-1)*5+$BN28)=\"\",\"\",MID(INDIRECT(\"WORK2!\" & \"FE\" & ($BO28-1)*5+$BN28),1,11))","v":""},null,null,null,{"$f":"IF(INDIRECT(\"WORK2!\" & \"FF\" & ($BO28-1)*5+$BN28)=\"\",\"\",MID(INDIRECT(\"WORK2!\" & \"FF\" & ($BO28-1)*5+$BN28),1,11))","v":""},null,null,null,{"$f":"IF(INDIRECT(\"WORK2!\" & \"FG\" & ($BO28-1)*5+$BN28)=\"\",\"\",MID(INDIRECT(\"WORK2!\" & \"FG\" & ($BO28-1)*5+$BN28),1,11))","v":""},null,null,null,{"$f":"IF(INDIRECT(\"WORK2!\" & \"FH\" & ($BO28-1)*5+$BN28)=\"\",\"\",MID(INDIRECT(\"WORK2!\" & \"FH\" & ($BO28-1)*5+$BN28),1,11))","v":""},null,null,null,{"$f":"IF(INDIRECT(\"WORK2!\" & \"FI\" & ($BO28-1)*5+$BN28)=\"\",\"\",MID(INDIRECT(\"WORK2!\" & \"FI\" & ($BO28-1)*5+$BN28),1,11))","v":""},null,null,null,{"$f":"IF(INDIRECT(\"WORK2!\" & \"FJ\" & ($BO28-1)*5+$BN28)=\"\",\"\",MID(INDIRECT(\"WORK2!\" & \"FJ\" & ($BO28-1)*5+$BN28),1,11))","v":""},null,null,null,{"$f":"IF(INDIRECT(\"WORK2!\" & \"FK\" & ($BO28-1)*5+$BN28)=\"\",\"\",MID(INDIRECT(\"WORK2!\" & \"FK\" & ($BO28-1)*5+$BN28),1,11))","v":""},null,null,null,{"$f":"IF(INDIRECT(\"WORK2!\" & \"FL\" & ($BO28-1)*5+$BN28)=\"\",\"\",MID(INDIRECT(\"WORK2!\" & \"FL\" & ($BO28-1)*5+$BN28),1,11))","v":""},null,null,null,{"$f":"IF(INDIRECT(\"WORK2!\" & \"FM\" & ($BO28-1)*5+$BN28)=\"\",\"\",MID(INDIRECT(\"WORK2!\" & \"FM\" & ($BO28-1)*5+$BN28),1,11))","v":""},null,null,null,{"$f":"IF(INDIRECT(\"WORK2!\" & \"FN\" & ($BO28-1)*5+$BN28)=\"\",\"\",MID(INDIRECT(\"WORK2!\" & \"FN\" & ($BO28-1)*5+$BN28),1,11))","v":""},null,null,null,{"$f":"IF(INDIRECT(\"WORK2!\" & \"FO\" & ($BO28-1)*5+$BN28)=\"\",\"\",MID(INDIRECT(\"WORK2!\" & \"FO\" & ($BO28-1)*5+$BN28),1,11))","v":""},null,null,null,{"$f":"IF(INDIRECT(\"WORK2!\" & \"FR\" & ($BO28-1)*5+$BN28)=\"\",\"\",INT(MID(INDIRECT(\"WORK2!\" & \"FR\" & ($BO28-1)*5+$BN28),1,11)))","v":""}]
[null,null,{"$f":"IF(INDIRECT(\"WORK2!\"&\"EO\"&($BO33-1)*5+$BN33)=\"\",\"\",IF(MID(INDIRECT(\"WORK2!\"&\"EO\"&($BO33-1)*5+$BN33),1,10)=\"1\",\"ﾚ\",\"\"))","v":""},{"$f":"IF(INDIRECT(\"WORK2!\"&\"EP\"&($BO33-1)*5+$BN33)=\"\",\"\",IF(MID(INDIRECT(\"WORK2!\"&\"EP\"&($BO33-1)*5+$BN33),1,10)=\"1\",\"ﾚ\",\"\"))","v":""},{"$f":"IF(INDIRECT(\"WORK2!\"&\"D\"&($BO33-1)*5+$BN33)=\"\",\"\",MID(INDIRECT(\"WORK2!\"&\"D\"&($BO33-1)*5+$BN33),1,10))","v":""},null,null,null,{"$f":"IF(INDIRECT(\"WORK2!\"&\"E\"&($BO33-1)*5+$BN33)=\"\",\"\",MID(INDIRECT(\"WORK2!\"&\"E\"&($BO33-1)*5+$BN33),1,10))","v":""},null,null,null,{"$f":"IF(INDIRECT(\"WORK2!\" & \"g\" & ($BO33-1)*5+$BN33)=\"\",\"\",INDIRECT(\"WORK2!\" & \"g\" & ($BO33-1)*5+$BN33))","v":""},{"$f":"IF(INDIRECT(\"WORK2!\" & \"h\" & ($BO33-1)*5+$BN33)=\"\",\"\",MID(INDIRECT(\"WORK2!\" & \"h\" & ($BO33-1)*5+$BN33),1,1))","v":""},{"$f":"IF(INDIRECT(\"WORK2!\" & \"h\" & ($BO33-1)*5+$BN33)=\"\",\"\",MID(INDIRECT(\"WORK2!\" & \"h\" & ($BO33-1)*5+$BN33),2,2))","v":""},{"$f":"IF(INDIRECT(\"WORK2!\" & \"h\" & ($BO33-1)*5+$BN33)=\"\",\"\",MID(INDIRECT(\"WORK2!\" & \"h\" & ($BO33-1)*5+$BN33),4,2))","v":""},{"$f":"IF(INDIRECT(\"WORK2!\" & \"h\" & ($BO33-1)*5+$BN33)=\"\",\"\",MID(INDIRECT(\"WORK2!\" & \"h\" & ($BO33-1)*5+$BN33),6,2))","v":""},{"$f":"IF(INDIRECT(\"WORK2!\" & \"I\" & ($BO33-1)*5+$BN33)=\"\",\"\",MID(INDIRECT(\"WORK2!\" & \"I\" & ($BO33-1)*5+$BN33),1,11))","v":""},null,null,null,null,{"$f":"IF(INDIRECT(\"WORK2!\" & \"K\" & ($BO33-1)*5+$BN33)=\"\",\"\",INDIRECT(\"WORK2!\" & \"K\" & ($BO33-1)*5+$BN33))","v":""},{"$f":"IF(INDIRECT(\"WORK2!\" & \"L\" & ($BO33-1)*5+$BN33)=\"\",\"\",INDIRECT(\"WORK2!\" & \"L\" & ($BO33-1)*5+$BN33))","v":""},null,{"$f":"IF(INDIRECT(\"WORK2!\" & \"O\" & ($BO33-1)*5+$BN33)=\"\",\"\",INDIRECT(\"WORK2!\" & \"O\" & ($BO33-1)*5+$BN33))","v":""},{"$f":"IF(INDIRECT(\"WORK2!\" & \"P\" & ($BO33-1)*5+$BN33)=\"\",\"\",INDIRECT(\"WORK2!\" & \"P\" & ($BO33-1)*5+$BN33))","v":""},null,{"$f":"IF(INDIRECT(\"WORK2!\" & \"S\" & ($BO33-1)*5+$BN33)=\"\",\"\",INDIRECT(\"WORK2!\" & \"S\" & ($BO33-1)*5+$BN33))","v":""},{"$f":"IF(INDIRECT(\"WORK2!\" & \"FT\" & ($BO33-1)*5+$BN33)=\"\",\"\",INDIRECT(\"WORK2!\" & \"FT\" & ($BO33-1)*5+$BN33))","v":""},null,null,{"$f":"IF(INDIRECT(\"WORK2!\" & \"t\" & ($BO33-1)*5+$BN33)=\"\",\"\",MID(INDIRECT(\"WORK2!\" & \"t\" & ($BO33-1)*5+$BN33),1,1))","v":""},{"$f":"IF(INDIRECT(\"WORK2!\" & \"t\" & ($BO33-1)*5+$BN33)=\"\",\"\",MID(INDIRECT(\"WORK2!\" & \"t\" & ($BO33-1)*5+$BN33),2,2))","v":""},{"$f":"IF(INDIRECT(\"WORK2!\" & \"t\" & ($BO33-1)*5+$BN33)=\"\",\"\",MID(INDIRECT(\"WORK2!\" & \"t\" & ($BO33-1)*5+$BN33),4,2))","v":""},{"$f":"IF(INDIRECT(\"WORK2!\" & \"t\" & ($BO33-1)*5+$BN33)=\"\",\"\",MID(INDIRECT(\"WORK2!\" & \"t\" & ($BO33-1)*5+$BN33),6,2))","v":""},{"$f":"IF(INDIRECT(\"WORK2!\" & \"y\" & ($BO33-1)*5+$BN33)=\"\",\"\",MID(INDIRECT(\"WORK2!\" & \"y\" & ($BO33-1)*5+$BN33),1,1))","v":""},{"$f":"IF(INDIRECT(\"WORK2!\" & \"y\" & ($BO33-1)*5+$BN33)=\"\",\"\",MID(INDIRECT(\"WORK2!\" & \"y\" & ($BO33-1)*5+$BN33),2,2))","v":""},{"$f":"IF(INDIRECT(\"WORK2!\" & \"y\" & ($BO33-1)*5+$BN33)=\"\",\"\",MID(INDIRECT(\"WORK2!\" & \"y\" & ($BO33-1)*5+$BN33),4,2))","v":""},{"$f":"IF(INDIRECT(\"WORK2!\" & \"y\" & ($BO33-1)*5+$BN33)=\"\",\"\",MID(INDIRECT(\"WORK2!\" & \"y\" & ($BO33-1)*5+$BN33),6,2))","v":""},{"$f":"IF(INDIRECT(\"WORK2!\" & \"AA\" & ($BO33-1)*5+$BN33)=\"\",\"\",MID(INDIRECT(\"WORK2!\" & \"AA\" & ($BO33-1)*5+$BN33),1,15))","v":""},null,null,null,{"$f":"IF(INDIRECT(\"WORK2!\" & \"u\" & ($BO33-1)*5+$BN33)=\"\",\"\",MID(INDIRECT(\"WORK2!\" & \"u\" & ($BO33-1)*5+$BN33),1,1))","v":""},{"$f":"IF(INDIRECT(\"WORK2!\" & \"u\" & ($BO33-1)*5+$BN33)=\"\",\"\",MID(INDIRECT(\"WORK2!\" & \"u\" & ($BO33-1)*5+$BN33),2,2))","v":""},{"$f":"IF(INDIRECT(\"WORK2!\" & \"u\" & ($BO33-1)*5+$BN33)=\"\",\"\",MID(INDIRECT(\"WORK2!\" & \"u\" & ($BO33-1)*5+$BN33),4,2))","v":""},{"$f":"IF(INDIRECT(\"WORK2!\" & \"u\" & ($BO33-1)*5+$BN33)=\"\",\"\",MID(INDIRECT(\"WORK2!\" & \"u\" & ($BO33-1)*5+$BN33),6,2))","v":""},{"$f":"IF(INDIRECT(\"WORK2!\" & \"v\" & ($BO33-1)*5+$BN33)=\"\",\"\",MID(INDIRECT(\"WORK2!\" & \"v\" & ($BO33-1)*5+$BN33),1,1))","v":""},{"$f":"IF(INDIRECT(\"WORK2!\" & \"v\" & ($BO33-1)*5+$BN33)=\"\",\"\",MID(INDIRECT(\"WORK2!\" & \"v\" & ($BO33-1)*5+$BN33),2,2))","v":""},{"$f":"IF(INDIRECT(\"WORK2!\" & \"v\" & ($BO33-1)*5+$BN33)=\"\",\"\",MID(INDIRECT(\"WORK2!\" & \"v\" & ($BO33-1)*5+$BN33),4,2))","v":""},{"$f":"IF(INDIRECT(\"WORK2!\" & \"v\" & ($BO33-1)*5+$BN33)=\"\",\"\",MID(INDIRECT(\"WORK2!\" & \"v\" & ($BO33-1)*5+$BN33),6,2))","v":""},null,{"$f":"IF(INDIRECT(\"WORK2!\" & \"W\" & ($BO33-1)*5+$BN33)=\"\",\"\",MID(INDIRECT(\"WORK2!\" & \"W\" & ($BO33-1)*5+$BN33),1,1))","v":""},{"$f":"IF(INDIRECT(\"WORK2!\" & \"W\" & ($BO33-1)*5+$BN33)=\"\",\"\",MID(INDIRECT(\"WORK2!\" & \"W\" & ($BO33-1)*5+$BN33),2,2))","v":""},{"$f":"IF(INDIRECT(\"WORK2!\" & \"W\" & ($BO33-1)*5+$BN33)=\"\",\"\",MID(INDIRECT(\"WORK2!\" & \"W\" & ($BO33-1)*5+$BN33),4,2))","v":""},{"$f":"IF(INDIRECT(\"WORK2!\" & \"W\" & ($BO33-1)*5+$BN33)=\"\",\"\",MID(INDIRECT(\"WORK2!\" & \"W\" & ($BO33-1)*5+$BN33),6,2))","v":""},{"$f":"IF(INDIRECT(\"WORK2!\" & \"z\" & ($BO33-1)*5+$BN33)=\"\",\"\",MID(INDIRECT(\"WORK2!\" & \"z\" & ($BO33-1)*5+$BN33),1,1))","v":""},{"$f":"IF(INDIRECT(\"WORK2!\" & \"Z\" & ($BO33-1)*5+$BN33)=\"\",\"\",MID(INDIRECT(\"WORK2!\" & \"Z\" & ($BO33-1)*5+$BN33),2,2))","v":""},{"$f":"IF(INDIRECT(\"WORK2!\" & \"Z\" & ($BO33-1)*5+$BN33)=\"\",\"\",MID(INDIRECT(\"WORK2!\" & \"Z\" & ($BO33-1)*5+$BN33),4,2))","v":""},{"$f":"IF(INDIRECT(\"WORK2!\" & \"Z\" & ($BO33-1)*5+$BN33)=\"\",\"\",MID(INDIRECT(\"WORK2!\" & \"Z\" & ($BO33-1)*5+$BN33),6,2))","v":""},{"$f":"IF(INDIRECT(\"WORK2!\" & \"AB\" & ($BO33-1)*5+$BN33)=\"\",\"\",MID(INDIRECT(\"WORK2!\" & \"AB\" & ($BO33-1)*5+$BN33),1,15))","v":""},null,null,null,3,{"$f":"INT((ROW()+48-3)/48)","v":1}]
[null,null,null,null,null,null,null,null,null,null,null,null,null,null,null,null,null,"有効期限",{"$f":"IF(INDIRECT(\"WORK2!\" & \"EQ\" & ($BO33-1)*5+$BN33)=\"\",\"\",MID(INDIRECT(\"WORK2!\" & \"EQ\" & ($BO33-1)*5+$BN33),1,1))","v":""},{"$f":"IF(INDIRECT(\"WORK2!\" & \"EQ\" & ($BO33-1)*5+$BN33)=\"\",\"\",MID(INDIRECT(\"WORK2!\" & \"EQ\" & ($BO33-1)*5+$BN33),2,2))","v":""},{"$f":"IF(INDIRECT(\"WORK2!\" & \"EQ\" & ($BO33-1)*5+$BN33)=\"\",\"\",MID(INDIRECT(\"WORK2!\" & \"EQ\" & ($BO33-1)*5+$BN33),4,2))","v":""},{"$f":"IF(INDIRECT(\"WORK2!\" & \"EQ\" & ($BO33-1)*5+$BN33)=\"\",\"\",MID(INDIRECT(\"WORK2!\" & \"EQ\" & ($BO33-1)*5+$BN33),6,2))","v":""},null,{"$f":"IF(INDIRECT(\"WORK2!\" & \"M\" & ($BO33-1)*5+$BN33)=\"\",\"\",INDIRECT(\"WORK2!\" & \"M\" & ($BO33-1)*5+$BN33))","v":""},null,null,{"$f":"IF(INDIRECT(\"WORK2!\" & \"Q\" & ($BO33-1)*5+$BN33)=\"\",\"\",INDIRECT(\"WORK2!\" & \"Q\" & ($BO33-1)*5+$BN33))","v":""},null,null,{"$f":"IF(INDIRECT(\"WORK2!\" & \"FU\" & ($BO33-1)*5+$BN33)=\"\",\"\",INDIRECT(\"WORK2!\" & \"FU\" & ($BO33-1)*5+$BN33))","v":""},null,null,null,null,null,null,null,null,null,null,null,null,null,"から",null,null,null,null,null,null,null,null,null,null,null,null,null,null,null,null,null,null,null,null,"へ"]
[null,null,null,"(ﾖ)","申告・申請年月",null,null,null,null,null,{"$f":"IF(MASTA!$BS$6<>\"\",MASTA!$BS$6,\"\")","v":"令和4年4月"},null,null,null,{"$f":"IF(MASTA!$BT$6<>\"\",MASTA!$BT$6,\"\")","v":"令和4年5月"},null,null,null,{"$f":"IF(MASTA!$BU$6<>\"\",MASTA!$BU$6,\"\")","v":"令和4年6月"},null,null,null,{"$f":"IF(MASTA!$BV$6<>\"\",MASTA!$BV$6,\"\")","v":"令和4年7月"},null,null,null,{"$f":"IF(MASTA!$BW$6<>\"\",MASTA!$BW$6,\"\")","v":"令和4年8月"},null,null,null,{"$f":"IF(MASTA!$BX$6<>\"\",MASTA!$BX$6,\"\")","v":"令和4年9月"},null,null,null,{"$f":"IF(MASTA!$BY$6<>\"\",MASTA!$BY$6,\"\")","v":"令和4年10月"},null,null,null,{"$f":"IF(MASTA!$BZ$6<>\"\",MASTA!$BZ$6,\"\")","v":"令和4年11月"},null,null,null,{"$f":"IF(MASTA!$CA$6<>\"\",MASTA!$CA$6,\"\")","v":"令和4年12月"},null,null,null,{"$f":"IF(MASTA!$CB$6<>\"\",MASTA!$CB$6,\"\")","v":"令和5年1月"},null,null,null,{"$f":"IF(MASTA!$CC$6<>\"\",MASTA!$CC$6,\"\")","v":"令和5年2月"},null,null,null,{"$f":"IF(MASTA!$CD$6<>\"\",MASTA!$CD$6,\"\")","v":"令和5年3月"},null,null,null,"計"]
[null,null,null,null,"月毎の所定労働時間",null,null,null,null,null,{"$f":"IF(INDIRECT(\"WORK2!\" & \"ER\" & ($BO33-1)*5+$BN33)=\"\",\"\",MID(INDIRECT(\"WORK2!\" & \"ER\" & ($BO33-1)*5+$BN33),1,11))","v":""},null,null,null,{"$f":"IF(INDIRECT(\"WORK2!\" & \"ES\" & ($BO33-1)*5+$BN33)=\"\",\"\",MID(INDIRECT(\"WORK2!\" & \"ES\" & ($BO33-1)*5+$BN33),1,11))","v":""},null,null,null,{"$f":"IF(INDIRECT(\"WORK2!\" & \"ET\" & ($BO33-1)*5+$BN33)=\"\",\"\",MID(INDIRECT(\"WORK2!\" & \"ET\" & ($BO33-1)*5+$BN33),1,11))","v":""},null,null,null,{"$f":"IF(INDIRECT(\"WORK2!\" & \"EU\" & ($BO33-1)*5+$BN33)=\"\",\"\",MID(INDIRECT(\"WORK2!\" & \"EU\" & ($BO33-1)*5+$BN33),1,11))","v":""},null,null,null,{"$f":"IF(INDIRECT(\"WORK2!\" & \"EV\" & ($BO33-1)*5+$BN33)=\"\",\"\",MID(INDIRECT(\"WORK2!\" & \"EV\" & ($BO33-1)*5+$BN33),1,11))","v":""},null,null,null,{"$f":"IF(INDIRECT(\"WORK2!\" & \"EW\" & ($BO33-1)*5+$BN33)=\"\",\"\",MID(INDIRECT(\"WORK2!\" & \"EW\" & ($BO33-1)*5+$BN33),1,11))","v":""},null,null,null,{"$f":"IF(INDIRECT(\"WORK2!\" & \"EX\" & ($BO33-1)*5+$BN33)=\"\",\"\",MID(INDIRECT(\"WORK2!\" & \"EX\" & ($BO33-1)*5+$BN33),1,11))","v":""},null,null,null,{"$f":"IF(INDIRECT(\"WORK2!\" & \"EY\" & ($BO33-1)*5+$BN33)=\"\",\"\",MID(INDIRECT(\"WORK2!\" & \"EY\" & ($BO33-1)*5+$BN33),1,11))","v":""},null,null,null,{"$f":"IF(INDIRECT(\"WORK2!\" & \"EZ\" & ($BO33-1)*5+$BN33)=\"\",\"\",MID(INDIRECT(\"WORK2!\" & \"EZ\" & ($BO33-1)*5+$BN33),1,11))","v":""},null,null,null,{"$f":"IF(INDIRECT(\"WORK2!\" & \"FA\" & ($BO33-1)*5+$BN33)=\"\",\"\",MID(INDIRECT(\"WORK2!\" & \"FA\" & ($BO33-1)*5+$BN33),1,11))","v":""},null,null,null,{"$f":"IF(INDIRECT(\"WORK2!\" & \"FB\" & ($BO33-1)*5+$BN33)=\"\",\"\",MID(INDIRECT(\"WORK2!\" & \"FB\" & ($BO33-1)*5+$BN33),1,11))","v":""},null,null,null,{"$f":"IF(INDIRECT(\"WORK2!\" & \"FC\" & ($BO33-1)*5+$BN33)=\"\",\"\",MID(INDIRECT(\"WORK2!\" & \"FC\" & ($BO33-1)*5+$BN33),1,11))","v":""},null,null,null,{"$f":"IF(INDIRECT(\"WORK2!\" & \"FQ\" & ($BO33-1)*5+$BN33)=\"\",\"\",INT(MID(INDIRECT(\"WORK2!\" & \"FQ\" & ($BO33-1)*5+$BN33),1,11)))","v":""}]
[null,null,null,null,"月毎の実労働時間",null,null,null,null,null,{"$f":"IF(INDIRECT(\"WORK2!\" & \"FD\" & ($BO33-1)*5+$BN33)=\"\",\"\",MID(INDIRECT(\"WORK2!\" & \"FD\" & ($BO33-1)*5+$BN33),1,11))","v":""},null,null,null,{"$f":"IF(INDIRECT(\"WORK2!\" & \"FE\" & ($BO33-1)*5+$BN33)=\"\",\"\",MID(INDIRECT(\"WORK2!\" & \"FE\" & ($BO33-1)*5+$BN33),1,11))","v":""},null,null,null,{"$f":"IF(INDIRECT(\"WORK2!\" & \"FF\" & ($BO33-1)*5+$BN33)=\"\",\"\",MID(INDIRECT(\"WORK2!\" & \"FF\" & ($BO33-1)*5+$BN33),1,11))","v":""},null,null,null,{"$f":"IF(INDIRECT(\"WORK2!\" & \"FG\" & ($BO33-1)*5+$BN33)=\"\",\"\",MID(INDIRECT(\"WORK2!\" & \"FG\" & ($BO33-1)*5+$BN33),1,11))","v":""},null,null,null,{"$f":"IF(INDIRECT(\"WORK2!\" & \"FH\" & ($BO33-1)*5+$BN33)=\"\",\"\",MID(INDIRECT(\"WORK2!\" & \"FH\" & ($BO33-1)*5+$BN33),1,11))","v":""},null,null,null,{"$f":"IF(INDIRECT(\"WORK2!\" & \"FI\" & ($BO33-1)*5+$BN33)=\"\",\"\",MID(INDIRECT(\"WORK2!\" & \"FI\" & ($BO33-1)*5+$BN33),1,11))","v":""},null,null,null,{"$f":"IF(INDIRECT(\"WORK2!\" & \"FJ\" & ($BO33-1)*5+$BN33)=\"\",\"\",MID(INDIRECT(\"WORK2!\" & \"FJ\" & ($BO33-1)*5+$BN33),1,11))","v":""},null,null,null,{"$f":"IF(INDIRECT(\"WORK2!\" & \"FK\" & ($BO33-1)*5+$BN33)=\"\",\"\",MID(INDIRECT(\"WORK2!\" & \"FK\" & ($BO33-1)*5+$BN33),1,11))","v":""},null,null,null,{"$f":"IF(INDIRECT(\"WORK2!\" & \"FL\" & ($BO33-1)*5+$BN33)=\"\",\"\",MID(INDIRECT(\"WORK2!\" & \"FL\" & ($BO33-1)*5+$BN33),1,11))","v":""},null,null,null,{"$f":"IF(INDIRECT(\"WORK2!\" & \"FM\" & ($BO33-1)*5+$BN33)=\"\",\"\",MID(INDIRECT(\"WORK2!\" & \"FM\" & ($BO33-1)*5+$BN33),1,11))","v":""},null,null,null,{"$f":"IF(INDIRECT(\"WORK2!\" & \"FN\" & ($BO33-1)*5+$BN33)=\"\",\"\",MID(INDIRECT(\"WORK2!\" & \"FN\" & ($BO33-1)*5+$BN33),1,11))","v":""},null,null,null,{"$f":"IF(INDIRECT(\"WORK2!\" & \"FO\" & ($BO33-1)*5+$BN33)=\"\",\"\",MID(INDIRECT(\"WORK2!\" & \"FO\" & ($BO33-1)*5+$BN33),1,11))","v":""},null,null,null,{"$f":"IF(INDIRECT(\"WORK2!\" & \"FR\" & ($BO33-1)*5+$BN33)=\"\",\"\",INT(MID(INDIRECT(\"WORK2!\" & \"FR\" & ($BO33-1)*5+$BN33),1,11)))","v":""}]
[null,null,{"$f":"IF(INDIRECT(\"WORK2!\"&\"EO\"&($BO38-1)*5+$BN38)=\"\",\"\",IF(MID(INDIRECT(\"WORK2!\"&\"EO\"&($BO38-1)*5+$BN38),1,10)=\"1\",\"ﾚ\",\"\"))","v":""},{"$f":"IF(INDIRECT(\"WORK2!\"&\"EP\"&($BO38-1)*5+$BN38)=\"\",\"\",IF(MID(INDIRECT(\"WORK2!\"&\"EP\"&($BO38-1)*5+$BN38),1,10)=\"1\",\"ﾚ\",\"\"))","v":""},{"$f":"IF(INDIRECT(\"WORK2!\"&\"D\"&($BO38-1)*5+$BN38)=\"\",\"\",MID(INDIRECT(\"WORK2!\"&\"D\"&($BO38-1)*5+$BN38),1,10))","v":""},null,null,null,{"$f":"IF(INDIRECT(\"WORK2!\"&\"E\"&($BO38-1)*5+$BN38)=\"\",\"\",MID(INDIRECT(\"WORK2!\"&\"E\"&($BO38-1)*5+$BN38),1,10))","v":""},null,null,null,{"$f":"IF(INDIRECT(\"WORK2!\" & \"g\" & ($BO38-1)*5+$BN38)=\"\",\"\",INDIRECT(\"WORK2!\" & \"g\" & ($BO38-1)*5+$BN38))","v":""},{"$f":"IF(INDIRECT(\"WORK2!\" & \"h\" & ($BO38-1)*5+$BN38)=\"\",\"\",MID(INDIRECT(\"WORK2!\" & \"h\" & ($BO38-1)*5+$BN38),1,1))","v":""},{"$f":"IF(INDIRECT(\"WORK2!\" & \"h\" & ($BO38-1)*5+$BN38)=\"\",\"\",MID(INDIRECT(\"WORK2!\" & \"h\" & ($BO38-1)*5+$BN38),2,2))","v":""},{"$f":"IF(INDIRECT(\"WORK2!\" & \"h\" & ($BO38-1)*5+$BN38)=\"\",\"\",MID(INDIRECT(\"WORK2!\" & \"h\" & ($BO38-1)*5+$BN38),4,2))","v":""},{"$f":"IF(INDIRECT(\"WORK2!\" & \"h\" & ($BO38-1)*5+$BN38)=\"\",\"\",MID(INDIRECT(\"WORK2!\" & \"h\" & ($BO38-1)*5+$BN38),6,2))","v":""},{"$f":"IF(INDIRECT(\"WORK2!\" & \"I\" & ($BO38-1)*5+$BN38)=\"\",\"\",MID(INDIRECT(\"WORK2!\" & \"I\" & ($BO38-1)*5+$BN38),1,11))","v":""},null,null,null,null,{"$f":"IF(INDIRECT(\"WORK2!\" & \"K\" & ($BO38-1)*5+$BN38)=\"\",\"\",INDIRECT(\"WORK2!\" & \"K\" & ($BO38-1)*5+$BN38))","v":""},{"$f":"IF(INDIRECT(\"WORK2!\" & \"L\" & ($BO38-1)*5+$BN38)=\"\",\"\",INDIRECT(\"WORK2!\" & \"L\" & ($BO38-1)*5+$BN38))","v":""},null,{"$f":"IF(INDIRECT(\"WORK2!\" & \"O\" & ($BO38-1)*5+$BN38)=\"\",\"\",INDIRECT(\"WORK2!\" & \"O\" & ($BO38-1)*5+$BN38))","v":""},{"$f":"IF(INDIRECT(\"WORK2!\" & \"P\" & ($BO38-1)*5+$BN38)=\"\",\"\",INDIRECT(\"WORK2!\" & \"P\" & ($BO38-1)*5+$BN38))","v":""},null,{"$f":"IF(INDIRECT(\"WORK2!\" & \"S\" & ($BO38-1)*5+$BN38)=\"\",\"\",INDIRECT(\"WORK2!\" & \"S\" & ($BO38-1)*5+$BN38))","v":""},{"$f":"IF(INDIRECT(\"WORK2!\" & \"FT\" & ($BO38-1)*5+$BN38)=\"\",\"\",INDIRECT(\"WORK2!\" & \"FT\" & ($BO38-1)*5+$BN38))","v":""},null,null,{"$f":"IF(INDIRECT(\"WORK2!\" & \"t\" & ($BO38-1)*5+$BN38)=\"\",\"\",MID(INDIRECT(\"WORK2!\" & \"t\" & ($BO38-1)*5+$BN38),1,1))","v":""},{"$f":"IF(INDIRECT(\"WORK2!\" & \"t\" & ($BO38-1)*5+$BN38)=\"\",\"\",MID(INDIRECT(\"WORK2!\" & \"t\" & ($BO38-1)*5+$BN38),2,2))","v":""},{"$f":"IF(INDIRECT(\"WORK2!\" & \"t\" & ($BO38-1)*5+$BN38)=\"\",\"\",MID(INDIRECT(\"WORK2!\" & \"t\" & ($BO38-1)*5+$BN38),4,2))","v":""},{"$f":"IF(INDIRECT(\"WORK2!\" & \"t\" & ($BO38-1)*5+$BN38)=\"\",\"\",MID(INDIRECT(\"WORK2!\" & \"t\" & ($BO38-1)*5+$BN38),6,2))","v":""},{"$f":"IF(INDIRECT(\"WORK2!\" & \"y\" & ($BO38-1)*5+$BN38)=\"\",\"\",MID(INDIRECT(\"WORK2!\" & \"y\" & ($BO38-1)*5+$BN38),1,1))","v":""},{"$f":"IF(INDIRECT(\"WORK2!\" & \"y\" & ($BO38-1)*5+$BN38)=\"\",\"\",MID(INDIRECT(\"WORK2!\" & \"y\" & ($BO38-1)*5+$BN38),2,2))","v":""},{"$f":"IF(INDIRECT(\"WORK2!\" & \"y\" & ($BO38-1)*5+$BN38)=\"\",\"\",MID(INDIRECT(\"WORK2!\" & \"y\" & ($BO38-1)*5+$BN38),4,2))","v":""},{"$f":"IF(INDIRECT(\"WORK2!\" & \"y\" & ($BO38-1)*5+$BN38)=\"\",\"\",MID(INDIRECT(\"WORK2!\" & \"y\" & ($BO38-1)*5+$BN38),6,2))","v":""},{"$f":"IF(INDIRECT(\"WORK2!\" & \"AA\" & ($BO38-1)*5+$BN38)=\"\",\"\",MID(INDIRECT(\"WORK2!\" & \"AA\" & ($BO38-1)*5+$BN38),1,15))","v":""},null,null,null,{"$f":"IF(INDIRECT(\"WORK2!\" & \"u\" & ($BO38-1)*5+$BN38)=\"\",\"\",MID(INDIRECT(\"WORK2!\" & \"u\" & ($BO38-1)*5+$BN38),1,1))","v":""},{"$f":"IF(INDIRECT(\"WORK2!\" & \"u\" & ($BO38-1)*5+$BN38)=\"\",\"\",MID(INDIRECT(\"WORK2!\" & \"u\" & ($BO38-1)*5+$BN38),2,2))","v":""},{"$f":"IF(INDIRECT(\"WORK2!\" & \"u\" & ($BO38-1)*5+$BN38)=\"\",\"\",MID(INDIRECT(\"WORK2!\" & \"u\" & ($BO38-1)*5+$BN38),4,2))","v":""},{"$f":"IF(INDIRECT(\"WORK2!\" & \"u\" & ($BO38-1)*5+$BN38)=\"\",\"\",MID(INDIRECT(\"WORK2!\" & \"u\" & ($BO38-1)*5+$BN38),6,2))","v":""},{"$f":"IF(INDIRECT(\"WORK2!\" & \"v\" & ($BO38-1)*5+$BN38)=\"\",\"\",MID(INDIRECT(\"WORK2!\" & \"v\" & ($BO38-1)*5+$BN38),1,1))","v":""},{"$f":"IF(INDIRECT(\"WORK2!\" & \"v\" & ($BO38-1)*5+$BN38)=\"\",\"\",MID(INDIRECT(\"WORK2!\" & \"v\" & ($BO38-1)*5+$BN38),2,2))","v":""},{"$f":"IF(INDIRECT(\"WORK2!\" & \"v\" & ($BO38-1)*5+$BN38)=\"\",\"\",MID(INDIRECT(\"WORK2!\" & \"v\" & ($BO38-1)*5+$BN38),4,2))","v":""},{"$f":"IF(INDIRECT(\"WORK2!\" & \"v\" & ($BO38-1)*5+$BN38)=\"\",\"\",MID(INDIRECT(\"WORK2!\" & \"v\" & ($BO38-1)*5+$BN38),6,2))","v":""},null,{"$f":"IF(INDIRECT(\"WORK2!\" & \"W\" & ($BO38-1)*5+$BN38)=\"\",\"\",MID(INDIRECT(\"WORK2!\" & \"W\" & ($BO38-1)*5+$BN38),1,1))","v":""},{"$f":"IF(INDIRECT(\"WORK2!\" & \"W\" & ($BO38-1)*5+$BN38)=\"\",\"\",MID(INDIRECT(\"WORK2!\" & \"W\" & ($BO38-1)*5+$BN38),2,2))","v":""},{"$f":"IF(INDIRECT(\"WORK2!\" & \"W\" & ($BO38-1)*5+$BN38)=\"\",\"\",MID(INDIRECT(\"WORK2!\" & \"W\" & ($BO38-1)*5+$BN38),4,2))","v":""},{"$f":"IF(INDIRECT(\"WORK2!\" & \"W\" & ($BO38-1)*5+$BN38)=\"\",\"\",MID(INDIRECT(\"WORK2!\" & \"W\" & ($BO38-1)*5+$BN38),6,2))","v":""},{"$f":"IF(INDIRECT(\"WORK2!\" & \"z\" & ($BO38-1)*5+$BN38)=\"\",\"\",MID(INDIRECT(\"WORK2!\" & \"z\" & ($BO38-1)*5+$BN38),1,1))","v":""},{"$f":"IF(INDIRECT(\"WORK2!\" & \"Z\" & ($BO38-1)*5+$BN38)=\"\",\"\",MID(INDIRECT(\"WORK2!\" & \"Z\" & ($BO38-1)*5+$BN38),2,2))","v":""},{"$f":"IF(INDIRECT(\"WORK2!\" & \"Z\" & ($BO38-1)*5+$BN38)=\"\",\"\",MID(INDIRECT(\"WORK2!\" & \"Z\" & ($BO38-1)*5+$BN38),4,2))","v":""},{"$f":"IF(INDIRECT(\"WORK2!\" & \"Z\" & ($BO38-1)*5+$BN38)=\"\",\"\",MID(INDIRECT(\"WORK2!\" & \"Z\" & ($BO38-1)*5+$BN38),6,2))","v":""},{"$f":"IF(INDIRECT(\"WORK2!\" & \"AB\" & ($BO38-1)*5+$BN38)=\"\",\"\",MID(INDIRECT(\"WORK2!\" & \"AB\" & ($BO38-1)*5+$BN38),1,15))","v":""},null,null,null,4,{"$f":"INT((ROW()+48-3)/48)","v":1}]
[null,null,null,null,null,null,null,null,null,null,null,null,null,null,null,null,null,"有効期限",{"$f":"IF(INDIRECT(\"WORK2!\" & \"EQ\" & ($BO38-1)*5+$BN38)=\"\",\"\",MID(INDIRECT(\"WORK2!\" & \"EQ\" & ($BO38-1)*5+$BN38),1,1))","v":""},{"$f":"IF(INDIRECT(\"WORK2!\" & \"EQ\" & ($BO38-1)*5+$BN38)=\"\",\"\",MID(INDIRECT(\"WORK2!\" & \"EQ\" & ($BO38-1)*5+$BN38),2,2))","v":""},{"$f":"IF(INDIRECT(\"WORK2!\" & \"EQ\" & ($BO38-1)*5+$BN38)=\"\",\"\",MID(INDIRECT(\"WORK2!\" & \"EQ\" & ($BO38-1)*5+$BN38),4,2))","v":""},{"$f":"IF(INDIRECT(\"WORK2!\" & \"EQ\" & ($BO38-1)*5+$BN38)=\"\",\"\",MID(INDIRECT(\"WORK2!\" & \"EQ\" & ($BO38-1)*5+$BN38),6,2))","v":""},null,{"$f":"IF(INDIRECT(\"WORK2!\" & \"M\" & ($BO38-1)*5+$BN38)=\"\",\"\",INDIRECT(\"WORK2!\" & \"M\" & ($BO38-1)*5+$BN38))","v":""},null,null,{"$f":"IF(INDIRECT(\"WORK2!\" & \"Q\" & ($BO38-1)*5+$BN38)=\"\",\"\",INDIRECT(\"WORK2!\" & \"Q\" & ($BO38-1)*5+$BN38))","v":""},null,null,{"$f":"IF(INDIRECT(\"WORK2!\" & \"FU\" & ($BO38-1)*5+$BN38)=\"\",\"\",INDIRECT(\"WORK2!\" & \"FU\" & ($BO38-1)*5+$BN38))","v":""},null,null,null,null,null,null,null,null,null,null,null,null,null,"から",null,null,null,null,null,null,null,null,null,null,null,null,null,null,null,null,null,null,null,null,"へ"]
[null,null,null,"(ﾖ)","申告・申請年月",null,null,null,null,null,{"$f":"IF(MASTA!$BS$6<>\"\",MASTA!$BS$6,\"\")","v":"令和4年4月"},null,null,null,{"$f":"IF(MASTA!$BT$6<>\"\",MASTA!$BT$6,\"\")","v":"令和4年5月"},null,null,null,{"$f":"IF(MASTA!$BU$6<>\"\",MASTA!$BU$6,\"\")","v":"令和4年6月"},null,null,null,{"$f":"IF(MASTA!$BV$6<>\"\",MASTA!$BV$6,\"\")","v":"令和4年7月"},null,null,null,{"$f":"IF(MASTA!$BW$6<>\"\",MASTA!$BW$6,\"\")","v":"令和4年8月"},null,null,null,{"$f":"IF(MASTA!$BX$6<>\"\",MASTA!$BX$6,\"\")","v":"令和4年9月"},null,null,null,{"$f":"IF(MASTA!$BY$6<>\"\",MASTA!$BY$6,\"\")","v":"令和4年10月"},null,null,null,{"$f":"IF(MASTA!$BZ$6<>\"\",MASTA!$BZ$6,\"\")","v":"令和4年11月"},null,null,null,{"$f":"IF(MASTA!$CA$6<>\"\",MASTA!$CA$6,\"\")","v":"令和4年12月"},null,null,null,{"$f":"IF(MASTA!$CB$6<>\"\",MASTA!$CB$6,\"\")","v":"令和5年1月"},null,null,null,{"$f":"IF(MASTA!$CC$6<>\"\",MASTA!$CC$6,\"\")","v":"令和5年2月"},null,null,null,{"$f":"IF(MASTA!$CD$6<>\"\",MASTA!$CD$6,\"\")","v":"令和5年3月"},null,null,null,"計"]
[null,null,null,null,"月毎の所定労働時間",null,null,null,null,null,{"$f":"IF(INDIRECT(\"WORK2!\" & \"ER\" & ($BO38-1)*5+$BN38)=\"\",\"\",MID(INDIRECT(\"WORK2!\" & \"ER\" & ($BO38-1)*5+$BN38),1,11))","v":""},null,null,null,{"$f":"IF(INDIRECT(\"WORK2!\" & \"ES\" & ($BO38-1)*5+$BN38)=\"\",\"\",MID(INDIRECT(\"WORK2!\" & \"ES\" & ($BO38-1)*5+$BN38),1,11))","v":""},null,null,null,{"$f":"IF(INDIRECT(\"WORK2!\" & \"ET\" & ($BO38-1)*5+$BN38)=\"\",\"\",MID(INDIRECT(\"WORK2!\" & \"ET\" & ($BO38-1)*5+$BN38),1,11))","v":""},null,null,null,{"$f":"IF(INDIRECT(\"WORK2!\" & \"EU\" & ($BO38-1)*5+$BN38)=\"\",\"\",MID(INDIRECT(\"WORK2!\" & \"EU\" & ($BO38-1)*5+$BN38),1,11))","v":""},null,null,null,{"$f":"IF(INDIRECT(\"WORK2!\" & \"EV\" & ($BO38-1)*5+$BN38)=\"\",\"\",MID(INDIRECT(\"WORK2!\" & \"EV\" & ($BO38-1)*5+$BN38),1,11))","v":""},null,null,null,{"$f":"IF(INDIRECT(\"WORK2!\" & \"EW\" & ($BO38-1)*5+$BN38)=\"\",\"\",MID(INDIRECT(\"WORK2!\" & \"EW\" & ($BO38-1)*5+$BN38),1,11))","v":""},null,null,null,{"$f":"IF(INDIRECT(\"WORK2!\" & \"EX\" & ($BO38-1)*5+$BN38)=\"\",\"\",MID(INDIRECT(\"WORK2!\" & \"EX\" & ($BO38-1)*5+$BN38),1,11))","v":""},null,null,null,{"$f":"IF(INDIRECT(\"WORK2!\" & \"EY\" & ($BO38-1)*5+$BN38)=\"\",\"\",MID(INDIRECT(\"WORK2!\" & \"EY\" & ($BO38-1)*5+$BN38),1,11))","v":""},null,null,null,{"$f":"IF(INDIRECT(\"WORK2!\" & \"EZ\" & ($BO38-1)*5+$BN38)=\"\",\"\",MID(INDIRECT(\"WORK2!\" & \"EZ\" & ($BO38-1)*5+$BN38),1,11))","v":""},null,null,null,{"$f":"IF(INDIRECT(\"WORK2!\" & \"FA\" & ($BO38-1)*5+$BN38)=\"\",\"\",MID(INDIRECT(\"WORK2!\" & \"FA\" & ($BO38-1)*5+$BN38),1,11))","v":""},null,null,null,{"$f":"IF(INDIRECT(\"WORK2!\" & \"FB\" & ($BO38-1)*5+$BN38)=\"\",\"\",MID(INDIRECT(\"WORK2!\" & \"FB\" & ($BO38-1)*5+$BN38),1,11))","v":""},null,null,null,{"$f":"IF(INDIRECT(\"WORK2!\" & \"FC\" & ($BO38-1)*5+$BN38)=\"\",\"\",MID(INDIRECT(\"WORK2!\" & \"FC\" & ($BO38-1)*5+$BN38),1,11))","v":""},null,null,null,{"$f":"IF(INDIRECT(\"WORK2!\" & \"FQ\" & ($BO38-1)*5+$BN38)=\"\",\"\",INT(MID(INDIRECT(\"WORK2!\" & \"FQ\" & ($BO38-1)*5+$BN38),1,11)))","v":""}]
[null,null,null,null,"月毎の実労働時間",null,null,null,null,null,{"$f":"IF(INDIRECT(\"WORK2!\" & \"FD\" & ($BO38-1)*5+$BN38)=\"\",\"\",MID(INDIRECT(\"WORK2!\" & \"FD\" & ($BO38-1)*5+$BN38),1,11))","v":""},null,null,null,{"$f":"IF(INDIRECT(\"WORK2!\" & \"FE\" & ($BO38-1)*5+$BN38)=\"\",\"\",MID(INDIRECT(\"WORK2!\" & \"FE\" & ($BO38-1)*5+$BN38),1,11))","v":""},null,null,null,{"$f":"IF(INDIRECT(\"WORK2!\" & \"FF\" & ($BO38-1)*5+$BN38)=\"\",\"\",MID(INDIRECT(\"WORK2!\" & \"FF\" & ($BO38-1)*5+$BN38),1,11))","v":""},null,null,null,{"$f":"IF(INDIRECT(\"WORK2!\" & \"FG\" & ($BO38-1)*5+$BN38)=\"\",\"\",MID(INDIRECT(\"WORK2!\" & \"FG\" & ($BO38-1)*5+$BN38),1,11))","v":""},null,null,null,{"$f":"IF(INDIRECT(\"WORK2!\" & \"FH\" & ($BO38-1)*5+$BN38)=\"\",\"\",MID(INDIRECT(\"WORK2!\" & \"FH\" & ($BO38-1)*5+$BN38),1,11))","v":""},null,null,null,{"$f":"IF(INDIRECT(\"WORK2!\" & \"FI\" & ($BO38-1)*5+$BN38)=\"\",\"\",MID(INDIRECT(\"WORK2!\" & \"FI\" & ($BO38-1)*5+$BN38),1,11))","v":""},null,null,null,{"$f":"IF(INDIRECT(\"WORK2!\" & \"FJ\" & ($BO38-1)*5+$BN38)=\"\",\"\",MID(INDIRECT(\"WORK2!\" & \"FJ\" & ($BO38-1)*5+$BN38),1,11))","v":""},null,null,null,{"$f":"IF(INDIRECT(\"WORK2!\" & \"FK\" & ($BO38-1)*5+$BN38)=\"\",\"\",MID(INDIRECT(\"WORK2!\" & \"FK\" & ($BO38-1)*5+$BN38),1,11))","v":""},null,null,null,{"$f":"IF(INDIRECT(\"WORK2!\" & \"FL\" & ($BO38-1)*5+$BN38)=\"\",\"\",MID(INDIRECT(\"WORK2!\" & \"FL\" & ($BO38-1)*5+$BN38),1,11))","v":""},null,null,null,{"$f":"IF(INDIRECT(\"WORK2!\" & \"FM\" & ($BO38-1)*5+$BN38)=\"\",\"\",MID(INDIRECT(\"WORK2!\" & \"FM\" & ($BO38-1)*5+$BN38),1,11))","v":""},null,null,null,{"$f":"IF(INDIRECT(\"WORK2!\" & \"FN\" & ($BO38-1)*5+$BN38)=\"\",\"\",MID(INDIRECT(\"WORK2!\" & \"FN\" & ($BO38-1)*5+$BN38),1,11))","v":""},null,null,null,{"$f":"IF(INDIRECT(\"WORK2!\" & \"FO\" & ($BO38-1)*5+$BN38)=\"\",\"\",MID(INDIRECT(\"WORK2!\" & \"FO\" & ($BO38-1)*5+$BN38),1,11))","v":""},null,null,null,{"$f":"IF(INDIRECT(\"WORK2!\" & \"FR\" & ($BO38-1)*5+$BN38)=\"\",\"\",INT(MID(INDIRECT(\"WORK2!\" & \"FR\" & ($BO38-1)*5+$BN38),1,11)))","v":""}]
[null,null,{"$f":"IF(INDIRECT(\"WORK2!\"&\"EO\"&($BO43-1)*5+$BN43)=\"\",\"\",IF(MID(INDIRECT(\"WORK2!\"&\"EO\"&($BO43-1)*5+$BN43),1,10)=\"1\",\"ﾚ\",\"\"))","v":""},{"$f":"IF(INDIRECT(\"WORK2!\"&\"EP\"&($BO43-1)*5+$BN43)=\"\",\"\",IF(MID(INDIRECT(\"WORK2!\"&\"EP\"&($BO43-1)*5+$BN43),1,10)=\"1\",\"ﾚ\",\"\"))","v":""},{"$f":"IF(INDIRECT(\"WORK2!\"&\"D\"&($BO43-1)*5+$BN43)=\"\",\"\",MID(INDIRECT(\"WORK2!\"&\"D\"&($BO43-1)*5+$BN43),1,10))","v":""},null,null,null,{"$f":"IF(INDIRECT(\"WORK2!\"&\"E\"&($BO43-1)*5+$BN43)=\"\",\"\",MID(INDIRECT(\"WORK2!\"&\"E\"&($BO43-1)*5+$BN43),1,10))","v":""},null,null,null,{"$f":"IF(INDIRECT(\"WORK2!\" & \"g\" & ($BO43-1)*5+$BN43)=\"\",\"\",INDIRECT(\"WORK2!\" & \"g\" & ($BO43-1)*5+$BN43))","v":""},{"$f":"IF(INDIRECT(\"WORK2!\" & \"h\" & ($BO43-1)*5+$BN43)=\"\",\"\",MID(INDIRECT(\"WORK2!\" & \"h\" & ($BO43-1)*5+$BN43),1,1))","v":""},{"$f":"IF(INDIRECT(\"WORK2!\" & \"h\" & ($BO43-1)*5+$BN43)=\"\",\"\",MID(INDIRECT(\"WORK2!\" & \"h\" & ($BO43-1)*5+$BN43),2,2))","v":""},{"$f":"IF(INDIRECT(\"WORK2!\" & \"h\" & ($BO43-1)*5+$BN43)=\"\",\"\",MID(INDIRECT(\"WORK2!\" & \"h\" & ($BO43-1)*5+$BN43),4,2))","v":""},{"$f":"IF(INDIRECT(\"WORK2!\" & \"h\" & ($BO43-1)*5+$BN43)=\"\",\"\",MID(INDIRECT(\"WORK2!\" & \"h\" & ($BO43-1)*5+$BN43),6,2))","v":""},{"$f":"IF(INDIRECT(\"WORK2!\" & \"I\" & ($BO43-1)*5+$BN43)=\"\",\"\",MID(INDIRECT(\"WORK2!\" & \"I\" & ($BO43-1)*5+$BN43),1,11))","v":""},null,null,null,null,{"$f":"IF(INDIRECT(\"WORK2!\" & \"K\" & ($BO43-1)*5+$BN43)=\"\",\"\",INDIRECT(\"WORK2!\" & \"K\" & ($BO43-1)*5+$BN43))","v":""},{"$f":"IF(INDIRECT(\"WORK2!\" & \"L\" & ($BO43-1)*5+$BN43)=\"\",\"\",INDIRECT(\"WORK2!\" & \"L\" & ($BO43-1)*5+$BN43))","v":""},null,{"$f":"IF(INDIRECT(\"WORK2!\" & \"O\" & ($BO43-1)*5+$BN43)=\"\",\"\",INDIRECT(\"WORK2!\" & \"O\" & ($BO43-1)*5+$BN43))","v":""},{"$f":"IF(INDIRECT(\"WORK2!\" & \"P\" & ($BO43-1)*5+$BN43)=\"\",\"\",INDIRECT(\"WORK2!\" & \"P\" & ($BO43-1)*5+$BN43))","v":""},null,{"$f":"IF(INDIRECT(\"WORK2!\" & \"S\" & ($BO43-1)*5+$BN43)=\"\",\"\",INDIRECT(\"WORK2!\" & \"S\" & ($BO43-1)*5+$BN43))","v":""},{"$f":"IF(INDIRECT(\"WORK2!\" & \"FT\" & ($BO43-1)*5+$BN43)=\"\",\"\",INDIRECT(\"WORK2!\" & \"FT\" & ($BO43-1)*5+$BN43))","v":""},null,null,{"$f":"IF(INDIRECT(\"WORK2!\" & \"t\" & ($BO43-1)*5+$BN43)=\"\",\"\",MID(INDIRECT(\"WORK2!\" & \"t\" & ($BO43-1)*5+$BN43),1,1))","v":""},{"$f":"IF(INDIRECT(\"WORK2!\" & \"t\" & ($BO43-1)*5+$BN43)=\"\",\"\",MID(INDIRECT(\"WORK2!\" & \"t\" & ($BO43-1)*5+$BN43),2,2))","v":""},{"$f":"IF(INDIRECT(\"WORK2!\" & \"t\" & ($BO43-1)*5+$BN43)=\"\",\"\",MID(INDIRECT(\"WORK2!\" & \"t\" & ($BO43-1)*5+$BN43),4,2))","v":""},{"$f":"IF(INDIRECT(\"WORK2!\" & \"t\" & ($BO43-1)*5+$BN43)=\"\",\"\",MID(INDIRECT(\"WORK2!\" & \"t\" & ($BO43-1)*5+$BN43),6,2))","v":""},{"$f":"IF(INDIRECT(\"WORK2!\" & \"y\" & ($BO43-1)*5+$BN43)=\"\",\"\",MID(INDIRECT(\"WORK2!\" & \"y\" & ($BO43-1)*5+$BN43),1,1))","v":""},{"$f":"IF(INDIRECT(\"WORK2!\" & \"y\" & ($BO43-1)*5+$BN43)=\"\",\"\",MID(INDIRECT(\"WORK2!\" & \"y\" & ($BO43-1)*5+$BN43),2,2))","v":""},{"$f":"IF(INDIRECT(\"WORK2!\" & \"y\" & ($BO43-1)*5+$BN43)=\"\",\"\",MID(INDIRECT(\"WORK2!\" & \"y\" & ($BO43-1)*5+$BN43),4,2))","v":""},{"$f":"IF(INDIRECT(\"WORK2!\" & \"y\" & ($BO43-1)*5+$BN43)=\"\",\"\",MID(INDIRECT(\"WORK2!\" & \"y\" & ($BO43-1)*5+$BN43),6,2))","v":""},{"$f":"IF(INDIRECT(\"WORK2!\" & \"AA\" & ($BO43-1)*5+$BN43)=\"\",\"\",MID(INDIRECT(\"WORK2!\" & \"AA\" & ($BO43-1)*5+$BN43),1,15))","v":""},null,null,null,{"$f":"IF(INDIRECT(\"WORK2!\" & \"u\" & ($BO43-1)*5+$BN43)=\"\",\"\",MID(INDIRECT(\"WORK2!\" & \"u\" & ($BO43-1)*5+$BN43),1,1))","v":""},{"$f":"IF(INDIRECT(\"WORK2!\" & \"u\" & ($BO43-1)*5+$BN43)=\"\",\"\",MID(INDIRECT(\"WORK2!\" & \"u\" & ($BO43-1)*5+$BN43),2,2))","v":""},{"$f":"IF(INDIRECT(\"WORK2!\" & \"u\" & ($BO43-1)*5+$BN43)=\"\",\"\",MID(INDIRECT(\"WORK2!\" & \"u\" & ($BO43-1)*5+$BN43),4,2))","v":""},{"$f":"IF(INDIRECT(\"WORK2!\" & \"u\" & ($BO43-1)*5+$BN43)=\"\",\"\",MID(INDIRECT(\"WORK2!\" & \"u\" & ($BO43-1)*5+$BN43),6,2))","v":""},{"$f":"IF(INDIRECT(\"WORK2!\" & \"v\" & ($BO43-1)*5+$BN43)=\"\",\"\",MID(INDIRECT(\"WORK2!\" & \"v\" & ($BO43-1)*5+$BN43),1,1))","v":""},{"$f":"IF(INDIRECT(\"WORK2!\" & \"v\" & ($BO43-1)*5+$BN43)=\"\",\"\",MID(INDIRECT(\"WORK2!\" & \"v\" & ($BO43-1)*5+$BN43),2,2))","v":""},{"$f":"IF(INDIRECT(\"WORK2!\" & \"v\" & ($BO43-1)*5+$BN43)=\"\",\"\",MID(INDIRECT(\"WORK2!\" & \"v\" & ($BO43-1)*5+$BN43),4,2))","v":""},{"$f":"IF(INDIRECT(\"WORK2!\" & \"v\" & ($BO43-1)*5+$BN43)=\"\",\"\",MID(INDIRECT(\"WORK2!\" & \"v\" & ($BO43-1)*5+$BN43),6,2))","v":""},null,{"$f":"IF(INDIRECT(\"WORK2!\" & \"W\" & ($BO43-1)*5+$BN43)=\"\",\"\",MID(INDIRECT(\"WORK2!\" & \"W\" & ($BO43-1)*5+$BN43),1,1))","v":""},{"$f":"IF(INDIRECT(\"WORK2!\" & \"W\" & ($BO43-1)*5+$BN43)=\"\",\"\",MID(INDIRECT(\"WORK2!\" & \"W\" & ($BO43-1)*5+$BN43),2,2))","v":""},{"$f":"IF(INDIRECT(\"WORK2!\" & \"W\" & ($BO43-1)*5+$BN43)=\"\",\"\",MID(INDIRECT(\"WORK2!\" & \"W\" & ($BO43-1)*5+$BN43),4,2))","v":""},{"$f":"IF(INDIRECT(\"WORK2!\" & \"W\" & ($BO43-1)*5+$BN43)=\"\",\"\",MID(INDIRECT(\"WORK2!\" & \"W\" & ($BO43-1)*5+$BN43),6,2))","v":""},{"$f":"IF(INDIRECT(\"WORK2!\" & \"z\" & ($BO43-1)*5+$BN43)=\"\",\"\",MID(INDIRECT(\"WORK2!\" & \"z\" & ($BO43-1)*5+$BN43),1,1))","v":""},{"$f":"IF(INDIRECT(\"WORK2!\" & \"Z\" & ($BO43-1)*5+$BN43)=\"\",\"\",MID(INDIRECT(\"WORK2!\" & \"Z\" & ($BO43-1)*5+$BN43),2,2))","v":""},{"$f":"IF(INDIRECT(\"WORK2!\" & \"Z\" & ($BO43-1)*5+$BN43)=\"\",\"\",MID(INDIRECT(\"WORK2!\" & \"Z\" & ($BO43-1)*5+$BN43),4,2))","v":""},{"$f":"IF(INDIRECT(\"WORK2!\" & \"Z\" & ($BO43-1)*5+$BN43)=\"\",\"\",MID(INDIRECT(\"WORK2!\" & \"Z\" & ($BO43-1)*5+$BN43),6,2))","v":""},{"$f":"IF(INDIRECT(\"WORK2!\" & \"AB\" & ($BO43-1)*5+$BN43)=\"\",\"\",MID(INDIRECT(\"WORK2!\" & \"AB\" & ($BO43-1)*5+$BN43),1,15))","v":""},null,null,null,5,{"$f":"INT((ROW()+48-3)/48)","v":1}]
[null,null,null,null,null,null,null,null,null,null,null,null,null,null,null,null,null,"有効期限",{"$f":"IF(INDIRECT(\"WORK2!\" & \"EQ\" & ($BO43-1)*5+$BN43)=\"\",\"\",MID(INDIRECT(\"WORK2!\" & \"EQ\" & ($BO43-1)*5+$BN43),1,1))","v":""},{"$f":"IF(INDIRECT(\"WORK2!\" & \"EQ\" & ($BO43-1)*5+$BN43)=\"\",\"\",MID(INDIRECT(\"WORK2!\" & \"EQ\" & ($BO43-1)*5+$BN43),2,2))","v":""},{"$f":"IF(INDIRECT(\"WORK2!\" & \"EQ\" & ($BO43-1)*5+$BN43)=\"\",\"\",MID(INDIRECT(\"WORK2!\" & \"EQ\" & ($BO43-1)*5+$BN43),4,2))","v":""},{"$f":"IF(INDIRECT(\"WORK2!\" & \"EQ\" & ($BO43-1)*5+$BN43)=\"\",\"\",MID(INDIRECT(\"WORK2!\" & \"EQ\" & ($BO43-1)*5+$BN43),6,2))","v":""},null,{"$f":"IF(INDIRECT(\"WORK2!\" & \"M\" & ($BO43-1)*5+$BN43)=\"\",\"\",INDIRECT(\"WORK2!\" & \"M\" & ($BO43-1)*5+$BN43))","v":""},null,null,{"$f":"IF(INDIRECT(\"WORK2!\" & \"Q\" & ($BO43-1)*5+$BN43)=\"\",\"\",INDIRECT(\"WORK2!\" & \"Q\" & ($BO43-1)*5+$BN43))","v":""},null,null,{"$f":"IF(INDIRECT(\"WORK2!\" & \"FU\" & ($BO43-1)*5+$BN43)=\"\",\"\",INDIRECT(\"WORK2!\" & \"FU\" & ($BO43-1)*5+$BN43))","v":""},null,null,null,null,null,null,null,null,null,null,null,null,null,"から",null,null,null,null,null,null,null,null,null,null,null,null,null,null,null,null,null,null,null,null,"へ"]
[null,null,null,"(ﾖ)","申告・申請年月",null,null,null,null,null,{"$f":"IF(MASTA!$BS$6<>\"\",MASTA!$BS$6,\"\")","v":"令和4年4月"},null,null,null,{"$f":"IF(MASTA!$BT$6<>\"\",MASTA!$BT$6,\"\")","v":"令和4年5月"},null,null,null,{"$f":"IF(MASTA!$BU$6<>\"\",MASTA!$BU$6,\"\")","v":"令和4年6月"},null,null,null,{"$f":"IF(MASTA!$BV$6<>\"\",MASTA!$BV$6,\"\")","v":"令和4年7月"},null,null,null,{"$f":"IF(MASTA!$BW$6<>\"\",MASTA!$BW$6,\"\")","v":"令和4年8月"},null,null,null,{"$f":"IF(MASTA!$BX$6<>\"\",MASTA!$BX$6,\"\")","v":"令和4年9月"},null,null,null,{"$f":"IF(MASTA!$BY$6<>\"\",MASTA!$BY$6,\"\")","v":"令和4年10月"},null,null,null,{"$f":"IF(MASTA!$BZ$6<>\"\",MASTA!$BZ$6,\"\")","v":"令和4年11月"},null,null,null,{"$f":"IF(MASTA!$CA$6<>\"\",MASTA!$CA$6,\"\")","v":"令和4年12月"},null,null,null,{"$f":"IF(MASTA!$CB$6<>\"\",MASTA!$CB$6,\"\")","v":"令和5年1月"},null,null,null,{"$f":"IF(MASTA!$CC$6<>\"\",MASTA!$CC$6,\"\")","v":"令和5年2月"},null,null,null,{"$f":"IF(MASTA!$CD$6<>\"\",MASTA!$CD$6,\"\")","v":"令和5年3月"},null,null,null,"計"]
[null,null,null,null,"月毎の所定労働時間",null,null,null,null,null,{"$f":"IF(INDIRECT(\"WORK2!\" & \"ER\" & ($BO43-1)*5+$BN43)=\"\",\"\",MID(INDIRECT(\"WORK2!\" & \"ER\" & ($BO43-1)*5+$BN43),1,11))","v":""},null,null,null,{"$f":"IF(INDIRECT(\"WORK2!\" & \"ES\" & ($BO43-1)*5+$BN43)=\"\",\"\",MID(INDIRECT(\"WORK2!\" & \"ES\" & ($BO43-1)*5+$BN43),1,11))","v":""},null,null,null,{"$f":"IF(INDIRECT(\"WORK2!\" & \"ET\" & ($BO43-1)*5+$BN43)=\"\",\"\",MID(INDIRECT(\"WORK2!\" & \"ET\" & ($BO43-1)*5+$BN43),1,11))","v":""},null,null,null,{"$f":"IF(INDIRECT(\"WORK2!\" & \"EU\" & ($BO43-1)*5+$BN43)=\"\",\"\",MID(INDIRECT(\"WORK2!\" & \"EU\" & ($BO43-1)*5+$BN43),1,11))","v":""},null,null,null,{"$f":"IF(INDIRECT(\"WORK2!\" & \"EV\" & ($BO43-1)*5+$BN43)=\"\",\"\",MID(INDIRECT(\"WORK2!\" & \"EV\" & ($BO43-1)*5+$BN43),1,11))","v":""},null,null,null,{"$f":"IF(INDIRECT(\"WORK2!\" & \"EW\" & ($BO43-1)*5+$BN43)=\"\",\"\",MID(INDIRECT(\"WORK2!\" & \"EW\" & ($BO43-1)*5+$BN43),1,11))","v":""},null,null,null,{"$f":"IF(INDIRECT(\"WORK2!\" & \"EX\" & ($BO43-1)*5+$BN43)=\"\",\"\",MID(INDIRECT(\"WORK2!\" & \"EX\" & ($BO43-1)*5+$BN43),1,11))","v":""},null,null,null,{"$f":"IF(INDIRECT(\"WORK2!\" & \"EY\" & ($BO43-1)*5+$BN43)=\"\",\"\",MID(INDIRECT(\"WORK2!\" & \"EY\" & ($BO43-1)*5+$BN43),1,11))","v":""},null,null,null,{"$f":"IF(INDIRECT(\"WORK2!\" & \"EZ\" & ($BO43-1)*5+$BN43)=\"\",\"\",MID(INDIRECT(\"WORK2!\" & \"EZ\" & ($BO43-1)*5+$BN43),1,11))","v":""},null,null,null,{"$f":"IF(INDIRECT(\"WORK2!\" & \"FA\" & ($BO43-1)*5+$BN43)=\"\",\"\",MID(INDIRECT(\"WORK2!\" & \"FA\" & ($BO43-1)*5+$BN43),1,11))","v":""},null,null,null,{"$f":"IF(INDIRECT(\"WORK2!\" & \"FB\" & ($BO43-1)*5+$BN43)=\"\",\"\",MID(INDIRECT(\"WORK2!\" & \"FB\" & ($BO43-1)*5+$BN43),1,11))","v":""},null,null,null,{"$f":"IF(INDIRECT(\"WORK2!\" & \"FC\" & ($BO43-1)*5+$BN43)=\"\",\"\",MID(INDIRECT(\"WORK2!\" & \"FC\" & ($BO43-1)*5+$BN43),1,11))","v":""},null,null,null,{"$f":"IF(INDIRECT(\"WORK2!\" & \"FQ\" & ($BO43-1)*5+$BN43)=\"\",\"\",INT(MID(INDIRECT(\"WORK2!\" & \"FQ\" & ($BO43-1)*5+$BN43),1,11)))","v":""}]
[null,null,null,null,"月毎の実労働時間",null,null,null,null,null,{"$f":"IF(INDIRECT(\"WORK2!\" & \"FD\" & ($BO43-1)*5+$BN43)=\"\",\"\",MID(INDIRECT(\"WORK2!\" & \"FD\" & ($BO43-1)*5+$BN43),1,11))","v":""},null,null,null,{"$f":"IF(INDIRECT(\"WORK2!\" & \"FE\" & ($BO43-1)*5+$BN43)=\"\",\"\",MID(INDIRECT(\"WORK2!\" & \"FE\" & ($BO43-1)*5+$BN43),1,11))","v":""},null,null,null,{"$f":"IF(INDIRECT(\"WORK2!\" & \"FF\" & ($BO43-1)*5+$BN43)=\"\",\"\",MID(INDIRECT(\"WORK2!\" & \"FF\" & ($BO43-1)*5+$BN43),1,11))","v":""},null,null,null,{"$f":"IF(INDIRECT(\"WORK2!\" & \"FG\" & ($BO43-1)*5+$BN43)=\"\",\"\",MID(INDIRECT(\"WORK2!\" & \"FG\" & ($BO43-1)*5+$BN43),1,11))","v":""},null,null,null,{"$f":"IF(INDIRECT(\"WORK2!\" & \"FH\" & ($BO43-1)*5+$BN43)=\"\",\"\",MID(INDIRECT(\"WORK2!\" & \"FH\" & ($BO43-1)*5+$BN43),1,11))","v":""},null,null,null,{"$f":"IF(INDIRECT(\"WORK2!\" & \"FI\" & ($BO43-1)*5+$BN43)=\"\",\"\",MID(INDIRECT(\"WORK2!\" & \"FI\" & ($BO43-1)*5+$BN43),1,11))","v":""},null,null,null,{"$f":"IF(INDIRECT(\"WORK2!\" & \"FJ\" & ($BO43-1)*5+$BN43)=\"\",\"\",MID(INDIRECT(\"WORK2!\" & \"FJ\" & ($BO43-1)*5+$BN43),1,11))","v":""},null,null,null,{"$f":"IF(INDIRECT(\"WORK2!\" & \"FK\" & ($BO43-1)*5+$BN43)=\"\",\"\",MID(INDIRECT(\"WORK2!\" & \"FK\" & ($BO43-1)*5+$BN43),1,11))","v":""},null,null,null,{"$f":"IF(INDIRECT(\"WORK2!\" & \"FL\" & ($BO43-1)*5+$BN43)=\"\",\"\",MID(INDIRECT(\"WORK2!\" & \"FL\" & ($BO43-1)*5+$BN43),1,11))","v":""},null,null,null,{"$f":"IF(INDIRECT(\"WORK2!\" & \"FM\" & ($BO43-1)*5+$BN43)=\"\",\"\",MID(INDIRECT(\"WORK2!\" & \"FM\" & ($BO43-1)*5+$BN43),1,11))","v":""},null,null,null,{"$f":"IF(INDIRECT(\"WORK2!\" & \"FN\" & ($BO43-1)*5+$BN43)=\"\",\"\",MID(INDIRECT(\"WORK2!\" & \"FN\" & ($BO43-1)*5+$BN43),1,11))","v":""},null,null,null,{"$f":"IF(INDIRECT(\"WORK2!\" & \"FO\" & ($BO43-1)*5+$BN43)=\"\",\"\",MID(INDIRECT(\"WORK2!\" & \"FO\" & ($BO43-1)*5+$BN43),1,11))","v":""},null,null,null,{"$f":"IF(INDIRECT(\"WORK2!\" & \"FR\" & ($BO43-1)*5+$BN43)=\"\",\"\",INT(MID(INDIRECT(\"WORK2!\" & \"FR\" & ($BO43-1)*5+$BN43),1,11)))","v":""}]
[null,"注）「記入上の注意」をよく読んで記入して下さい。"]
[null,null,null,null,null,null,null,null,null,null,null,null,null,null,null,null,null,null,null,null,null,null,null,null,null,null,null,null,"（",null,null,null,"－",null,null,null,null,"）"]

{"sheet":"Sheet7","index":16,"n_rows":49,"n_cols":67,"rows_kept":49,"cut":false,"hidden":false,"merged":[[46,58,46,64],[41,46,41,49],[41,50,41,53],[41,54,41,57],[41,58,41,64],[45,58,45,64],[42,61,43,63],[44,30,44,33],[44,34,44,37],[44,38,44,41],[44,42,44,45],[44,46,44,49],[44,50,44,53],[44,54,44,57],[44,58,44,64],[42,39,43,39],[42,40,43,42],[42,44,43,44],[42,45,43,45],[42,46,43,46],[45,50,45,53],[45,54,45,57],[46,50,46,53],[46,54,46,57],[35,30,35,33],[35,34,35,37],[35,38,35,41],[35,42,35,45],[35,46,35,49],[35,50,35,53],[35,54,35,57],[35,58,35,64],[36,30,36,33],[36,34,36,37],[36,38,36,41],[36,42,36,45],[36,46,36,49],[36,50,36,53],[36,54,36,57],[36,58,36,64],[34,30,34,33],[34,34,34,37],[34,38,34,41],[34,42,34,45],[34,46,34,49],[34,50,34,53],[34,54,34,57],[34,58,34,64],[32,57,33,57],[32,58,33,58],[32,59,33,59],[32,60,33,60],[32,61,33,63],[32,46,33,46],[32,38,33,38],[30,38,30,41],[30,42,30,45],[30,46,30,49],[30,50,30,53],[30,54,30,57],[30,58,30,64],[31,30,31,33],[31,34,31,37],[31,38,31,41],[31,42,31,45],[31,46,31,49],[31,50,31,53],[31,54,31,57],[31,58,31,64],[24,58,24,64],[25,58,25,64],[26,58,26,64],[29,38,29,41],[29,42,29,45],[29,46,29,49],[29,50,29,53],[29,54,29,57],[29,58,29,64],[25,46,25,49],[27,60,28,60],[27,61,28,63],[27,58,28,58],[27,59,28,59],[24,38,24,41],[25,38,25,41],[26,38,26,41],[24,42,24,45],[25,42,25,45],[26,42,26,45],[20,37,21,37],[26,46,26,49],[24,50,24,53],[25,50,25,53],[26,50,26,53],[24,54,24,57],[25,54,25,57],[26,54,26,57],[37,37,38,37],[37,38,38,38],[37,39,38,39],[37,40,38,42],[37,44,38,44],[37,45,38,45],[37,46,38,46],[32,47,33,47],[32,48,33,48],[32,49,33,49],[32,50,33,50],[32,51,33,51],[32,39,33,39],[32,40,33,42],[32,44,33,44],[32,45,33,45],[39,34,39,37],[39,38,39,41],[39,42,39,45],[39,46,39,49],[40,34,40,37],[40,38,40,41],[40,42,40,45],[48,29,48,31],[48,34,48,36],[45,30,45,33],[45,34,45,37],[45,38,45,41],[45,42,45,45],[45,46,45,49],[46,30,46,33],[46,34,46,37],[46,38,46,41],[46,42,46,45],[46,46,46,49],[44,2,46,2],[44,3,46,3],[44,4,44,9],[44,10,44,13],[44,14,44,17],[44,18,44,21],[44,22,44,25],[44,26,44,29],[45,4,45,9],[45,26,45,29],[46,4,46,9],[45,10,45,13],[45,14,45,17],[45,18,45,21],[45,22,45,25],[46,10,46,13],[46,14,46,17],[46,18,46,21],[46,22,46,25],[46,26,46,29],[42,2,43,2],[42,3,43,3],[42,4,43,7],[42,8,43,11],[42,12,43,12],[42,13,43,13],[42,14,43,14],[42,15,43,15],[42,16,43,16],[42,22,43,22],[42,23,42,24],[42,25,43,25],[42,26,42,27],[42,17,42,21],[42,60,43,60],[42,51,43,51],[42,36,43,36],[42,37,43,37],[42,38,43,38],[43,23,43,24],[43,26,43,27],[42,47,43,47],[42,48,43,48],[42,49,43,49],[42,50,43,50],[42,57,43,57],[42,58,43,58],[42,59,43,59],[42,28,43,28],[42,29,42,30],[43,29,43,30],[40,54,40,57],[40,58,40,64],[41,30,41,33],[41,34,41,37],[41,38,41,41],[41,42,41,45],[37,47,38,47],[37,48,38,48],[37,49,38,49],[37,50,38,50],[37,51,38,51],[39,50,39,53],[39,54,39,57],[39,58,39,64],[39,30,39,33],[37,57,38,57],[37,58,38,58],[37,59,38,59],[37,60,38,60],[37,61,38,63],[40,30,40,33],[40,46,40,49],[40,50,40,53],[37,36,38,36],[39,2,41,2],[39,3,41,3],[39,4,39,9],[39,10,39,13],[39,14,39,17],[39,18,39,21],[39,22,39,25],[39,26,39,29],[40,4,40,9],[40,10,40,13],[40,14,40,17],[40,18,40,21],[40,22,40,25],[40,26,40,29],[41,4,41,9],[41,10,41,13],[41,14,41,17],[41,18,41,21],[41,22,41,25],[41,26,41,29],[37,2,38,2],[37,3,38,3],[37,4,38,7],[37,8,38,11],[37,12,38,12],[37,13,38,13],[37,14,38,14],[37,15,38,15],[37,16,38,16],[37,22,38,22],[37,23,37,24],[37,25,38,25],[37,26,37,27],[37,17,37,21],[38,23,38,24],[38,26,38,27],[37,28,38,28],[37,29,37,30],[38,29,38,30],[34,2,36,2],[34,3,36,3],[34,4,34,9],[34,10,34,13],[34,14,34,17],[34,18,34,21],[34,22,34,25],[34,26,34,29],[35,4,35,9],[35,22,35,25],[35,26,35,29],[36,4,36,9],[36,10,36,13],[36,14,36,17],[36,18,36,21],[36,22,36,25],[36,26,36,29],[35,10,35,13],[35,14,35,17],[35,18,35,21],[31,4,31,9],[31,10,31,13],[31,14,31,17],[31,18,31,21],[31,22,31,25],[31,26,31,29],[32,2,33,2],[32,3,33,3],[32,4,33,7],[32,8,33,11],[32,12,33,12],[32,13,33,13],[32,14,33,14],[32,15,33,15],[32,16,33,16],[33,23,33,24],[33,26,33,27],[32,28,33,28],[32,29,32,30],[33,29,33,30],[29,2,31,2],[29,3,31,3],[29,4,29,9],[29,10,29,13],[29,30,29,33],[29,34,29,37],[32,22,33,22],[32,23,32,24],[32,25,33,25],[32,26,32,27],[32,17,32,21],[32,36,33,36],[32,37,33,37],[30,30,30,33],[30,34,30,37],[29,14,29,17],[29,18,29,21],[29,22,29,25],[29,26,29,29],[28,26,28,27],[27,47,28,47],[27,48,28,48],[27,49,28,49],[27,50,28,50],[27,51,28,51],[27,36,28,36],[27,37,28,37],[27,38,28,38],[27,2,28,2],[27,3,28,3],[27,4,28,7],[27,57,28,57],[27,23,27,24],[27,25,28,25],[27,26,27,27],[27,17,27,21],[27,28,28,28],[27,29,27,30],[28,29,28,30],[27,8,28,11],[27,12,28,12],[27,13,28,13],[27,14,28,14],[27,15,28,15],[27,39,28,39],[27,40,28,42],[27,44,28,44],[27,45,28,45],[27,46,28,46],[27,16,28,16],[27,22,28,22],[28,23,28,24],[30,4,30,9],[30,10,30,13],[30,14,30,17],[30,18,30,21],[30,22,30,25],[30,26,30,29],[24,46,24,49],[26,4,26,9],[26,10,26,13],[26,14,26,17],[26,18,26,21],[26,22,26,25],[26,26,26,29],[25,10,25,13],[25,14,25,17],[25,18,25,21],[25,22,25,25],[25,26,25,29],[24,30,24,33],[25,30,25,33],[26,30,26,33],[24,34,24,37],[25,34,25,37],[26,34,26,37],[22,60,23,60],[22,61,23,63],[23,23,23,24],[23,26,23,27],[22,47,23,47],[22,48,23,48],[22,49,23,49],[22,50,23,50],[22,51,23,51],[22,44,23,44],[22,45,23,45],[22,26,22,27],[22,38,23,38],[22,25,23,25],[22,57,23,57],[22,58,23,58],[22,59,23,59],[22,39,23,39],[22,40,23,42],[22,28,23,28],[22,29,22,30],[23,29,23,30],[24,22,24,25],[24,26,24,29],[25,4,25,9],[22,36,23,36],[22,37,23,37],[22,8,23,11],[22,12,23,12],[22,13,23,13],[22,14,23,14],[22,15,23,15],[22,16,23,16],[22,22,23,22],[22,23,22,24],[22,2,23,2],[20,5,21,11],[22,4,23,7],[22,3,23,3],[24,2,26,2],[24,3,26,3],[24,4,24,9],[24,10,24,13],[24,14,24,17],[22,17,22,21],[24,18,24,21],[16,44,17,47],[16,51,17,51],[16,59,17,64],[18,1,46,1],[18,2,21,2],[18,3,21,3],[18,4,21,4],[18,12,21,12],[18,13,19,16],[18,17,19,21],[18,22,19,24],[18,25,19,27],[18,28,19,30],[18,31,19,35],[18,36,19,43],[18,44,19,47],[18,48,19,51],[18,52,19,56],[19,5,19,11],[19,57,19,64],[22,46,23,46],[16,48,17,50],[20,39,21,39],[20,56,21,56],[20,57,21,57],[20,58,21,58],[20,59,21,59],[20,60,21,60],[20,61,21,64],[20,40,21,43],[20,44,21,44],[20,46,21,46],[20,47,21,47],[20,48,21,48],[20,49,21,49],[20,50,21,50],[20,51,21,51],[20,55,21,55],[20,45,21,45],[20,54,21,54],[20,53,21,53],[13,16,14,21],[16,2,17,3],[16,4,17,13],[16,15,17,43],[20,17,21,17],[20,18,21,18],[20,19,21,19],[20,20,21,20],[20,21,21,21],[20,22,21,22],[20,23,21,23],[20,25,21,25],[20,26,21,26],[20,33,21,33],[20,34,21,34],[20,35,21,35],[20,36,21,36],[20,13,21,13],[20,15,21,15],[20,16,21,16],[20,14,21,14],[20,38,21,38],[20,28,21,28],[20,32,21,32],[20,29,21,29],[12,1,17,1],[0,3,0,4],[4,1,4,2],[4,20,4,43],[4,48,7,64],[6,21,6,42],[8,1,11,1],[8,2,11,13],[8,36,11,36],[9,16,10,17],[9,18,10,19],[9,20,10,21],[9,22,10,23],[9,24,10,25],[9,26,10,27],[10,34,10,35],[10,40,11,41],[10,42,11,43],[10,44,11,44],[10,47,11,47],[10,45,11,46],[12,2,15,3],[12,4,15,13]]}
[]
[]
[null,null,null,null,null,null,null,null,null,null,null,null,null,null,null,null,null,null,null,null,null,null,null,null,null,null,null,null,null,null,null,null,null,null,null,null,null,null,null,null,null,null,null,null,null,null,null,null,null,null,null,null,null,null,null,null,null,null,null,null,null,null,null,null,null,{"$f":"INT((ROW()+48-3)/48)","v":1}]
[]
[null,3,null,null,null,null,null,null,null,null,null,null,null,null,null,null,null,null,null,null,"障害者雇用状況等報告書（Ⅱ）",null,null,null,null,null,null,null,null,null,null,null,null,null,null,null,null,null,null,null,null,null,null,null,null,null,null,null,"この報告書には、短時間労働者である身体障害者、知的障害者及び精神障害者について記載してください。"]
[]
[null,null,null,null,null,null,null,null,null,null,null,null,null,null,null,null,null,null,null,null,null,"［ 短時間労働者用 ］"]
[]
[null,"①","事業主番号"]
[null,null,null,null,null,null,null,null,null,null,null,null,null,null,null,null,{"$f":"IF(Sheet1!$A$3=0,\"\",MID(Sheet1!$A$3,1,1))","v":""},null,{"$f":"IF(Sheet1!$A$3=0,\"\",MID(Sheet1!$A$3,2,1))","v":""},null,{"$f":"IF(Sheet1!$A$3=0,\"\",MID(Sheet1!$A$3,3,1))","v":""},null,{"$f":"IF(Sheet1!$A$3=0,\"\",MID(Sheet1!$A$3,4,1))","v":""},null,{"$f":"IF(Sheet1!$A$3=0,\"\",MID(Sheet1!$A$3,5,1))","v":""},null,{"$f":"IF(Sheet1!$A$3=0,\"\",MID(Sheet1!$A$3,6,1))","v":""}]
[]
[]
[null,"②　事　業　所","(ｲ)",null,"事業所別連番"]
[null,null,null,null,null,null,null,null,null,null,null,null,null,null,null,null,{"$f":"IF(INDIRECT(\"WORK4!\"&\"B\"&($BN3-1)*5+1)=\"\",\"\",RIGHT(INDIRECT(\"WORK4!\"&\"B\"&($BN3-1)*5+1)+1000,3))","v":""}]
[]
[]
[null,null,"(ﾛ)",null,"名　　　　　　 　　　 　称",null,null,null,null,null,null,null,null,null,null,{"$f":"IF(INDIRECT(\"WORK4!\" & \"GA\" & ($BN3-1)*5+1)=\"\",\"\",INDIRECT(\"WORK4!\" & \"GA\" & ($BN3-1)*5+1))","v":""},null,null,null,null,null,null,null,null,null,null,null,null,null,null,null,null,null,null,null,null,null,null,null,null,null,null,null,null,"　(ﾊ)\n  算定基礎日",null,null,null,{"$f":"IF(INDIRECT(\"WORK4!\" & \"GB\" & ($BN3-1)*5+1)=\"\",\"\",INDIRECT(\"WORK4!\" & \"GB\" & ($BN3-1)*5+1))","v":""},null,null,"日"]
[3]
[null,"③　身 体 障 害 者  、 知 的 障 害 者 及 び 精 神 障 害 者","手帳の確認\n(ｶ)","(ﾀ)所定労働時\n間変動の有無","(ｲ)",null,null,null,null,null,null,null,"(ﾛ)性別","(ﾊ) 生年月日",null,null,null,"(ﾆ)手帳番号",null,null,null,null,"（ﾎ）身体\n   障害者",null,null,"（ﾍ）知的\n　 障害者",null,null,"（ﾄ）精神\n   障害者",null,null,"(ﾁ)雇入れ年月日",null,null,null,null,"(ﾘ)転入年月日",null,null,null,null,null,null,null,"(ﾇ)身体障害者、\n知的障害者又は\n精神障害者\nとなった年月日",null,null,null,"(ﾙ)年度内等級等\n　変更年月日",null,null,null,"(ｦ)離職年月日"]
[4,null,null,null,null,"氏　　　　　名",null,null,null,null,null,null,null,null,null,null,null,null,null,null,null,null,null,null,null,null,null,null,null,null,null,null,null,null,null,null,null,null,null,null,null,null,null,null,null,null,null,null,null,null,null,null,null,null,null,null,null,"(ﾜ)転出年月日"]
[null,null,null,null,null,"（カタカナで記載）",null,null,null,null,null,null,null,"元号","年","月","日","有効期限","元号","年","月","日","(a)確認","(b)等級","現","(a)確認","(b)程度","現","(a)確認","(b)程度","現","現","元\n号","年","月","日","元号","年","月","日","転入前の\n事業所名等",null,null,null,"元号","年","月","日","元号","年","月","日","現","元\n号","年","月","日","元号","年","月","日","転出先の\n事業所名等"]
[null,null,null,null,null,null,null,null,null,null,null,null,null,null,null,null,null,null,null,null,null,null,null,null,"前",null,null,"前",null,null,"前","前",null,null,null,null,null,null,null,null,null,null,null,null,null,null,null,null,null,null,null,null,"前"]
[null,null,{"$f":"IF(INDIRECT(\"WORK4!\"&\"EO\"&($BO23-1)*5+$BN23)=\"\",\"\",IF(MID(INDIRECT(\"WORK4!\"&\"EO\"&($BO23-1)*5+$BN23),1,10)=\"1\",\"ﾚ\",\"\"))","v":""},{"$f":"IF(INDIRECT(\"WORK4!\"&\"EP\"&($BO23-1)*5+$BN23)=\"\",\"\",IF(MID(INDIRECT(\"WORK4!\"&\"EP\"&($BO23-1)*5+$BN23),1,10)=\"1\",\"ﾚ\",\"\"))","v":""},{"$f":"IF(INDIRECT(\"WORK4!\"&\"D\"&($BO23-1)*5+$BN23)=\"\",\"\",MID(INDIRECT(\"WORK4!\"&\"D\"&($BO23-1)*5+$BN23),1,10))","v":""},null,null,null,{"$f":"IF(INDIRECT(\"WORK4!\"&\"E\"&($BO23-1)*5+$BN23)=\"\",\"\",MID(INDIRECT(\"WORK4!\"&\"E\"&($BO23-1)*5+$BN23),1,10))","v":""},null,null,null,{"$f":"IF(INDIRECT(\"WORK4!\" & \"g\" & ($BO23-1)*5+$BN23)=\"\",\"\",INDIRECT(\"WORK4!\" & \"g\" & ($BO23-1)*5+$BN23))","v":""},{"$f":"IF(INDIRECT(\"WORK4!\" & \"h\" & ($BO23-1)*5+$BN23)=\"\",\"\",MID(INDIRECT(\"WORK4!\" & \"h\" & ($BO23-1)*5+$BN23),1,1))","v":""},{"$f":"IF(INDIRECT(\"WORK4!\" & \"h\" & ($BO23-1)*5+$BN23)=\"\",\"\",MID(INDIRECT(\"WORK4!\" & \"h\" & ($BO23-1)*5+$BN23),2,2))","v":""},{"$f":"IF(INDIRECT(\"WORK4!\" & \"h\" & ($BO23-1)*5+$BN23)=\"\",\"\",MID(INDIRECT(\"WORK4!\" & \"h\" & ($BO23-1)*5+$BN23),4,2))","v":""},{"$f":"IF(INDIRECT(\"WORK4!\" & \"h\" & ($BO23-1)*5+$BN23)=\"\",\"\",MID(INDIRECT(\"WORK4!\" & \"h\" & ($BO23-1)*5+$BN23),6,2))","v":""},{"$f":"IF(INDIRECT(\"WORK4!\" & \"I\" & ($BO23-1)*5+$BN23)=\"\",\"\",MID(INDIRECT(\"WORK4!\" & \"I\" & ($BO23-1)*5+$BN23),1,11))","v":""},null,null,null,null,{"$f":"IF(INDIRECT(\"WORK4!\" & \"K\" & ($BO23-1)*5+$BN23)=\"\",\"\",INDIRECT(\"WORK4!\" & \"K\" & ($BO23-1)*5+$BN23))","v":""},{"$f":"IF(INDIRECT(\"WORK4!\" & \"L\" & ($BO23-1)*5+$BN23)=\"\",\"\",INDIRECT(\"WORK4!\" & \"L\" & ($BO23-1)*5+$BN23))","v":""},null,{"$f":"IF(INDIRECT(\"WORK4!\" & \"O\" & ($BO23-1)*5+$BN23)=\"\",\"\",INDIRECT(\"WORK4!\" & \"O\" & ($BO23-1)*5+$BN23))","v":""},{"$f":"IF(INDIRECT(\"WORK4!\" & \"P\" & ($BO23-1)*5+$BN23)=\"\",\"\",INDIRECT(\"WORK4!\" & \"P\" & ($BO23-1)*5+$BN23))","v":""},null,{"$f":"IF(INDIRECT(\"WORK4!\" & \"S\" & ($BO23-1)*5+$BN23)=\"\",\"\",INDIRECT(\"WORK4!\" & \"S\" & ($BO23-1)*5+$BN23))","v":""},{"$f":"IF(INDIRECT(\"WORK4!\" & \"FT\" & ($BO23-1)*5+$BN23)=\"\",\"\",INDIRECT(\"WORK4!\" & \"FT\" & ($BO23-1)*5+$BN23))","v":""},null,"現",{"$f":"IF(INDIRECT(\"WORK4!\" & \"t\" & ($BO23-1)*5+$BN23)=\"\",\"\",MID(INDIRECT(\"WORK4!\" & \"t\" & ($BO23-1)*5+$BN23),1,1))","v":""},{"$f":"IF(INDIRECT(\"WORK4!\" & \"t\" & ($BO23-1)*5+$BN23)=\"\",\"\",MID(INDIRECT(\"WORK4!\" & \"t\" & ($BO23-1)*5+$BN23),2,2))","v":""},{"$f":"IF(INDIRECT(\"WORK4!\" & \"t\" & ($BO23-1)*5+$BN23)=\"\",\"\",MID(INDIRECT(\"WORK4!\" & \"t\" & ($BO23-1)*5+$BN23),4,2))","v":""},{"$f":"IF(INDIRECT(\"WORK4!\" & \"t\" & ($BO23-1)*5+$BN23)=\"\",\"\",MID(INDIRECT(\"WORK4!\" & \"t\" & ($BO23-1)*5+$BN23),6,2))","v":""},{"$f":"IF(INDIRECT(\"WORK4!\" & \"y\" & ($BO23-1)*5+$BN23)=\"\",\"\",MID(INDIRECT(\"WORK4!\" & \"y\" & ($BO23-1)*5+$BN23),1,1))","v":""},{"$f":"IF(INDIRECT(\"WORK4!\" & \"y\" & ($BO23-1)*5+$BN23)=\"\",\"\",MID(INDIRECT(\"WORK4!\" & \"y\" & ($BO23-1)*5+$BN23),2,2))","v":""},{"$f":"IF(INDIRECT(\"WORK4!\" & \"y\" & ($BO23-1)*5+$BN23)=\"\",\"\",MID(INDIRECT(\"WORK4!\" & \"y\" & ($BO23-1)*5+$BN23),4,2))","v":""},{"$f":"IF(INDIRECT(\"WORK4!\" & \"y\" & ($BO23-1)*5+$BN23)=\"\",\"\",MID(INDIRECT(\"WORK4!\" & \"y\" & ($BO23-1)*5+$BN23),6,2))","v":""},{"$f":"IF(INDIRECT(\"WORK4!\" & \"AA\" & ($BO23-1)*5+$BN23)=\"\",\"\",MID(INDIRECT(\"WORK4!\" & \"AA\" & ($BO23-1)*5+$BN23),1,15))","v":""},null,null,null,{"$f":"IF(INDIRECT(\"WORK4!\" & \"u\" & ($BO23-1)*5+$BN23)=\"\",\"\",MID(INDIRECT(\"WORK4!\" & \"u\" & ($BO23-1)*5+$BN23),1,1))","v":""},{"$f":"IF(INDIRECT(\"WORK4!\" & \"u\" & ($BO23-1)*5+$BN23)=\"\",\"\",MID(INDIRECT(\"WORK4!\" & \"u\" & ($BO23-1)*5+$BN23),2,2))","v":""},{"$f":"IF(INDIRECT(\"WORK4!\" & \"u\" & ($BO23-1)*5+$BN23)=\"\",\"\",MID(INDIRECT(\"WORK4!\" & \"u\" & ($BO23-1)*5+$BN23),4,2))","v":""},{"$f":"IF(INDIRECT(\"WORK4!\" & \"u\" & ($BO23-1)*5+$BN23)=\"\",\"\",MID(INDIRECT(\"WORK4!\" & \"u\" & ($BO23-1)*5+$BN23),6,2))","v":""},{"$f":"IF(INDIRECT(\"WORK4!\" & \"v\" & ($BO23-1)*5+$BN23)=\"\",\"\",MID(INDIRECT(\"WORK4!\" & \"v\" & ($BO23-1)*5+$BN23),1,1))","v":""},{"$f":"IF(INDIRECT(\"WORK4!\" & \"v\" & ($BO23-1)*5+$BN23)=\"\",\"\",MID(INDIRECT(\"WORK4!\" & \"v\" & ($BO23-1)*5+$BN23),2,2))","v":""},{"$f":"IF(INDIRECT(\"WORK4!\" & \"v\" & ($BO23-1)*5+$BN23)=\"\",\"\",MID(INDIRECT(\"WORK4!\" & \"v\" & ($BO23-1)*5+$BN23),4,2))","v":""},{"$f":"IF(INDIRECT(\"WORK4!\" & \"v\" & ($BO23-1)*5+$BN23)=\"\",\"\",MID(INDIRECT(\"WORK4!\" & \"v\" & ($BO23-1)*5+$BN23),6,2))","v":""},"現",{"$f":"IF(INDIRECT(\"WORK4!\" & \"W\" & ($BO23-1)*5+$BN23)=\"\",\"\",MID(INDIRECT(\"WORK4!\" & \"W\" & ($BO23-1)*5+$BN23),1,1))","v":""},{"$f":"IF(INDIRECT(\"WORK4!\" & \"W\" & ($BO23-1)*5+$BN23)=\"\",\"\",MID(INDIRECT(\"WORK4!\" & \"W\" & ($BO23-1)*5+$BN23),2,2))","v":""},{"$f":"IF(INDIRECT(\"WORK4!\" & \"W\" & ($BO23-1)*5+$BN23)=\"\",\"\",MID(INDIRECT(\"WORK4!\" & \"W\" & ($BO23-1)*5+$BN23),4,2))","v":""},{"$f":"IF(INDIRECT(\"WORK4!\" & \"W\" & ($BO23-1)*5+$BN23)=\"\",\"\",MID(INDIRECT(\"WORK4!\" & \"W\" & ($BO23-1)*5+$BN23),6,2))","v":""},{"$f":"IF(INDIRECT(\"WORK4!\" & \"z\" & ($BO23-1)*5+$BN23)=\"\",\"\",MID(INDIRECT(\"WORK4!\" & \"z\" & ($BO23-1)*5+$BN23),1,1))","v":""},{"$f":"IF(INDIRECT(\"WORK4!\" & \"Z\" & ($BO23-1)*5+$BN23)=\"\",\"\",MID(INDIRECT(\"WORK4!\" & \"Z\" & ($BO23-1)*5+$BN23),2,2))","v":""},{"$f":"IF(INDIRECT(\"WORK4!\" & \"Z\" & ($BO23-1)*5+$BN23)=\"\",\"\",MID(INDIRECT(\"WORK4!\" & \"Z\" & ($BO23-1)*5+$BN23),4,2))","v":""},{"$f":"IF(INDIRECT(\"WORK4!\" & \"Z\" & ($BO23-1)*5+$BN23)=\"\",\"\",MID(INDIRECT(\"WORK4!\" & \"Z\" & ($BO23-1)*5+$BN23),6,2))","v":""},{"$f":"IF(INDIRECT(\"WORK4!\" & \"AB\" & ($BO23-1)*5+$BN23)=\"\",\"\",MID(INDIRECT(\"WORK4!\" & \"AB\" & ($BO23-1)*5+$BN23),1,15))","v":""},null,null,null,1,{"$f":"INT((ROW()+48-3)/48)","v":1}]
[null,null,null,null,null,null,null,null,null,null,null,null,null,null,null,null,null,"有効期限",{"$f":"IF(INDIRECT(\"WORK4!\" & \"EQ\" & ($BO23-1)*5+$BN23)=\"\",\"\",MID(INDIRECT(\"WORK4!\" & \"EQ\" & ($BO23-1)*5+$BN23),1,1))","v":""},{"$f":"IF(INDIRECT(\"WORK4!\" & \"EQ\" & ($BO23-1)*5+$BN23)=\"\",\"\",MID(INDIRECT(\"WORK4!\" & \"EQ\" & ($BO23-1)*5+$BN23),2,2))","v":""},{"$f":"IF(INDIRECT(\"WORK4!\" & \"EQ\" & ($BO23-1)*5+$BN23)=\"\",\"\",MID(INDIRECT(\"WORK4!\" & \"EQ\" & ($BO23-1)*5+$BN23),4,2))","v":""},{"$f":"IF(INDIRECT(\"WORK4!\" & \"EQ\" & ($BO23-1)*5+$BN23)=\"\",\"\",MID(INDIRECT(\"WORK4!\" & \"EQ\" & ($BO23-1)*5+$BN23),6,2))","v":""},null,{"$f":"IF(INDIRECT(\"WORK4!\" & \"M\" & ($BO23-1)*5+$BN23)=\"\",\"\",INDIRECT(\"WORK4!\" & \"M\" & ($BO23-1)*5+$BN23))","v":""},null,null,{"$f":"IF(INDIRECT(\"WORK4!\" & \"Q\" & ($BO23-1)*5+$BN23)=\"\",\"\",INDIRECT(\"WORK4!\" & \"Q\" & ($BO23-1)*5+$BN23))","v":""},null,null,{"$f":"IF(INDIRECT(\"WORK4!\" & \"FU\" & ($BO23-1)*5+$BN23)=\"\",\"\",INDIRECT(\"WORK4!\" & \"FU\" & ($BO23-1)*5+$BN23))","v":""},null,"前",{"$f":"IF(INDIRECT(\"WORK4!\" & \"FV\" & ($BO23-1)*5+$BN23)=\"\",\"\",MID(INDIRECT(\"WORK4!\" & \"FV\" & ($BO23-1)*5+$BN23),1,1))","v":""},{"$f":"IF(INDIRECT(\"WORK4!\" & \"FV\" & ($BO23-1)*5+$BN23)=\"\",\"\",MID(INDIRECT(\"WORK4!\" & \"FV\" & ($BO23-1)*5+$BN23),2,2))","v":""},{"$f":"IF(INDIRECT(\"WORK4!\" & \"FV\" & ($BO23-1)*5+$BN23)=\"\",\"\",MID(INDIRECT(\"WORK4!\" & \"FV\" & ($BO23-1)*5+$BN23),4,2))","v":""},{"$f":"IF(INDIRECT(\"WORK4!\" & \"FV\" & ($BO23-1)*5+$BN23)=\"\",\"\",MID(INDIRECT(\"WORK4!\" & \"FV\" & ($BO23-1)*5+$BN23),6,2))","v":""},null,null,null,null,null,null,null,"から",null,null,null,null,null,null,null,null,"前",{"$f":"IF(INDIRECT(\"WORK4!\" & \"FW\" & ($BO23-1)*5+$BN23)=\"\",\"\",MID(INDIRECT(\"WORK4!\" & \"FW\" & ($BO23-1)*5+$BN23),1,1))","v":""},{"$f":"IF(INDIRECT(\"WORK4!\" & \"FW\" & ($BO23-1)*5+$BN23)=\"\",\"\",MID(INDIRECT(\"WORK4!\" & \"FW\" & ($BO23-1)*5+$BN23),2,2))","v":""},{"$f":"IF(INDIRECT(\"WORK4!\" & \"FW\" & ($BO23-1)*5+$BN23)=\"\",\"\",MID(INDIRECT(\"WORK4!\" & \"FW\" & ($BO23-1)*5+$BN23),4,2))","v":""},{"$f":"IF(INDIRECT(\"WORK4!\" & \"FW\" & ($BO23-1)*5+$BN23)=\"\",\"\",MID(INDIRECT(\"WORK4!\" & \"FW\" & ($BO23-1)*5+$BN23),6,2))","v":""},null,null,null,null,null,null,null,"へ"]
[null,null,null,"(ﾖ)","申告・申請年月",null,null,null,null,null,{"$f":"IF(MASTA!$BS$6<>\"\",MASTA!$BS$6,\"\")","v":"令和4年4月"},null,null,null,{"$f":"IF(MASTA!$BT$6<>\"\",MASTA!$BT$6,\"\")","v":"令和4年5月"},null,null,null,{"$f":"IF(MASTA!$BU$6<>\"\",MASTA!$BU$6,\"\")","v":"令和4年6月"},null,null,null,{"$f":"IF(MASTA!$BV$6<>\"\",MASTA!$BV$6,\"\")","v":"令和4年7月"},null,null,null,{"$f":"IF(MASTA!$BW$6<>\"\",MASTA!$BW$6,\"\")","v":"令和4年8月"},null,null,null,{"$f":"IF(MASTA!$BX$6<>\"\",MASTA!$BX$6,\"\")","v":"令和4年9月"},null,null,null,{"$f":"IF(MASTA!$BY$6<>\"\",MASTA!$BY$6,\"\")","v":"令和4年10月"},null,null,null,{"$f":"IF(MASTA!$BZ$6<>\"\",MASTA!$BZ$6,\"\")","v":"令和4年11月"},null,null,null,{"$f":"IF(MASTA!$CA$6<>\"\",MASTA!$CA$6,\"\")","v":"令和4年12月"},null,null,null,{"$f":"IF(MASTA!$CB$6<>\"\",MASTA!$CB$6,\"\")","v":"令和5年1月"},null,null,null,{"$f":"IF(MASTA!$CC$6<>\"\",MASTA!$CC$6,\"\")","v":"令和5年2月"},null,null,null,{"$f":"IF(MASTA!$CD$6<>\"\",MASTA!$CD$6,\"\")","v":"令和5年3月"},null,null,null,"計"]
[null,null,null,null,"月毎の所定労働時間",null,null,null,null,null,{"$f":"IF(INDIRECT(\"WORK4!\" & \"ER\" & ($BO23-1)*5+$BN23)=\"\",\"\",MID(INDIRECT(\"WORK4!\" & \"ER\" & ($BO23-1)*5+$BN23),1,11))","v":""},null,null,null,{"$f":"IF(INDIRECT(\"WORK4!\" & \"ES\" & ($BO23-1)*5+$BN23)=\"\",\"\",MID(INDIRECT(\"WORK4!\" & \"ES\" & ($BO23-1)*5+$BN23),1,11))","v":""},null,null,null,{"$f":"IF(INDIRECT(\"WORK4!\" & \"ET\" & ($BO23-1)*5+$BN23)=\"\",\"\",MID(INDIRECT(\"WORK4!\" & \"ET\" & ($BO23-1)*5+$BN23),1,11))","v":""},null,null,null,{"$f":"IF(INDIRECT(\"WORK4!\" & \"EU\" & ($BO23-1)*5+$BN23)=\"\",\"\",MID(INDIRECT(\"WORK4!\" & \"EU\" & ($BO23-1)*5+$BN23),1,11))","v":""},null,null,null,{"$f":"IF(INDIRECT(\"WORK4!\" & \"EV\" & ($BO23-1)*5+$BN23)=\"\",\"\",MID(INDIRECT(\"WORK4!\" & \"EV\" & ($BO23-1)*5+$BN23),1,11))","v":""},null,null,null,{"$f":"IF(INDIRECT(\"WORK4!\" & \"EW\" & ($BO23-1)*5+$BN23)=\"\",\"\",MID(INDIRECT(\"WORK4!\" & \"EW\" & ($BO23-1)*5+$BN23),1,11))","v":""},null,null,null,{"$f":"IF(INDIRECT(\"WORK4!\" & \"EX\" & ($BO23-1)*5+$BN23)=\"\",\"\",MID(INDIRECT(\"WORK4!\" & \"EX\" & ($BO23-1)*5+$BN23),1,11))","v":""},null,null,null,{"$f":"IF(INDIRECT(\"WORK4!\" & \"EY\" & ($BO23-1)*5+$BN23)=\"\",\"\",MID(INDIRECT(\"WORK4!\" & \"EY\" & ($BO23-1)*5+$BN23),1,11))","v":""},null,null,null,{"$f":"IF(INDIRECT(\"WORK4!\" & \"EZ\" & ($BO23-1)*5+$BN23)=\"\",\"\",MID(INDIRECT(\"WORK4!\" & \"EZ\" & ($BO23-1)*5+$BN23),1,11))","v":""},null,null,null,{"$f":"IF(INDIRECT(\"WORK4!\" & \"FA\" & ($BO23-1)*5+$BN23)=\"\",\"\",MID(INDIRECT(\"WORK4!\" & \"FA\" & ($BO23-1)*5+$BN23),1,11))","v":""},null,null,null,{"$f":"IF(INDIRECT(\"WORK4!\" & \"FB\" & ($BO23-1)*5+$BN23)=\"\",\"\",MID(INDIRECT(\"WORK4!\" & \"FB\" & ($BO23-1)*5+$BN23),1,11))","v":""},null,null,null,{"$f":"IF(INDIRECT(\"WORK4!\" & \"FC\" & ($BO23-1)*5+$BN23)=\"\",\"\",MID(INDIRECT(\"WORK4!\" & \"FC\" & ($BO23-1)*5+$BN23),1,11))","v":""},null,null,null,{"$f":"IF(INDIRECT(\"WORK4!\" & \"FQ\" & ($BO23-1)*5+$BN23)=\"\",\"\",INT(MID(INDIRECT(\"WORK4!\" & \"FQ\" & ($BO23-1)*5+$BN23),1,11)))","v":""}]
[null,null,null,null,"月毎の実労働時間",null,null,null,null,null,{"$f":"IF(INDIRECT(\"WORK4!\" & \"FD\" & ($BO23-1)*5+$BN23)=\"\",\"\",MID(INDIRECT(\"WORK4!\" & \"FD\" & ($BO23-1)*5+$BN23),1,11))","v":""},null,null,null,{"$f":"IF(INDIRECT(\"WORK4!\" & \"FE\" & ($BO23-1)*5+$BN23)=\"\",\"\",MID(INDIRECT(\"WORK4!\" & \"FE\" & ($BO23-1)*5+$BN23),1,11))","v":""},null,null,null,{"$f":"IF(INDIRECT(\"WORK4!\" & \"FF\" & ($BO23-1)*5+$BN23)=\"\",\"\",MID(INDIRECT(\"WORK4!\" & \"FF\" & ($BO23-1)*5+$BN23),1,11))","v":""},null,null,null,{"$f":"IF(INDIRECT(\"WORK4!\" & \"FG\" & ($BO23-1)*5+$BN23)=\"\",\"\",MID(INDIRECT(\"WORK4!\" & \"FG\" & ($BO23-1)*5+$BN23),1,11))","v":""},null,null,null,{"$f":"IF(INDIRECT(\"WORK4!\" & \"FH\" & ($BO23-1)*5+$BN23)=\"\",\"\",MID(INDIRECT(\"WORK4!\" & \"FH\" & ($BO23-1)*5+$BN23),1,11))","v":""},null,null,null,{"$f":"IF(INDIRECT(\"WORK4!\" & \"FI\" & ($BO23-1)*5+$BN23)=\"\",\"\",MID(INDIRECT(\"WORK4!\" & \"FI\" & ($BO23-1)*5+$BN23),1,11))","v":""},null,null,null,{"$f":"IF(INDIRECT(\"WORK4!\" & \"FJ\" & ($BO23-1)*5+$BN23)=\"\",\"\",MID(INDIRECT(\"WORK4!\" & \"FJ\" & ($BO23-1)*5+$BN23),1,11))","v":""},null,null,null,{"$f":"IF(INDIRECT(\"WORK4!\" & \"FK\" & ($BO23-1)*5+$BN23)=\"\",\"\",MID(INDIRECT(\"WORK4!\" & \"FK\" & ($BO23-1)*5+$BN23),1,11))","v":""},null,null,null,{"$f":"IF(INDIRECT(\"WORK4!\" & \"FL\" & ($BO23-1)*5+$BN23)=\"\",\"\",MID(INDIRECT(\"WORK4!\" & \"FL\" & ($BO23-1)*5+$BN23),1,11))","v":""},null,null,null,{"$f":"IF(INDIRECT(\"WORK4!\" & \"FM\" & ($BO23-1)*5+$BN23)=\"\",\"\",MID(INDIRECT(\"WORK4!\" & \"FM\" & ($BO23-1)*5+$BN23),1,11))","v":""},null,null,null,{"$f":"IF(INDIRECT(\"WORK4!\" & \"FN\" & ($BO23-1)*5+$BN23)=\"\",\"\",MID(INDIRECT(\"WORK4!\" & \"FN\" & ($BO23-1)*5+$BN23),1,11))","v":""},null,null,null,{"$f":"IF(INDIRECT(\"WORK4!\" & \"FO\" & ($BO23-1)*5+$BN23)=\"\",\"\",MID(INDIRECT(\"WORK4!\" & \"FO\" & ($BO23-1)*5+$BN23),1,11))","v":""},null,null,null,{"$f":"IF(INDIRECT(\"WORK4!\" & \"FR\" & ($BO23-1)*5+$BN23)=\"\",\"\",INT(MID(INDIRECT(\"WORK4!\" & \"FR\" & ($BO23-1)*5+$BN23),1,11)))","v":""}]
[null,null,{"$f":"IF(INDIRECT(\"WORK4!\"&\"EO\"&($BO28-1)*5+$BN28)=\"\",\"\",IF(MID(INDIRECT(\"WORK4!\"&\"EO\"&($BO28-1)*5+$BN28),1,10)=\"1\",\"ﾚ\",\"\"))","v":""},{"$f":"IF(INDIRECT(\"WORK4!\"&\"EP\"&($BO28-1)*5+$BN28)=\"\",\"\",IF(MID(INDIRECT(\"WORK4!\"&\"EP\"&($BO28-1)*5+$BN28),1,10)=\"1\",\"ﾚ\",\"\"))","v":""},{"$f":"IF(INDIRECT(\"WORK4!\"&\"D\"&($BO28-1)*5+$BN28)=\"\",\"\",MID(INDIRECT(\"WORK4!\"&\"D\"&($BO28-1)*5+$BN28),1,10))","v":""},null,null,null,{"$f":"IF(INDIRECT(\"WORK4!\"&\"E\"&($BO28-1)*5+$BN28)=\"\",\"\",MID(INDIRECT(\"WORK4!\"&\"E\"&($BO28-1)*5+$BN28),1,10))","v":""},null,null,null,{"$f":"IF(INDIRECT(\"WORK4!\" & \"g\" & ($BO28-1)*5+$BN28)=\"\",\"\",INDIRECT(\"WORK4!\" & \"g\" & ($BO28-1)*5+$BN28))","v":""},{"$f":"IF(INDIRECT(\"WORK4!\" & \"h\" & ($BO28-1)*5+$BN28)=\"\",\"\",MID(INDIRECT(\"WORK4!\" & \"h\" & ($BO28-1)*5+$BN28),1,1))","v":""},{"$f":"IF(INDIRECT(\"WORK4!\" & \"h\" & ($BO28-1)*5+$BN28)=\"\",\"\",MID(INDIRECT(\"WORK4!\" & \"h\" & ($BO28-1)*5+$BN28),2,2))","v":""},{"$f":"IF(INDIRECT(\"WORK4!\" & \"h\" & ($BO28-1)*5+$BN28)=\"\",\"\",MID(INDIRECT(\"WORK4!\" & \"h\" & ($BO28-1)*5+$BN28),4,2))","v":""},{"$f":"IF(INDIRECT(\"WORK4!\" & \"h\" & ($BO28-1)*5+$BN28)=\"\",\"\",MID(INDIRECT(\"WORK4!\" & \"h\" & ($BO28-1)*5+$BN28),6,2))","v":""},{"$f":"IF(INDIRECT(\"WORK4!\" & \"I\" & ($BO28-1)*5+$BN28)=\"\",\"\",MID(INDIRECT(\"WORK4!\" & \"I\" & ($BO28-1)*5+$BN28),1,11))","v":""},null,null,null,null,{"$f":"IF(INDIRECT(\"WORK4!\" & \"K\" & ($BO28-1)*5+$BN28)=\"\",\"\",INDIRECT(\"WORK4!\" & \"K\" & ($BO28-1)*5+$BN28))","v":""},{"$f":"IF(INDIRECT(\"WORK4!\" & \"L\" & ($BO28-1)*5+$BN28)=\"\",\"\",INDIRECT(\"WORK4!\" & \"L\" & ($BO28-1)*5+$BN28))","v":""},null,{"$f":"IF(INDIRECT(\"WORK4!\" & \"O\" & ($BO28-1)*5+$BN28)=\"\",\"\",INDIRECT(\"WORK4!\" & \"O\" & ($BO28-1)*5+$BN28))","v":""},{"$f":"IF(INDIRECT(\"WORK4!\" & \"P\" & ($BO28-1)*5+$BN28)=\"\",\"\",INDIRECT(\"WORK4!\" & \"P\" & ($BO28-1)*5+$BN28))","v":""},null,{"$f":"IF(INDIRECT(\"WORK4!\" & \"S\" & ($BO28-1)*5+$BN28)=\"\",\"\",INDIRECT(\"WORK4!\" & \"S\" & ($BO28-1)*5+$BN28))","v":""},{"$f":"IF(INDIRECT(\"WORK4!\" & \"FT\" & ($BO28-1)*5+$BN28)=\"\",\"\",INDIRECT(\"WORK4!\" & \"FT\" & ($BO28-1)*5+$BN28))","v":""},null,"現",{"$f":"IF(INDIRECT(\"WORK4!\" & \"t\" & ($BO28-1)*5+$BN28)=\"\",\"\",MID(INDIRECT(\"WORK4!\" & \"t\" & ($BO28-1)*5+$BN28),1,1))","v":""},{"$f":"IF(INDIRECT(\"WORK4!\" & \"t\" & ($BO28-1)*5+$BN28)=\"\",\"\",MID(INDIRECT(\"WORK4!\" & \"t\" & ($BO28-1)*5+$BN28),2,2))","v":""},{"$f":"IF(INDIRECT(\"WORK4!\" & \"t\" & ($BO28-1)*5+$BN28)=\"\",\"\",MID(INDIRECT(\"WORK4!\" & \"t\" & ($BO28-1)*5+$BN28),4,2))","v":""},{"$f":"IF(INDIRECT(\"WORK4!\" & \"t\" & ($BO28-1)*5+$BN28)=\"\",\"\",MID(INDIRECT(\"WORK4!\" & \"t\" & ($BO28-1)*5+$BN28),6,2))","v":""},{"$f":"IF(INDIRECT(\"WORK4!\" & \"y\" & ($BO28-1)*5+$BN28)=\"\",\"\",MID(INDIRECT(\"WORK4!\" & \"y\" & ($BO28-1)*5+$BN28),1,1))","v":""},{"$f":"IF(INDIRECT(\"WORK4!\" & \"y\" & ($BO28-1)*5+$BN28)=\"\",\"\",MID(INDIRECT(\"WORK4!\" & \"y\" & ($BO28-1)*5+$BN28),2,2))","v":""},{"$f":"IF(INDIRECT(\"WORK4!\" & \"y\" & ($BO28-1)*5+$BN28)=\"\",\"\",MID(INDIRECT(\"WORK4!\" & \"y\" & ($BO28-1)*5+$BN28),4,2))","v":""},{"$f":"IF(INDIRECT(\"WORK4!\" & \"y\" & ($BO28-1)*5+$BN28)=\"\",\"\",MID(INDIRECT(\"WORK4!\" & \"y\" & ($BO28-1)*5+$BN28),6,2))","v":""},{"$f":"IF(INDIRECT(\"WORK4!\" & \"AA\" & ($BO28-1)*5+$BN28)=\"\",\"\",MID(INDIRECT(\"WORK4!\" & \"AA\" & ($BO28-1)*5+$BN28),1,15))","v":""},null,null,null,{"$f":"IF(INDIRECT(\"WORK4!\" & \"u\" & ($BO28-1)*5+$BN28)=\"\",\"\",MID(INDIRECT(\"WORK4!\" & \"u\" & ($BO28-1)*5+$BN28),1,1))","v":""},{"$f":"IF(INDIRECT(\"WORK4!\" & \"u\" & ($BO28-1)*5+$BN28)=\"\",\"\",MID(INDIRECT(\"WORK4!\" & \"u\" & ($BO28-1)*5+$BN28),2,2))","v":""},{"$f":"IF(INDIRECT(\"WORK4!\" & \"u\" & ($BO28-1)*5+$BN28)=\"\",\"\",MID(INDIRECT(\"WORK4!\" & \"u\" & ($BO28-1)*5+$BN28),4,2))","v":""},{"$f":"IF(INDIRECT(\"WORK4!\" & \"u\" & ($BO28-1)*5+$BN28)=\"\",\"\",MID(INDIRECT(\"WORK4!\" & \"u\" & ($BO28-1)*5+$BN28),6,2))","v":""},{"$f":"IF(INDIRECT(\"WORK4!\" & \"v\" & ($BO28-1)*5+$BN28)=\"\",\"\",MID(INDIRECT(\"WORK4!\" & \"v\" & ($BO28-1)*5+$BN28),1,1))","v":""},{"$f":"IF(INDIRECT(\"WORK4!\" & \"v\" & ($BO28-1)*5+$BN28)=\"\",\"\",MID(INDIRECT(\"WORK4!\" & \"v\" & ($BO28-1)*5+$BN28),2,2))","v":""},{"$f":"IF(INDIRECT(\"WORK4!\" & \"v\" & ($BO28-1)*5+$BN28)=\"\",\"\",MID(INDIRECT(\"WORK4!\" & \"v\" & ($BO28-1)*5+$BN28),4,2))","v":""},{"$f":"IF(INDIRECT(\"WORK4!\" & \"v\" & ($BO28-1)*5+$BN28)=\"\",\"\",MID(INDIRECT(\"WORK4!\" & \"v\" & ($BO28-1)*5+$BN28),6,2))","v":""},"現",{"$f":"IF(INDIRECT(\"WORK4!\" & \"W\" & ($BO28-1)*5+$BN28)=\"\",\"\",MID(INDIRECT(\"WORK4!\" & \"W\" & ($BO28-1)*5+$BN28),1,1))","v":""},{"$f":"IF(INDIRECT(\"WORK4!\" & \"W\" & ($BO28-1)*5+$BN28)=\"\",\"\",MID(INDIRECT(\"WORK4!\" & \"W\" & ($BO28-1)*5+$BN28),2,2))","v":""},{"$f":"IF(INDIRECT(\"WORK4!\" & \"W\" & ($BO28-1)*5+$BN28)=\"\",\"\",MID(INDIRECT(\"WORK4!\" & \"W\" & ($BO28-1)*5+$BN28),4,2))","v":""},{"$f":"IF(INDIRECT(\"WORK4!\" & \"W\" & ($BO28-1)*5+$BN28)=\"\",\"\",MID(INDIRECT(\"WORK4!\" & \"W\" & ($BO28-1)*5+$BN28),6,2))","v":""},{"$f":"IF(INDIRECT(\"WORK4!\" & \"z\" & ($BO28-1)*5+$BN28)=\"\",\"\",MID(INDIRECT(\"WORK4!\" & \"z\" & ($BO28-1)*5+$BN28),1,1))","v":""},{"$f":"IF(INDIRECT(\"WORK4!\" & \"Z\" & ($BO28-1)*5+$BN28)=\"\",\"\",MID(INDIRECT(\"WORK4!\" & \"Z\" & ($BO28-1)*5+$BN28),2,2))","v":""},{"$f":"IF(INDIRECT(\"WORK4!\" & \"Z\" & ($BO28-1)*5+$BN28)=\"\",\"\",MID(INDIRECT(\"WORK4!\" & \"Z\" & ($BO28-1)*5+$BN28),4,2))","v":""},{"$f":"IF(INDIRECT(\"WORK4!\" & \"Z\" & ($BO28-1)*5+$BN28)=\"\",\"\",MID(INDIRECT(\"WORK4!\" & \"Z\" & ($BO28-1)*5+$BN28),6,2))","v":""},{"$f":"IF(INDIRECT(\"WORK4!\" & \"AB\" & ($BO28-1)*5+$BN28)=\"\",\"\",MID(INDIRECT(\"WORK4!\" & \"AB\" & ($BO28-1)*5+$BN28),1,15))","v":""},null,null,null,2,{"$f":"INT((ROW()+48-3)/48)","v":1}]
[null,null,null,null,null,null,null,null,null,null,null,null,null,null,null,null,null,"有効期限",{"$f":"IF(INDIRECT(\"WORK4!\" & \"EQ\" & ($BO28-1)*5+$BN28)=\"\",\"\",MID(INDIRECT(\"WORK4!\" & \"EQ\" & ($BO28-1)*5+$BN28),1,1))","v":""},{"$f":"IF(INDIRECT(\"WORK4!\" & \"EQ\" & ($BO28-1)*5+$BN28)=\"\",\"\",MID(INDIRECT(\"WORK4!\" & \"EQ\" & ($BO28-1)*5+$BN28),2,2))","v":""},{"$f":"IF(INDIRECT(\"WORK4!\" & \"EQ\" & ($BO28-1)*5+$BN28)=\"\",\"\",MID(INDIRECT(\"WORK4!\" & \"EQ\" & ($BO28-1)*5+$BN28),4,2))","v":""},{"$f":"IF(INDIRECT(\"WORK4!\" & \"EQ\" & ($BO28-1)*5+$BN28)=\"\",\"\",MID(INDIRECT(\"WORK4!\" & \"EQ\" & ($BO28-1)*5+$BN28),6,2))","v":""},null,{"$f":"IF(INDIRECT(\"WORK4!\" & \"M\" & ($BO28-1)*5+$BN28)=\"\",\"\",INDIRECT(\"WORK4!\" & \"M\" & ($BO28-1)*5+$BN28))","v":""},null,null,{"$f":"IF(INDIRECT(\"WORK4!\" & \"Q\" & ($BO28-1)*5+$BN28)=\"\",\"\",INDIRECT(\"WORK4!\" & \"Q\" & ($BO28-1)*5+$BN28))","v":""},null,null,{"$f":"IF(INDIRECT(\"WORK4!\" & \"FU\" & ($BO28-1)*5+$BN28)=\"\",\"\",INDIRECT(\"WORK4!\" & \"FU\" & ($BO28-1)*5+$BN28))","v":""},null,"前",{"$f":"IF(INDIRECT(\"WORK4!\" & \"FV\" & ($BO28-1)*5+$BN28)=\"\",\"\",MID(INDIRECT(\"WORK4!\" & \"FV\" & ($BO28-1)*5+$BN28),1,1))","v":""},{"$f":"IF(INDIRECT(\"WORK4!\" & \"FV\" & ($BO28-1)*5+$BN28)=\"\",\"\",MID(INDIRECT(\"WORK4!\" & \"FV\" & ($BO28-1)*5+$BN28),2,2))","v":""},{"$f":"IF(INDIRECT(\"WORK4!\" & \"FV\" & ($BO28-1)*5+$BN28)=\"\",\"\",MID(INDIRECT(\"WORK4!\" & \"FV\" & ($BO28-1)*5+$BN28),4,2))","v":""},{"$f":"IF(INDIRECT(\"WORK4!\" & \"FV\" & ($BO28-1)*5+$BN28)=\"\",\"\",MID(INDIRECT(\"WORK4!\" & \"FV\" & ($BO28-1)*5+$BN28),6,2))","v":""},null,null,null,null,null,null,null,"から",null,null,null,null,null,null,null,null,"前",{"$f":"IF(INDIRECT(\"WORK4!\" & \"FW\" & ($BO28-1)*5+$BN28)=\"\",\"\",MID(INDIRECT(\"WORK4!\" & \"FW\" & ($BO28-1)*5+$BN28),1,1))","v":""},{"$f":"IF(INDIRECT(\"WORK4!\" & \"FW\" & ($BO28-1)*5+$BN28)=\"\",\"\",MID(INDIRECT(\"WORK4!\" & \"FW\" & ($BO28-1)*5+$BN28),2,2))","v":""},{"$f":"IF(INDIRECT(\"WORK4!\" & \"FW\" & ($BO28-1)*5+$BN28)=\"\",\"\",MID(INDIRECT(\"WORK4!\" & \"FW\" & ($BO28-1)*5+$BN28),4,2))","v":""},{"$f":"IF(INDIRECT(\"WORK4!\" & \"FW\" & ($BO28-1)*5+$BN28)=\"\",\"\",MID(INDIRECT(\"WORK4!\" & \"FW\" & ($BO28-1)*5+$BN28),6,2))","v":""},null,null,null,null,null,null,null,"へ"]
[null,null,null,"(ﾖ)","申告・申請年月",null,null,null,null,null,{"$f":"IF(MASTA!$BS$6<>\"\",MASTA!$BS$6,\"\")","v":"令和4年4月"},null,null,null,{"$f":"IF(MASTA!$BT$6<>\"\",MASTA!$BT$6,\"\")","v":"令和4年5月"},null,null,null,{"$f":"IF(MASTA!$BU$6<>\"\",MASTA!$BU$6,\"\")","v":"令和4年6月"},null,null,null,{"$f":"IF(MASTA!$BV$6<>\"\",MASTA!$BV$6,\"\")","v":"令和4年7月"},null,null,null,{"$f":"IF(MASTA!$BW$6<>\"\",MASTA!$BW$6,\"\")","v":"令和4年8月"},null,null,null,{"$f":"IF(MASTA!$BX$6<>\"\",MASTA!$BX$6,\"\")","v":"令和4年9月"},null,null,null,{"$f":"IF(MASTA!$BY$6<>\"\",MASTA!$BY$6,\"\")","v":"令和4年10月"},null,null,null,{"$f":"IF(MASTA!$BZ$6<>\"\",MASTA!$BZ$6,\"\")","v":"令和4年11月"},null,null,null,{"$f":"IF(MASTA!$CA$6<>\"\",MASTA!$CA$6,\"\")","v":"令和4年12月"},null,null,null,{"$f":"IF(MASTA!$CB$6<>\"\",MASTA!$CB$6,\"\")","v":"令和5年1月"},null,null,null,{"$f":"IF(MASTA!$CC$6<>\"\",MASTA!$CC$6,\"\")","v":"令和5年2月"},null,null,null,{"$f":"IF(MASTA!$CD$6<>\"\",MASTA!$CD$6,\"\")","v":"令和5年3月"},null,null,null,"計"]
[null,null,null,null,"月毎の所定労働時間",null,null,null,null,null,{"$f":"IF(INDIRECT(\"WORK4!\" & \"ER\" & ($BO28-1)*5+$BN28)=\"\",\"\",MID(INDIRECT(\"WORK4!\" & \"ER\" & ($BO28-1)*5+$BN28),1,11))","v":""},null,null,null,{"$f":"IF(INDIRECT(\"WORK4!\" & \"ES\" & ($BO28-1)*5+$BN28)=\"\",\"\",MID(INDIRECT(\"WORK4!\" & \"ES\" & ($BO28-1)*5+$BN28),1,11))","v":""},null,null,null,{"$f":"IF(INDIRECT(\"WORK4!\" & \"ET\" & ($BO28-1)*5+$BN28)=\"\",\"\",MID(INDIRECT(\"WORK4!\" & \"ET\" & ($BO28-1)*5+$BN28),1,11))","v":""},null,null,null,{"$f":"IF(INDIRECT(\"WORK4!\" & \"EU\" & ($BO28-1)*5+$BN28)=\"\",\"\",MID(INDIRECT(\"WORK4!\" & \"EU\" & ($BO28-1)*5+$BN28),1,11))","v":""},null,null,null,{"$f":"IF(INDIRECT(\"WORK4!\" & \"EV\" & ($BO28-1)*5+$BN28)=\"\",\"\",MID(INDIRECT(\"WORK4!\" & \"EV\" & ($BO28-1)*5+$BN28),1,11))","v":""},null,null,null,{"$f":"IF(INDIRECT(\"WORK4!\" & \"EW\" & ($BO28-1)*5+$BN28)=\"\",\"\",MID(INDIRECT(\"WORK4!\" & \"EW\" & ($BO28-1)*5+$BN28),1,11))","v":""},null,null,null,{"$f":"IF(INDIRECT(\"WORK4!\" & \"EX\" & ($BO28-1)*5+$BN28)=\"\",\"\",MID(INDIRECT(\"WORK4!\" & \"EX\" & ($BO28-1)*5+$BN28),1,11))","v":""},null,null,null,{"$f":"IF(INDIRECT(\"WORK4!\" & \"EY\" & ($BO28-1)*5+$BN28)=\"\",\"\",MID(INDIRECT(\"WORK4!\" & \"EY\" & ($BO28-1)*5+$BN28),1,11))","v":""},null,null,null,{"$f":"IF(INDIRECT(\"WORK4!\" & \"EZ\" & ($BO28-1)*5+$BN28)=\"\",\"\",MID(INDIRECT(\"WORK4!\" & \"EZ\" & ($BO28-1)*5+$BN28),1,11))","v":""},null,null,null,{"$f":"IF(INDIRECT(\"WORK4!\" & \"FA\" & ($BO28-1)*5+$BN28)=\"\",\"\",MID(INDIRECT(\"WORK4!\" & \"FA\" & ($BO28-1)*5+$BN28),1,11))","v":""},null,null,null,{"$f":"IF(INDIRECT(\"WORK4!\" & \"FB\" & ($BO28-1)*5+$BN28)=\"\",\"\",MID(INDIRECT(\"WORK4!\" & \"FB\" & ($BO28-1)*5+$BN28),1,11))","v":""},null,null,null,{"$f":"IF(INDIRECT(\"WORK4!\" & \"FC\" & ($BO28-1)*5+$BN28)=\"\",\"\",MID(INDIRECT(\"WORK4!\" & \"FC\" & ($BO28-1)*5+$BN28),1,11))","v":""},null,null,null,{"$f":"IF(INDIRECT(\"WORK4!\" & \"FQ\" & ($BO28-1)*5+$BN28)=\"\",\"\",INT(MID(INDIRECT(\"WORK4!\" & \"FQ\" & ($BO28-1)*5+$BN28),1,11)))","v":""}]
[null,null,null,null,"月毎の実労働時間",null,null,null,null,null,{"$f":"IF(INDIRECT(\"WORK4!\" & \"FD\" & ($BO28-1)*5+$BN28)=\"\",\"\",MID(INDIRECT(\"WORK4!\" & \"FD\" & ($BO28-1)*5+$BN28),1,11))","v":""},null,null,null,{"$f":"IF(INDIRECT(\"WORK4!\" & \"FE\" & ($BO28-1)*5+$BN28)=\"\",\"\",MID(INDIRECT(\"WORK4!\" & \"FE\" & ($BO28-1)*5+$BN28),1,11))","v":""},null,null,null,{"$f":"IF(INDIRECT(\"WORK4!\" & \"FF\" & ($BO28-1)*5+$BN28)=\"\",\"\",MID(INDIRECT(\"WORK4!\" & \"FF\" & ($BO28-1)*5+$BN28),1,11))","v":""},null,null,null,{"$f":"IF(INDIRECT(\"WORK4!\" & \"FG\" & ($BO28-1)*5+$BN28)=\"\",\"\",MID(INDIRECT(\"WORK4!\" & \"FG\" & ($BO28-1)*5+$BN28),1,11))","v":""},null,null,null,{"$f":"IF(INDIRECT(\"WORK4!\" & \"FH\" & ($BO28-1)*5+$BN28)=\"\",\"\",MID(INDIRECT(\"WORK4!\" & \"FH\" & ($BO28-1)*5+$BN28),1,11))","v":""},null,null,null,{"$f":"IF(INDIRECT(\"WORK4!\" & \"FI\" & ($BO28-1)*5+$BN28)=\"\",\"\",MID(INDIRECT(\"WORK4!\" & \"FI\" & ($BO28-1)*5+$BN28),1,11))","v":""},null,null,null,{"$f":"IF(INDIRECT(\"WORK4!\" & \"FJ\" & ($BO28-1)*5+$BN28)=\"\",\"\",MID(INDIRECT(\"WORK4!\" & \"FJ\" & ($BO28-1)*5+$BN28),1,11))","v":""},null,null,null,{"$f":"IF(INDIRECT(\"WORK4!\" & \"FK\" & ($BO28-1)*5+$BN28)=\"\",\"\",MID(INDIRECT(\"WORK4!\" & \"FK\" & ($BO28-1)*5+$BN28),1,11))","v":""},null,null,null,{"$f":"IF(INDIRECT(\"WORK4!\" & \"FL\" & ($BO28-1)*5+$BN28)=\"\",\"\",MID(INDIRECT(\"WORK4!\" & \"FL\" & ($BO28-1)*5+$BN28),1,11))","v":""},null,null,null,{"$f":"IF(INDIRECT(\"WORK4!\" & \"FM\" & ($BO28-1)*5+$BN28)=\"\",\"\",MID(INDIRECT(\"WORK4!\" & \"FM\" & ($BO28-1)*5+$BN28),1,11))","v":""},null,null,null,{"$f":"IF(INDIRECT(\"WORK4!\" & \"FN\" & ($BO28-1)*5+$BN28)=\"\",\"\",MID(INDIRECT(\"WORK4!\" & \"FN\" & ($BO28-1)*5+$BN28),1,11))","v":""},null,null,null,{"$f":"IF(INDIRECT(\"WORK4!\" & \"FO\" & ($BO28-1)*5+$BN28)=\"\",\"\",MID(INDIRECT(\"WORK4!\" & \"FO\" & ($BO28-1)*5+$BN28),1,11))","v":""},null,null,null,{"$f":"IF(INDIRECT(\"WORK4!\" & \"FR\" & ($BO28-1)*5+$BN28)=\"\",\"\",INT(MID(INDIRECT(\"WORK4!\" & \"FR\" & ($BO28-1)*5+$BN28),1,11)))","v":""}]
[null,null,{"$f":"IF(INDIRECT(\"WORK4!\"&\"EO\"&($BO33-1)*5+$BN33)=\"\",\"\",IF(MID(INDIRECT(\"WORK4!\"&\"EO\"&($BO33-1)*5+$BN33),1,10)=\"1\",\"ﾚ\",\"\"))","v":""},{"$f":"IF(INDIRECT(\"WORK4!\"&\"EP\"&($BO33-1)*5+$BN33)=\"\",\"\",IF(MID(INDIRECT(\"WORK4!\"&\"EP\"&($BO33-1)*5+$BN33),1,10)=\"1\",\"ﾚ\",\"\"))","v":""},{"$f":"IF(INDIRECT(\"WORK4!\"&\"D\"&($BO33-1)*5+$BN33)=\"\",\"\",MID(INDIRECT(\"WORK4!\"&\"D\"&($BO33-1)*5+$BN33),1,10))","v":""},null,null,null,{"$f":"IF(INDIRECT(\"WORK4!\"&\"E\"&($BO33-1)*5+$BN33)=\"\",\"\",MID(INDIRECT(\"WORK4!\"&\"E\"&($BO33-1)*5+$BN33),1,10))","v":""},null,null,null,{"$f":"IF(INDIRECT(\"WORK4!\" & \"g\" & ($BO33-1)*5+$BN33)=\"\",\"\",INDIRECT(\"WORK4!\" & \"g\" & ($BO33-1)*5+$BN33))","v":""},{"$f":"IF(INDIRECT(\"WORK4!\" & \"h\" & ($BO33-1)*5+$BN33)=\"\",\"\",MID(INDIRECT(\"WORK4!\" & \"h\" & ($BO33-1)*5+$BN33),1,1))","v":""},{"$f":"IF(INDIRECT(\"WORK4!\" & \"h\" & ($BO33-1)*5+$BN33)=\"\",\"\",MID(INDIRECT(\"WORK4!\" & \"h\" & ($BO33-1)*5+$BN33),2,2))","v":""},{"$f":"IF(INDIRECT(\"WORK4!\" & \"h\" & ($BO33-1)*5+$BN33)=\"\",\"\",MID(INDIRECT(\"WORK4!\" & \"h\" & ($BO33-1)*5+$BN33),4,2))","v":""},{"$f":"IF(INDIRECT(\"WORK4!\" & \"h\" & ($BO33-1)*5+$BN33)=\"\",\"\",MID(INDIRECT(\"WORK4!\" & \"h\" & ($BO33-1)*5+$BN33),6,2))","v":""},{"$f":"IF(INDIRECT(\"WORK4!\" & \"I\" & ($BO33-1)*5+$BN33)=\"\",\"\",MID(INDIRECT(\"WORK4!\" & \"I\" & ($BO33-1)*5+$BN33),1,11))","v":""},null,null,null,null,{"$f":"IF(INDIRECT(\"WORK4!\" & \"K\" & ($BO33-1)*5+$BN33)=\"\",\"\",INDIRECT(\"WORK4!\" & \"K\" & ($BO33-1)*5+$BN33))","v":""},{"$f":"IF(INDIRECT(\"WORK4!\" & \"L\" & ($BO33-1)*5+$BN33)=\"\",\"\",INDIRECT(\"WORK4!\" & \"L\" & ($BO33-1)*5+$BN33))","v":""},null,{"$f":"IF(INDIRECT(\"WORK4!\" & \"O\" & ($BO33-1)*5+$BN33)=\"\",\"\",INDIRECT(\"WORK4!\" & \"O\" & ($BO33-1)*5+$BN33))","v":""},{"$f":"IF(INDIRECT(\"WORK4!\" & \"P\" & ($BO33-1)*5+$BN33)=\"\",\"\",INDIRECT(\"WORK4!\" & \"P\" & ($BO33-1)*5+$BN33))","v":""},null,{"$f":"IF(INDIRECT(\"WORK4!\" & \"S\" & ($BO33-1)*5+$BN33)=\"\",\"\",INDIRECT(\"WORK4!\" & \"S\" & ($BO33-1)*5+$BN33))","v":""},{"$f":"IF(INDIRECT(\"WORK4!\" & \"FT\" & ($BO33-1)*5+$BN33)=\"\",\"\",INDIRECT(\"WORK4!\" & \"FT\" & ($BO33-1)*5+$BN33))","v":""},null,"現",{"$f":"IF(INDIRECT(\"WORK4!\" & \"t\" & ($BO33-1)*5+$BN33)=\"\",\"\",MID(INDIRECT(\"WORK4!\" & \"t\" & ($BO33-1)*5+$BN33),1,1))","v":""},{"$f":"IF(INDIRECT(\"WORK4!\" & \"t\" & ($BO33-1)*5+$BN33)=\"\",\"\",MID(INDIRECT(\"WORK4!\" & \"t\" & ($BO33-1)*5+$BN33),2,2))","v":""},{"$f":"IF(INDIRECT(\"WORK4!\" & \"t\" & ($BO33-1)*5+$BN33)=\"\",\"\",MID(INDIRECT(\"WORK4!\" & \"t\" & ($BO33-1)*5+$BN33),4,2))","v":""},{"$f":"IF(INDIRECT(\"WORK4!\" & \"t\" & ($BO33-1)*5+$BN33)=\"\",\"\",MID(INDIRECT(\"WORK4!\" & \"t\" & ($BO33-1)*5+$BN33),6,2))","v":""},{"$f":"IF(INDIRECT(\"WORK4!\" & \"y\" & ($BO33-1)*5+$BN33)=\"\",\"\",MID(INDIRECT(\"WORK4!\" & \"y\" & ($BO33-1)*5+$BN33),1,1))","v":""},{"$f":"IF(INDIRECT(\"WORK4!\" & \"y\" & ($BO33-1)*5+$BN33)=\"\",\"\",MID(INDIRECT(\"WORK4!\" & \"y\" & ($BO33-1)*5+$BN33),2,2))","v":""},{"$f":"IF(INDIRECT(\"WORK4!\" & \"y\" & ($BO33-1)*5+$BN33)=\"\",\"\",MID(INDIRECT(\"WORK4!\" & \"y\" & ($BO33-1)*5+$BN33),4,2))","v":""},{"$f":"IF(INDIRECT(\"WORK4!\" & \"y\" & ($BO33-1)*5+$BN33)=\"\",\"\",MID(INDIRECT(\"WORK4!\" & \"y\" & ($BO33-1)*5+$BN33),6,2))","v":""},{"$f":"IF(INDIRECT(\"WORK4!\" & \"AA\" & ($BO33-1)*5+$BN33)=\"\",\"\",MID(INDIRECT(\"WORK4!\" & \"AA\" & ($BO33-1)*5+$BN33),1,15))","v":""},null,null,null,{"$f":"IF(INDIRECT(\"WORK4!\" & \"u\" & ($BO33-1)*5+$BN33)=\"\",\"\",MID(INDIRECT(\"WORK4!\" & \"u\" & ($BO33-1)*5+$BN33),1,1))","v":""},{"$f":"IF(INDIRECT(\"WORK4!\" & \"u\" & ($BO33-1)*5+$BN33)=\"\",\"\",MID(INDIRECT(\"WORK4!\" & \"u\" & ($BO33-1)*5+$BN33),2,2))","v":""},{"$f":"IF(INDIRECT(\"WORK4!\" & \"u\" & ($BO33-1)*5+$BN33)=\"\",\"\",MID(INDIRECT(\"WORK4!\" & \"u\" & ($BO33-1)*5+$BN33),4,2))","v":""},{"$f":"IF(INDIRECT(\"WORK4!\" & \"u\" & ($BO33-1)*5+$BN33)=\"\",\"\",MID(INDIRECT(\"WORK4!\" & \"u\" & ($BO33-1)*5+$BN33),6,2))","v":""},{"$f":"IF(INDIRECT(\"WORK4!\" & \"v\" & ($BO33-1)*5+$BN33)=\"\",\"\",MID(INDIRECT(\"WORK4!\" & \"v\" & ($BO33-1)*5+$BN33),1,1))","v":""},{"$f":"IF(INDIRECT(\"WORK4!\" & \"v\" & ($BO33-1)*5+$BN33)=\"\",\"\",MID(INDIRECT(\"WORK4!\" & \"v\" & ($BO33-1)*5+$BN33),2,2))","v":""},{"$f":"IF(INDIRECT(\"WORK4!\" & \"v\" & ($BO33-1)*5+$BN33)=\"\",\"\",MID(INDIRECT(\"WORK4!\" & \"v\" & ($BO33-1)*5+$BN33),4,2))","v":""},{"$f":"IF(INDIRECT(\"WORK4!\" & \"v\" & ($BO33-1)*5+$BN33)=\"\",\"\",MID(INDIRECT(\"WORK4!\" & \"v\" & ($BO33-1)*5+$BN33),6,2))","v":""},"現",{"$f":"IF(INDIRECT(\"WORK4!\" & \"W\" & ($BO33-1)*5+$BN33)=\"\",\"\",MID(INDIRECT(\"WORK4!\" & \"W\" & ($BO33-1)*5+$BN33),1,1))","v":""},{"$f":"IF(INDIRECT(\"WORK4!\" & \"W\" & ($BO33-1)*5+$BN33)=\"\",\"\",MID(INDIRECT(\"WORK4!\" & \"W\" & ($BO33-1)*5+$BN33),2,2))","v":""},{"$f":"IF(INDIRECT(\"WORK4!\" & \"W\" & ($BO33-1)*5+$BN33)=\"\",\"\",MID(INDIRECT(\"WORK4!\" & \"W\" & ($BO33-1)*5+$BN33),4,2))","v":""},{"$f":"IF(INDIRECT(\"WORK4!\" & \"W\" & ($BO33-1)*5+$BN33)=\"\",\"\",MID(INDIRECT(\"WORK4!\" & \"W\" & ($BO33-1)*5+$BN33),6,2))","v":""},{"$f":"IF(INDIRECT(\"WORK4!\" & \"z\" & ($BO33-1)*5+$BN33)=\"\",\"\",MID(INDIRECT(\"WORK4!\" & \"z\" & ($BO33-1)*5+$BN33),1,1))","v":""},{"$f":"IF(INDIRECT(\"WORK4!\" & \"Z\" & ($BO33-1)*5+$BN33)=\"\",\"\",MID(INDIRECT(\"WORK4!\" & \"Z\" & ($BO33-1)*5+$BN33),2,2))","v":""},{"$f":"IF(INDIRECT(\"WORK4!\" & \"Z\" & ($BO33-1)*5+$BN33)=\"\",\"\",MID(INDIRECT(\"WORK4!\" & \"Z\" & ($BO33-1)*5+$BN33),4,2))","v":""},{"$f":"IF(INDIRECT(\"WORK4!\" & \"Z\" & ($BO33-1)*5+$BN33)=\"\",\"\",MID(INDIRECT(\"WORK4!\" & \"Z\" & ($BO33-1)*5+$BN33),6,2))","v":""},{"$f":"IF(INDIRECT(\"WORK4!\" & \"AB\" & ($BO33-1)*5+$BN33)=\"\",\"\",MID(INDIRECT(\"WORK4!\" & \"AB\" & ($BO33-1)*5+$BN33),1,15))","v":""},null,null,null,3,{"$f":"INT((ROW()+48-3)/48)","v":1}]
[null,null,null,null,null,null,null,null,null,null,null,null,null,null,null,null,null,"有効期限",{"$f":"IF(INDIRECT(\"WORK4!\" & \"EQ\" & ($BO33-1)*5+$BN33)=\"\",\"\",MID(INDIRECT(\"WORK4!\" & \"EQ\" & ($BO33-1)*5+$BN33),1,1))","v":""},{"$f":"IF(INDIRECT(\"WORK4!\" & \"EQ\" & ($BO33-1)*5+$BN33)=\"\",\"\",MID(INDIRECT(\"WORK4!\" & \"EQ\" & ($BO33-1)*5+$BN33),2,2))","v":""},{"$f":"IF(INDIRECT(\"WORK4!\" & \"EQ\" & ($BO33-1)*5+$BN33)=\"\",\"\",MID(INDIRECT(\"WORK4!\" & \"EQ\" & ($BO33-1)*5+$BN33),4,2))","v":""},{"$f":"IF(INDIRECT(\"WORK4!\" & \"EQ\" & ($BO33-1)*5+$BN33)=\"\",\"\",MID(INDIRECT(\"WORK4!\" & \"EQ\" & ($BO33-1)*5+$BN33),6,2))","v":""},null,{"$f":"IF(INDIRECT(\"WORK4!\" & \"M\" & ($BO33-1)*5+$BN33)=\"\",\"\",INDIRECT(\"WORK4!\" & \"M\" & ($BO33-1)*5+$BN33))","v":""},null,null,{"$f":"IF(INDIRECT(\"WORK4!\" & \"Q\" & ($BO33-1)*5+$BN33)=\"\",\"\",INDIRECT(\"WORK4!\" & \"Q\" & ($BO33-1)*5+$BN33))","v":""},null,null,{"$f":"IF(INDIRECT(\"WORK4!\" & \"FU\" & ($BO33-1)*5+$BN33)=\"\",\"\",INDIRECT(\"WORK4!\" & \"FU\" & ($BO33-1)*5+$BN33))","v":""},null,"前",{"$f":"IF(INDIRECT(\"WORK4!\" & \"FV\" & ($BO33-1)*5+$BN33)=\"\",\"\",MID(INDIRECT(\"WORK4!\" & \"FV\" & ($BO33-1)*5+$BN33),1,1))","v":""},{"$f":"IF(INDIRECT(\"WORK4!\" & \"FV\" & ($BO33-1)*5+$BN33)=\"\",\"\",MID(INDIRECT(\"WORK4!\" & \"FV\" & ($BO33-1)*5+$BN33),2,2))","v":""},{"$f":"IF(INDIRECT(\"WORK4!\" & \"FV\" & ($BO33-1)*5+$BN33)=\"\",\"\",MID(INDIRECT(\"WORK4!\" & \"FV\" & ($BO33-1)*5+$BN33),4,2))","v":""},{"$f":"IF(INDIRECT(\"WORK4!\" & \"FV\" & ($BO33-1)*5+$BN33)=\"\",\"\",MID(INDIRECT(\"WORK4!\" & \"FV\" & ($BO33-1)*5+$BN33),6,2))","v":""},null,null,null,null,null,null,null,"から",null,null,null,null,null,null,null,null,"前",{"$f":"IF(INDIRECT(\"WORK4!\" & \"FW\" & ($BO33-1)*5+$BN33)=\"\",\"\",MID(INDIRECT(\"WORK4!\" & \"FW\" & ($BO33-1)*5+$BN33),1,1))","v":""},{"$f":"IF(INDIRECT(\"WORK4!\" & \"FW\" & ($BO33-1)*5+$BN33)=\"\",\"\",MID(INDIRECT(\"WORK4!\" & \"FW\" & ($BO33-1)*5+$BN33),2,2))","v":""},{"$f":"IF(INDIRECT(\"WORK4!\" & \"FW\" & ($BO33-1)*5+$BN33)=\"\",\"\",MID(INDIRECT(\"WORK4!\" & \"FW\" & ($BO33-1)*5+$BN33),4,2))","v":""},{"$f":"IF(INDIRECT(\"WORK4!\" & \"FW\" & ($BO33-1)*5+$BN33)=\"\",\"\",MID(INDIRECT(\"WORK4!\" & \"FW\" & ($BO33-1)*5+$BN33),6,2))","v":""},null,null,null,null,null,null,null,"へ"]
[null,null,null,"(ﾖ)","申告・申請年月",null,null,null,null,null,{"$f":"IF(MASTA!$BS$6<>\"\",MASTA!$BS$6,\"\")","v":"令和4年4月"},null,null,null,{"$f":"IF(MASTA!$BT$6<>\"\",MASTA!$BT$6,\"\")","v":"令和4年5月"},null,null,null,{"$f":"IF(MASTA!$BU$6<>\"\",MASTA!$BU$6,\"\")","v":"令和4年6月"},null,null,null,{"$f":"IF(MASTA!$BV$6<>\"\",MASTA!$BV$6,\"\")","v":"令和4年7月"},null,null,null,{"$f":"IF(MASTA!$BW$6<>\"\",MASTA!$BW$6,\"\")","v":"令和4年8月"},null,null,null,{"$f":"IF(MASTA!$BX$6<>\"\",MASTA!$BX$6,\"\")","v":"令和4年9月"},null,null,null,{"$f":"IF(MASTA!$BY$6<>\"\",MASTA!$BY$6,\"\")","v":"令和4年10月"},null,null,null,{"$f":"IF(MASTA!$BZ$6<>\"\",MASTA!$BZ$6,\"\")","v":"令和4年11月"},null,null,null,{"$f":"IF(MASTA!$CA$6<>\"\",MASTA!$CA$6,\"\")","v":"令和4年12月"},null,null,null,{"$f":"IF(MASTA!$CB$6<>\"\",MASTA!$CB$6,\"\")","v":"令和5年1月"},null,null,null,{"$f":"IF(MASTA!$CC$6<>\"\",MASTA!$CC$6,\"\")","v":"令和5年2月"},null,null,null,{"$f":"IF(MASTA!$CD$6<>\"\",MASTA!$CD$6,\"\")","v":"令和5年3月"},null,null,null,"計"]
[null,null,null,null,"月毎の所定労働時間",null,null,null,null,null,{"$f":"IF(INDIRECT(\"WORK4!\" & \"ER\" & ($BO33-1)*5+$BN33)=\"\",\"\",MID(INDIRECT(\"WORK4!\" & \"ER\" & ($BO33-1)*5+$BN33),1,11))","v":""},null,null,null,{"$f":"IF(INDIRECT(\"WORK4!\" & \"ES\" & ($BO33-1)*5+$BN33)=\"\",\"\",MID(INDIRECT(\"WORK4!\" & \"ES\" & ($BO33-1)*5+$BN33),1,11))","v":""},null,null,null,{"$f":"IF(INDIRECT(\"WORK4!\" & \"ET\" & ($BO33-1)*5+$BN33)=\"\",\"\",MID(INDIRECT(\"WORK4!\" & \"ET\" & ($BO33-1)*5+$BN33),1,11))","v":""},null,null,null,{"$f":"IF(INDIRECT(\"WORK4!\" & \"EU\" & ($BO33-1)*5+$BN33)=\"\",\"\",MID(INDIRECT(\"WORK4!\" & \"EU\" & ($BO33-1)*5+$BN33),1,11))","v":""},null,null,null,{"$f":"IF(INDIRECT(\"WORK4!\" & \"EV\" & ($BO33-1)*5+$BN33)=\"\",\"\",MID(INDIRECT(\"WORK4!\" & \"EV\" & ($BO33-1)*5+$BN33),1,11))","v":""},null,null,null,{"$f":"IF(INDIRECT(\"WORK4!\" & \"EW\" & ($BO33-1)*5+$BN33)=\"\",\"\",MID(INDIRECT(\"WORK4!\" & \"EW\" & ($BO33-1)*5+$BN33),1,11))","v":""},null,null,null,{"$f":"IF(INDIRECT(\"WORK4!\" & \"EX\" & ($BO33-1)*5+$BN33)=\"\",\"\",MID(INDIRECT(\"WORK4!\" & \"EX\" & ($BO33-1)*5+$BN33),1,11))","v":""},null,null,null,{"$f":"IF(INDIRECT(\"WORK4!\" & \"EY\" & ($BO33-1)*5+$BN33)=\"\",\"\",MID(INDIRECT(\"WORK4!\" & \"EY\" & ($BO33-1)*5+$BN33),1,11))","v":""},null,null,null,{"$f":"IF(INDIRECT(\"WORK4!\" & \"EZ\" & ($BO33-1)*5+$BN33)=\"\",\"\",MID(INDIRECT(\"WORK4!\" & \"EZ\" & ($BO33-1)*5+$BN33),1,11))","v":""},null,null,null,{"$f":"IF(INDIRECT(\"WORK4!\" & \"FA\" & ($BO33-1)*5+$BN33)=\"\",\"\",MID(INDIRECT(\"WORK4!\" & \"FA\" & ($BO33-1)*5+$BN33),1,11))","v":""},null,null,null,{"$f":"IF(INDIRECT(\"WORK4!\" & \"FB\" & ($BO33-1)*5+$BN33)=\"\",\"\",MID(INDIRECT(\"WORK4!\" & \"FB\" & ($BO33-1)*5+$BN33),1,11))","v":""},null,null,null,{"$f":"IF(INDIRECT(\"WORK4!\" & \"FC\" & ($BO33-1)*5+$BN33)=\"\",\"\",MID(INDIRECT(\"WORK4!\" & \"FC\" & ($BO33-1)*5+$BN33),1,11))","v":""},null,null,null,{"$f":"IF(INDIRECT(\"WORK4!\" & \"FQ\" & ($BO33-1)*5+$BN33)=\"\",\"\",INT(MID(INDIRECT(\"WORK4!\" & \"FQ\" & ($BO33-1)*5+$BN33),1,11)))","v":""}]
[null,null,null,null,"月毎の実労働時間",null,null,null,null,null,{"$f":"IF(INDIRECT(\"WORK4!\" & \"FD\" & ($BO33-1)*5+$BN33)=\"\",\"\",MID(INDIRECT(\"WORK4!\" & \"FD\" & ($BO33-1)*5+$BN33),1,11))","v":""},null,null,null,{"$f":"IF(INDIRECT(\"WORK4!\" & \"FE\" & ($BO33-1)*5+$BN33)=\"\",\"\",MID(INDIRECT(\"WORK4!\" & \"FE\" & ($BO33-1)*5+$BN33),1,11))","v":""},null,null,null,{"$f":"IF(INDIRECT(\"WORK4!\" & \"FF\" & ($BO33-1)*5+$BN33)=\"\",\"\",MID(INDIRECT(\"WORK4!\" & \"FF\" & ($BO33-1)*5+$BN33),1,11))","v":""},null,null,null,{"$f":"IF(INDIRECT(\"WORK4!\" & \"FG\" & ($BO33-1)*5+$BN33)=\"\",\"\",MID(INDIRECT(\"WORK4!\" & \"FG\" & ($BO33-1)*5+$BN33),1,11))","v":""},null,null,null,{"$f":"IF(INDIRECT(\"WORK4!\" & \"FH\" & ($BO33-1)*5+$BN33)=\"\",\"\",MID(INDIRECT(\"WORK4!\" & \"FH\" & ($BO33-1)*5+$BN33),1,11))","v":""},null,null,null,{"$f":"IF(INDIRECT(\"WORK4!\" & \"FI\" & ($BO33-1)*5+$BN33)=\"\",\"\",MID(INDIRECT(\"WORK4!\" & \"FI\" & ($BO33-1)*5+$BN33),1,11))","v":""},null,null,null,{"$f":"IF(INDIRECT(\"WORK4!\" & \"FJ\" & ($BO33-1)*5+$BN33)=\"\",\"\",MID(INDIRECT(\"WORK4!\" & \"FJ\" & ($BO33-1)*5+$BN33),1,11))","v":""},null,null,null,{"$f":"IF(INDIRECT(\"WORK4!\" & \"FK\" & ($BO33-1)*5+$BN33)=\"\",\"\",MID(INDIRECT(\"WORK4!\" & \"FK\" & ($BO33-1)*5+$BN33),1,11))","v":""},null,null,null,{"$f":"IF(INDIRECT(\"WORK4!\" & \"FL\" & ($BO33-1)*5+$BN33)=\"\",\"\",MID(INDIRECT(\"WORK4!\" & \"FL\" & ($BO33-1)*5+$BN33),1,11))","v":""},null,null,null,{"$f":"IF(INDIRECT(\"WORK4!\" & \"FM\" & ($BO33-1)*5+$BN33)=\"\",\"\",MID(INDIRECT(\"WORK4!\" & \"FM\" & ($BO33-1)*5+$BN33),1,11))","v":""},null,null,null,{"$f":"IF(INDIRECT(\"WORK4!\" & \"FN\" & ($BO33-1)*5+$BN33)=\"\",\"\",MID(INDIRECT(\"WORK4!\" & \"FN\" & ($BO33-1)*5+$BN33),1,11))","v":""},null,null,null,{"$f":"IF(INDIRECT(\"WORK4!\" & \"FO\" & ($BO33-1)*5+$BN33)=\"\",\"\",MID(INDIRECT(\"WORK4!\" & \"FO\" & ($BO33-1)*5+$BN33),1,11))","v":""},null,null,null,{"$f":"IF(INDIRECT(\"WORK4!\" & \"FR\" & ($BO33-1)*5+$BN33)=\"\",\"\",INT(MID(INDIRECT(\"WORK4!\" & \"FR\" & ($BO33-1)*5+$BN33),1,11)))","v":""}]
[null,null,{"$f":"IF(INDIRECT(\"WORK4!\"&\"EO\"&($BO38-1)*5+$BN38)=\"\",\"\",IF(MID(INDIRECT(\"WORK4!\"&\"EO\"&($BO38-1)*5+$BN38),1,10)=\"1\",\"ﾚ\",\"\"))","v":""},{"$f":"IF(INDIRECT(\"WORK4!\"&\"EP\"&($BO38-1)*5+$BN38)=\"\",\"\",IF(MID(INDIRECT(\"WORK4!\"&\"EP\"&($BO38-1)*5+$BN38),1,10)=\"1\",\"ﾚ\",\"\"))","v":""},{"$f":"IF(INDIRECT(\"WORK4!\"&\"D\"&($BO38-1)*5+$BN38)=\"\",\"\",MID(INDIRECT(\"WORK4!\"&\"D\"&($BO38-1)*5+$BN38),1,10))","v":""},null,null,null,{"$f":"IF(INDIRECT(\"WORK4!\"&\"E\"&($BO38-1)*5+$BN38)=\"\",\"\",MID(INDIRECT(\"WORK4!\"&\"E\"&($BO38-1)*5+$BN38),1,10))","v":""},null,null,null,{"$f":"IF(INDIRECT(\"WORK4!\" & \"g\" & ($BO38-1)*5+$BN38)=\"\",\"\",INDIRECT(\"WORK4!\" & \"g\" & ($BO38-1)*5+$BN38))","v":""},{"$f":"IF(INDIRECT(\"WORK4!\" & \"h\" & ($BO38-1)*5+$BN38)=\"\",\"\",MID(INDIRECT(\"WORK4!\" & \"h\" & ($BO38-1)*5+$BN38),1,1))","v":""},{"$f":"IF(INDIRECT(\"WORK4!\" & \"h\" & ($BO38-1)*5+$BN38)=\"\",\"\",MID(INDIRECT(\"WORK4!\" & \"h\" & ($BO38-1)*5+$BN38),2,2))","v":""},{"$f":"IF(INDIRECT(\"WORK4!\" & \"h\" & ($BO38-1)*5+$BN38)=\"\",\"\",MID(INDIRECT(\"WORK4!\" & \"h\" & ($BO38-1)*5+$BN38),4,2))","v":""},{"$f":"IF(INDIRECT(\"WORK4!\" & \"h\" & ($BO38-1)*5+$BN38)=\"\",\"\",MID(INDIRECT(\"WORK4!\" & \"h\" & ($BO38-1)*5+$BN38),6,2))","v":""},{"$f":"IF(INDIRECT(\"WORK4!\" & \"I\" & ($BO38-1)*5+$BN38)=\"\",\"\",MID(INDIRECT(\"WORK4!\" & \"I\" & ($BO38-1)*5+$BN38),1,11))","v":""},null,null,null,null,{"$f":"IF(INDIRECT(\"WORK4!\" & \"K\" & ($BO38-1)*5+$BN38)=\"\",\"\",INDIRECT(\"WORK4!\" & \"K\" & ($BO38-1)*5+$BN38))","v":""},{"$f":"IF(INDIRECT(\"WORK4!\" & \"L\" & ($BO38-1)*5+$BN38)=\"\",\"\",INDIRECT(\"WORK4!\" & \"L\" & ($BO38-1)*5+$BN38))","v":""},null,{"$f":"IF(INDIRECT(\"WORK4!\" & \"O\" & ($BO38-1)*5+$BN38)=\"\",\"\",INDIRECT(\"WORK4!\" & \"O\" & ($BO38-1)*5+$BN38))","v":""},{"$f":"IF(INDIRECT(\"WORK4!\" & \"P\" & ($BO38-1)*5+$BN38)=\"\",\"\",INDIRECT(\"WORK4!\" & \"P\" & ($BO38-1)*5+$BN38))","v":""},null,{"$f":"IF(INDIRECT(\"WORK4!\" & \"S\" & ($BO38-1)*5+$BN38)=\"\",\"\",INDIRECT(\"WORK4!\" & \"S\" & ($BO38-1)*5+$BN38))","v":""},{"$f":"IF(INDIRECT(\"WORK4!\" & \"FT\" & ($BO38-1)*5+$BN38)=\"\",\"\",INDIRECT(\"WORK4!\" & \"FT\" & ($BO38-1)*5+$BN38))","v":""},null,"現",{"$f":"IF(INDIRECT(\"WORK4!\" & \"t\" & ($BO38-1)*5+$BN38)=\"\",\"\",MID(INDIRECT(\"WORK4!\" & \"t\" & ($BO38-1)*5+$BN38),1,1))","v":""},{"$f":"IF(INDIRECT(\"WORK4!\" & \"t\" & ($BO38-1)*5+$BN38)=\"\",\"\",MID(INDIRECT(\"WORK4!\" & \"t\" & ($BO38-1)*5+$BN38),2,2))","v":""},{"$f":"IF(INDIRECT(\"WORK4!\" & \"t\" & ($BO38-1)*5+$BN38)=\"\",\"\",MID(INDIRECT(\"WORK4!\" & \"t\" & ($BO38-1)*5+$BN38),4,2))","v":""},{"$f":"IF(INDIRECT(\"WORK4!\" & \"t\" & ($BO38-1)*5+$BN38)=\"\",\"\",MID(INDIRECT(\"WORK4!\" & \"t\" & ($BO38-1)*5+$BN38),6,2))","v":""},{"$f":"IF(INDIRECT(\"WORK4!\" & \"y\" & ($BO38-1)*5+$BN38)=\"\",\"\",MID(INDIRECT(\"WORK4!\" & \"y\" & ($BO38-1)*5+$BN38),1,1))","v":""},{"$f":"IF(INDIRECT(\"WORK4!\" & \"y\" & ($BO38-1)*5+$BN38)=\"\",\"\",MID(INDIRECT(\"WORK4!\" & \"y\" & ($BO38-1)*5+$BN38),2,2))","v":""},{"$f":"IF(INDIRECT(\"WORK4!\" & \"y\" & ($BO38-1)*5+$BN38)=\"\",\"\",MID(INDIRECT(\"WORK4!\" & \"y\" & ($BO38-1)*5+$BN38),4,2))","v":""},{"$f":"IF(INDIRECT(\"WORK4!\" & \"y\" & ($BO38-1)*5+$BN38)=\"\",\"\",MID(INDIRECT(\"WORK4!\" & \"y\" & ($BO38-1)*5+$BN38),6,2))","v":""},{"$f":"IF(INDIRECT(\"WORK4!\" & \"AA\" & ($BO38-1)*5+$BN38)=\"\",\"\",MID(INDIRECT(\"WORK4!\" & \"AA\" & ($BO38-1)*5+$BN38),1,15))","v":""},null,null,null,{"$f":"IF(INDIRECT(\"WORK4!\" & \"u\" & ($BO38-1)*5+$BN38)=\"\",\"\",MID(INDIRECT(\"WORK4!\" & \"u\" & ($BO38-1)*5+$BN38),1,1))","v":""},{"$f":"IF(INDIRECT(\"WORK4!\" & \"u\" & ($BO38-1)*5+$BN38)=\"\",\"\",MID(INDIRECT(\"WORK4!\" & \"u\" & ($BO38-1)*5+$BN38),2,2))","v":""},{"$f":"IF(INDIRECT(\"WORK4!\" & \"u\" & ($BO38-1)*5+$BN38)=\"\",\"\",MID(INDIRECT(\"WORK4!\" & \"u\" & ($BO38-1)*5+$BN38),4,2))","v":""},{"$f":"IF(INDIRECT(\"WORK4!\" & \"u\" & ($BO38-1)*5+$BN38)=\"\",\"\",MID(INDIRECT(\"WORK4!\" & \"u\" & ($BO38-1)*5+$BN38),6,2))","v":""},{"$f":"IF(INDIRECT(\"WORK4!\" & \"v\" & ($BO38-1)*5+$BN38)=\"\",\"\",MID(INDIRECT(\"WORK4!\" & \"v\" & ($BO38-1)*5+$BN38),1,1))","v":""},{"$f":"IF(INDIRECT(\"WORK4!\" & \"v\" & ($BO38-1)*5+$BN38)=\"\",\"\",MID(INDIRECT(\"WORK4!\" & \"v\" & ($BO38-1)*5+$BN38),2,2))","v":""},{"$f":"IF(INDIRECT(\"WORK4!\" & \"v\" & ($BO38-1)*5+$BN38)=\"\",\"\",MID(INDIRECT(\"WORK4!\" & \"v\" & ($BO38-1)*5+$BN38),4,2))","v":""},{"$f":"IF(INDIRECT(\"WORK4!\" & \"v\" & ($BO38-1)*5+$BN38)=\"\",\"\",MID(INDIRECT(\"WORK4!\" & \"v\" & ($BO38-1)*5+$BN38),6,2))","v":""},"現",{"$f":"IF(INDIRECT(\"WORK4!\" & \"W\" & ($BO38-1)*5+$BN38)=\"\",\"\",MID(INDIRECT(\"WORK4!\" & \"W\" & ($BO38-1)*5+$BN38),1,1))","v":""},{"$f":"IF(INDIRECT(\"WORK4!\" & \"W\" & ($BO38-1)*5+$BN38)=\"\",\"\",MID(INDIRECT(\"WORK4!\" & \"W\" & ($BO38-1)*5+$BN38),2,2))","v":""},{"$f":"IF(INDIRECT(\"WORK4!\" & \"W\" & ($BO38-1)*5+$BN38)=\"\",\"\",MID(INDIRECT(\"WORK4!\" & \"W\" & ($BO38-1)*5+$BN38),4,2))","v":""},{"$f":"IF(INDIRECT(\"WORK4!\" & \"W\" & ($BO38-1)*5+$BN38)=\"\",\"\",MID(INDIRECT(\"WORK4!\" & \"W\" & ($BO38-1)*5+$BN38),6,2))","v":""},{"$f":"IF(INDIRECT(\"WORK4!\" & \"z\" & ($BO38-1)*5+$BN38)=\"\",\"\",MID(INDIRECT(\"WORK4!\" & \"z\" & ($BO38-1)*5+$BN38),1,1))","v":""},{"$f":"IF(INDIRECT(\"WORK4!\" & \"Z\" & ($BO38-1)*5+$BN38)=\"\",\"\",MID(INDIRECT(\"WORK4!\" & \"Z\" & ($BO38-1)*5+$BN38),2,2))","v":""},{"$f":"IF(INDIRECT(\"WORK4!\" & \"Z\" & ($BO38-1)*5+$BN38)=\"\",\"\",MID(INDIRECT(\"WORK4!\" & \"Z\" & ($BO38-1)*5+$BN38),4,2))","v":""},{"$f":"IF(INDIRECT(\"WORK4!\" & \"Z\" & ($BO38-1)*5+$BN38)=\"\",\"\",MID(INDIRECT(\"WORK4!\" & \"Z\" & ($BO38-1)*5+$BN38),6,2))","v":""},{"$f":"IF(INDIRECT(\"WORK4!\" & \"AB\" & ($BO38-1)*5+$BN38)=\"\",\"\",MID(INDIRECT(\"WORK4!\" & \"AB\" & ($BO38-1)*5+$BN38),1,15))","v":""},null,null,null,4,{"$f":"INT((ROW()+48-3)/48)","v":1}]
[null,null,null,null,null,null,null,null,null,null,null,null,null,null,null,null,null,"有効期限",{"$f":"IF(INDIRECT(\"WORK4!\" & \"EQ\" & ($BO38-1)*5+$BN38)=\"\",\"\",MID(INDIRECT(\"WORK4!\" & \"EQ\" & ($BO38-1)*5+$BN38),1,1))","v":""},{"$f":"IF(INDIRECT(\"WORK4!\" & \"EQ\" & ($BO38-1)*5+$BN38)=\"\",\"\",MID(INDIRECT(\"WORK4!\" & \"EQ\" & ($BO38-1)*5+$BN38),2,2))","v":""},{"$f":"IF(INDIRECT(\"WORK4!\" & \"EQ\" & ($BO38-1)*5+$BN38)=\"\",\"\",MID(INDIRECT(\"WORK4!\" & \"EQ\" & ($BO38-1)*5+$BN38),4,2))","v":""},{"$f":"IF(INDIRECT(\"WORK4!\" & \"EQ\" & ($BO38-1)*5+$BN38)=\"\",\"\",MID(INDIRECT(\"WORK4!\" & \"EQ\" & ($BO38-1)*5+$BN38),6,2))","v":""},null,{"$f":"IF(INDIRECT(\"WORK4!\" & \"M\" & ($BO38-1)*5+$BN38)=\"\",\"\",INDIRECT(\"WORK4!\" & \"M\" & ($BO38-1)*5+$BN38))","v":""},null,null,{"$f":"IF(INDIRECT(\"WORK4!\" & \"Q\" & ($BO38-1)*5+$BN38)=\"\",\"\",INDIRECT(\"WORK4!\" & \"Q\" & ($BO38-1)*5+$BN38))","v":""},null,null,{"$f":"IF(INDIRECT(\"WORK4!\" & \"FU\" & ($BO38-1)*5+$BN38)=\"\",\"\",INDIRECT(\"WORK4!\" & \"FU\" & ($BO38-1)*5+$BN38))","v":""},null,"前",{"$f":"IF(INDIRECT(\"WORK4!\" & \"FV\" & ($BO38-1)*5+$BN38)=\"\",\"\",MID(INDIRECT(\"WORK4!\" & \"FV\" & ($BO38-1)*5+$BN38),1,1))","v":""},{"$f":"IF(INDIRECT(\"WORK4!\" & \"FV\" & ($BO38-1)*5+$BN38)=\"\",\"\",MID(INDIRECT(\"WORK4!\" & \"FV\" & ($BO38-1)*5+$BN38),2,2))","v":""},{"$f":"IF(INDIRECT(\"WORK4!\" & \"FV\" & ($BO38-1)*5+$BN38)=\"\",\"\",MID(INDIRECT(\"WORK4!\" & \"FV\" & ($BO38-1)*5+$BN38),4,2))","v":""},{"$f":"IF(INDIRECT(\"WORK4!\" & \"FV\" & ($BO38-1)*5+$BN38)=\"\",\"\",MID(INDIRECT(\"WORK4!\" & \"FV\" & ($BO38-1)*5+$BN38),6,2))","v":""},null,null,null,null,null,null,null,"から",null,null,null,null,null,null,null,null,"前",{"$f":"IF(INDIRECT(\"WORK4!\" & \"FW\" & ($BO38-1)*5+$BN38)=\"\",\"\",MID(INDIRECT(\"WORK4!\" & \"FW\" & ($BO38-1)*5+$BN38),1,1))","v":""},{"$f":"IF(INDIRECT(\"WORK4!\" & \"FW\" & ($BO38-1)*5+$BN38)=\"\",\"\",MID(INDIRECT(\"WORK4!\" & \"FW\" & ($BO38-1)*5+$BN38),2,2))","v":""},{"$f":"IF(INDIRECT(\"WORK4!\" & \"FW\" & ($BO38-1)*5+$BN38)=\"\",\"\",MID(INDIRECT(\"WORK4!\" & \"FW\" & ($BO38-1)*5+$BN38),4,2))","v":""},{"$f":"IF(INDIRECT(\"WORK4!\" & \"FW\" & ($BO38-1)*5+$BN38)=\"\",\"\",MID(INDIRECT(\"WORK4!\" & \"FW\" & ($BO38-1)*5+$BN38),6,2))","v":""},null,null,null,null,null,null,null,"へ"]
[null,null,null,"(ﾖ)","申告・申請年月",null,null,null,null,null,{"$f":"IF(MASTA!$BS$6<>\"\",MASTA!$BS$6,\"\")","v":"令和4年4月"},null,null,null,{"$f":"IF(MASTA!$BT$6<>\"\",MASTA!$BT$6,\"\")","v":"令和4年5月"},null,null,null,{"$f":"IF(MASTA!$BU$6<>\"\",MASTA!$BU$6,\"\")","v":"令和4年6月"},null,null,null,{"$f":"IF(MASTA!$BV$6<>\"\",MASTA!$BV$6,\"\")","v":"令和4年7月"},null,null,null,{"$f":"IF(MASTA!$BW$6<>\"\",MASTA!$BW$6,\"\")","v":"令和4年8月"},null,null,null,{"$f":"IF(MASTA!$BX$6<>\"\",MASTA!$BX$6,\"\")","v":"令和4年9月"},null,null,null,{"$f":"IF(MASTA!$BY$6<>\"\",MASTA!$BY$6,\"\")","v":"令和4年10月"},null,null,null,{"$f":"IF(MASTA!$BZ$6<>\"\",MASTA!$BZ$6,\"\")","v":"令和4年11月"},null,null,null,{"$f":"IF(MASTA!$CA$6<>\"\",MASTA!$CA$6,\"\")","v":"令和4年12月"},null,null,null,{"$f":"IF(MASTA!$CB$6<>\"\",MASTA!$CB$6,\"\")","v":"令和5年1月"},null,null,null,{"$f":"IF(MASTA!$CC$6<>\"\",MASTA!$CC$6,\"\")","v":"令和5年2月"},null,null,null,{"$f":"IF(MASTA!$CD$6<>\"\",MASTA!$CD$6,\"\")","v":"令和5年3月"},null,null,null,"計"]
[null,null,null,null,"月毎の所定労働時間",null,null,null,null,null,{"$f":"IF(INDIRECT(\"WORK4!\" & \"ER\" & ($BO38-1)*5+$BN38)=\"\",\"\",MID(INDIRECT(\"WORK4!\" & \"ER\" & ($BO38-1)*5+$BN38),1,11))","v":""},null,null,null,{"$f":"IF(INDIRECT(\"WORK4!\" & \"ES\" & ($BO38-1)*5+$BN38)=\"\",\"\",MID(INDIRECT(\"WORK4!\" & \"ES\" & ($BO38-1)*5+$BN38),1,11))","v":""},null,null,null,{"$f":"IF(INDIRECT(\"WORK4!\" & \"ET\" & ($BO38-1)*5+$BN38)=\"\",\"\",MID(INDIRECT(\"WORK4!\" & \"ET\" & ($BO38-1)*5+$BN38),1,11))","v":""},null,null,null,{"$f":"IF(INDIRECT(\"WORK4!\" & \"EU\" & ($BO38-1)*5+$BN38)=\"\",\"\",MID(INDIRECT(\"WORK4!\" & \"EU\" & ($BO38-1)*5+$BN38),1,11))","v":""},null,null,null,{"$f":"IF(INDIRECT(\"WORK4!\" & \"EV\" & ($BO38-1)*5+$BN38)=\"\",\"\",MID(INDIRECT(\"WORK4!\" & \"EV\" & ($BO38-1)*5+$BN38),1,11))","v":""},null,null,null,{"$f":"IF(INDIRECT(\"WORK4!\" & \"EW\" & ($BO38-1)*5+$BN38)=\"\",\"\",MID(INDIRECT(\"WORK4!\" & \"EW\" & ($BO38-1)*5+$BN38),1,11))","v":""},null,null,null,{"$f":"IF(INDIRECT(\"WORK4!\" & \"EX\" & ($BO38-1)*5+$BN38)=\"\",\"\",MID(INDIRECT(\"WORK4!\" & \"EX\" & ($BO38-1)*5+$BN38),1,11))","v":""},null,null,null,{"$f":"IF(INDIRECT(\"WORK4!\" & \"EY\" & ($BO38-1)*5+$BN38)=\"\",\"\",MID(INDIRECT(\"WORK4!\" & \"EY\" & ($BO38-1)*5+$BN38),1,11))","v":""},null,null,null,{"$f":"IF(INDIRECT(\"WORK4!\" & \"EZ\" & ($BO38-1)*5+$BN38)=\"\",\"\",MID(INDIRECT(\"WORK4!\" & \"EZ\" & ($BO38-1)*5+$BN38),1,11))","v":""},null,null,null,{"$f":"IF(INDIRECT(\"WORK4!\" & \"FA\" & ($BO38-1)*5+$BN38)=\"\",\"\",MID(INDIRECT(\"WORK4!\" & \"FA\" & ($BO38-1)*5+$BN38),1,11))","v":""},null,null,null,{"$f":"IF(INDIRECT(\"WORK4!\" & \"FB\" & ($BO38-1)*5+$BN38)=\"\",\"\",MID(INDIRECT(\"WORK4!\" & \"FB\" & ($BO38-1)*5+$BN38),1,11))","v":""},null,null,null,{"$f":"IF(INDIRECT(\"WORK4!\" & \"FC\" & ($BO38-1)*5+$BN38)=\"\",\"\",MID(INDIRECT(\"WORK4!\" & \"FC\" & ($BO38-1)*5+$BN38),1,11))","v":""},null,null,null,{"$f":"IF(INDIRECT(\"WORK4!\" & \"FQ\" & ($BO38-1)*5+$BN38)=\"\",\"\",INT(MID(INDIRECT(\"WORK4!\" & \"FQ\" & ($BO38-1)*5+$BN38),1,11)))","v":""}]
[null,null,null,null,"月毎の実労働時間",null,null,null,null,null,{"$f":"IF(INDIRECT(\"WORK4!\" & \"FD\" & ($BO38-1)*5+$BN38)=\"\",\"\",MID(INDIRECT(\"WORK4!\" & \"FD\" & ($BO38-1)*5+$BN38),1,11))","v":""},null,null,null,{"$f":"IF(INDIRECT(\"WORK4!\" & \"FE\" & ($BO38-1)*5+$BN38)=\"\",\"\",MID(INDIRECT(\"WORK4!\" & \"FE\" & ($BO38-1)*5+$BN38),1,11))","v":""},null,null,null,{"$f":"IF(INDIRECT(\"WORK4!\" & \"FF\" & ($BO38-1)*5+$BN38)=\"\",\"\",MID(INDIRECT(\"WORK4!\" & \"FF\" & ($BO38-1)*5+$BN38),1,11))","v":""},null,null,null,{"$f":"IF(INDIRECT(\"WORK4!\" & \"FG\" & ($BO38-1)*5+$BN38)=\"\",\"\",MID(INDIRECT(\"WORK4!\" & \"FG\" & ($BO38-1)*5+$BN38),1,11))","v":""},null,null,null,{"$f":"IF(INDIRECT(\"WORK4!\" & \"FH\" & ($BO38-1)*5+$BN38)=\"\",\"\",MID(INDIRECT(\"WORK4!\" & \"FH\" & ($BO38-1)*5+$BN38),1,11))","v":""},null,null,null,{"$f":"IF(INDIRECT(\"WORK4!\" & \"FI\" & ($BO38-1)*5+$BN38)=\"\",\"\",MID(INDIRECT(\"WORK4!\" & \"FI\" & ($BO38-1)*5+$BN38),1,11))","v":""},null,null,null,{"$f":"IF(INDIRECT(\"WORK4!\" & \"FJ\" & ($BO38-1)*5+$BN38)=\"\",\"\",MID(INDIRECT(\"WORK4!\" & \"FJ\" & ($BO38-1)*5+$BN38),1,11))","v":""},null,null,null,{"$f":"IF(INDIRECT(\"WORK4!\" & \"FK\" & ($BO38-1)*5+$BN38)=\"\",\"\",MID(INDIRECT(\"WORK4!\" & \"FK\" & ($BO38-1)*5+$BN38),1,11))","v":""},null,null,null,{"$f":"IF(INDIRECT(\"WORK4!\" & \"FL\" & ($BO38-1)*5+$BN38)=\"\",\"\",MID(INDIRECT(\"WORK4!\" & \"FL\" & ($BO38-1)*5+$BN38),1,11))","v":""},null,null,null,{"$f":"IF(INDIRECT(\"WORK4!\" & \"FM\" & ($BO38-1)*5+$BN38)=\"\",\"\",MID(INDIRECT(\"WORK4!\" & \"FM\" & ($BO38-1)*5+$BN38),1,11))","v":""},null,null,null,{"$f":"IF(INDIRECT(\"WORK4!\" & \"FN\" & ($BO38-1)*5+$BN38)=\"\",\"\",MID(INDIRECT(\"WORK4!\" & \"FN\" & ($BO38-1)*5+$BN38),1,11))","v":""},null,null,null,{"$f":"IF(INDIRECT(\"WORK4!\" & \"FO\" & ($BO38-1)*5+$BN38)=\"\",\"\",MID(INDIRECT(\"WORK4!\" & \"FO\" & ($BO38-1)*5+$BN38),1,11))","v":""},null,null,null,{"$f":"IF(INDIRECT(\"WORK4!\" & \"FR\" & ($BO38-1)*5+$BN38)=\"\",\"\",INT(MID(INDIRECT(\"WORK4!\" & \"FR\" & ($BO38-1)*5+$BN38),1,11)))","v":""}]
[null,null,{"$f":"IF(INDIRECT(\"WORK4!\"&\"EO\"&($BO43-1)*5+$BN43)=\"\",\"\",IF(MID(INDIRECT(\"WORK4!\"&\"EO\"&($BO43-1)*5+$BN43),1,10)=\"1\",\"ﾚ\",\"\"))","v":""},{"$f":"IF(INDIRECT(\"WORK4!\"&\"EP\"&($BO43-1)*5+$BN43)=\"\",\"\",IF(MID(INDIRECT(\"WORK4!\"&\"EP\"&($BO43-1)*5+$BN43),1,10)=\"1\",\"ﾚ\",\"\"))","v":""},{"$f":"IF(INDIRECT(\"WORK4!\"&\"D\"&($BO43-1)*5+$BN43)=\"\",\"\",MID(INDIRECT(\"WORK4!\"&\"D\"&($BO43-1)*5+$BN43),1,10))","v":""},null,null,null,{"$f":"IF(INDIRECT(\"WORK4!\"&\"E\"&($BO43-1)*5+$BN43)=\"\",\"\",MID(INDIRECT(\"WORK4!\"&\"E\"&($BO43-1)*5+$BN43),1,10))","v":""},null,null,null,{"$f":"IF(INDIRECT(\"WORK4!\" & \"g\" & ($BO43-1)*5+$BN43)=\"\",\"\",INDIRECT(\"WORK4!\" & \"g\" & ($BO43-1)*5+$BN43))","v":""},{"$f":"IF(INDIRECT(\"WORK4!\" & \"h\" & ($BO43-1)*5+$BN43)=\"\",\"\",MID(INDIRECT(\"WORK4!\" & \"h\" & ($BO43-1)*5+$BN43),1,1))","v":""},{"$f":"IF(INDIRECT(\"WORK4!\" & \"h\" & ($BO43-1)*5+$BN43)=\"\",\"\",MID(INDIRECT(\"WORK4!\" & \"h\" & ($BO43-1)*5+$BN43),2,2))","v":""},{"$f":"IF(INDIRECT(\"WORK4!\" & \"h\" & ($BO43-1)*5+$BN43)=\"\",\"\",MID(INDIRECT(\"WORK4!\" & \"h\" & ($BO43-1)*5+$BN43),4,2))","v":""},{"$f":"IF(INDIRECT(\"WORK4!\" & \"h\" & ($BO43-1)*5+$BN43)=\"\",\"\",MID(INDIRECT(\"WORK4!\" & \"h\" & ($BO43-1)*5+$BN43),6,2))","v":""},{"$f":"IF(INDIRECT(\"WORK4!\" & \"I\" & ($BO43-1)*5+$BN43)=\"\",\"\",MID(INDIRECT(\"WORK4!\" & \"I\" & ($BO43-1)*5+$BN43),1,11))","v":""},null,null,null,null,{"$f":"IF(INDIRECT(\"WORK4!\" & \"K\" & ($BO43-1)*5+$BN43)=\"\",\"\",INDIRECT(\"WORK4!\" & \"K\" & ($BO43-1)*5+$BN43))","v":""},{"$f":"IF(INDIRECT(\"WORK4!\" & \"L\" & ($BO43-1)*5+$BN43)=\"\",\"\",INDIRECT(\"WORK4!\" & \"L\" & ($BO43-1)*5+$BN43))","v":""},null,{"$f":"IF(INDIRECT(\"WORK4!\" & \"O\" & ($BO43-1)*5+$BN43)=\"\",\"\",INDIRECT(\"WORK4!\" & \"O\" & ($BO43-1)*5+$BN43))","v":""},{"$f":"IF(INDIRECT(\"WORK4!\" & \"P\" & ($BO43-1)*5+$BN43)=\"\",\"\",INDIRECT(\"WORK4!\" & \"P\" & ($BO43-1)*5+$BN43))","v":""},null,{"$f":"IF(INDIRECT(\"WORK4!\" & \"S\" & ($BO43-1)*5+$BN43)=\"\",\"\",INDIRECT(\"WORK4!\" & \"S\" & ($BO43-1)*5+$BN43))","v":""},{"$f":"IF(INDIRECT(\"WORK4!\" & \"FT\" & ($BO43-1)*5+$BN43)=\"\",\"\",INDIRECT(\"WORK4!\" & \"FT\" & ($BO43-1)*5+$BN43))","v":""},null,"現",{"$f":"IF(INDIRECT(\"WORK4!\" & \"t\" & ($BO43-1)*5+$BN43)=\"\",\"\",MID(INDIRECT(\"WORK4!\" & \"t\" & ($BO43-1)*5+$BN43),1,1))","v":""},{"$f":"IF(INDIRECT(\"WORK4!\" & \"t\" & ($BO43-1)*5+$BN43)=\"\",\"\",MID(INDIRECT(\"WORK4!\" & \"t\" & ($BO43-1)*5+$BN43),2,2))","v":""},{"$f":"IF(INDIRECT(\"WORK4!\" & \"t\" & ($BO43-1)*5+$BN43)=\"\",\"\",MID(INDIRECT(\"WORK4!\" & \"t\" & ($BO43-1)*5+$BN43),4,2))","v":""},{"$f":"IF(INDIRECT(\"WORK4!\" & \"t\" & ($BO43-1)*5+$BN43)=\"\",\"\",MID(INDIRECT(\"WORK4!\" & \"t\" & ($BO43-1)*5+$BN43),6,2))","v":""},{"$f":"IF(INDIRECT(\"WORK4!\" & \"y\" & ($BO43-1)*5+$BN43)=\"\",\"\",MID(INDIRECT(\"WORK4!\" & \"y\" & ($BO43-1)*5+$BN43),1,1))","v":""},{"$f":"IF(INDIRECT(\"WORK4!\" & \"y\" & ($BO43-1)*5+$BN43)=\"\",\"\",MID(INDIRECT(\"WORK4!\" & \"y\" & ($BO43-1)*5+$BN43),2,2))","v":""},{"$f":"IF(INDIRECT(\"WORK4!\" & \"y\" & ($BO43-1)*5+$BN43)=\"\",\"\",MID(INDIRECT(\"WORK4!\" & \"y\" & ($BO43-1)*5+$BN43),4,2))","v":""},{"$f":"IF(INDIRECT(\"WORK4!\" & \"y\" & ($BO43-1)*5+$BN43)=\"\",\"\",MID(INDIRECT(\"WORK4!\" & \"y\" & ($BO43-1)*5+$BN43),6,2))","v":""},{"$f":"IF(INDIRECT(\"WORK4!\" & \"AA\" & ($BO43-1)*5+$BN43)=\"\",\"\",MID(INDIRECT(\"WORK4!\" & \"AA\" & ($BO43-1)*5+$BN43),1,15))","v":""},null,null,null,{"$f":"IF(INDIRECT(\"WORK4!\" & \"u\" & ($BO43-1)*5+$BN43)=\"\",\"\",MID(INDIRECT(\"WORK4!\" & \"u\" & ($BO43-1)*5+$BN43),1,1))","v":""},{"$f":"IF(INDIRECT(\"WORK4!\" & \"u\" & ($BO43-1)*5+$BN43)=\"\",\"\",MID(INDIRECT(\"WORK4!\" & \"u\" & ($BO43-1)*5+$BN43),2,2))","v":""},{"$f":"IF(INDIRECT(\"WORK4!\" & \"u\" & ($BO43-1)*5+$BN43)=\"\",\"\",MID(INDIRECT(\"WORK4!\" & \"u\" & ($BO43-1)*5+$BN43),4,2))","v":""},{"$f":"IF(INDIRECT(\"WORK4!\" & \"u\" & ($BO43-1)*5+$BN43)=\"\",\"\",MID(INDIRECT(\"WORK4!\" & \"u\" & ($BO43-1)*5+$BN43),6,2))","v":""},{"$f":"IF(INDIRECT(\"WORK4!\" & \"v\" & ($BO43-1)*5+$BN43)=\"\",\"\",MID(INDIRECT(\"WORK4!\" & \"v\" & ($BO43-1)*5+$BN43),1,1))","v":""},{"$f":"IF(INDIRECT(\"WORK4!\" & \"v\" & ($BO43-1)*5+$BN43)=\"\",\"\",MID(INDIRECT(\"WORK4!\" & \"v\" & ($BO43-1)*5+$BN43),2,2))","v":""},{"$f":"IF(INDIRECT(\"WORK4!\" & \"v\" & ($BO43-1)*5+$BN43)=\"\",\"\",MID(INDIRECT(\"WORK4!\" & \"v\" & ($BO43-1)*5+$BN43),4,2))","v":""},{"$f":"IF(INDIRECT(\"WORK4!\" & \"v\" & ($BO43-1)*5+$BN43)=\"\",\"\",MID(INDIRECT(\"WORK4!\" & \"v\" & ($BO43-1)*5+$BN43),6,2))","v":""},"現",{"$f":"IF(INDIRECT(\"WORK4!\" & \"W\" & ($BO43-1)*5+$BN43)=\"\",\"\",MID(INDIRECT(\"WORK4!\" & \"W\" & ($BO43-1)*5+$BN43),1,1))","v":""},{"$f":"IF(INDIRECT(\"WORK4!\" & \"W\" & ($BO43-1)*5+$BN43)=\"\",\"\",MID(INDIRECT(\"WORK4!\" & \"W\" & ($BO43-1)*5+$BN43),2,2))","v":""},{"$f":"IF(INDIRECT(\"WORK4!\" & \"W\" & ($BO43-1)*5+$BN43)=\"\",\"\",MID(INDIRECT(\"WORK4!\" & \"W\" & ($BO43-1)*5+$BN43),4,2))","v":""},{"$f":"IF(INDIRECT(\"WORK4!\" & \"W\" & ($BO43-1)*5+$BN43)=\"\",\"\",MID(INDIRECT(\"WORK4!\" & \"W\" & ($BO43-1)*5+$BN43),6,2))","v":""},{"$f":"IF(INDIRECT(\"WORK4!\" & \"z\" & ($BO43-1)*5+$BN43)=\"\",\"\",MID(INDIRECT(\"WORK4!\" & \"z\" & ($BO43-1)*5+$BN43),1,1))","v":""},{"$f":"IF(INDIRECT(\"WORK4!\" & \"Z\" & ($BO43-1)*5+$BN43)=\"\",\"\",MID(INDIRECT(\"WORK4!\" & \"Z\" & ($BO43-1)*5+$BN43),2,2))","v":""},{"$f":"IF(INDIRECT(\"WORK4!\" & \"Z\" & ($BO43-1)*5+$BN43)=\"\",\"\",MID(INDIRECT(\"WORK4!\" & \"Z\" & ($BO43-1)*5+$BN43),4,2))","v":""},{"$f":"IF(INDIRECT(\"WORK4!\" & \"Z\" & ($BO43-1)*5+$BN43)=\"\",\"\",MID(INDIRECT(\"WORK4!\" & \"Z\" & ($BO43-1)*5+$BN43),6,2))","v":""},{"$f":"IF(INDIRECT(\"WORK4!\" & \"AB\" & ($BO43-1)*5+$BN43)=\"\",\"\",MID(INDIRECT(\"WORK4!\" & \"AB\" & ($BO43-1)*5+$BN43),1,15))","v":""},null,null,null,5,{"$f":"INT((ROW()+48-3)/48)","v":1}]
[null,null,null,null,null,null,null,null,null,null,null,null,null,null,null,null,null,"有効期限",{"$f":"IF(INDIRECT(\"WORK4!\" & \"EQ\" & ($BO43-1)*5+$BN43)=\"\",\"\",MID(INDIRECT(\"WORK4!\" & \"EQ\" & ($BO43-1)*5+$BN43),1,1))","v":""},{"$f":"IF(INDIRECT(\"WORK4!\" & \"EQ\" & ($BO43-1)*5+$BN43)=\"\",\"\",MID(INDIRECT(\"WORK4!\" & \"EQ\" & ($BO43-1)*5+$BN43),2,2))","v":""},{"$f":"IF(INDIRECT(\"WORK4!\" & \"EQ\" & ($BO43-1)*5+$BN43)=\"\",\"\",MID(INDIRECT(\"WORK4!\" & \"EQ\" & ($BO43-1)*5+$BN43),4,2))","v":""},{"$f":"IF(INDIRECT(\"WORK4!\" & \"EQ\" & ($BO43-1)*5+$BN43)=\"\",\"\",MID(INDIRECT(\"WORK4!\" & \"EQ\" & ($BO43-1)*5+$BN43),6,2))","v":""},null,{"$f":"IF(INDIRECT(\"WORK4!\" & \"M\" & ($BO43-1)*5+$BN43)=\"\",\"\",INDIRECT(\"WORK4!\" & \"M\" & ($BO43-1)*5+$BN43))","v":""},null,null,{"$f":"IF(INDIRECT(\"WORK4!\" & \"Q\" & ($BO43-1)*5+$BN43)=\"\",\"\",INDIRECT(\"WORK4!\" & \"Q\" & ($BO43-1)*5+$BN43))","v":""},null,null,{"$f":"IF(INDIRECT(\"WORK4!\" & \"FU\" & ($BO43-1)*5+$BN43)=\"\",\"\",INDIRECT(\"WORK4!\" & \"FU\" & ($BO43-1)*5+$BN43))","v":""},null,"前",{"$f":"IF(INDIRECT(\"WORK4!\" & \"FV\" & ($BO43-1)*5+$BN43)=\"\",\"\",MID(INDIRECT(\"WORK4!\" & \"FV\" & ($BO43-1)*5+$BN43),1,1))","v":""},{"$f":"IF(INDIRECT(\"WORK4!\" & \"FV\" & ($BO43-1)*5+$BN43)=\"\",\"\",MID(INDIRECT(\"WORK4!\" & \"FV\" & ($BO43-1)*5+$BN43),2,2))","v":""},{"$f":"IF(INDIRECT(\"WORK4!\" & \"FV\" & ($BO43-1)*5+$BN43)=\"\",\"\",MID(INDIRECT(\"WORK4!\" & \"FV\" & ($BO43-1)*5+$BN43),4,2))","v":""},{"$f":"IF(INDIRECT(\"WORK4!\" & \"FV\" & ($BO43-1)*5+$BN43)=\"\",\"\",MID(INDIRECT(\"WORK4!\" & \"FV\" & ($BO43-1)*5+$BN43),6,2))","v":""},null,null,null,null,null,null,null,"から",null,null,null,null,null,null,null,null,"前",{"$f":"IF(INDIRECT(\"WORK4!\" & \"FW\" & ($BO43-1)*5+$BN43)=\"\",\"\",MID(INDIRECT(\"WORK4!\" & \"FW\" & ($BO43-1)*5+$BN43),1,1))","v":""},{"$f":"IF(INDIRECT(\"WORK4!\" & \"FW\" & ($BO43-1)*5+$BN43)=\"\",\"\",MID(INDIRECT(\"WORK4!\" & \"FW\" & ($BO43-1)*5+$BN43),2,2))","v":""},{"$f":"IF(INDIRECT(\"WORK4!\" & \"FW\" & ($BO43-1)*5+$BN43)=\"\",\"\",MID(INDIRECT(\"WORK4!\" & \"FW\" & ($BO43-1)*5+$BN43),4,2))","v":""},{"$f":"IF(INDIRECT(\"WORK4!\" & \"FW\" & ($BO43-1)*5+$BN43)=\"\",\"\",MID(INDIRECT(\"WORK4!\" & \"FW\" & ($BO43-1)*5+$BN43),6,2))","v":""},null,null,null,null,null,null,null,"へ"]
[null,null,null,"(ﾖ)","申告・申請年月",null,null,null,null,null,{"$f":"IF(MASTA!$BS$6<>\"\",MASTA!$BS$6,\"\")","v":"令和4年4月"},null,null,null,{"$f":"IF(MASTA!$BT$6<>\"\",MASTA!$BT$6,\"\")","v":"令和4年5月"},null,null,null,{"$f":"IF(MASTA!$BU$6<>\"\",MASTA!$BU$6,\"\")","v":"令和4年6月"},null,null,null,{"$f":"IF(MASTA!$BV$6<>\"\",MASTA!$BV$6,\"\")","v":"令和4年7月"},null,null,null,{"$f":"IF(MASTA!$BW$6<>\"\",MASTA!$BW$6,\"\")","v":"令和4年8月"},null,null,null,{"$f":"IF(MASTA!$BX$6<>\"\",MASTA!$BX$6,\"\")","v":"令和4年9月"},null,null,null,{"$f":"IF(MASTA!$BY$6<>\"\",MASTA!$BY$6,\"\")","v":"令和4年10月"},null,null,null,{"$f":"IF(MASTA!$BZ$6<>\"\",MASTA!$BZ$6,\"\")","v":"令和4年11月"},null,null,null,{"$f":"IF(MASTA!$CA$6<>\"\",MASTA!$CA$6,\"\")","v":"令和4年12月"},null,null,null,{"$f":"IF(MASTA!$CB$6<>\"\",MASTA!$CB$6,\"\")","v":"令和5年1月"},null,null,null,{"$f":"IF(MASTA!$CC$6<>\"\",MASTA!$CC$6,\"\")","v":"令和5年2月"},null,null,null,{"$f":"IF(MASTA!$CD$6<>\"\",MASTA!$CD$6,\"\")","v":"令和5年3月"},null,null,null,"計"]
[null,null,null,null,"月毎の所定労働時間",null,null,null,null,null,{"$f":"IF(INDIRECT(\"WORK4!\" & \"ER\" & ($BO43-1)*5+$BN43)=\"\",\"\",MID(INDIRECT(\"WORK4!\" & \"ER\" & ($BO43-1)*5+$BN43),1,11))","v":""},null,null,null,{"$f":"IF(INDIRECT(\"WORK4!\" & \"ES\" & ($BO43-1)*5+$BN43)=\"\",\"\",MID(INDIRECT(\"WORK4!\" & \"ES\" & ($BO43-1)*5+$BN43),1,11))","v":""},null,null,null,{"$f":"IF(INDIRECT(\"WORK4!\" & \"ET\" & ($BO43-1)*5+$BN43)=\"\",\"\",MID(INDIRECT(\"WORK4!\" & \"ET\" & ($BO43-1)*5+$BN43),1,11))","v":""},null,null,null,{"$f":"IF(INDIRECT(\"WORK4!\" & \"EU\" & ($BO43-1)*5+$BN43)=\"\",\"\",MID(INDIRECT(\"WORK4!\" & \"EU\" & ($BO43-1)*5+$BN43),1,11))","v":""},null,null,null,{"$f":"IF(INDIRECT(\"WORK4!\" & \"EV\" & ($BO43-1)*5+$BN43)=\"\",\"\",MID(INDIRECT(\"WORK4!\" & \"EV\" & ($BO43-1)*5+$BN43),1,11))","v":""},null,null,null,{"$f":"IF(INDIRECT(\"WORK4!\" & \"EW\" & ($BO43-1)*5+$BN43)=\"\",\"\",MID(INDIRECT(\"WORK4!\" & \"EW\" & ($BO43-1)*5+$BN43),1,11))","v":""},null,null,null,{"$f":"IF(INDIRECT(\"WORK4!\" & \"EX\" & ($BO43-1)*5+$BN43)=\"\",\"\",MID(INDIRECT(\"WORK4!\" & \"EX\" & ($BO43-1)*5+$BN43),1,11))","v":""},null,null,null,{"$f":"IF(INDIRECT(\"WORK4!\" & \"EY\" & ($BO43-1)*5+$BN43)=\"\",\"\",MID(INDIRECT(\"WORK4!\" & \"EY\" & ($BO43-1)*5+$BN43),1,11))","v":""},null,null,null,{"$f":"IF(INDIRECT(\"WORK4!\" & \"EZ\" & ($BO43-1)*5+$BN43)=\"\",\"\",MID(INDIRECT(\"WORK4!\" & \"EZ\" & ($BO43-1)*5+$BN43),1,11))","v":""},null,null,null,{"$f":"IF(INDIRECT(\"WORK4!\" & \"FA\" & ($BO43-1)*5+$BN43)=\"\",\"\",MID(INDIRECT(\"WORK4!\" & \"FA\" & ($BO43-1)*5+$BN43),1,11))","v":""},null,null,null,{"$f":"IF(INDIRECT(\"WORK4!\" & \"FB\" & ($BO43-1)*5+$BN43)=\"\",\"\",MID(INDIRECT(\"WORK4!\" & \"FB\" & ($BO43-1)*5+$BN43),1,11))","v":""},null,null,null,{"$f":"IF(INDIRECT(\"WORK4!\" & \"FC\" & ($BO43-1)*5+$BN43)=\"\",\"\",MID(INDIRECT(\"WORK4!\" & \"FC\" & ($BO43-1)*5+$BN43),1,11))","v":""},null,null,null,{"$f":"IF(INDIRECT(\"WORK4!\" & \"FQ\" & ($BO43-1)*5+$BN43)=\"\",\"\",INT(MID(INDIRECT(\"WORK4!\" & \"FQ\" & ($BO43-1)*5+$BN43),1,11)))","v":""}]
[null,null,null,null,"月毎の実労働時間",null,null,null,null,null,{"$f":"IF(INDIRECT(\"WORK4!\" & \"FD\" & ($BO43-1)*5+$BN43)=\"\",\"\",MID(INDIRECT(\"WORK4!\" & \"FD\" & ($BO43-1)*5+$BN43),1,11))","v":""},null,null,null,{"$f":"IF(INDIRECT(\"WORK4!\" & \"FE\" & ($BO43-1)*5+$BN43)=\"\",\"\",MID(INDIRECT(\"WORK4!\" & \"FE\" & ($BO43-1)*5+$BN43),1,11))","v":""},null,null,null,{"$f":"IF(INDIRECT(\"WORK4!\" & \"FF\" & ($BO43-1)*5+$BN43)=\"\",\"\",MID(INDIRECT(\"WORK4!\" & \"FF\" & ($BO43-1)*5+$BN43),1,11))","v":""},null,null,null,{"$f":"IF(INDIRECT(\"WORK4!\" & \"FG\" & ($BO43-1)*5+$BN43)=\"\",\"\",MID(INDIRECT(\"WORK4!\" & \"FG\" & ($BO43-1)*5+$BN43),1,11))","v":""},null,null,null,{"$f":"IF(INDIRECT(\"WORK4!\" & \"FH\" & ($BO43-1)*5+$BN43)=\"\",\"\",MID(INDIRECT(\"WORK4!\" & \"FH\" & ($BO43-1)*5+$BN43),1,11))","v":""},null,null,null,{"$f":"IF(INDIRECT(\"WORK4!\" & \"FI\" & ($BO43-1)*5+$BN43)=\"\",\"\",MID(INDIRECT(\"WORK4!\" & \"FI\" & ($BO43-1)*5+$BN43),1,11))","v":""},null,null,null,{"$f":"IF(INDIRECT(\"WORK4!\" & \"FJ\" & ($BO43-1)*5+$BN43)=\"\",\"\",MID(INDIRECT(\"WORK4!\" & \"FJ\" & ($BO43-1)*5+$BN43),1,11))","v":""},null,null,null,{"$f":"IF(INDIRECT(\"WORK4!\" & \"FK\" & ($BO43-1)*5+$BN43)=\"\",\"\",MID(INDIRECT(\"WORK4!\" & \"FK\" & ($BO43-1)*5+$BN43),1,11))","v":""},null,null,null,{"$f":"IF(INDIRECT(\"WORK4!\" & \"FL\" & ($BO43-1)*5+$BN43)=\"\",\"\",MID(INDIRECT(\"WORK4!\" & \"FL\" & ($BO43-1)*5+$BN43),1,11))","v":""},null,null,null,{"$f":"IF(INDIRECT(\"WORK4!\" & \"FM\" & ($BO43-1)*5+$BN43)=\"\",\"\",MID(INDIRECT(\"WORK4!\" & \"FM\" & ($BO43-1)*5+$BN43),1,11))","v":""},null,null,null,{"$f":"IF(INDIRECT(\"WORK4!\" & \"FN\" & ($BO43-1)*5+$BN43)=\"\",\"\",MID(INDIRECT(\"WORK4!\" & \"FN\" & ($BO43-1)*5+$BN43),1,11))","v":""},null,null,null,{"$f":"IF(INDIRECT(\"WORK4!\" & \"FO\" & ($BO43-1)*5+$BN43)=\"\",\"\",MID(INDIRECT(\"WORK4!\" & \"FO\" & ($BO43-1)*5+$BN43),1,11))","v":""},null,null,null,{"$f":"IF(INDIRECT(\"WORK4!\" & \"FR\" & ($BO43-1)*5+$BN43)=\"\",\"\",INT(MID(INDIRECT(\"WORK4!\" & \"FR\" & ($BO43-1)*5+$BN43),1,11)))","v":""}]
[null,"注）「記入上の注意」をよく読んで記入して下さい。"]
[null,null,null,null,null,null,null,null,null,null,null,null,null,null,null,null,null,null,null,null,null,null,null,null,null,null,null,null,"（",null,null,null,"－",null,null,null,null,"）"]

{"sheet":"Specific_stime","index":17,"n_rows":49,"n_cols":67,"rows_kept":49,"cut":false,"hidden":false,"merged":[[4,53,7,64],[0,3,0,4],[4,1,4,2],[4,20,4,43],[8,1,11,1],[8,2,11,13],[8,36,11,36],[9,16,10,17],[10,40,11,41],[10,42,11,43],[10,44,11,44],[10,45,11,46],[10,47,11,47],[10,50,11,50],[9,18,10,19],[9,20,10,21],[9,22,10,23],[9,24,10,25],[9,26,10,27],[10,34,10,35],[16,51,17,51],[16,59,17,64],[18,1,46,1],[18,2,21,2],[18,3,21,3],[18,4,21,4],[18,12,21,12],[18,13,19,16],[18,17,19,21],[18,22,19,24],[12,1,17,1],[12,2,15,3],[12,4,15,13],[13,16,14,21],[13,55,15,64],[16,2,17,3],[16,4,17,13],[16,15,17,43],[16,44,17,47],[16,48,17,50],[19,57,19,64],[20,5,21,11],[20,13,21,13],[20,14,21,14],[20,15,21,15],[20,16,21,16],[20,17,21,17],[20,18,21,18],[18,25,19,27],[18,28,19,30],[18,31,19,35],[18,36,19,43],[18,44,19,47],[19,5,19,11],[20,53,21,53],[20,54,21,54],[20,40,21,43],[20,44,21,44],[20,45,21,45],[20,46,21,46],[20,47,21,47],[20,48,21,48],[20,34,21,34],[20,35,21,35],[20,36,21,36],[20,37,21,37],[20,38,21,38],[20,39,21,39],[18,48,19,51],[20,32,21,32],[20,33,21,33],[20,19,21,19],[20,20,21,20],[20,21,21,21],[20,22,21,22],[20,25,21,25],[18,52,19,56],[22,17,22,21],[22,22,23,22],[22,25,23,25],[22,28,23,28],[20,61,21,64],[22,2,23,2],[22,3,23,3],[22,4,23,7],[22,8,23,11],[22,12,23,12],[22,13,23,13],[22,14,23,14],[22,15,23,15],[22,16,23,16],[20,55,21,55],[20,56,21,56],[20,57,21,57],[20,58,21,58],[20,59,21,59],[20,60,21,60],[20,49,21,49],[20,50,21,50],[20,51,21,51],[20,52,21,52],[22,59,23,59],[22,60,23,60],[22,61,23,63],[23,32,23,35],[23,53,23,56],[22,49,23,49],[22,50,23,50],[22,51,23,51],[22,52,23,52],[22,57,23,57],[22,58,23,58],[22,40,23,42],[22,44,23,44],[22,45,23,45],[22,46,23,46],[22,47,23,47],[22,48,23,48],[22,36,23,36],[22,37,23,37],[22,38,23,38],[22,39,23,39],[24,46,24,49],[24,50,24,53],[24,54,24,57],[24,58,24,64],[25,4,25,9],[25,10,25,13],[25,14,25,17],[25,18,25,21],[25,22,25,25],[25,26,25,29],[24,22,24,25],[24,26,24,29],[24,30,24,33],[24,34,24,37],[24,38,24,41],[24,42,24,45],[24,4,24,9],[24,10,24,13],[24,14,24,17],[24,18,24,21],[26,50,26,53],[26,54,26,57],[26,58,26,64],[25,54,25,57],[25,58,25,64],[26,4,26,9],[26,10,26,13],[26,14,26,17],[26,18,26,21],[26,22,26,25],[26,26,26,29],[26,30,26,33],[26,34,26,37],[25,30,25,33],[25,34,25,37],[25,38,25,41],[25,42,25,45],[25,46,25,49],[25,50,25,53],[27,2,28,2],[27,3,28,3],[27,4,28,7],[27,8,28,11],[27,12,28,12],[27,13,28,13],[26,38,26,41],[26,42,26,45],[26,46,26,49],[24,2,26,2],[24,3,26,3],[27,44,28,44],[27,45,28,45],[27,25,28,25],[27,28,28,28],[27,31,28,31],[27,36,28,36],[28,32,28,35],[27,26,28,27],[27,14,28,14],[27,15,28,15],[27,16,28,16],[27,17,27,21],[27,22,28,22],[27,23,28,24],[27,52,28,52],[27,57,28,57],[27,58,28,58],[27,59,28,59],[27,60,28,60],[27,61,28,63],[28,53,28,56],[27,46,28,46],[27,47,28,47],[27,48,28,48],[27,49,28,49],[27,50,28,50],[27,51,28,51],[29,46,29,49],[29,50,29,53],[29,54,29,57],[29,58,29,64],[30,4,30,9],[30,10,30,13],[30,14,30,17],[30,18,30,21],[30,22,30,25],[30,26,30,29],[29,22,29,25],[29,26,29,29],[29,30,29,33],[29,34,29,37],[29,38,29,41],[29,42,29,45],[29,4,29,9],[29,10,29,13],[29,14,29,17],[29,18,29,21],[31,50,31,53],[31,54,31,57],[31,58,31,64],[30,54,30,57],[30,58,30,64],[31,4,31,9],[31,10,31,13],[31,14,31,17],[31,18,31,21],[31,22,31,25],[31,26,31,29],[31,30,31,33],[31,34,31,37],[30,30,30,33],[30,34,30,37],[30,38,30,41],[30,42,30,45],[30,46,30,49],[30,50,30,53],[32,2,33,2],[32,3,33,3],[32,4,33,7],[32,8,33,11],[32,12,33,12],[32,13,33,13],[31,38,31,41],[31,42,31,45],[31,46,31,49],[29,2,31,2],[29,3,31,3],[32,44,33,44],[32,45,33,45],[32,25,33,25],[32,28,33,28],[32,31,33,31],[32,36,33,36],[33,32,33,35],[32,29,33,30],[32,14,33,14],[32,15,33,15],[32,16,33,16],[32,17,32,21],[32,22,33,22],[32,52,33,52],[32,57,33,57],[32,58,33,58],[32,59,33,59],[32,60,33,60],[32,61,33,63],[33,53,33,56],[32,46,33,46],[32,47,33,47],[32,48,33,48],[32,49,33,49],[32,50,33,50],[32,51,33,51],[34,50,34,53],[34,54,34,57],[34,58,34,64],[35,4,35,9],[35,10,35,13],[35,14,35,17],[35,18,35,21],[35,22,35,25],[35,26,35,29],[34,22,34,25],[34,26,34,29],[34,30,34,33],[34,34,34,37],[34,38,34,41],[34,42,34,45],[34,4,34,9],[34,10,34,13],[34,14,34,17],[34,18,34,21],[36,50,36,53],[36,54,36,57],[36,58,36,64],[35,54,35,57],[35,58,35,64],[36,4,36,9],[36,10,36,13],[36,14,36,17],[36,18,36,21],[36,22,36,25],[36,26,36,29],[36,30,36,33],[36,34,36,37],[35,30,35,33],[35,34,35,37],[35,38,35,41],[35,42,35,45],[35,46,35,49],[35,50,35,53],[37,2,38,2],[37,3,38,3],[37,4,38,7],[37,8,38,11],[37,12,38,12],[37,13,38,13],[36,38,36,41],[36,42,36,45],[36,46,36,49],[34,2,36,2],[34,3,36,3],[37,44,38,44],[37,45,38,45],[37,25,38,25],[37,28,38,28],[37,31,38,31],[37,36,38,36],[38,32,38,35],[37,14,38,14],[37,15,38,15],[37,16,38,16],[37,17,37,21],[37,22,38,22],[34,46,34,49],[37,52,38,52],[37,57,38,57],[37,58,38,58],[37,59,38,59],[37,60,38,60],[37,61,38,63],[38,53,38,56],[37,46,38,46],[37,47,38,47],[37,48,38,48],[37,49,38,49],[37,50,38,50],[37,51,38,51],[39,46,39,49],[39,50,39,53],[39,54,39,57],[39,58,39,64],[40,4,40,9],[40,10,40,13],[40,14,40,17],[40,18,40,21],[40,22,40,25],[40,26,40,29],[39,22,39,25],[39,26,39,29],[39,30,39,33],[39,34,39,37],[39,38,39,41],[39,42,39,45],[39,4,39,9],[39,10,39,13],[39,14,39,17],[39,18,39,21],[41,46,41,49],[41,50,41,53],[41,54,41,57],[41,58,41,64],[40,54,40,57],[40,58,40,64],[41,4,41,9],[41,10,41,13],[41,14,41,17],[41,18,41,21],[41,22,41,25],[41,26,41,29],[41,30,41,33],[41,34,41,37],[40,30,40,33],[40,34,40,37],[40,38,40,41],[40,42,40,45],[40,46,40,49],[40,50,40,53],[42,22,43,22],[42,2,43,2],[42,3,43,3],[42,4,43,7],[42,8,43,11],[42,12,43,12],[42,13,43,13],[41,38,41,41],[41,42,41,45],[39,2,41,2],[39,3,41,3],[42,59,43,59],[42,60,43,60],[42,61,43,63],[43,53,43,56],[42,46,43,46],[42,47,43,47],[42,48,43,48],[42,49,43,49],[42,50,43,50],[42,51,43,51],[44,2,46,2],[44,3,46,3],[44,4,44,9],[44,10,44,13],[44,14,44,17],[44,18,44,21],[42,52,43,52],[42,57,43,57],[42,58,43,58],[42,37,43,37],[42,38,43,38],[42,39,43,39],[42,40,43,42],[42,44,43,44],[42,45,43,45],[42,25,43,25],[42,28,43,28],[42,31,43,31],[42,36,43,36],[43,32,43,35],[42,14,43,14],[42,15,43,15],[42,16,43,16],[42,17,42,21],[44,46,44,49],[44,50,44,53],[44,54,44,57],[44,58,44,64],[45,4,45,9],[45,10,45,13],[45,14,45,17],[45,18,45,21],[45,22,45,25],[45,26,45,29],[44,22,44,25],[44,26,44,29],[44,30,44,33],[44,34,44,37],[44,38,44,41],[44,42,44,45],[46,42,46,45],[46,46,46,49],[46,50,46,53],[46,54,46,57],[46,58,46,64],[45,54,45,57],[45,58,45,64],[46,4,46,9],[46,10,46,13],[46,14,46,17],[46,18,46,21],[46,22,46,25],[46,26,46,29],[46,30,46,33],[46,34,46,37],[45,30,45,33],[45,34,45,37],[45,38,45,41],[45,42,45,45],[45,46,45,49],[45,50,45,53],[48,34,48,36],[20,23,21,24],[22,23,23,24],[20,26,21,27],[22,26,23,27],[20,29,21,30],[22,29,23,30],[27,29,28,30],[46,38,46,41],[37,37,38,37],[37,38,38,38],[37,39,38,39],[37,40,38,42],[32,37,33,37],[32,38,33,38],[32,39,33,39],[32,40,33,42],[27,37,28,37],[27,38,28,38],[27,39,28,39],[27,40,28,42],[22,31,23,31],[20,28,21,28],[20,31,21,31],[32,26,33,27],[37,29,38,30],[37,26,38,27],[42,29,43,30],[42,26,43,27],[42,23,43,24],[37,23,38,24],[32,23,33,24],[48,29,48,31]]}
[]
[]
[null,null,null,null,null,null,null,null,null,null,null,null,null,null,null,null,null,null,null,null,null,null,null,null,null,null,null,null,null,null,null,null,null,null,null,null,null,null,null,null,null,null,null,null,null,null,null,null,null,null,null,null,null,null,null,null,null,null,null,null,null,null,null,null,null,{"$f":"INT((ROW()+48-3)/48)","v":1}]
[]
[null,3,null,null,null,null,null,null,null,null,null,null,null,null,null,null,null,null,null,null,"障害者雇用状況等報告書（Ⅱ）",null,null,null,null,null,null,null,null,null,null,null,null,null,null,null,null,null,null,null,null,null,null,null,null,null,null,null,null,null,null,null,null,"この報告書には、週労働時間が10時間以上20時間未満の雇用障害者について記載してください。"]
[]
[null,null,null,null,null,null,null,null,null,null,null,null,null,null,null,null,null,null,null,null,null,null,null,null,null,"［",null,"特定短時間労働者用",null,null,null,null,null,null,null,null,null,null,"］"]
[]
[null,"①","事業主番号"]
[null,null,null,null,null,null,null,null,null,null,null,null,null,null,null,null,{"$f":"IF(Sheet1!$A$3=0,\"\",MID(Sheet1!$A$3,1,1))","v":""},null,{"$f":"IF(Sheet1!$A$3=0,\"\",MID(Sheet1!$A$3,2,1))","v":""},null,{"$f":"IF(Sheet1!$A$3=0,\"\",MID(Sheet1!$A$3,3,1))","v":""},null,{"$f":"IF(Sheet1!$A$3=0,\"\",MID(Sheet1!$A$3,4,1))","v":""},null,{"$f":"IF(Sheet1!$A$3=0,\"\",MID(Sheet1!$A$3,5,1))","v":""},null,{"$f":"IF(Sheet1!$A$3=0,\"\",MID(Sheet1!$A$3,6,1))","v":""}]
[]
[]
[null,"②　事　業　所","(ｲ)",null,"事業所別連番"]
[null,null,null,null,null,null,null,null,null,null,null,null,null,null,null,null,{"$f":"IF(INDIRECT(\"syo3_data6_work!B\"&($BN3-1)*5+1)=\"\",\"\",RIGHT(INDIRECT(\"syo3_data6_work!B\"&($BN3-1)*5+1)+1000,3))","v":""}]
[]
[]
[null,null,"(ﾛ)",null,"名　　　　　　 　　　 　称",null,null,null,null,null,null,null,null,null,null,{"$f":"IF(INDIRECT(\"syo3_data6_work!GA\"&($BN3-1)*5+1)=\"\",\"\",INDIRECT(\"syo3_data6_work!GA\"&($BN3-1)*5+1))","v":""},null,null,null,null,null,null,null,null,null,null,null,null,null,null,null,null,null,null,null,null,null,null,null,null,null,null,null,null,"　(ﾊ)\n  算定基礎日",null,null,null,{"$f":"IF(INDIRECT(\"syo3_data6_work!GB\"&($BN3-1)*5+1)=\"\",\"\",INDIRECT(\"syo3_data6_work!GB\"&($BN3-1)*5+1))","v":""},null,null,"日"]
[5]
[null,"③　身 体 障 害 者  、 知 的 障 害 者 及 び 精 神 障 害 者","手帳の確認\n(ｶ)","(ﾀ)所定労働時\n間変動の有無","(ｲ)",null,null,null,null,null,null,null,"(ﾛ)性別","(ﾊ) 生年月日",null,null,null,"(ﾆ)手帳番号",null,null,null,null,"（ﾎ）身体\n   障害者",null,null,"（ﾍ）知的\n　 障害者",null,null,"（ﾄ）精神\n   障害者",null,null,"(ﾁ)雇入れ年月日",null,null,null,null,"(ﾘ)転入年月日",null,null,null,null,null,null,null,"(ﾇ)年度内に身体\n障害者又は精神\n障害者となった\n年月日",null,null,null,"(ﾙ)年度内に\n障害者でなくなった\n年月日",null,null,null,"(ｦ)離職年月日"]
[6,null,null,null,null,"氏　　　　　名",null,null,null,null,null,null,null,null,null,null,null,null,null,null,null,null,null,null,null,null,null,null,null,null,null,null,null,null,null,null,null,null,null,null,null,null,null,null,null,null,null,null,null,null,null,null,null,null,null,null,null,"(ﾜ)転出年月日"]
[null,null,null,null,null,"（カタカナで記載）",null,null,null,null,null,null,null,"元号","年","月","日","有効期限","元号","年","月","日","(a)確認",null,null,"(a)確認",null,null,"(a)確認",null,null,null,"元\n号","年","月","日","元号","年","月","日","転入前の\n事業所名等",null,null,null,"元号","年","月","日","元号","年","月","日",null,"元\n号","年","月","日","元号","年","月","日","転出先の\n事業所名等"]
[]
[null,null,{"$f":"IF(INDIRECT(\"syo3_data6_work!EO\"&($BO23-1)*5+$BN23)=\"\",\"\",IF(MID(INDIRECT(\"syo3_data6_work!EO\"&($BO23-1)*5+$BN23),1,10)=\"1\",\"ﾚ\",\"\"))","v":""},{"$f":"IF(INDIRECT(\"syo3_data6_work!EP\"&($BO23-1)*5+$BN23)=\"\",\"\",IF(MID(INDIRECT(\"syo3_data6_work!EP\"&($BO23-1)*5+$BN23),1,10)=\"1\",\"ﾚ\",\"\"))","v":""},{"$f":"IF(INDIRECT(\"syo3_data6_work!D\"&($BO23-1)*5+$BN23)=\"\",\"\",MID(INDIRECT(\"syo3_data6_work!D\"&($BO23-1)*5+$BN23),1,10))","v":""},null,null,null,{"$f":"IF(INDIRECT(\"syo3_data6_work!E\"&($BO23-1)*5+$BN23)=\"\",\"\",MID(INDIRECT(\"syo3_data6_work!E\"&($BO23-1)*5+$BN23),1,10))","v":""},null,null,null,{"$f":"IF(INDIRECT(\"syo3_data6_work!G\" & ($BO23-1)*5+$BN23)=\"\",\"\",INDIRECT(\"syo3_data6_work!G\" & ($BO23-1)*5+$BN23))","v":""},{"$f":"IF(INDIRECT(\"syo3_data6_work!H\"&($BO23-1)*5+$BN23)=\"\",\"\",MID(INDIRECT(\"syo3_data6_work!H\"&($BO23-1)*5+$BN23),1,1))","v":""},{"$f":"IF(INDIRECT(\"syo3_data6_work!H\"&($BO23-1)*5+$BN23)=\"\",\"\",MID(INDIRECT(\"syo3_data6_work!H\"&($BO23-1)*5+$BN23),2,2))","v":""},{"$f":"IF(INDIRECT(\"syo3_data6_work!H\"&($BO23-1)*5+$BN23)=\"\",\"\",MID(INDIRECT(\"syo3_data6_work!H\"&($BO23-1)*5+$BN23),4,2))","v":""},{"$f":"IF(INDIRECT(\"syo3_data6_work!H\"&($BO23-1)*5+$BN23)=\"\",\"\",MID(INDIRECT(\"syo3_data6_work!H\"&($BO23-1)*5+$BN23),6,2))","v":""},{"$f":"IF(INDIRECT(\"syo3_data6_work!I\" & ($BO23-1)*5+$BN23)=\"\",\"\",MID(INDIRECT(\"syo3_data6_work!I\" & ($BO23-1)*5+$BN23),1,11))","v":""},null,null,null,null,{"$f":"IF(INDIRECT(\"syo3_data6_work!K\" & ($BO23-1)*5+$BN23)=\"\",\"\",INDIRECT(\"syo3_data6_work!K\" & ($BO23-1)*5+$BN23))","v":""},null,null,{"$f":"IF(INDIRECT(\"syo3_data6_work!O\" & ($BO23-1)*5+$BN23)=\"\",\"\",INDIRECT(\"syo3_data6_work!O\" & ($BO23-1)*5+$BN23))","v":""},null,null,{"$f":"IF(INDIRECT(\"syo3_data6_work!S\" & ($BO23-1)*5+$BN23)=\"\",\"\",INDIRECT(\"syo3_data6_work!S\" & ($BO23-1)*5+$BN23))","v":""},null,null,null,{"$f":"IF(INDIRECT(\"syo3_data6_work!T\" & ($BO23-1)*5+$BN23)=\"\",\"\",MID(INDIRECT(\"syo3_data6_work!T\" & ($BO23-1)*5+$BN23),1,1))","v":""},{"$f":"IF(INDIRECT(\"syo3_data6_work!T\" & ($BO23-1)*5+$BN23)=\"\",\"\",MID(INDIRECT(\"syo3_data6_work!T\" & ($BO23-1)*5+$BN23),2,2))","v":""},{"$f":"IF(INDIRECT(\"syo3_data6_work!T\" & ($BO23-1)*5+$BN23)=\"\",\"\",MID(INDIRECT(\"syo3_data6_work!T\" & ($BO23-1)*5+$BN23),4,2))","v":""},{"$f":"IF(INDIRECT(\"syo3_data6_work!T\" & ($BO23-1)*5+$BN23)=\"\",\"\",MID(INDIRECT(\"syo3_data6_work!T\" & ($BO23-1)*5+$BN23),6,2))","v":""},{"$f":"IF(INDIRECT(\"syo3_data6_work!Y\" & ($BO23-1)*5+$BN23)=\"\",\"\",MID(INDIRECT(\"syo3_data6_work!Y\" & ($BO23-1)*5+$BN23),1,1))","v":""},{"$f":"IF(INDIRECT(\"syo3_data6_work!Y\" & ($BO23-1)*5+$BN23)=\"\",\"\",MID(INDIRECT(\"syo3_data6_work!Y\" & ($BO23-1)*5+$BN23),2,2))","v":""},{"$f":"IF(INDIRECT(\"syo3_data6_work!Y\" & ($BO23-1)*5+$BN23)=\"\",\"\",MID(INDIRECT(\"syo3_data6_work!Y\" & ($BO23-1)*5+$BN23),4,2))","v":""},{"$f":"IF(INDIRECT(\"syo3_data6_work!Y\" & ($BO23-1)*5+$BN23)=\"\",\"\",MID(INDIRECT(\"syo3_data6_work!Y\" & ($BO23-1)*5+$BN23),6,2))","v":""},{"$f":"IF(INDIRECT(\"syo3_data6_work!AA\" & ($BO23-1)*5+$BN23)=\"\",\"\",MID(INDIRECT(\"syo3_data6_work!AA\" & ($BO23-1)*5+$BN23),1,15))","v":""},null,null,null,{"$f":"IF(INDIRECT(\"syo3_data6_work!U\" & ($BO23-1)*5+$BN23)=\"\",\"\",MID(INDIRECT(\"syo3_data6_work!U\" & ($BO23-1)*5+$BN23),1,1))","v":""},{"$f":"IF(INDIRECT(\"syo3_data6_work!U\" & ($BO23-1)*5+$BN23)=\"\",\"\",MID(INDIRECT(\"syo3_data6_work!U\" & ($BO23-1)*5+$BN23),2,2))","v":""},{"$f":"IF(INDIRECT(\"syo3_data6_work!U\" & ($BO23-1)*5+$BN23)=\"\",\"\",MID(INDIRECT(\"syo3_data6_work!U\" & ($BO23-1)*5+$BN23),4,2))","v":""},{"$f":"IF(INDIRECT(\"syo3_data6_work!U\" & ($BO23-1)*5+$BN23)=\"\",\"\",MID(INDIRECT(\"syo3_data6_work!U\" & ($BO23-1)*5+$BN23),6,2))","v":""},{"$f":"IF(INDIRECT(\"syo3_data6_work!V\" & ($BO23-1)*5+$BN23)=\"\",\"\",MID(INDIRECT(\"syo3_data6_work!V\" & ($BO23-1)*5+$BN23),1,1))","v":""},{"$f":"IF(INDIRECT(\"syo3_data6_work!V\" & ($BO23-1)*5+$BN23)=\"\",\"\",MID(INDIRECT(\"syo3_data6_work!V\" & ($BO23-1)*5+$BN23),2,2))","v":""},{"$f":"IF(INDIRECT(\"syo3_data6_work!V\" & ($BO23-1)*5+$BN23)=\"\",\"\",MID(INDIRECT(\"syo3_data6_work!V\" & ($BO23-1)*5+$BN23),4,2))","v":""},{"$f":"IF(INDIRECT(\"syo3_data6_work!V\" & ($BO23-1)*5+$BN23)=\"\",\"\",MID(INDIRECT(\"syo3_data6_work!V\" & ($BO23-1)*5+$BN23),6,2))","v":""},null,{"$f":"IF(INDIRECT(\"syo3_data6_work!W\" & ($BO23-1)*5+$BN23)=\"\",\"\",MID(INDIRECT(\"syo3_data6_work!W\" & ($BO23-1)*5+$BN23),1,1))","v":""},{"$f":"IF(INDIRECT(\"syo3_data6_work!W\" & ($BO23-1)*5+$BN23)=\"\",\"\",MID(INDIRECT(\"syo3_data6_work!W\" & ($BO23-1)*5+$BN23),2,2))","v":""},{"$f":"IF(INDIRECT(\"syo3_data6_work!W\" & ($BO23-1)*5+$BN23)=\"\",\"\",MID(INDIRECT(\"syo3_data6_work!W\" & ($BO23-1)*5+$BN23),4,2))","v":""},{"$f":"IF(INDIRECT(\"syo3_data6_work!W\" & ($BO23-1)*5+$BN23)=\"\",\"\",MID(INDIRECT(\"syo3_data6_work!W\" & ($BO23-1)*5+$BN23),6,2))","v":""},{"$f":"IF(INDIRECT(\"syo3_data6_work!Z\" & ($BO23-1)*5+$BN23)=\"\",\"\",MID(INDIRECT(\"syo3_data6_work!Z\" & ($BO23-1)*5+$BN23),1,1))","v":""},{"$f":"IF(INDIRECT(\"syo3_data6_work!Z\" & ($BO23-1)*5+$BN23)=\"\",\"\",MID(INDIRECT(\"syo3_data6_work!Z\" & ($BO23-1)*5+$BN23),2,2))","v":""},{"$f":"IF(INDIRECT(\"syo3_data6_work!Z\" & ($BO23-1)*5+$BN23)=\"\",\"\",MID(INDIRECT(\"syo3_data6_work!Z\" & ($BO23-1)*5+$BN23),4,2))","v":""},{"$f":"IF(INDIRECT(\"syo3_data6_work!Z\" & ($BO23-1)*5+$BN23)=\"\",\"\",MID(INDIRECT(\"syo3_data6_work!Z\" & ($BO23-1)*5+$BN23),6,2))","v":""},{"$f":"IF(INDIRECT(\"syo3_data6_work!AB\" & ($BO23-1)*5+$BN23)=\"\",\"\",MID(INDIRECT(\"syo3_data6_work!AB\" & ($BO23-1)*5+$BN23),1,15))","v":""},null,null,null,1,{"$f":"INT((ROW()+48-3)/48)","v":1}]
[null,null,null,null,null,null,null,null,null,null,null,null,null,null,null,null,null,"有効期限",{"$f":"IF(INDIRECT(\"syo3_data6_work!EQ\" & ($BO23-1)*5+$BN23)=\"\",\"\",MID(INDIRECT(\"syo3_data6_work!EQ\" & ($BO23-1)*5+$BN23),1,1))","v":""},{"$f":"IF(INDIRECT(\"syo3_data6_work!EQ\" & ($BO23-1)*5+$BN23)=\"\",\"\",MID(INDIRECT(\"syo3_data6_work!EQ\" & ($BO23-1)*5+$BN23),2,2))","v":""},{"$f":"IF(INDIRECT(\"syo3_data6_work!EQ\" & ($BO23-1)*5+$BN23)=\"\",\"\",MID(INDIRECT(\"syo3_data6_work!EQ\" & ($BO23-1)*5+$BN23),4,2))","v":""},{"$f":"IF(INDIRECT(\"syo3_data6_work!EQ\" & ($BO23-1)*5+$BN23)=\"\",\"\",MID(INDIRECT(\"syo3_data6_work!EQ\" & ($BO23-1)*5+$BN23),6,2))","v":""},null,null,null,null,null,null,null,null,null,null,null,null,null,null,null,null,null,null,null,null,null,"から",null,null,null,null,null,null,null,null,null,null,null,null,null,null,null,null,null,null,null,null,"へ"]
[null,null,null,"(ﾖ)","申告・申請年月",null,null,null,null,null,{"$f":"IF(MASTA!$BS$6<>\"\",MASTA!$BS$6,\"\")","v":"令和4年4月"},null,null,null,{"$f":"IF(MASTA!$BT$6<>\"\",MASTA!$BT$6,\"\")","v":"令和4年5月"},null,null,null,{"$f":"IF(MASTA!$BU$6<>\"\",MASTA!$BU$6,\"\")","v":"令和4年6月"},null,null,null,{"$f":"IF(MASTA!$BV$6<>\"\",MASTA!$BV$6,\"\")","v":"令和4年7月"},null,null,null,{"$f":"IF(MASTA!$BW$6<>\"\",MASTA!$BW$6,\"\")","v":"令和4年8月"},null,null,null,{"$f":"IF(MASTA!$BX$6<>\"\",MASTA!$BX$6,\"\")","v":"令和4年9月"},null,null,null,{"$f":"IF(MASTA!$BY$6<>\"\",MASTA!$BY$6,\"\")","v":"令和4年10月"},null,null,null,{"$f":"IF(MASTA!$BZ$6<>\"\",MASTA!$BZ$6,\"\")","v":"令和4年11月"},null,null,null,{"$f":"IF(MASTA!$CA$6<>\"\",MASTA!$CA$6,\"\")","v":"令和4年12月"},null,null,null,{"$f":"IF(MASTA!$CB$6<>\"\",MASTA!$CB$6,\"\")","v":"令和5年1月"},null,null,null,{"$f":"IF(MASTA!$CC$6<>\"\",MASTA!$CC$6,\"\")","v":"令和5年2月"},null,null,null,{"$f":"IF(MASTA!$CD$6<>\"\",MASTA!$CD$6,\"\")","v":"令和5年3月"},null,null,null,"計"]
[null,null,null,null,"月毎の所定労働時間",null,null,null,null,null,{"$f":"IF(INDIRECT(\"syo3_data6_work!ER\" & ($BO23-1)*5+$BN23)=\"\",\"\",MID(INDIRECT(\"syo3_data6_work!ER\" & ($BO23-1)*5+$BN23),1,11))","v":""},null,null,null,{"$f":"IF(INDIRECT(\"syo3_data6_work!ES\" & ($BO23-1)*5+$BN23)=\"\",\"\",MID(INDIRECT(\"syo3_data6_work!ES\" & ($BO23-1)*5+$BN23),1,11))","v":""},null,null,null,{"$f":"IF(INDIRECT(\"syo3_data6_work!ET\" & ($BO23-1)*5+$BN23)=\"\",\"\",MID(INDIRECT(\"syo3_data6_work!ET\" & ($BO23-1)*5+$BN23),1,11))","v":""},null,null,null,{"$f":"IF(INDIRECT(\"syo3_data6_work!EU\" & ($BO23-1)*5+$BN23)=\"\",\"\",MID(INDIRECT(\"syo3_data6_work!EU\" & ($BO23-1)*5+$BN23),1,11))","v":""},null,null,null,{"$f":"IF(INDIRECT(\"syo3_data6_work!EV\" & ($BO23-1)*5+$BN23)=\"\",\"\",MID(INDIRECT(\"syo3_data6_work!EV\" & ($BO23-1)*5+$BN23),1,11))","v":""},null,null,null,{"$f":"IF(INDIRECT(\"syo3_data6_work!EW\" & ($BO23-1)*5+$BN23)=\"\",\"\",MID(INDIRECT(\"syo3_data6_work!EW\" & ($BO23-1)*5+$BN23),1,11))","v":""},null,null,null,{"$f":"IF(INDIRECT(\"syo3_data6_work!EX\" & ($BO23-1)*5+$BN23)=\"\",\"\",MID(INDIRECT(\"syo3_data6_work!EX\" & ($BO23-1)*5+$BN23),1,11))","v":""},null,null,null,{"$f":"IF(INDIRECT(\"syo3_data6_work!EY\" & ($BO23-1)*5+$BN23)=\"\",\"\",MID(INDIRECT(\"syo3_data6_work!EY\" & ($BO23-1)*5+$BN23),1,11))","v":""},null,null,null,{"$f":"IF(INDIRECT(\"syo3_data6_work!EZ\" & ($BO23-1)*5+$BN23)=\"\",\"\",MID(INDIRECT(\"syo3_data6_work!EZ\" & ($BO23-1)*5+$BN23),1,11))","v":""},null,null,null,{"$f":"IF(INDIRECT(\"syo3_data6_work!FA\" & ($BO23-1)*5+$BN23)=\"\",\"\",MID(INDIRECT(\"syo3_data6_work!FA\" & ($BO23-1)*5+$BN23),1,11))","v":""},null,null,null,{"$f":"IF(INDIRECT(\"syo3_data6_work!FB\" & ($BO23-1)*5+$BN23)=\"\",\"\",MID(INDIRECT(\"syo3_data6_work!FB\" & ($BO23-1)*5+$BN23),1,11))","v":""},null,null,null,{"$f":"IF(INDIRECT(\"syo3_data6_work!FC\" & ($BO23-1)*5+$BN23)=\"\",\"\",MID(INDIRECT(\"syo3_data6_work!FC\" & ($BO23-1)*5+$BN23),1,11))","v":""},null,null,null,{"$f":"IF(INDIRECT(\"syo3_data6_work!FQ\" & ($BO23-1)*5+$BN23)=\"\",\"\",INT(MID(INDIRECT(\"syo3_data6_work!FQ\" & ($BO23-1)*5+$BN23),1,11)))","v":""}]
[null,null,null,null,"月毎の実労働時間",null,null,null,null,null,{"$f":"IF(INDIRECT(\"syo3_data6_work!FD\" & ($BO23-1)*5+$BN23)=\"\",\"\",MID(INDIRECT(\"syo3_data6_work!FD\" & ($BO23-1)*5+$BN23),1,11))","v":""},null,null,null,{"$f":"IF(INDIRECT(\"syo3_data6_work!FE\" & ($BO23-1)*5+$BN23)=\"\",\"\",MID(INDIRECT(\"syo3_data6_work!FE\" & ($BO23-1)*5+$BN23),1,11))","v":""},null,null,null,{"$f":"IF(INDIRECT(\"syo3_data6_work!FF\" & ($BO23-1)*5+$BN23)=\"\",\"\",MID(INDIRECT(\"syo3_data6_work!FF\" & ($BO23-1)*5+$BN23),1,11))","v":""},null,null,null,{"$f":"IF(INDIRECT(\"syo3_data6_work!FG\" & ($BO23-1)*5+$BN23)=\"\",\"\",MID(INDIRECT(\"syo3_data6_work!FG\" & ($BO23-1)*5+$BN23),1,11))","v":""},null,null,null,{"$f":"IF(INDIRECT(\"syo3_data6_work!FH\" & ($BO23-1)*5+$BN23)=\"\",\"\",MID(INDIRECT(\"syo3_data6_work!FH\" & ($BO23-1)*5+$BN23),1,11))","v":""},null,null,null,{"$f":"IF(INDIRECT(\"syo3_data6_work!FI\" & ($BO23-1)*5+$BN23)=\"\",\"\",MID(INDIRECT(\"syo3_data6_work!FI\" & ($BO23-1)*5+$BN23),1,11))","v":""},null,null,null,{"$f":"IF(INDIRECT(\"syo3_data6_work!FJ\" & ($BO23-1)*5+$BN23)=\"\",\"\",MID(INDIRECT(\"syo3_data6_work!FJ\" & ($BO23-1)*5+$BN23),1,11))","v":""},null,null,null,{"$f":"IF(INDIRECT(\"syo3_data6_work!FK\" & ($BO23-1)*5+$BN23)=\"\",\"\",MID(INDIRECT(\"syo3_data6_work!FK\" & ($BO23-1)*5+$BN23),1,11))","v":""},null,null,null,{"$f":"IF(INDIRECT(\"syo3_data6_work!FL\" & ($BO23-1)*5+$BN23)=\"\",\"\",MID(INDIRECT(\"syo3_data6_work!FL\" & ($BO23-1)*5+$BN23),1,11))","v":""},null,null,null,{"$f":"IF(INDIRECT(\"syo3_data6_work!FM\" & ($BO23-1)*5+$BN23)=\"\",\"\",MID(INDIRECT(\"syo3_data6_work!FM\" & ($BO23-1)*5+$BN23),1,11))","v":""},null,null,null,{"$f":"IF(INDIRECT(\"syo3_data6_work!FN\" & ($BO23-1)*5+$BN23)=\"\",\"\",MID(INDIRECT(\"syo3_data6_work!FN\" & ($BO23-1)*5+$BN23),1,11))","v":""},null,null,null,{"$f":"IF(INDIRECT(\"syo3_data6_work!FO\" & ($BO23-1)*5+$BN23)=\"\",\"\",MID(INDIRECT(\"syo3_data6_work!FO\" & ($BO23-1)*5+$BN23),1,11))","v":""},null,null,null,{"$f":"IF(INDIRECT(\"syo3_data6_work!FR\" & ($BO23-1)*5+$BN23)=\"\",\"\",INT(MID(INDIRECT(\"syo3_data6_work!FR\" & ($BO23-1)*5+$BN23),1,11)))","v":""}]
[null,null,{"$f":"IF(INDIRECT(\"syo3_data6_work!EO\"&($BO28-1)*5+$BN28)=\"\",\"\",IF(MID(INDIRECT(\"syo3_data6_work!EO\"&($BO28-1)*5+$BN28),1,10)=\"1\",\"ﾚ\",\"\"))","v":""},{"$f":"IF(INDIRECT(\"syo3_data6_work!EP\"&($BO28-1)*5+$BN28)=\"\",\"\",IF(MID(INDIRECT(\"syo3_data6_work!EP\"&($BO28-1)*5+$BN28),1,10)=\"1\",\"ﾚ\",\"\"))","v":""},{"$f":"IF(INDIRECT(\"syo3_data6_work!D\"&($BO28-1)*5+$BN28)=\"\",\"\",MID(INDIRECT(\"syo3_data6_work!D\"&($BO28-1)*5+$BN28),1,10))","v":""},null,null,null,{"$f":"IF(INDIRECT(\"syo3_data6_work!E\"&($BO28-1)*5+$BN28)=\"\",\"\",MID(INDIRECT(\"syo3_data6_work!E\"&($BO28-1)*5+$BN28),1,10))","v":""},null,null,null,{"$f":"IF(INDIRECT(\"syo3_data6_work!G\" & ($BO28-1)*5+$BN28)=\"\",\"\",INDIRECT(\"syo3_data6_work!G\" & ($BO28-1)*5+$BN28))","v":""},{"$f":"IF(INDIRECT(\"syo3_data6_work!H\"&($BO28-1)*5+$BN28)=\"\",\"\",MID(INDIRECT(\"syo3_data6_work!H\"&($BO28-1)*5+$BN28),1,1))","v":""},{"$f":"IF(INDIRECT(\"syo3_data6_work!H\"&($BO28-1)*5+$BN28)=\"\",\"\",MID(INDIRECT(\"syo3_data6_work!H\"&($BO28-1)*5+$BN28),2,2))","v":""},{"$f":"IF(INDIRECT(\"syo3_data6_work!H\"&($BO28-1)*5+$BN28)=\"\",\"\",MID(INDIRECT(\"syo3_data6_work!H\"&($BO28-1)*5+$BN28),4,2))","v":""},{"$f":"IF(INDIRECT(\"syo3_data6_work!H\"&($BO28-1)*5+$BN28)=\"\",\"\",MID(INDIRECT(\"syo3_data6_work!H\"&($BO28-1)*5+$BN28),6,2))","v":""},{"$f":"IF(INDIRECT(\"syo3_data6_work!I\" & ($BO28-1)*5+$BN28)=\"\",\"\",MID(INDIRECT(\"syo3_data6_work!I\" & ($BO28-1)*5+$BN28),1,11))","v":""},null,null,null,null,{"$f":"IF(INDIRECT(\"syo3_data6_work!K\" & ($BO28-1)*5+$BN28)=\"\",\"\",INDIRECT(\"syo3_data6_work!K\" & ($BO28-1)*5+$BN28))","v":""},null,null,{"$f":"IF(INDIRECT(\"syo3_data6_work!O\" & ($BO28-1)*5+$BN28)=\"\",\"\",INDIRECT(\"syo3_data6_work!O\" & ($BO28-1)*5+$BN28))","v":""},null,null,{"$f":"IF(INDIRECT(\"syo3_data6_work!S\" & ($BO28-1)*5+$BN28)=\"\",\"\",INDIRECT(\"syo3_data6_work!S\" & ($BO28-1)*5+$BN28))","v":""},null,null,null,{"$f":"IF(INDIRECT(\"syo3_data6_work!T\" & ($BO28-1)*5+$BN28)=\"\",\"\",MID(INDIRECT(\"syo3_data6_work!T\" & ($BO28-1)*5+$BN28),1,1))","v":""},{"$f":"IF(INDIRECT(\"syo3_data6_work!T\" & ($BO28-1)*5+$BN28)=\"\",\"\",MID(INDIRECT(\"syo3_data6_work!T\" & ($BO28-1)*5+$BN28),2,2))","v":""},{"$f":"IF(INDIRECT(\"syo3_data6_work!T\" & ($BO28-1)*5+$BN28)=\"\",\"\",MID(INDIRECT(\"syo3_data6_work!T\" & ($BO28-1)*5+$BN28),4,2))","v":""},{"$f":"IF(INDIRECT(\"syo3_data6_work!T\" & ($BO28-1)*5+$BN28)=\"\",\"\",MID(INDIRECT(\"syo3_data6_work!T\" & ($BO28-1)*5+$BN28),6,2))","v":""},{"$f":"IF(INDIRECT(\"syo3_data6_work!Y\" & ($BO28-1)*5+$BN28)=\"\",\"\",MID(INDIRECT(\"syo3_data6_work!Y\" & ($BO28-1)*5+$BN28),1,1))","v":""},{"$f":"IF(INDIRECT(\"syo3_data6_work!Y\" & ($BO28-1)*5+$BN28)=\"\",\"\",MID(INDIRECT(\"syo3_data6_work!Y\" & ($BO28-1)*5+$BN28),2,2))","v":""},{"$f":"IF(INDIRECT(\"syo3_data6_work!Y\" & ($BO28-1)*5+$BN28)=\"\",\"\",MID(INDIRECT(\"syo3_data6_work!Y\" & ($BO28-1)*5+$BN28),4,2))","v":""},{"$f":"IF(INDIRECT(\"syo3_data6_work!Y\" & ($BO28-1)*5+$BN28)=\"\",\"\",MID(INDIRECT(\"syo3_data6_work!Y\" & ($BO28-1)*5+$BN28),6,2))","v":""},{"$f":"IF(INDIRECT(\"syo3_data6_work!AA\" & ($BO28-1)*5+$BN28)=\"\",\"\",MID(INDIRECT(\"syo3_data6_work!AA\" & ($BO28-1)*5+$BN28),1,15))","v":""},null,null,null,{"$f":"IF(INDIRECT(\"syo3_data6_work!U\" & ($BO28-1)*5+$BN28)=\"\",\"\",MID(INDIRECT(\"syo3_data6_work!U\" & ($BO28-1)*5+$BN28),1,1))","v":""},{"$f":"IF(INDIRECT(\"syo3_data6_work!U\" & ($BO28-1)*5+$BN28)=\"\",\"\",MID(INDIRECT(\"syo3_data6_work!U\" & ($BO28-1)*5+$BN28),2,2))","v":""},{"$f":"IF(INDIRECT(\"syo3_data6_work!U\" & ($BO28-1)*5+$BN28)=\"\",\"\",MID(INDIRECT(\"syo3_data6_work!U\" & ($BO28-1)*5+$BN28),4,2))","v":""},{"$f":"IF(INDIRECT(\"syo3_data6_work!U\" & ($BO28-1)*5+$BN28)=\"\",\"\",MID(INDIRECT(\"syo3_data6_work!U\" & ($BO28-1)*5+$BN28),6,2))","v":""},{"$f":"IF(INDIRECT(\"syo3_data6_work!V\" & ($BO28-1)*5+$BN28)=\"\",\"\",MID(INDIRECT(\"syo3_data6_work!V\" & ($BO28-1)*5+$BN28),1,1))","v":""},{"$f":"IF(INDIRECT(\"syo3_data6_work!V\" & ($BO28-1)*5+$BN28)=\"\",\"\",MID(INDIRECT(\"syo3_data6_work!V\" & ($BO28-1)*5+$BN28),2,2))","v":""},{"$f":"IF(INDIRECT(\"syo3_data6_work!V\" & ($BO28-1)*5+$BN28)=\"\",\"\",MID(INDIRECT(\"syo3_data6_work!V\" & ($BO28-1)*5+$BN28),4,2))","v":""},{"$f":"IF(INDIRECT(\"syo3_data6_work!V\" & ($BO28-1)*5+$BN28)=\"\",\"\",MID(INDIRECT(\"syo3_data6_work!V\" & ($BO28-1)*5+$BN28),6,2))","v":""},null,{"$f":"IF(INDIRECT(\"syo3_data6_work!W\" & ($BO28-1)*5+$BN28)=\"\",\"\",MID(INDIRECT(\"syo3_data6_work!W\" & ($BO28-1)*5+$BN28),1,1))","v":""},{"$f":"IF(INDIRECT(\"syo3_data6_work!W\" & ($BO28-1)*5+$BN28)=\"\",\"\",MID(INDIRECT(\"syo3_data6_work!W\" & ($BO28-1)*5+$BN28),2,2))","v":""},{"$f":"IF(INDIRECT(\"syo3_data6_work!W\" & ($BO28-1)*5+$BN28)=\"\",\"\",MID(INDIRECT(\"syo3_data6_work!W\" & ($BO28-1)*5+$BN28),4,2))","v":""},{"$f":"IF(INDIRECT(\"syo3_data6_work!W\" & ($BO28-1)*5+$BN28)=\"\",\"\",MID(INDIRECT(\"syo3_data6_work!W\" & ($BO28-1)*5+$BN28),6,2))","v":""},{"$f":"IF(INDIRECT(\"syo3_data6_work!Z\" & ($BO28-1)*5+$BN28)=\"\",\"\",MID(INDIRECT(\"syo3_data6_work!Z\" & ($BO28-1)*5+$BN28),1,1))","v":""},{"$f":"IF(INDIRECT(\"syo3_data6_work!Z\" & ($BO28-1)*5+$BN28)=\"\",\"\",MID(INDIRECT(\"syo3_data6_work!Z\" & ($BO28-1)*5+$BN28),2,2))","v":""},{"$f":"IF(INDIRECT(\"syo3_data6_work!Z\" & ($BO28-1)*5+$BN28)=\"\",\"\",MID(INDIRECT(\"syo3_data6_work!Z\" & ($BO28-1)*5+$BN28),4,2))","v":""},{"$f":"IF(INDIRECT(\"syo3_data6_work!Z\" & ($BO28-1)*5+$BN28)=\"\",\"\",MID(INDIRECT(\"syo3_data6_work!Z\" & ($BO28-1)*5+$BN28),6,2))","v":""},{"$f":"IF(INDIRECT(\"syo3_data6_work!AB\" & ($BO28-1)*5+$BN28)=\"\",\"\",MID(INDIRECT(\"syo3_data6_work!AB\" & ($BO28-1)*5+$BN28),1,15))","v":""},null,null,null,2,{"$f":"INT((ROW()+48-3)/48)","v":1}]
[null,null,null,null,null,null,null,null,null,null,null,null,null,null,null,null,null,"有効期限",{"$f":"IF(INDIRECT(\"syo3_data6_work!EQ\" & ($BO28-1)*5+$BN28)=\"\",\"\",MID(INDIRECT(\"syo3_data6_work!EQ\" & ($BO28-1)*5+$BN28),1,1))","v":""},{"$f":"IF(INDIRECT(\"syo3_data6_work!EQ\" & ($BO28-1)*5+$BN28)=\"\",\"\",MID(INDIRECT(\"syo3_data6_work!EQ\" & ($BO28-1)*5+$BN28),2,2))","v":""},{"$f":"IF(INDIRECT(\"syo3_data6_work!EQ\" & ($BO28-1)*5+$BN28)=\"\",\"\",MID(INDIRECT(\"syo3_data6_work!EQ\" & ($BO28-1)*5+$BN28),4,2))","v":""},{"$f":"IF(INDIRECT(\"syo3_data6_work!EQ\" & ($BO28-1)*5+$BN28)=\"\",\"\",MID(INDIRECT(\"syo3_data6_work!EQ\" & ($BO28-1)*5+$BN28),6,2))","v":""},null,null,null,null,null,null,null,null,null,null,null,null,null,null,null,null,null,null,null,null,null,"から",null,null,null,null,null,null,null,null,null,null,null,null,null,null,null,null,null,null,null,null,"へ"]
[null,null,null,"(ﾖ)","申告・申請年月",null,null,null,null,null,{"$f":"IF(MASTA!$BS$6<>\"\",MASTA!$BS$6,\"\")","v":"令和4年4月"},null,null,null,{"$f":"IF(MASTA!$BT$6<>\"\",MASTA!$BT$6,\"\")","v":"令和4年5月"},null,null,null,{"$f":"IF(MASTA!$BU$6<>\"\",MASTA!$BU$6,\"\")","v":"令和4年6月"},null,null,null,{"$f":"IF(MASTA!$BV$6<>\"\",MASTA!$BV$6,\"\")","v":"令和4年7月"},null,null,null,{"$f":"IF(MASTA!$BW$6<>\"\",MASTA!$BW$6,\"\")","v":"令和4年8月"},null,null,null,{"$f":"IF(MASTA!$BX$6<>\"\",MASTA!$BX$6,\"\")","v":"令和4年9月"},null,null,null,{"$f":"IF(MASTA!$BY$6<>\"\",MASTA!$BY$6,\"\")","v":"令和4年10月"},null,null,null,{"$f":"IF(MASTA!$BZ$6<>\"\",MASTA!$BZ$6,\"\")","v":"令和4年11月"},null,null,null,{"$f":"IF(MASTA!$CA$6<>\"\",MASTA!$CA$6,\"\")","v":"令和4年12月"},null,null,null,{"$f":"IF(MASTA!$CB$6<>\"\",MASTA!$CB$6,\"\")","v":"令和5年1月"},null,null,null,{"$f":"IF(MASTA!$CC$6<>\"\",MASTA!$CC$6,\"\")","v":"令和5年2月"},null,null,null,{"$f":"IF(MASTA!$CD$6<>\"\",MASTA!$CD$6,\"\")","v":"令和5年3月"},null,null,null,"計"]
[null,null,null,null,"月毎の所定労働時間",null,null,null,null,null,{"$f":"IF(INDIRECT(\"syo3_data6_work!ER\" & ($BO28-1)*5+$BN28)=\"\",\"\",MID(INDIRECT(\"syo3_data6_work!ER\" & ($BO28-1)*5+$BN28),1,11))","v":""},null,null,null,{"$f":"IF(INDIRECT(\"syo3_data6_work!ES\" & ($BO28-1)*5+$BN28)=\"\",\"\",MID(INDIRECT(\"syo3_data6_work!ES\" & ($BO28-1)*5+$BN28),1,11))","v":""},null,null,null,{"$f":"IF(INDIRECT(\"syo3_data6_work!ET\" & ($BO28-1)*5+$BN28)=\"\",\"\",MID(INDIRECT(\"syo3_data6_work!ET\" & ($BO28-1)*5+$BN28),1,11))","v":""},null,null,null,{"$f":"IF(INDIRECT(\"syo3_data6_work!EU\" & ($BO28-1)*5+$BN28)=\"\",\"\",MID(INDIRECT(\"syo3_data6_work!EU\" & ($BO28-1)*5+$BN28),1,11))","v":""},null,null,null,{"$f":"IF(INDIRECT(\"syo3_data6_work!EV\" & ($BO28-1)*5+$BN28)=\"\",\"\",MID(INDIRECT(\"syo3_data6_work!EV\" & ($BO28-1)*5+$BN28),1,11))","v":""},null,null,null,{"$f":"IF(INDIRECT(\"syo3_data6_work!EW\" & ($BO28-1)*5+$BN28)=\"\",\"\",MID(INDIRECT(\"syo3_data6_work!EW\" & ($BO28-1)*5+$BN28),1,11))","v":""},null,null,null,{"$f":"IF(INDIRECT(\"syo3_data6_work!EX\" & ($BO28-1)*5+$BN28)=\"\",\"\",MID(INDIRECT(\"syo3_data6_work!EX\" & ($BO28-1)*5+$BN28),1,11))","v":""},null,null,null,{"$f":"IF(INDIRECT(\"syo3_data6_work!EY\" & ($BO28-1)*5+$BN28)=\"\",\"\",MID(INDIRECT(\"syo3_data6_work!EY\" & ($BO28-1)*5+$BN28),1,11))","v":""},null,null,null,{"$f":"IF(INDIRECT(\"syo3_data6_work!EZ\" & ($BO28-1)*5+$BN28)=\"\",\"\",MID(INDIRECT(\"syo3_data6_work!EZ\" & ($BO28-1)*5+$BN28),1,11))","v":""},null,null,null,{"$f":"IF(INDIRECT(\"syo3_data6_work!FA\" & ($BO28-1)*5+$BN28)=\"\",\"\",MID(INDIRECT(\"syo3_data6_work!FA\" & ($BO28-1)*5+$BN28),1,11))","v":""},null,null,null,{"$f":"IF(INDIRECT(\"syo3_data6_work!FB\" & ($BO28-1)*5+$BN28)=\"\",\"\",MID(INDIRECT(\"syo3_data6_work!FB\" & ($BO28-1)*5+$BN28),1,11))","v":""},null,null,null,{"$f":"IF(INDIRECT(\"syo3_data6_work!FC\" & ($BO28-1)*5+$BN28)=\"\",\"\",MID(INDIRECT(\"syo3_data6_work!FC\" & ($BO28-1)*5+$BN28),1,11))","v":""},null,null,null,{"$f":"IF(INDIRECT(\"syo3_data6_work!FQ\" & ($BO28-1)*5+$BN28)=\"\",\"\",INT(MID(INDIRECT(\"syo3_data6_work!FQ\" & ($BO28-1)*5+$BN28),1,11)))","v":""}]
[null,null,null,null,"月毎の実労働時間",null,null,null,null,null,{"$f":"IF(INDIRECT(\"syo3_data6_work!FD\" & ($BO28-1)*5+$BN28)=\"\",\"\",MID(INDIRECT(\"syo3_data6_work!FD\" & ($BO28-1)*5+$BN28),1,11))","v":""},null,null,null,{"$f":"IF(INDIRECT(\"syo3_data6_work!FE\" & ($BO28-1)*5+$BN28)=\"\",\"\",MID(INDIRECT(\"syo3_data6_work!FE\" & ($BO28-1)*5+$BN28),1,11))","v":""},null,null,null,{"$f":"IF(INDIRECT(\"syo3_data6_work!FF\" & ($BO28-1)*5+$BN28)=\"\",\"\",MID(INDIRECT(\"syo3_data6_work!FF\" & ($BO28-1)*5+$BN28),1,11))","v":""},null,null,null,{"$f":"IF(INDIRECT(\"syo3_data6_work!FG\" & ($BO28-1)*5+$BN28)=\"\",\"\",MID(INDIRECT(\"syo3_data6_work!FG\" & ($BO28-1)*5+$BN28),1,11))","v":""},null,null,null,{"$f":"IF(INDIRECT(\"syo3_data6_work!FH\" & ($BO28-1)*5+$BN28)=\"\",\"\",MID(INDIRECT(\"syo3_data6_work!FH\" & ($BO28-1)*5+$BN28),1,11))","v":""},null,null,null,{"$f":"IF(INDIRECT(\"syo3_data6_work!FI\" & ($BO28-1)*5+$BN28)=\"\",\"\",MID(INDIRECT(\"syo3_data6_work!FI\" & ($BO28-1)*5+$BN28),1,11))","v":""},null,null,null,{"$f":"IF(INDIRECT(\"syo3_data6_work!FJ\" & ($BO28-1)*5+$BN28)=\"\",\"\",MID(INDIRECT(\"syo3_data6_work!FJ\" & ($BO28-1)*5+$BN28),1,11))","v":""},null,null,null,{"$f":"IF(INDIRECT(\"syo3_data6_work!FK\" & ($BO28-1)*5+$BN28)=\"\",\"\",MID(INDIRECT(\"syo3_data6_work!FK\" & ($BO28-1)*5+$BN28),1,11))","v":""},null,null,null,{"$f":"IF(INDIRECT(\"syo3_data6_work!FL\" & ($BO28-1)*5+$BN28)=\"\",\"\",MID(INDIRECT(\"syo3_data6_work!FL\" & ($BO28-1)*5+$BN28),1,11))","v":""},null,null,null,{"$f":"IF(INDIRECT(\"syo3_data6_work!FM\" & ($BO28-1)*5+$BN28)=\"\",\"\",MID(INDIRECT(\"syo3_data6_work!FM\" & ($BO28-1)*5+$BN28),1,11))","v":""},null,null,null,{"$f":"IF(INDIRECT(\"syo3_data6_work!FN\" & ($BO28-1)*5+$BN28)=\"\",\"\",MID(INDIRECT(\"syo3_data6_work!FN\" & ($BO28-1)*5+$BN28),1,11))","v":""},null,null,null,{"$f":"IF(INDIRECT(\"syo3_data6_work!FO\" & ($BO28-1)*5+$BN28)=\"\",\"\",MID(INDIRECT(\"syo3_data6_work!FO\" & ($BO28-1)*5+$BN28),1,11))","v":""},null,null,null,{"$f":"IF(INDIRECT(\"syo3_data6_work!FR\" & ($BO28-1)*5+$BN28)=\"\",\"\",INT(MID(INDIRECT(\"syo3_data6_work!FR\" & ($BO28-1)*5+$BN28),1,11)))","v":""}]
[null,null,{"$f":"IF(INDIRECT(\"syo3_data6_work!EO\"&($BO33-1)*5+$BN33)=\"\",\"\",IF(MID(INDIRECT(\"syo3_data6_work!EO\"&($BO33-1)*5+$BN33),1,10)=\"1\",\"ﾚ\",\"\"))","v":""},{"$f":"IF(INDIRECT(\"syo3_data6_work!EP\"&($BO33-1)*5+$BN33)=\"\",\"\",IF(MID(INDIRECT(\"syo3_data6_work!EP\"&($BO33-1)*5+$BN33),1,10)=\"1\",\"ﾚ\",\"\"))","v":""},{"$f":"IF(INDIRECT(\"syo3_data6_work!D\"&($BO33-1)*5+$BN33)=\"\",\"\",MID(INDIRECT(\"syo3_data6_work!D\"&($BO33-1)*5+$BN33),1,10))","v":""},null,null,null,{"$f":"IF(INDIRECT(\"syo3_data6_work!E\"&($BO33-1)*5+$BN33)=\"\",\"\",MID(INDIRECT(\"syo3_data6_work!E\"&($BO33-1)*5+$BN33),1,10))","v":""},null,null,null,{"$f":"IF(INDIRECT(\"syo3_data6_work!G\" & ($BO33-1)*5+$BN33)=\"\",\"\",INDIRECT(\"syo3_data6_work!G\" & ($BO33-1)*5+$BN33))","v":""},{"$f":"IF(INDIRECT(\"syo3_data6_work!H\"&($BO33-1)*5+$BN33)=\"\",\"\",MID(INDIRECT(\"syo3_data6_work!H\"&($BO33-1)*5+$BN33),1,1))","v":""},{"$f":"IF(INDIRECT(\"syo3_data6_work!H\"&($BO33-1)*5+$BN33)=\"\",\"\",MID(INDIRECT(\"syo3_data6_work!H\"&($BO33-1)*5+$BN33),2,2))","v":""},{"$f":"IF(INDIRECT(\"syo3_data6_work!H\"&($BO33-1)*5+$BN33)=\"\",\"\",MID(INDIRECT(\"syo3_data6_work!H\"&($BO33-1)*5+$BN33),4,2))","v":""},{"$f":"IF(INDIRECT(\"syo3_data6_work!H\"&($BO33-1)*5+$BN33)=\"\",\"\",MID(INDIRECT(\"syo3_data6_work!H\"&($BO33-1)*5+$BN33),6,2))","v":""},{"$f":"IF(INDIRECT(\"syo3_data6_work!I\" & ($BO33-1)*5+$BN33)=\"\",\"\",MID(INDIRECT(\"syo3_data6_work!I\" & ($BO33-1)*5+$BN33),1,11))","v":""},null,null,null,null,{"$f":"IF(INDIRECT(\"syo3_data6_work!K\" & ($BO33-1)*5+$BN33)=\"\",\"\",INDIRECT(\"syo3_data6_work!K\" & ($BO33-1)*5+$BN33))","v":""},null,null,{"$f":"IF(INDIRECT(\"syo3_data6_work!O\" & ($BO33-1)*5+$BN33)=\"\",\"\",INDIRECT(\"syo3_data6_work!O\" & ($BO33-1)*5+$BN33))","v":""},null,null,{"$f":"IF(INDIRECT(\"syo3_data6_work!S\" & ($BO33-1)*5+$BN33)=\"\",\"\",INDIRECT(\"syo3_data6_work!S\" & ($BO33-1)*5+$BN33))","v":""},null,null,null,{"$f":"IF(INDIRECT(\"syo3_data6_work!T\" & ($BO33-1)*5+$BN33)=\"\",\"\",MID(INDIRECT(\"syo3_data6_work!T\" & ($BO33-1)*5+$BN33),1,1))","v":""},{"$f":"IF(INDIRECT(\"syo3_data6_work!T\" & ($BO33-1)*5+$BN33)=\"\",\"\",MID(INDIRECT(\"syo3_data6_work!T\" & ($BO33-1)*5+$BN33),2,2))","v":""},{"$f":"IF(INDIRECT(\"syo3_data6_work!T\" & ($BO33-1)*5+$BN33)=\"\",\"\",MID(INDIRECT(\"syo3_data6_work!T\" & ($BO33-1)*5+$BN33),4,2))","v":""},{"$f":"IF(INDIRECT(\"syo3_data6_work!T\" & ($BO33-1)*5+$BN33)=\"\",\"\",MID(INDIRECT(\"syo3_data6_work!T\" & ($BO33-1)*5+$BN33),6,2))","v":""},{"$f":"IF(INDIRECT(\"syo3_data6_work!Y\" & ($BO33-1)*5+$BN33)=\"\",\"\",MID(INDIRECT(\"syo3_data6_work!Y\" & ($BO33-1)*5+$BN33),1,1))","v":""},{"$f":"IF(INDIRECT(\"syo3_data6_work!Y\" & ($BO33-1)*5+$BN33)=\"\",\"\",MID(INDIRECT(\"syo3_data6_work!Y\" & ($BO33-1)*5+$BN33),2,2))","v":""},{"$f":"IF(INDIRECT(\"syo3_data6_work!Y\" & ($BO33-1)*5+$BN33)=\"\",\"\",MID(INDIRECT(\"syo3_data6_work!Y\" & ($BO33-1)*5+$BN33),4,2))","v":""},{"$f":"IF(INDIRECT(\"syo3_data6_work!Y\" & ($BO33-1)*5+$BN33)=\"\",\"\",MID(INDIRECT(\"syo3_data6_work!Y\" & ($BO33-1)*5+$BN33),6,2))","v":""},{"$f":"IF(INDIRECT(\"syo3_data6_work!AA\" & ($BO33-1)*5+$BN33)=\"\",\"\",MID(INDIRECT(\"syo3_data6_work!AA\" & ($BO33-1)*5+$BN33),1,15))","v":""},null,null,null,{"$f":"IF(INDIRECT(\"syo3_data6_work!U\" & ($BO33-1)*5+$BN33)=\"\",\"\",MID(INDIRECT(\"syo3_data6_work!U\" & ($BO33-1)*5+$BN33),1,1))","v":""},{"$f":"IF(INDIRECT(\"syo3_data6_work!U\" & ($BO33-1)*5+$BN33)=\"\",\"\",MID(INDIRECT(\"syo3_data6_work!U\" & ($BO33-1)*5+$BN33),2,2))","v":""},{"$f":"IF(INDIRECT(\"syo3_data6_work!U\" & ($BO33-1)*5+$BN33)=\"\",\"\",MID(INDIRECT(\"syo3_data6_work!U\" & ($BO33-1)*5+$BN33),4,2))","v":""},{"$f":"IF(INDIRECT(\"syo3_data6_work!U\" & ($BO33-1)*5+$BN33)=\"\",\"\",MID(INDIRECT(\"syo3_data6_work!U\" & ($BO33-1)*5+$BN33),6,2))","v":""},{"$f":"IF(INDIRECT(\"syo3_data6_work!V\" & ($BO33-1)*5+$BN33)=\"\",\"\",MID(INDIRECT(\"syo3_data6_work!V\" & ($BO33-1)*5+$BN33),1,1))","v":""},{"$f":"IF(INDIRECT(\"syo3_data6_work!V\" & ($BO33-1)*5+$BN33)=\"\",\"\",MID(INDIRECT(\"syo3_data6_work!V\" & ($BO33-1)*5+$BN33),2,2))","v":""},{"$f":"IF(INDIRECT(\"syo3_data6_work!V\" & ($BO33-1)*5+$BN33)=\"\",\"\",MID(INDIRECT(\"syo3_data6_work!V\" & ($BO33-1)*5+$BN33),4,2))","v":""},{"$f":"IF(INDIRECT(\"syo3_data6_work!V\" & ($BO33-1)*5+$BN33)=\"\",\"\",MID(INDIRECT(\"syo3_data6_work!V\" & ($BO33-1)*5+$BN33),6,2))","v":""},null,{"$f":"IF(INDIRECT(\"syo3_data6_work!W\" & ($BO33-1)*5+$BN33)=\"\",\"\",MID(INDIRECT(\"syo3_data6_work!W\" & ($BO33-1)*5+$BN33),1,1))","v":""},{"$f":"IF(INDIRECT(\"syo3_data6_work!W\" & ($BO33-1)*5+$BN33)=\"\",\"\",MID(INDIRECT(\"syo3_data6_work!W\" & ($BO33-1)*5+$BN33),2,2))","v":""},{"$f":"IF(INDIRECT(\"syo3_data6_work!W\" & ($BO33-1)*5+$BN33)=\"\",\"\",MID(INDIRECT(\"syo3_data6_work!W\" & ($BO33-1)*5+$BN33),4,2))","v":""},{"$f":"IF(INDIRECT(\"syo3_data6_work!W\" & ($BO33-1)*5+$BN33)=\"\",\"\",MID(INDIRECT(\"syo3_data6_work!W\" & ($BO33-1)*5+$BN33),6,2))","v":""},{"$f":"IF(INDIRECT(\"syo3_data6_work!Z\" & ($BO33-1)*5+$BN33)=\"\",\"\",MID(INDIRECT(\"syo3_data6_work!Z\" & ($BO33-1)*5+$BN33),1,1))","v":""},{"$f":"IF(INDIRECT(\"syo3_data6_work!Z\" & ($BO33-1)*5+$BN33)=\"\",\"\",MID(INDIRECT(\"syo3_data6_work!Z\" & ($BO33-1)*5+$BN33),2,2))","v":""},{"$f":"IF(INDIRECT(\"syo3_data6_work!Z\" & ($BO33-1)*5+$BN33)=\"\",\"\",MID(INDIRECT(\"syo3_data6_work!Z\" & ($BO33-1)*5+$BN33),4,2))","v":""},{"$f":"IF(INDIRECT(\"syo3_data6_work!Z\" & ($BO33-1)*5+$BN33)=\"\",\"\",MID(INDIRECT(\"syo3_data6_work!Z\" & ($BO33-1)*5+$BN33),6,2))","v":""},{"$f":"IF(INDIRECT(\"syo3_data6_work!AB\" & ($BO33-1)*5+$BN33)=\"\",\"\",MID(INDIRECT(\"syo3_data6_work!AB\" & ($BO33-1)*5+$BN33),1,15))","v":""},null,null,null,3,{"$f":"INT((ROW()+48-3)/48)","v":1}]
[null,null,null,null,null,null,null,null,null,null,null,null,null,null,null,null,null,"有効期限",{"$f":"IF(INDIRECT(\"syo3_data6_work!EQ\" & ($BO33-1)*5+$BN33)=\"\",\"\",MID(INDIRECT(\"syo3_data6_work!EQ\" & ($BO33-1)*5+$BN33),1,1))","v":""},{"$f":"IF(INDIRECT(\"syo3_data6_work!EQ\" & ($BO33-1)*5+$BN33)=\"\",\"\",MID(INDIRECT(\"syo3_data6_work!EQ\" & ($BO33-1)*5+$BN33),2,2))","v":""},{"$f":"IF(INDIRECT(\"syo3_data6_work!EQ\" & ($BO33-1)*5+$BN33)=\"\",\"\",MID(INDIRECT(\"syo3_data6_work!EQ\" & ($BO33-1)*5+$BN33),4,2))","v":""},{"$f":"IF(INDIRECT(\"syo3_data6_work!EQ\" & ($BO33-1)*5+$BN33)=\"\",\"\",MID(INDIRECT(\"syo3_data6_work!EQ\" & ($BO33-1)*5+$BN33),6,2))","v":""},null,null,null,null,null,null,null,null,null,null,null,null,null,null,null,null,null,null,null,null,null,"から",null,null,null,null,null,null,null,null,null,null,null,null,null,null,null,null,null,null,null,null,"へ"]
[null,null,null,"(ﾖ)","申告・申請年月",null,null,null,null,null,{"$f":"IF(MASTA!$BS$6<>\"\",MASTA!$BS$6,\"\")","v":"令和4年4月"},null,null,null,{"$f":"IF(MASTA!$BT$6<>\"\",MASTA!$BT$6,\"\")","v":"令和4年5月"},null,null,null,{"$f":"IF(MASTA!$BU$6<>\"\",MASTA!$BU$6,\"\")","v":"令和4年6月"},null,null,null,{"$f":"IF(MASTA!$BV$6<>\"\",MASTA!$BV$6,\"\")","v":"令和4年7月"},null,null,null,{"$f":"IF(MASTA!$BW$6<>\"\",MASTA!$BW$6,\"\")","v":"令和4年8月"},null,null,null,{"$f":"IF(MASTA!$BX$6<>\"\",MASTA!$BX$6,\"\")","v":"令和4年9月"},null,null,null,{"$f":"IF(MASTA!$BY$6<>\"\",MASTA!$BY$6,\"\")","v":"令和4年10月"},null,null,null,{"$f":"IF(MASTA!$BZ$6<>\"\",MASTA!$BZ$6,\"\")","v":"令和4年11月"},null,null,null,{"$f":"IF(MASTA!$CA$6<>\"\",MASTA!$CA$6,\"\")","v":"令和4年12月"},null,null,null,{"$f":"IF(MASTA!$CB$6<>\"\",MASTA!$CB$6,\"\")","v":"令和5年1月"},null,null,null,{"$f":"IF(MASTA!$CC$6<>\"\",MASTA!$CC$6,\"\")","v":"令和5年2月"},null,null,null,{"$f":"IF(MASTA!$CD$6<>\"\",MASTA!$CD$6,\"\")","v":"令和5年3月"},null,null,null,"計"]
[null,null,null,null,"月毎の所定労働時間",null,null,null,null,null,{"$f":"IF(INDIRECT(\"syo3_data6_work!ER\" & ($BO33-1)*5+$BN33)=\"\",\"\",MID(INDIRECT(\"syo3_data6_work!ER\" & ($BO33-1)*5+$BN33),1,11))","v":""},null,null,null,{"$f":"IF(INDIRECT(\"syo3_data6_work!ES\" & ($BO33-1)*5+$BN33)=\"\",\"\",MID(INDIRECT(\"syo3_data6_work!ES\" & ($BO33-1)*5+$BN33),1,11))","v":""},null,null,null,{"$f":"IF(INDIRECT(\"syo3_data6_work!ET\" & ($BO33-1)*5+$BN33)=\"\",\"\",MID(INDIRECT(\"syo3_data6_work!ET\" & ($BO33-1)*5+$BN33),1,11))","v":""},null,null,null,{"$f":"IF(INDIRECT(\"syo3_data6_work!EU\" & ($BO33-1)*5+$BN33)=\"\",\"\",MID(INDIRECT(\"syo3_data6_work!EU\" & ($BO33-1)*5+$BN33),1,11))","v":""},null,null,null,{"$f":"IF(INDIRECT(\"syo3_data6_work!EV\" & ($BO33-1)*5+$BN33)=\"\",\"\",MID(INDIRECT(\"syo3_data6_work!EV\" & ($BO33-1)*5+$BN33),1,11))","v":""},null,null,null,{"$f":"IF(INDIRECT(\"syo3_data6_work!EW\" & ($BO33-1)*5+$BN33)=\"\",\"\",MID(INDIRECT(\"syo3_data6_work!EW\" & ($BO33-1)*5+$BN33),1,11))","v":""},null,null,null,{"$f":"IF(INDIRECT(\"syo3_data6_work!EX\" & ($BO33-1)*5+$BN33)=\"\",\"\",MID(INDIRECT(\"syo3_data6_work!EX\" & ($BO33-1)*5+$BN33),1,11))","v":""},null,null,null,{"$f":"IF(INDIRECT(\"syo3_data6_work!EY\" & ($BO33-1)*5+$BN33)=\"\",\"\",MID(INDIRECT(\"syo3_data6_work!EY\" & ($BO33-1)*5+$BN33),1,11))","v":""},null,null,null,{"$f":"IF(INDIRECT(\"syo3_data6_work!EZ\" & ($BO33-1)*5+$BN33)=\"\",\"\",MID(INDIRECT(\"syo3_data6_work!EZ\" & ($BO33-1)*5+$BN33),1,11))","v":""},null,null,null,{"$f":"IF(INDIRECT(\"syo3_data6_work!FA\" & ($BO33-1)*5+$BN33)=\"\",\"\",MID(INDIRECT(\"syo3_data6_work!FA\" & ($BO33-1)*5+$BN33),1,11))","v":""},null,null,null,{"$f":"IF(INDIRECT(\"syo3_data6_work!FB\" & ($BO33-1)*5+$BN33)=\"\",\"\",MID(INDIRECT(\"syo3_data6_work!FB\" & ($BO33-1)*5+$BN33),1,11))","v":""},null,null,null,{"$f":"IF(INDIRECT(\"syo3_data6_work!FC\" & ($BO33-1)*5+$BN33)=\"\",\"\",MID(INDIRECT(\"syo3_data6_work!FC\" & ($BO33-1)*5+$BN33),1,11))","v":""},null,null,null,{"$f":"IF(INDIRECT(\"syo3_data6_work!FQ\" & ($BO33-1)*5+$BN33)=\"\",\"\",INT(MID(INDIRECT(\"syo3_data6_work!FQ\" & ($BO33-1)*5+$BN33),1,11)))","v":""}]
[null,null,null,null,"月毎の実労働時間",null,null,null,null,null,{"$f":"IF(INDIRECT(\"syo3_data6_work!FD\" & ($BO33-1)*5+$BN33)=\"\",\"\",MID(INDIRECT(\"syo3_data6_work!FD\" & ($BO33-1)*5+$BN33),1,11))","v":""},null,null,null,{"$f":"IF(INDIRECT(\"syo3_data6_work!FE\" & ($BO33-1)*5+$BN33)=\"\",\"\",MID(INDIRECT(\"syo3_data6_work!FE\" & ($BO33-1)*5+$BN33),1,11))","v":""},null,null,null,{"$f":"IF(INDIRECT(\"syo3_data6_work!FF\" & ($BO33-1)*5+$BN33)=\"\",\"\",MID(INDIRECT(\"syo3_data6_work!FF\" & ($BO33-1)*5+$BN33),1,11))","v":""},null,null,null,{"$f":"IF(INDIRECT(\"syo3_data6_work!FG\" & ($BO33-1)*5+$BN33)=\"\",\"\",MID(INDIRECT(\"syo3_data6_work!FG\" & ($BO33-1)*5+$BN33),1,11))","v":""},null,null,null,{"$f":"IF(INDIRECT(\"syo3_data6_work!FH\" & ($BO33-1)*5+$BN33)=\"\",\"\",MID(INDIRECT(\"syo3_data6_work!FH\" & ($BO33-1)*5+$BN33),1,11))","v":""},null,null,null,{"$f":"IF(INDIRECT(\"syo3_data6_work!FI\" & ($BO33-1)*5+$BN33)=\"\",\"\",MID(INDIRECT(\"syo3_data6_work!FI\" & ($BO33-1)*5+$BN33),1,11))","v":""},null,null,null,{"$f":"IF(INDIRECT(\"syo3_data6_work!FJ\" & ($BO33-1)*5+$BN33)=\"\",\"\",MID(INDIRECT(\"syo3_data6_work!FJ\" & ($BO33-1)*5+$BN33),1,11))","v":""},null,null,null,{"$f":"IF(INDIRECT(\"syo3_data6_work!FK\" & ($BO33-1)*5+$BN33)=\"\",\"\",MID(INDIRECT(\"syo3_data6_work!FK\" & ($BO33-1)*5+$BN33),1,11))","v":""},null,null,null,{"$f":"IF(INDIRECT(\"syo3_data6_work!FL\" & ($BO33-1)*5+$BN33)=\"\",\"\",MID(INDIRECT(\"syo3_data6_work!FL\" & ($BO33-1)*5+$BN33),1,11))","v":""},null,null,null,{"$f":"IF(INDIRECT(\"syo3_data6_work!FM\" & ($BO33-1)*5+$BN33)=\"\",\"\",MID(INDIRECT(\"syo3_data6_work!FM\" & ($BO33-1)*5+$BN33),1,11))","v":""},null,null,null,{"$f":"IF(INDIRECT(\"syo3_data6_work!FN\" & ($BO33-1)*5+$BN33)=\"\",\"\",MID(INDIRECT(\"syo3_data6_work!FN\" & ($BO33-1)*5+$BN33),1,11))","v":""},null,null,null,{"$f":"IF(INDIRECT(\"syo3_data6_work!FO\" & ($BO33-1)*5+$BN33)=\"\",\"\",MID(INDIRECT(\"syo3_data6_work!FO\" & ($BO33-1)*5+$BN33),1,11))","v":""},null,null,null,{"$f":"IF(INDIRECT(\"syo3_data6_work!FR\" & ($BO33-1)*5+$BN33)=\"\",\"\",INT(MID(INDIRECT(\"syo3_data6_work!FR\" & ($BO33-1)*5+$BN33),1,11)))","v":""}]
[null,null,{"$f":"IF(INDIRECT(\"syo3_data6_work!EO\"&($BO38-1)*5+$BN38)=\"\",\"\",IF(MID(INDIRECT(\"syo3_data6_work!EO\"&($BO38-1)*5+$BN38),1,10)=\"1\",\"ﾚ\",\"\"))","v":""},{"$f":"IF(INDIRECT(\"syo3_data6_work!EP\"&($BO38-1)*5+$BN38)=\"\",\"\",IF(MID(INDIRECT(\"syo3_data6_work!EP\"&($BO38-1)*5+$BN38),1,10)=\"1\",\"ﾚ\",\"\"))","v":""},{"$f":"IF(INDIRECT(\"syo3_data6_work!D\"&($BO38-1)*5+$BN38)=\"\",\"\",MID(INDIRECT(\"syo3_data6_work!D\"&($BO38-1)*5+$BN38),1,10))","v":""},null,null,null,{"$f":"IF(INDIRECT(\"syo3_data6_work!E\"&($BO38-1)*5+$BN38)=\"\",\"\",MID(INDIRECT(\"syo3_data6_work!E\"&($BO38-1)*5+$BN38),1,10))","v":""},null,null,null,{"$f":"IF(INDIRECT(\"syo3_data6_work!G\" & ($BO38-1)*5+$BN38)=\"\",\"\",INDIRECT(\"syo3_data6_work!G\" & ($BO38-1)*5+$BN38))","v":""},{"$f":"IF(INDIRECT(\"syo3_data6_work!H\"&($BO38-1)*5+$BN38)=\"\",\"\",MID(INDIRECT(\"syo3_data6_work!H\"&($BO38-1)*5+$BN38),1,1))","v":""},{"$f":"IF(INDIRECT(\"syo3_data6_work!H\"&($BO38-1)*5+$BN38)=\"\",\"\",MID(INDIRECT(\"syo3_data6_work!H\"&($BO38-1)*5+$BN38),2,2))","v":""},{"$f":"IF(INDIRECT(\"syo3_data6_work!H\"&($BO38-1)*5+$BN38)=\"\",\"\",MID(INDIRECT(\"syo3_data6_work!H\"&($BO38-1)*5+$BN38),4,2))","v":""},{"$f":"IF(INDIRECT(\"syo3_data6_work!H\"&($BO38-1)*5+$BN38)=\"\",\"\",MID(INDIRECT(\"syo3_data6_work!H\"&($BO38-1)*5+$BN38),6,2))","v":""},{"$f":"IF(INDIRECT(\"syo3_data6_work!I\" & ($BO38-1)*5+$BN38)=\"\",\"\",MID(INDIRECT(\"syo3_data6_work!I\" & ($BO38-1)*5+$BN38),1,11))","v":""},null,null,null,null,{"$f":"IF(INDIRECT(\"syo3_data6_work!K\" & ($BO38-1)*5+$BN38)=\"\",\"\",INDIRECT(\"syo3_data6_work!K\" & ($BO38-1)*5+$BN38))","v":""},null,null,{"$f":"IF(INDIRECT(\"syo3_data6_work!O\" & ($BO38-1)*5+$BN38)=\"\",\"\",INDIRECT(\"syo3_data6_work!O\" & ($BO38-1)*5+$BN38))","v":""},null,null,{"$f":"IF(INDIRECT(\"syo3_data6_work!S\" & ($BO38-1)*5+$BN38)=\"\",\"\",INDIRECT(\"syo3_data6_work!S\" & ($BO38-1)*5+$BN38))","v":""},null,null,null,{"$f":"IF(INDIRECT(\"syo3_data6_work!T\" & ($BO38-1)*5+$BN38)=\"\",\"\",MID(INDIRECT(\"syo3_data6_work!T\" & ($BO38-1)*5+$BN38),1,1))","v":""},{"$f":"IF(INDIRECT(\"syo3_data6_work!T\" & ($BO38-1)*5+$BN38)=\"\",\"\",MID(INDIRECT(\"syo3_data6_work!T\" & ($BO38-1)*5+$BN38),2,2))","v":""},{"$f":"IF(INDIRECT(\"syo3_data6_work!T\" & ($BO38-1)*5+$BN38)=\"\",\"\",MID(INDIRECT(\"syo3_data6_work!T\" & ($BO38-1)*5+$BN38),4,2))","v":""},{"$f":"IF(INDIRECT(\"syo3_data6_work!T\" & ($BO38-1)*5+$BN38)=\"\",\"\",MID(INDIRECT(\"syo3_data6_work!T\" & ($BO38-1)*5+$BN38),6,2))","v":""},{"$f":"IF(INDIRECT(\"syo3_data6_work!Y\" & ($BO38-1)*5+$BN38)=\"\",\"\",MID(INDIRECT(\"syo3_data6_work!Y\" & ($BO38-1)*5+$BN38),1,1))","v":""},{"$f":"IF(INDIRECT(\"syo3_data6_work!Y\" & ($BO38-1)*5+$BN38)=\"\",\"\",MID(INDIRECT(\"syo3_data6_work!Y\" & ($BO38-1)*5+$BN38),2,2))","v":""},{"$f":"IF(INDIRECT(\"syo3_data6_work!Y\" & ($BO38-1)*5+$BN38)=\"\",\"\",MID(INDIRECT(\"syo3_data6_work!Y\" & ($BO38-1)*5+$BN38),4,2))","v":""},{"$f":"IF(INDIRECT(\"syo3_data6_work!Y\" & ($BO38-1)*5+$BN38)=\"\",\"\",MID(INDIRECT(\"syo3_data6_work!Y\" & ($BO38-1)*5+$BN38),6,2))","v":""},{"$f":"IF(INDIRECT(\"syo3_data6_work!AA\" & ($BO38-1)*5+$BN38)=\"\",\"\",MID(INDIRECT(\"syo3_data6_work!AA\" & ($BO38-1)*5+$BN38),1,15))","v":""},null,null,null,{"$f":"IF(INDIRECT(\"syo3_data6_work!U\" & ($BO38-1)*5+$BN38)=\"\",\"\",MID(INDIRECT(\"syo3_data6_work!U\" & ($BO38-1)*5+$BN38),1,1))","v":""},{"$f":"IF(INDIRECT(\"syo3_data6_work!U\" & ($BO38-1)*5+$BN38)=\"\",\"\",MID(INDIRECT(\"syo3_data6_work!U\" & ($BO38-1)*5+$BN38),2,2))","v":""},{"$f":"IF(INDIRECT(\"syo3_data6_work!U\" & ($BO38-1)*5+$BN38)=\"\",\"\",MID(INDIRECT(\"syo3_data6_work!U\" & ($BO38-1)*5+$BN38),4,2))","v":""},{"$f":"IF(INDIRECT(\"syo3_data6_work!U\" & ($BO38-1)*5+$BN38)=\"\",\"\",MID(INDIRECT(\"syo3_data6_work!U\" & ($BO38-1)*5+$BN38),6,2))","v":""},{"$f":"IF(INDIRECT(\"syo3_data6_work!V\" & ($BO38-1)*5+$BN38)=\"\",\"\",MID(INDIRECT(\"syo3_data6_work!V\" & ($BO38-1)*5+$BN38),1,1))","v":""},{"$f":"IF(INDIRECT(\"syo3_data6_work!V\" & ($BO38-1)*5+$BN38)=\"\",\"\",MID(INDIRECT(\"syo3_data6_work!V\" & ($BO38-1)*5+$BN38),2,2))","v":""},{"$f":"IF(INDIRECT(\"syo3_data6_work!V\" & ($BO38-1)*5+$BN38)=\"\",\"\",MID(INDIRECT(\"syo3_data6_work!V\" & ($BO38-1)*5+$BN38),4,2))","v":""},{"$f":"IF(INDIRECT(\"syo3_data6_work!V\" & ($BO38-1)*5+$BN38)=\"\",\"\",MID(INDIRECT(\"syo3_data6_work!V\" & ($BO38-1)*5+$BN38),6,2))","v":""},null,{"$f":"IF(INDIRECT(\"syo3_data6_work!W\" & ($BO38-1)*5+$BN38)=\"\",\"\",MID(INDIRECT(\"syo3_data6_work!W\" & ($BO38-1)*5+$BN38),1,1))","v":""},{"$f":"IF(INDIRECT(\"syo3_data6_work!W\" & ($BO38-1)*5+$BN38)=\"\",\"\",MID(INDIRECT(\"syo3_data6_work!W\" & ($BO38-1)*5+$BN38),2,2))","v":""},{"$f":"IF(INDIRECT(\"syo3_data6_work!W\" & ($BO38-1)*5+$BN38)=\"\",\"\",MID(INDIRECT(\"syo3_data6_work!W\" & ($BO38-1)*5+$BN38),4,2))","v":""},{"$f":"IF(INDIRECT(\"syo3_data6_work!W\" & ($BO38-1)*5+$BN38)=\"\",\"\",MID(INDIRECT(\"syo3_data6_work!W\" & ($BO38-1)*5+$BN38),6,2))","v":""},{"$f":"IF(INDIRECT(\"syo3_data6_work!Z\" & ($BO38-1)*5+$BN38)=\"\",\"\",MID(INDIRECT(\"syo3_data6_work!Z\" & ($BO38-1)*5+$BN38),1,1))","v":""},{"$f":"IF(INDIRECT(\"syo3_data6_work!Z\" & ($BO38-1)*5+$BN38)=\"\",\"\",MID(INDIRECT(\"syo3_data6_work!Z\" & ($BO38-1)*5+$BN38),2,2))","v":""},{"$f":"IF(INDIRECT(\"syo3_data6_work!Z\" & ($BO38-1)*5+$BN38)=\"\",\"\",MID(INDIRECT(\"syo3_data6_work!Z\" & ($BO38-1)*5+$BN38),4,2))","v":""},{"$f":"IF(INDIRECT(\"syo3_data6_work!Z\" & ($BO38-1)*5+$BN38)=\"\",\"\",MID(INDIRECT(\"syo3_data6_work!Z\" & ($BO38-1)*5+$BN38),6,2))","v":""},{"$f":"IF(INDIRECT(\"syo3_data6_work!AB\" & ($BO38-1)*5+$BN38)=\"\",\"\",MID(INDIRECT(\"syo3_data6_work!AB\" & ($BO38-1)*5+$BN38),1,15))","v":""},null,null,null,4,{"$f":"INT((ROW()+48-3)/48)","v":1}]
[null,null,null,null,null,null,null,null,null,null,null,null,null,null,null,null,null,"有効期限",{"$f":"IF(INDIRECT(\"syo3_data6_work!EQ\" & ($BO38-1)*5+$BN38)=\"\",\"\",MID(INDIRECT(\"syo3_data6_work!EQ\" & ($BO38-1)*5+$BN38),1,1))","v":""},{"$f":"IF(INDIRECT(\"syo3_data6_work!EQ\" & ($BO38-1)*5+$BN38)=\"\",\"\",MID(INDIRECT(\"syo3_data6_work!EQ\" & ($BO38-1)*5+$BN38),2,2))","v":""},{"$f":"IF(INDIRECT(\"syo3_data6_work!EQ\" & ($BO38-1)*5+$BN38)=\"\",\"\",MID(INDIRECT(\"syo3_data6_work!EQ\" & ($BO38-1)*5+$BN38),4,2))","v":""},{"$f":"IF(INDIRECT(\"syo3_data6_work!EQ\" & ($BO38-1)*5+$BN38)=\"\",\"\",MID(INDIRECT(\"syo3_data6_work!EQ\" & ($BO38-1)*5+$BN38),6,2))","v":""},null,null,null,null,null,null,null,null,null,null,null,null,null,null,null,null,null,null,null,null,null,"から",null,null,null,null,null,null,null,null,null,null,null,null,null,null,null,null,null,null,null,null,"へ"]
[null,null,null,"(ﾖ)","申告・申請年月",null,null,null,null,null,{"$f":"IF(MASTA!$BS$6<>\"\",MASTA!$BS$6,\"\")","v":"令和4年4月"},null,null,null,{"$f":"IF(MASTA!$BT$6<>\"\",MASTA!$BT$6,\"\")","v":"令和4年5月"},null,null,null,{"$f":"IF(MASTA!$BU$6<>\"\",MASTA!$BU$6,\"\")","v":"令和4年6月"},null,null,null,{"$f":"IF(MASTA!$BV$6<>\"\",MASTA!$BV$6,\"\")","v":"令和4年7月"},null,null,null,{"$f":"IF(MASTA!$BW$6<>\"\",MASTA!$BW$6,\"\")","v":"令和4年8月"},null,null,null,{"$f":"IF(MASTA!$BX$6<>\"\",MASTA!$BX$6,\"\")","v":"令和4年9月"},null,null,null,{"$f":"IF(MASTA!$BY$6<>\"\",MASTA!$BY$6,\"\")","v":"令和4年10月"},null,null,null,{"$f":"IF(MASTA!$BZ$6<>\"\",MASTA!$BZ$6,\"\")","v":"令和4年11月"},null,null,null,{"$f":"IF(MASTA!$CA$6<>\"\",MASTA!$CA$6,\"\")","v":"令和4年12月"},null,null,null,{"$f":"IF(MASTA!$CB$6<>\"\",MASTA!$CB$6,\"\")","v":"令和5年1月"},null,null,null,{"$f":"IF(MASTA!$CC$6<>\"\",MASTA!$CC$6,\"\")","v":"令和5年2月"},null,null,null,{"$f":"IF(MASTA!$CD$6<>\"\",MASTA!$CD$6,\"\")","v":"令和5年3月"},null,null,null,"計"]
[null,null,null,null,"月毎の所定労働時間",null,null,null,null,null,{"$f":"IF(INDIRECT(\"syo3_data6_work!ER\" & ($BO38-1)*5+$BN38)=\"\",\"\",MID(INDIRECT(\"syo3_data6_work!ER\" & ($BO38-1)*5+$BN38),1,11))","v":""},null,null,null,{"$f":"IF(INDIRECT(\"syo3_data6_work!ES\" & ($BO38-1)*5+$BN38)=\"\",\"\",MID(INDIRECT(\"syo3_data6_work!ES\" & ($BO38-1)*5+$BN38),1,11))","v":""},null,null,null,{"$f":"IF(INDIRECT(\"syo3_data6_work!ET\" & ($BO38-1)*5+$BN38)=\"\",\"\",MID(INDIRECT(\"syo3_data6_work!ET\" & ($BO38-1)*5+$BN38),1,11))","v":""},null,null,null,{"$f":"IF(INDIRECT(\"syo3_data6_work!EU\" & ($BO38-1)*5+$BN38)=\"\",\"\",MID(INDIRECT(\"syo3_data6_work!EU\" & ($BO38-1)*5+$BN38),1,11))","v":""},null,null,null,{"$f":"IF(INDIRECT(\"syo3_data6_work!EV\" & ($BO38-1)*5+$BN38)=\"\",\"\",MID(INDIRECT(\"syo3_data6_work!EV\" & ($BO38-1)*5+$BN38),1,11))","v":""},null,null,null,{"$f":"IF(INDIRECT(\"syo3_data6_work!EW\" & ($BO38-1)*5+$BN38)=\"\",\"\",MID(INDIRECT(\"syo3_data6_work!EW\" & ($BO38-1)*5+$BN38),1,11))","v":""},null,null,null,{"$f":"IF(INDIRECT(\"syo3_data6_work!EX\" & ($BO38-1)*5+$BN38)=\"\",\"\",MID(INDIRECT(\"syo3_data6_work!EX\" & ($BO38-1)*5+$BN38),1,11))","v":""},null,null,null,{"$f":"IF(INDIRECT(\"syo3_data6_work!EY\" & ($BO38-1)*5+$BN38)=\"\",\"\",MID(INDIRECT(\"syo3_data6_work!EY\" & ($BO38-1)*5+$BN38),1,11))","v":""},null,null,null,{"$f":"IF(INDIRECT(\"syo3_data6_work!EZ\" & ($BO38-1)*5+$BN38)=\"\",\"\",MID(INDIRECT(\"syo3_data6_work!EZ\" & ($BO38-1)*5+$BN38),1,11))","v":""},null,null,null,{"$f":"IF(INDIRECT(\"syo3_data6_work!FA\" & ($BO38-1)*5+$BN38)=\"\",\"\",MID(INDIRECT(\"syo3_data6_work!FA\" & ($BO38-1)*5+$BN38),1,11))","v":""},null,null,null,{"$f":"IF(INDIRECT(\"syo3_data6_work!FB\" & ($BO38-1)*5+$BN38)=\"\",\"\",MID(INDIRECT(\"syo3_data6_work!FB\" & ($BO38-1)*5+$BN38),1,11))","v":""},null,null,null,{"$f":"IF(INDIRECT(\"syo3_data6_work!FC\" & ($BO38-1)*5+$BN38)=\"\",\"\",MID(INDIRECT(\"syo3_data6_work!FC\" & ($BO38-1)*5+$BN38),1,11))","v":""},null,null,null,{"$f":"IF(INDIRECT(\"syo3_data6_work!FQ\" & ($BO38-1)*5+$BN38)=\"\",\"\",INT(MID(INDIRECT(\"syo3_data6_work!FQ\" & ($BO38-1)*5+$BN38),1,11)))","v":""}]
[null,null,null,null,"月毎の実労働時間",null,null,null,null,null,{"$f":"IF(INDIRECT(\"syo3_data6_work!FD\" & ($BO38-1)*5+$BN38)=\"\",\"\",MID(INDIRECT(\"syo3_data6_work!FD\" & ($BO38-1)*5+$BN38),1,11))","v":""},null,null,null,{"$f":"IF(INDIRECT(\"syo3_data6_work!FE\" & ($BO38-1)*5+$BN38)=\"\",\"\",MID(INDIRECT(\"syo3_data6_work!FE\" & ($BO38-1)*5+$BN38),1,11))","v":""},null,null,null,{"$f":"IF(INDIRECT(\"syo3_data6_work!FF\" & ($BO38-1)*5+$BN38)=\"\",\"\",MID(INDIRECT(\"syo3_data6_work!FF\" & ($BO38-1)*5+$BN38),1,11))","v":""},null,null,null,{"$f":"IF(INDIRECT(\"syo3_data6_work!FG\" & ($BO38-1)*5+$BN38)=\"\",\"\",MID(INDIRECT(\"syo3_data6_work!FG\" & ($BO38-1)*5+$BN38),1,11))","v":""},null,null,null,{"$f":"IF(INDIRECT(\"syo3_data6_work!FH\" & ($BO38-1)*5+$BN38)=\"\",\"\",MID(INDIRECT(\"syo3_data6_work!FH\" & ($BO38-1)*5+$BN38),1,11))","v":""},null,null,null,{"$f":"IF(INDIRECT(\"syo3_data6_work!FI\" & ($BO38-1)*5+$BN38)=\"\",\"\",MID(INDIRECT(\"syo3_data6_work!FI\" & ($BO38-1)*5+$BN38),1,11))","v":""},null,null,null,{"$f":"IF(INDIRECT(\"syo3_data6_work!FJ\" & ($BO38-1)*5+$BN38)=\"\",\"\",MID(INDIRECT(\"syo3_data6_work!FJ\" & ($BO38-1)*5+$BN38),1,11))","v":""},null,null,null,{"$f":"IF(INDIRECT(\"syo3_data6_work!FK\" & ($BO38-1)*5+$BN38)=\"\",\"\",MID(INDIRECT(\"syo3_data6_work!FK\" & ($BO38-1)*5+$BN38),1,11))","v":""},null,null,null,{"$f":"IF(INDIRECT(\"syo3_data6_work!FL\" & ($BO38-1)*5+$BN38)=\"\",\"\",MID(INDIRECT(\"syo3_data6_work!FL\" & ($BO38-1)*5+$BN38),1,11))","v":""},null,null,null,{"$f":"IF(INDIRECT(\"syo3_data6_work!FM\" & ($BO38-1)*5+$BN38)=\"\",\"\",MID(INDIRECT(\"syo3_data6_work!FM\" & ($BO38-1)*5+$BN38),1,11))","v":""},null,null,null,{"$f":"IF(INDIRECT(\"syo3_data6_work!FN\" & ($BO38-1)*5+$BN38)=\"\",\"\",MID(INDIRECT(\"syo3_data6_work!FN\" & ($BO38-1)*5+$BN38),1,11))","v":""},null,null,null,{"$f":"IF(INDIRECT(\"syo3_data6_work!FO\" & ($BO38-1)*5+$BN38)=\"\",\"\",MID(INDIRECT(\"syo3_data6_work!FO\" & ($BO38-1)*5+$BN38),1,11))","v":""},null,null,null,{"$f":"IF(INDIRECT(\"syo3_data6_work!FR\" & ($BO38-1)*5+$BN38)=\"\",\"\",INT(MID(INDIRECT(\"syo3_data6_work!FR\" & ($BO38-1)*5+$BN38),1,11)))","v":""}]
[null,null,{"$f":"IF(INDIRECT(\"syo3_data6_work!EO\"&($BO43-1)*5+$BN43)=\"\",\"\",IF(MID(INDIRECT(\"syo3_data6_work!EO\"&($BO43-1)*5+$BN43),1,10)=\"1\",\"ﾚ\",\"\"))","v":""},{"$f":"IF(INDIRECT(\"syo3_data6_work!EP\"&($BO43-1)*5+$BN43)=\"\",\"\",IF(MID(INDIRECT(\"syo3_data6_work!EP\"&($BO43-1)*5+$BN43),1,10)=\"1\",\"ﾚ\",\"\"))","v":""},{"$f":"IF(INDIRECT(\"syo3_data6_work!D\"&($BO43-1)*5+$BN43)=\"\",\"\",MID(INDIRECT(\"syo3_data6_work!D\"&($BO43-1)*5+$BN43),1,10))","v":""},null,null,null,{"$f":"IF(INDIRECT(\"syo3_data6_work!E\"&($BO43-1)*5+$BN43)=\"\",\"\",MID(INDIRECT(\"syo3_data6_work!E\"&($BO43-1)*5+$BN43),1,10))","v":""},null,null,null,{"$f":"IF(INDIRECT(\"syo3_data6_work!G\" & ($BO43-1)*5+$BN43)=\"\",\"\",INDIRECT(\"syo3_data6_work!G\" & ($BO43-1)*5+$BN43))","v":""},{"$f":"IF(INDIRECT(\"syo3_data6_work!H\"&($BO43-1)*5+$BN43)=\"\",\"\",MID(INDIRECT(\"syo3_data6_work!H\"&($BO43-1)*5+$BN43),1,1))","v":""},{"$f":"IF(INDIRECT(\"syo3_data6_work!H\"&($BO43-1)*5+$BN43)=\"\",\"\",MID(INDIRECT(\"syo3_data6_work!H\"&($BO43-1)*5+$BN43),2,2))","v":""},{"$f":"IF(INDIRECT(\"syo3_data6_work!H\"&($BO43-1)*5+$BN43)=\"\",\"\",MID(INDIRECT(\"syo3_data6_work!H\"&($BO43-1)*5+$BN43),4,2))","v":""},{"$f":"IF(INDIRECT(\"syo3_data6_work!H\"&($BO43-1)*5+$BN43)=\"\",\"\",MID(INDIRECT(\"syo3_data6_work!H\"&($BO43-1)*5+$BN43),6,2))","v":""},{"$f":"IF(INDIRECT(\"syo3_data6_work!I\" & ($BO43-1)*5+$BN43)=\"\",\"\",MID(INDIRECT(\"syo3_data6_work!I\" & ($BO43-1)*5+$BN43),1,11))","v":""},null,null,null,null,{"$f":"IF(INDIRECT(\"syo3_data6_work!K\" & ($BO43-1)*5+$BN43)=\"\",\"\",INDIRECT(\"syo3_data6_work!K\" & ($BO43-1)*5+$BN43))","v":""},null,null,{"$f":"IF(INDIRECT(\"syo3_data6_work!O\" & ($BO43-1)*5+$BN43)=\"\",\"\",INDIRECT(\"syo3_data6_work!O\" & ($BO43-1)*5+$BN43))","v":""},null,null,{"$f":"IF(INDIRECT(\"syo3_data6_work!S\" & ($BO43-1)*5+$BN43)=\"\",\"\",INDIRECT(\"syo3_data6_work!S\" & ($BO43-1)*5+$BN43))","v":""},null,null,null,{"$f":"IF(INDIRECT(\"syo3_data6_work!T\" & ($BO43-1)*5+$BN43)=\"\",\"\",MID(INDIRECT(\"syo3_data6_work!T\" & ($BO43-1)*5+$BN43),1,1))","v":""},{"$f":"IF(INDIRECT(\"syo3_data6_work!T\" & ($BO43-1)*5+$BN43)=\"\",\"\",MID(INDIRECT(\"syo3_data6_work!T\" & ($BO43-1)*5+$BN43),2,2))","v":""},{"$f":"IF(INDIRECT(\"syo3_data6_work!T\" & ($BO43-1)*5+$BN43)=\"\",\"\",MID(INDIRECT(\"syo3_data6_work!T\" & ($BO43-1)*5+$BN43),4,2))","v":""},{"$f":"IF(INDIRECT(\"syo3_data6_work!T\" & ($BO43-1)*5+$BN43)=\"\",\"\",MID(INDIRECT(\"syo3_data6_work!T\" & ($BO43-1)*5+$BN43),6,2))","v":""},{"$f":"IF(INDIRECT(\"syo3_data6_work!Y\" & ($BO43-1)*5+$BN43)=\"\",\"\",MID(INDIRECT(\"syo3_data6_work!Y\" & ($BO43-1)*5+$BN43),1,1))","v":""},{"$f":"IF(INDIRECT(\"syo3_data6_work!Y\" & ($BO43-1)*5+$BN43)=\"\",\"\",MID(INDIRECT(\"syo3_data6_work!Y\" & ($BO43-1)*5+$BN43),2,2))","v":""},{"$f":"IF(INDIRECT(\"syo3_data6_work!Y\" & ($BO43-1)*5+$BN43)=\"\",\"\",MID(INDIRECT(\"syo3_data6_work!Y\" & ($BO43-1)*5+$BN43),4,2))","v":""},{"$f":"IF(INDIRECT(\"syo3_data6_work!Y\" & ($BO43-1)*5+$BN43)=\"\",\"\",MID(INDIRECT(\"syo3_data6_work!Y\" & ($BO43-1)*5+$BN43),6,2))","v":""},{"$f":"IF(INDIRECT(\"syo3_data6_work!AA\" & ($BO43-1)*5+$BN43)=\"\",\"\",MID(INDIRECT(\"syo3_data6_work!AA\" & ($BO43-1)*5+$BN43),1,15))","v":""},null,null,null,{"$f":"IF(INDIRECT(\"syo3_data6_work!U\" & ($BO43-1)*5+$BN43)=\"\",\"\",MID(INDIRECT(\"syo3_data6_work!U\" & ($BO43-1)*5+$BN43),1,1))","v":""},{"$f":"IF(INDIRECT(\"syo3_data6_work!U\" & ($BO43-1)*5+$BN43)=\"\",\"\",MID(INDIRECT(\"syo3_data6_work!U\" & ($BO43-1)*5+$BN43),2,2))","v":""},{"$f":"IF(INDIRECT(\"syo3_data6_work!U\" & ($BO43-1)*5+$BN43)=\"\",\"\",MID(INDIRECT(\"syo3_data6_work!U\" & ($BO43-1)*5+$BN43),4,2))","v":""},{"$f":"IF(INDIRECT(\"syo3_data6_work!U\" & ($BO43-1)*5+$BN43)=\"\",\"\",MID(INDIRECT(\"syo3_data6_work!U\" & ($BO43-1)*5+$BN43),6,2))","v":""},{"$f":"IF(INDIRECT(\"syo3_data6_work!V\" & ($BO43-1)*5+$BN43)=\"\",\"\",MID(INDIRECT(\"syo3_data6_work!V\" & ($BO43-1)*5+$BN43),1,1))","v":""},{"$f":"IF(INDIRECT(\"syo3_data6_work!V\" & ($BO43-1)*5+$BN43)=\"\",\"\",MID(INDIRECT(\"syo3_data6_work!V\" & ($BO43-1)*5+$BN43),2,2))","v":""},{"$f":"IF(INDIRECT(\"syo3_data6_work!V\" & ($BO43-1)*5+$BN43)=\"\",\"\",MID(INDIRECT(\"syo3_data6_work!V\" & ($BO43-1)*5+$BN43),4,2))","v":""},{"$f":"IF(INDIRECT(\"syo3_data6_work!V\" & ($BO43-1)*5+$BN43)=\"\",\"\",MID(INDIRECT(\"syo3_data6_work!V\" & ($BO43-1)*5+$BN43),6,2))","v":""},null,{"$f":"IF(INDIRECT(\"syo3_data6_work!W\" & ($BO43-1)*5+$BN43)=\"\",\"\",MID(INDIRECT(\"syo3_data6_work!W\" & ($BO43-1)*5+$BN43),1,1))","v":""},{"$f":"IF(INDIRECT(\"syo3_data6_work!W\" & ($BO43-1)*5+$BN43)=\"\",\"\",MID(INDIRECT(\"syo3_data6_work!W\" & ($BO43-1)*5+$BN43),2,2))","v":""},{"$f":"IF(INDIRECT(\"syo3_data6_work!W\" & ($BO43-1)*5+$BN43)=\"\",\"\",MID(INDIRECT(\"syo3_data6_work!W\" & ($BO43-1)*5+$BN43),4,2))","v":""},{"$f":"IF(INDIRECT(\"syo3_data6_work!W\" & ($BO43-1)*5+$BN43)=\"\",\"\",MID(INDIRECT(\"syo3_data6_work!W\" & ($BO43-1)*5+$BN43),6,2))","v":""},{"$f":"IF(INDIRECT(\"syo3_data6_work!Z\" & ($BO43-1)*5+$BN43)=\"\",\"\",MID(INDIRECT(\"syo3_data6_work!Z\" & ($BO43-1)*5+$BN43),1,1))","v":""},{"$f":"IF(INDIRECT(\"syo3_data6_work!Z\" & ($BO43-1)*5+$BN43)=\"\",\"\",MID(INDIRECT(\"syo3_data6_work!Z\" & ($BO43-1)*5+$BN43),2,2))","v":""},{"$f":"IF(INDIRECT(\"syo3_data6_work!Z\" & ($BO43-1)*5+$BN43)=\"\",\"\",MID(INDIRECT(\"syo3_data6_work!Z\" & ($BO43-1)*5+$BN43),4,2))","v":""},{"$f":"IF(INDIRECT(\"syo3_data6_work!Z\" & ($BO43-1)*5+$BN43)=\"\",\"\",MID(INDIRECT(\"syo3_data6_work!Z\" & ($BO43-1)*5+$BN43),6,2))","v":""},{"$f":"IF(INDIRECT(\"syo3_data6_work!AB\" & ($BO43-1)*5+$BN43)=\"\",\"\",MID(INDIRECT(\"syo3_data6_work!AB\" & ($BO43-1)*5+$BN43),1,15))","v":""},null,null,null,5,{"$f":"INT((ROW()+48-3)/48)","v":1}]
[null,null,null,null,null,null,null,null,null,null,null,null,null,null,null,null,null,"有効期限",{"$f":"IF(INDIRECT(\"syo3_data6_work!EQ\" & ($BO43-1)*5+$BN43)=\"\",\"\",MID(INDIRECT(\"syo3_data6_work!EQ\" & ($BO43-1)*5+$BN43),1,1))","v":""},{"$f":"IF(INDIRECT(\"syo3_data6_work!EQ\" & ($BO43-1)*5+$BN43)=\"\",\"\",MID(INDIRECT(\"syo3_data6_work!EQ\" & ($BO43-1)*5+$BN43),2,2))","v":""},{"$f":"IF(INDIRECT(\"syo3_data6_work!EQ\" & ($BO43-1)*5+$BN43)=\"\",\"\",MID(INDIRECT(\"syo3_data6_work!EQ\" & ($BO43-1)*5+$BN43),4,2))","v":""},{"$f":"IF(INDIRECT(\"syo3_data6_work!EQ\" & ($BO43-1)*5+$BN43)=\"\",\"\",MID(INDIRECT(\"syo3_data6_work!EQ\" & ($BO43-1)*5+$BN43),6,2))","v":""},null,null,null,null,null,null,null,null,null,null,null,null,null,null,null,null,null,null,null,null,null,"から",null,null,null,null,null,null,null,null,null,null,null,null,null,null,null,null,null,null,null,null,"へ"]
[null,null,null,"(ﾖ)","申告・申請年月",null,null,null,null,null,{"$f":"IF(MASTA!$BS$6<>\"\",MASTA!$BS$6,\"\")","v":"令和4年4月"},null,null,null,{"$f":"IF(MASTA!$BT$6<>\"\",MASTA!$BT$6,\"\")","v":"令和4年5月"},null,null,null,{"$f":"IF(MASTA!$BU$6<>\"\",MASTA!$BU$6,\"\")","v":"令和4年6月"},null,null,null,{"$f":"IF(MASTA!$BV$6<>\"\",MASTA!$BV$6,\"\")","v":"令和4年7月"},null,null,null,{"$f":"IF(MASTA!$BW$6<>\"\",MASTA!$BW$6,\"\")","v":"令和4年8月"},null,null,null,{"$f":"IF(MASTA!$BX$6<>\"\",MASTA!$BX$6,\"\")","v":"令和4年9月"},null,null,null,{"$f":"IF(MASTA!$BY$6<>\"\",MASTA!$BY$6,\"\")","v":"令和4年10月"},null,null,null,{"$f":"IF(MASTA!$BZ$6<>\"\",MASTA!$BZ$6,\"\")","v":"令和4年11月"},null,null,null,{"$f":"IF(MASTA!$CA$6<>\"\",MASTA!$CA$6,\"\")","v":"令和4年12月"},null,null,null,{"$f":"IF(MASTA!$CB$6<>\"\",MASTA!$CB$6,\"\")","v":"令和5年1月"},null,null,null,{"$f":"IF(MASTA!$CC$6<>\"\",MASTA!$CC$6,\"\")","v":"令和5年2月"},null,null,null,{"$f":"IF(MASTA!$CD$6<>\"\",MASTA!$CD$6,\"\")","v":"令和5年3月"},null,null,null,"計"]
[null,null,null,null,"月毎の所定労働時間",null,null,null,null,null,{"$f":"IF(INDIRECT(\"syo3_data6_work!ER\" & ($BO43-1)*5+$BN43)=\"\",\"\",MID(INDIRECT(\"syo3_data6_work!ER\" & ($BO43-1)*5+$BN43),1,11))","v":""},null,null,null,{"$f":"IF(INDIRECT(\"syo3_data6_work!ES\" & ($BO43-1)*5+$BN43)=\"\",\"\",MID(INDIRECT(\"syo3_data6_work!ES\" & ($BO43-1)*5+$BN43),1,11))","v":""},null,null,null,{"$f":"IF(INDIRECT(\"syo3_data6_work!ET\" & ($BO43-1)*5+$BN43)=\"\",\"\",MID(INDIRECT(\"syo3_data6_work!ET\" & ($BO43-1)*5+$BN43),1,11))","v":""},null,null,null,{"$f":"IF(INDIRECT(\"syo3_data6_work!EU\" & ($BO43-1)*5+$BN43)=\"\",\"\",MID(INDIRECT(\"syo3_data6_work!EU\" & ($BO43-1)*5+$BN43),1,11))","v":""},null,null,null,{"$f":"IF(INDIRECT(\"syo3_data6_work!EV\" & ($BO43-1)*5+$BN43)=\"\",\"\",MID(INDIRECT(\"syo3_data6_work!EV\" & ($BO43-1)*5+$BN43),1,11))","v":""},null,null,null,{"$f":"IF(INDIRECT(\"syo3_data6_work!EW\" & ($BO43-1)*5+$BN43)=\"\",\"\",MID(INDIRECT(\"syo3_data6_work!EW\" & ($BO43-1)*5+$BN43),1,11))","v":""},null,null,null,{"$f":"IF(INDIRECT(\"syo3_data6_work!EX\" & ($BO43-1)*5+$BN43)=\"\",\"\",MID(INDIRECT(\"syo3_data6_work!EX\" & ($BO43-1)*5+$BN43),1,11))","v":""},null,null,null,{"$f":"IF(INDIRECT(\"syo3_data6_work!EY\" & ($BO43-1)*5+$BN43)=\"\",\"\",MID(INDIRECT(\"syo3_data6_work!EY\" & ($BO43-1)*5+$BN43),1,11))","v":""},null,null,null,{"$f":"IF(INDIRECT(\"syo3_data6_work!EZ\" & ($BO43-1)*5+$BN43)=\"\",\"\",MID(INDIRECT(\"syo3_data6_work!EZ\" & ($BO43-1)*5+$BN43),1,11))","v":""},null,null,null,{"$f":"IF(INDIRECT(\"syo3_data6_work!FA\" & ($BO43-1)*5+$BN43)=\"\",\"\",MID(INDIRECT(\"syo3_data6_work!FA\" & ($BO43-1)*5+$BN43),1,11))","v":""},null,null,null,{"$f":"IF(INDIRECT(\"syo3_data6_work!FB\" & ($BO43-1)*5+$BN43)=\"\",\"\",MID(INDIRECT(\"syo3_data6_work!FB\" & ($BO43-1)*5+$BN43),1,11))","v":""},null,null,null,{"$f":"IF(INDIRECT(\"syo3_data6_work!FC\" & ($BO43-1)*5+$BN43)=\"\",\"\",MID(INDIRECT(\"syo3_data6_work!FC\" & ($BO43-1)*5+$BN43),1,11))","v":""},null,null,null,{"$f":"IF(INDIRECT(\"syo3_data6_work!FQ\" & ($BO43-1)*5+$BN43)=\"\",\"\",INT(MID(INDIRECT(\"syo3_data6_work!FQ\" & ($BO43-1)*5+$BN43),1,11)))","v":""}]
[null,null,null,null,"月毎の実労働時間",null,null,null,null,null,{"$f":"IF(INDIRECT(\"syo3_data6_work!FD\" & ($BO43-1)*5+$BN43)=\"\",\"\",MID(INDIRECT(\"syo3_data6_work!FD\" & ($BO43-1)*5+$BN43),1,11))","v":""},null,null,null,{"$f":"IF(INDIRECT(\"syo3_data6_work!FE\" & ($BO43-1)*5+$BN43)=\"\",\"\",MID(INDIRECT(\"syo3_data6_work!FE\" & ($BO43-1)*5+$BN43),1,11))","v":""},null,null,null,{"$f":"IF(INDIRECT(\"syo3_data6_work!FF\" & ($BO43-1)*5+$BN43)=\"\",\"\",MID(INDIRECT(\"syo3_data6_work!FF\" & ($BO43-1)*5+$BN43),1,11))","v":""},null,null,null,{"$f":"IF(INDIRECT(\"syo3_data6_work!FG\" & ($BO43-1)*5+$BN43)=\"\",\"\",MID(INDIRECT(\"syo3_data6_work!FG\" & ($BO43-1)*5+$BN43),1,11))","v":""},null,null,null,{"$f":"IF(INDIRECT(\"syo3_data6_work!FH\" & ($BO43-1)*5+$BN43)=\"\",\"\",MID(INDIRECT(\"syo3_data6_work!FH\" & ($BO43-1)*5+$BN43),1,11))","v":""},null,null,null,{"$f":"IF(INDIRECT(\"syo3_data6_work!FI\" & ($BO43-1)*5+$BN43)=\"\",\"\",MID(INDIRECT(\"syo3_data6_work!FI\" & ($BO43-1)*5+$BN43),1,11))","v":""},null,null,null,{"$f":"IF(INDIRECT(\"syo3_data6_work!FJ\" & ($BO43-1)*5+$BN43)=\"\",\"\",MID(INDIRECT(\"syo3_data6_work!FJ\" & ($BO43-1)*5+$BN43),1,11))","v":""},null,null,null,{"$f":"IF(INDIRECT(\"syo3_data6_work!FK\" & ($BO43-1)*5+$BN43)=\"\",\"\",MID(INDIRECT(\"syo3_data6_work!FK\" & ($BO43-1)*5+$BN43),1,11))","v":""},null,null,null,{"$f":"IF(INDIRECT(\"syo3_data6_work!FL\" & ($BO43-1)*5+$BN43)=\"\",\"\",MID(INDIRECT(\"syo3_data6_work!FL\" & ($BO43-1)*5+$BN43),1,11))","v":""},null,null,null,{"$f":"IF(INDIRECT(\"syo3_data6_work!FM\" & ($BO43-1)*5+$BN43)=\"\",\"\",MID(INDIRECT(\"syo3_data6_work!FM\" & ($BO43-1)*5+$BN43),1,11))","v":""},null,null,null,{"$f":"IF(INDIRECT(\"syo3_data6_work!FN\" & ($BO43-1)*5+$BN43)=\"\",\"\",MID(INDIRECT(\"syo3_data6_work!FN\" & ($BO43-1)*5+$BN43),1,11))","v":""},null,null,null,{"$f":"IF(INDIRECT(\"syo3_data6_work!FO\" & ($BO43-1)*5+$BN43)=\"\",\"\",MID(INDIRECT(\"syo3_data6_work!FO\" & ($BO43-1)*5+$BN43),1,11))","v":""},null,null,null,{"$f":"IF(INDIRECT(\"syo3_data6_work!FR\" & ($BO43-1)*5+$BN43)=\"\",\"\",INT(MID(INDIRECT(\"syo3_data6_work!FR\" & ($BO43-1)*5+$BN43),1,11)))","v":""}]
[null,"注）「記入上の注意」をよく読んで記入して下さい。"]
[null,null,null,null,null,null,null,null,null,null,null,null,null,null,null,null,null,null,null,null,null,null,null,null,null,null,null,null,"（",null,null,null,"－",null,null,null,null,"）"]

{"sheet":"納付金・調整金","index":18,"n_rows":112,"n_cols":126,"rows_kept":112,"cut":false,"hidden":false,"merged":[[77,40,78,44],[77,47,78,69],[79,1,79,20],[79,47,79,55],[73,65,74,65],[73,66,74,69],[73,70,74,70],[73,71,74,74],[75,4,76,8],[75,9,77,23],[75,24,77,34],[76,40,76,44],[76,48,76,68],[77,4,77,8],[69,23,69,26],[69,28,69,31],[71,63,71,66],[71,68,71,74],[72,36,78,38],[72,39,75,45],[72,46,75,59],[73,1,77,3],[73,4,74,8],[73,9,74,23],[73,24,74,34],[73,61,74,64],[71,33,71,36],[71,38,71,41],[71,43,71,46],[71,48,71,51],[71,53,71,56],[71,58,71,61],[71,2,71,6],[71,8,71,11],[71,13,71,16],[71,18,71,21],[71,23,71,26],[71,28,71,31],[70,43,70,46],[70,48,70,51],[70,53,70,56],[70,58,70,61],[70,63,70,66],[70,68,70,74],[69,63,69,66],[69,68,69,74],[70,3,70,6],[70,8,70,11],[70,13,70,16],[70,18,70,21],[70,23,70,26],[70,28,70,31],[70,33,70,36],[70,38,70,41],[69,33,69,36],[69,38,69,41],[69,43,69,46],[69,48,69,51],[69,53,69,56],[69,58,69,61],[69,3,69,6],[69,8,69,11],[68,68,68,74],[67,63,67,66],[67,68,67,74],[68,3,68,6],[68,8,68,11],[68,13,68,16],[68,18,68,21],[68,23,68,26],[68,28,68,31],[68,33,68,36],[68,38,68,41],[67,33,67,36],[67,38,67,41],[67,43,67,46],[67,48,67,51],[67,53,67,56],[67,58,67,61],[68,43,68,46],[68,48,68,51],[68,53,68,56],[68,58,68,61],[68,63,68,66],[66,53,66,56],[66,58,66,61],[66,63,66,66],[66,68,66,74],[67,3,67,6],[67,8,67,11],[67,13,67,16],[67,18,67,21],[67,23,67,26],[67,28,67,31],[66,23,66,26],[66,28,66,31],[66,33,66,36],[66,38,66,41],[66,43,66,46],[66,48,66,51],[65,38,65,42],[65,43,65,47],[65,48,65,52],[65,53,65,57],[65,58,65,62],[57,68,58,74],[60,7,63,12],[60,13,63,38],[60,41,63,44],[61,45,62,74],[64,68,65,75],[65,23,65,27],[65,28,65,32],[65,33,65,37],[64,23,64,27],[64,28,64,32],[65,63,65,67],[64,53,64,57],[64,58,64,62],[64,63,64,67],[64,33,64,37],[64,38,64,42],[64,43,64,47],[64,48,64,52],[64,0,65,0],[64,1,70,1],[64,2,65,7],[64,8,64,12],[64,13,64,17],[64,18,64,22],[66,3,66,6],[66,8,66,11],[66,13,66,16],[66,18,66,21],[65,8,65,12],[65,13,65,17],[65,18,65,22],[69,13,69,16],[69,18,69,21],[56,0,57,0],[56,13,59,16],[56,31,59,39],[56,61,59,63],[57,1,61,1],[57,2,61,5],[57,17,59,27],[57,45,58,48],[57,49,58,49],[57,50,58,52],[57,55,57,59],[54,1,55,1],[54,2,55,5],[54,7,55,12],[54,13,55,16],[54,17,54,36],[54,37,54,56],[54,57,54,75],[55,17,55,34],[55,37,55,54],[55,57,55,74],[50,1,53,1],[50,2,53,5],[52,7,53,8],[52,11,52,16],[52,18,52,19],[52,26,53,27],[52,30,52,35],[52,37,52,38],[52,52,52,57],[39,0,41,0],[40,7,49,8],[42,10,42,18],[42,22,42,26],[42,34,42,36],[42,38,42,39],[42,44,42,47],[42,52,42,57],[46,74,47,74],[47,11,47,16],[47,18,47,19],[47,31,47,36],[35,7,36,8],[35,37,36,38],[35,45,37,46],[35,47,36,58],[36,64,37,74],[37,10,37,16],[37,32,37,36],[37,43,38,43],[37,47,37,56],[38,9,38,14],[38,18,38,24],[38,47,38,55],[30,44,33,44],[31,28,33,28],[31,30,33,36],[29,68,30,68],[29,69,30,69],[29,70,30,70],[29,71,30,71],[29,72,30,72],[29,73,30,73],[25,69,26,69],[26,2,26,6],[28,0,29,0],[28,62,29,63],[29,2,47,5],[29,45,30,46],[29,47,30,58],[29,65,30,65],[29,66,30,66],[29,67,30,67],[31,47,32,56],[31,64,32,74],[32,8,33,8],[32,9,33,14],[32,18,33,24],[32,25,33,25],[33,47,33,55],[29,74,30,74],[30,1,47,1],[30,8,31,9],[30,10,31,15],[30,17,31,18],[30,19,31,25],[30,35,30,36],[21,61,22,61],[21,62,22,62],[25,40,25,41],[25,50,26,50],[25,51,26,51],[25,54,26,54],[25,55,26,68],[21,55,22,55],[21,56,22,56],[21,57,22,57],[21,58,22,58],[21,59,22,59],[21,60,22,60],[21,9,26,37],[21,40,22,41],[21,42,22,46],[21,50,22,50],[21,51,22,51],[21,52,22,52],[21,53,22,53],[21,54,22,54],[17,36,18,36],[17,37,18,37],[17,38,18,38],[17,40,17,47],[18,40,18,41],[18,49,19,54],[17,30,18,30],[17,31,18,31],[17,32,18,32],[17,33,18,33],[17,34,18,34],[17,35,18,35],[17,24,18,24],[17,25,18,25],[13,0,15,0],[13,1,27,1],[13,3,13,5],[13,21,13,66],[14,3,14,5],[14,21,14,66],[15,2,15,6],[16,3,16,6],[16,49,17,54],[16,55,17,55],[17,12,18,12],[17,13,18,13],[17,14,18,14],[17,15,18,15],[17,16,18,16],[17,17,18,17],[16,56,17,56],[16,57,17,68],[17,26,18,26],[17,27,18,27],[17,28,18,28],[17,29,18,29],[17,18,18,18],[17,19,18,19],[10,1,12,1],[11,2,11,5],[11,8,11,9],[11,10,11,11],[11,12,11,13],[11,14,11,15],[16,75,19,75],[17,3,18,5],[17,7,18,7],[17,8,18,8],[17,9,18,9],[17,10,18,10],[17,11,18,11],[16,69,17,69],[17,20,18,20],[17,21,18,21],[17,22,18,22],[17,23,18,23],[18,56,19,69],[18,73,19,74],[0,3,0,4],[2,55,2,65],[2,66,2,75],[3,55,12,65],[3,66,12,75],[8,46,8,54],[11,16,11,17],[11,18,11,19],[11,21,11,22],[11,23,11,24],[11,25,11,26],[11,28,11,29],[11,33,11,34],[11,35,11,36],[11,38,11,39],[11,41,11,42]]}
[null,null,null,null,null,null,null,null,null,null,null,null,null,null,null,null,null,null,null,null,null,null,null,null,null,null,null,null,null,null,null,null,null,null,null,null,null,null,null,null,null,null,null,null,null,null,null,null,null,null,null,null,null,null,null,null,null,null,null,null,null,null,null,null,null,null,null,null,null,null,null,null,null,null,null,null,null,null,null,80,81,82,83,84,85,86,87,88,89,90,91,92,93,94,95,96,97,98,99,100,101,102,103,104,105,106,107,108,109,110,111,112,113,114,115,116,117,118,119,120,121,122,123,124,125,126]
[]
[null,null,null,null,null,null,null,null,null,null,null,null,null,null,null,null,null,null,null,null,null,null,null,null,null,null,null,null,null,null,null,null,null,null,null,null,null,null,null,null,null,null,null,null,null,null,null,null,null,null,null,null,null,null,null,"※受理年月日・番号",null,null,null,null,null,null,null,null,null,null,"※整理番号",null,null,null,null,null,null,null,null,null,null,null,null,"申告年月日","延納申請","第1期","第2期","第3期","分割支給(9.あり,0.なし)","支給先の選択","金融機関名","本店支店区分（1.本店、2.支店）","支店名称","金融機関コード","支店コード","預金種目","口座番号","口座名義カナ","口座名義漢字","特例調整金(1.あり,2.なし)","在宅就業支払額","所属担当部課","氏名姓カナ","氏名名カナ","氏名姓漢字","氏名名漢字","辞退フラグ（1が辞退、0は辞退じゃない）","再計算後フラグ","電話番号1","電話番号2","電話番号3","口座名義前略","口座名義後略","特例(B)","納付(C)","特例(D)","特例(F)","申請(G)","総額(I)","特例(L)","限度(M)","社労士記載有無","作成年月日","提出代行者等","氏名（姓）","氏名（名）","電話番号１","電話番号２","電話番号３","特例給付金辞退フラグ"]
[null,1,null,null,null,{"$f":"MASTA!BF6 & \" 年度\"","v":"令和5 年度"}]
[null,null,null,null,null,"障害者雇用納付金申告書、障害者雇用調整金、在宅就業障害者特例調整金及び特例給付金支給申請書"]
[null,null,null,null,null,"(常用雇用労働者の総数が100人を超える事業主用)"]
[]
[null,null,null,null,null,"下記のとおり申告・",null,"申請",null,"します。"]
[null,null,null,null,null,"独立行政法人高齢・障害・求職者雇用支援機構理事長　殿",null,null,null,null,null,null,null,null,null,null,null,null,null,null,null,null,null,null,null,null,null,null,null,null,null,null,null,null,null,null,null,null,null,null,null,null,null,null,null,null,"② 県コード・職安コード"]
[]
[null,"①"]
[null,null,"事業主番号",null,null,null,null,null,{"$f":"IF(Sheet1!$A$3=0,\"\",MID(Sheet1!$A$3,1,1))","v":""},null,{"$f":"IF(Sheet1!$A$3=0,\"\",MID(Sheet1!$A$3,2,1))","v":""},null,{"$f":"IF(Sheet1!$A$3=0,\"\",MID(Sheet1!$A$3,3,1))","v":""},null,{"$f":"IF(Sheet1!$A$3=0,\"\",MID(Sheet1!$A$3,4,1))","v":""},null,{"$f":"IF(Sheet1!$A$3=0,\"\",MID(Sheet1!$A$3,5,1))","v":""},null,{"$f":"IF(Sheet1!$A$3=0,\"\",MID(Sheet1!$A$3,6,1))","v":""},null,"－",0,null,0,null,0,null,"－",{"$f":"IF(Sheet1!$B$3=0,\"\",MID(Sheet1!$B$3,1,1))","v":""},null,null,null,null,{"$f":"IF($CB$4=0,\"\",VLOOKUP(MID($CB$4,1,1),MASTA!W2:X10,2,FALSE))","v":""},null,{"$f":"IF($CB$4=0,\"\",IF(MID($CB$4,2,2)=\"01\",\"元\",MID($CB$4,2,2)))","v":""},null,"年",{"$f":"IF($CB$4=0,\"\",MID($CB$4,4,2))","v":""},null,"月",{"$f":"IF($CB$4=0,\"\",MID($CB$4,6,2))","v":""},null,"日",null,null,null,null,{"$f":"IF(Sheet1!$C$3=0,\"\",MID(Sheet1!$C$3,1,1))","v":""},{"$f":"IF(Sheet1!$C$3=0,\"\",MID(Sheet1!$C$3,2,1))","v":""},"－",{"$f":"IF(Sheet1!$D$3=0,\"\",MID(Sheet1!$D$3,1,1))","v":""},{"$f":"IF(Sheet1!$D$3=0,\"\",MID(Sheet1!$D$3,2,1))","v":""}]
[]
[1,"③申告・申請事業主","(","フ      リ      ガ      ナ)",null,null,null,null,null,null,null,null,null,null,null,null,null,null,null,null,"（",{"$f":"IF(Sheet1!$E$3=0,\"\",MID(Sheet1!$E$3,1,70))","v":""},null,null,null,null,null,null,null,null,null,null,null,null,null,null,null,null,null,null,null,null,null,null,null,null,null,null,null,null,null,null,null,null,null,null,null,null,null,null,null,null,null,null,null,null,null,"）"]
[null,null,"(ｲ)","住　　　　　　　　　所　　　　　　　　　　　　　（法人のときは主たる事業所の所在地）",null,null,null," 郵便番号",null,null,null,{"$f":"IF(Sheet1!$G$3=0,\"\",MID(Sheet1!$G$3,1,1))","v":""},{"$f":"IF(Sheet1!$G$3=0,\"\",MID(Sheet1!$G$3,2,1))","v":""},{"$f":"IF(Sheet1!$G$3=0,\"\",MID(Sheet1!$G$3,3,1))","v":""},"－",{"$f":"IF(Sheet1!$H$3=0,\"\",MID(Sheet1!$H$3,1,1))","v":""},{"$f":"IF(Sheet1!$H$3=0,\"\",MID(Sheet1!$H$3,2,1))","v":""},{"$f":"IF(Sheet1!$H$3=0,\"\",MID(Sheet1!$H$3,3,1))","v":""},{"$f":"IF(Sheet1!$H$3=0,\"\",MID(Sheet1!$H$3,4,1))","v":""},null,null,{"$f":"IF(Sheet1!$F$3=0,\"\",MID(Sheet1!$F$3,1,64))","v":""}]
[]
[null,null,null,null,null,null,null,null,null,null,null,null,null,null,null,null,null,null,null,null,null,null,null,null,null,null,null,null,null,null,null,null,null,null,null,null,null,null,null,null,null,null,null,null,null,null,null,null,null,"代表者の役職",null,null,null,null,null,null,"(",{"$f":"IF(Sheet1!$O$3=0,\"\",MID(Sheet1!$O$3,1,70))","v":""},null,null,null,null,null,null,null,null,null,null,null,")"]
[null,null,"(","フ      リ      ガ      ナ)",null,null,null,"(",{"$f":"IF(Sheet1!$L$3=0,\"\",MID(Sheet1!$L$3,1,1))","v":""},{"$f":"IF(Sheet1!$L$3=0,\"\",MID(Sheet1!$L$3,2,1))","v":""},{"$f":"IF(Sheet1!$L$3=0,\"\",MID(Sheet1!$L$3,3,1))","v":""},{"$f":"IF(Sheet1!$L$3=0,\"\",MID(Sheet1!$L$3,4,1))","v":""},{"$f":"IF(Sheet1!$L$3=0,\"\",MID(Sheet1!$L$3,5,1))","v":""},{"$f":"IF(Sheet1!$L$3=0,\"\",MID(Sheet1!$L$3,6,1))","v":""},{"$f":"IF(Sheet1!$L$3=0,\"\",MID(Sheet1!$L$3,7,1))","v":""},{"$f":"IF(Sheet1!$L$3=0,\"\",MID(Sheet1!$L$3,8,1))","v":""},{"$f":"IF(Sheet1!$L$3=0,\"\",MID(Sheet1!$L$3,9,1))","v":""},{"$f":"IF(Sheet1!$L$3=0,\"\",MID(Sheet1!$L$3,10,1))","v":""},{"$f":"IF(Sheet1!$L$3=0,\"\",MID(Sheet1!$L$3,11,1))","v":""},{"$f":"IF(Sheet1!$L$3=0,\"\",MID(Sheet1!$L$3,12,1))","v":""},{"$f":"IF(Sheet1!$L$3=0,\"\",MID(Sheet1!$L$3,13,1))","v":""},{"$f":"IF(Sheet1!$L$3=0,\"\",MID(Sheet1!$L$3,14,1))","v":""},{"$f":"IF(Sheet1!$L$3=0,\"\",MID(Sheet1!$L$3,15,1))","v":""},{"$f":"IF(Sheet1!$L$3=0,\"\",MID(Sheet1!$L$3,16,1))","v":""},{"$f":"IF(Sheet1!$L$3=0,\"\",MID(Sheet1!$L$3,17,1))","v":""},{"$f":"IF(Sheet1!$L$3=0,\"\",MID(Sheet1!$L$3,18,1))","v":""},{"$f":"IF(Sheet1!$L$3=0,\"\",MID(Sheet1!$L$3,19,1))","v":""},{"$f":"IF(Sheet1!$L$3=0,\"\",MID(Sheet1!$L$3,20,1))","v":""},{"$f":"IF(Sheet1!$L$3=0,\"\",MID(Sheet1!$L$3,21,1))","v":""},{"$f":"IF(Sheet1!$L$3=0,\"\",MID(Sheet1!$L$3,22,1))","v":""},{"$f":"IF(Sheet1!$L$3=0,\"\",MID(Sheet1!$L$3,23,1))","v":""},{"$f":"IF(Sheet1!$L$3=0,\"\",MID(Sheet1!$L$3,24,1))","v":""},{"$f":"IF(Sheet1!$L$3=0,\"\",MID(Sheet1!$L$3,25,1))","v":""},{"$f":"IF(Sheet1!$L$3=0,\"\",MID(Sheet1!$L$3,26,1))","v":""},{"$f":"IF(Sheet1!$L$3=0,\"\",MID(Sheet1!$L$3,27,1))","v":""},{"$f":"IF(Sheet1!$L$3=0,\"\",MID(Sheet1!$L$3,28,1))","v":""},{"$f":"IF(Sheet1!$L$3=0,\"\",MID(Sheet1!$L$3,29,1))","v":""},{"$f":"IF(Sheet1!$L$3=0,\"\",MID(Sheet1!$L$3,30,1))","v":""},")",null,"( フ リ ガ ナ)"]
[null,null,null,null,null,null,null,null,null,null,null,null,null,null,null,null,null,null,null,null,null,null,null,null,null,null,null,null,null,null,null,null,null,null,null,null,null,null,null,null,"(ハ)",null,"氏　　　　  名",null,null,null,null,null,null,{"$f":"IF(Sheet1!$N$3=0,\"\",MID(Sheet1!$N$3,1,20))","v":""},null,null,null,null,null,null,{"$f":"IF(Sheet1!$P$3=0,\"\",MID(Sheet1!$P$3,1,35))","v":""}]
[null,null,null,null,null,null,null,null,null,null,null,null,null,null,null,null,null,null,null,null,null,null,null,null,null,null,null,null,null,null,null,null,null,null,null,null,null,null,null,null," (法人のときは代表者の役職・氏名)"]
[]
[null,null,null,null,null,null,null,null,null,{"$f":"IF(Sheet1!$M$3=0,\"\",MID(Sheet1!$M$3,1,56))","v":""},null,null,null,null,null,null,null,null,null,null,null,null,null,null,null,null,null,null,null,null,null,null,null,null,null,null,null,null,null,null,"(ニ)",null,"法　人　番　号",null,null,null,null,null,null,null,{"$f":"IF(Sheet1!$I3=\"\",\"\",MID(Sheet1!$I3,1,1))","v":""},{"$f":"IF(Sheet1!$I3=\"\",\"\",MID(Sheet1!$I3,2,1))","v":""},{"$f":"IF(Sheet1!$I3=\"\",\"\",MID(Sheet1!$I3,3,1))","v":""},{"$f":"IF(Sheet1!$I3=\"\",\"\",MID(Sheet1!$I3,4,1))","v":""},{"$f":"IF(Sheet1!$I3=\"\",\"\",MID(Sheet1!$I3,5,1))","v":""},{"$f":"IF(Sheet1!$I3=\"\",\"\",MID(Sheet1!$I3,6,1))","v":""},{"$f":"IF(Sheet1!$I3=\"\",\"\",MID(Sheet1!$I3,7,1))","v":""},{"$f":"IF(Sheet1!$I3=\"\",\"\",MID(Sheet1!$I3,8,1))","v":""},{"$f":"IF(Sheet1!$I3=\"\",\"\",MID(Sheet1!$I3,9,1))","v":""},{"$f":"IF(Sheet1!$I3=\"\",\"\",MID(Sheet1!$I3,10,1))","v":""},{"$f":"IF(Sheet1!$I3=\"\",\"\",MID(Sheet1!$I3,11,1))","v":""},{"$f":"IF(Sheet1!$I3=\"\",\"\",MID(Sheet1!$I3,12,1))","v":""},{"$f":"IF(Sheet1!$I3=\"\",\"\",MID(Sheet1!$I3,13,1))","v":""}]
[null,null,"(ロ)","　名　　　　　　　　　　　　称"]
[]
[null,null,null,null,null,null,null,null,null,null,null,null,null,null,null,null,null,null,null,null,null,null,null,null,null,null,null,null,null,null,null,null,null,null,null,null,null,null,null,null,null,null,null,null,null,null,null,null,null,"(中分類番号)",null,null,null,null,null,null,null,null,"(主たる事業の内容)"]
[null,null,null,null,null,null,null,null,null,null,null,null,null,null,null,null,null,null,null,null,null,null,null,null,null,null,null,null,null,null,null,null,null,null,null,null,null,null,null,null,"(ホ)",null,"産  業  分  類",null,null,null,null,null,null,null,{"$f":"IF(Sheet1!$Q$3=0,\"\",MID(Sheet1!$Q$3,1,1))","v":""},{"$f":"IF(Sheet1!$Q$3=0,\"\",MID(Sheet1!$Q$3,2,1))","v":""},null,null,"(",{"$f":"IF(Sheet1!$R$3=0,\"\",MID(Sheet1!$R$3,1,24))","v":""},null,null,null,null,null,null,null,null,null,null,null,null,null,")"]
[]
[]
[2,{"$f":"IF(V88>0,IF(W89=\"n7\",\"n7\",IF(W90=\"n7\",\"n7\",\"h7\")),\"\")","v":""},{"$f":"IF(W89=\"n7\",\"200人\",IF(W90=\"n7\",\"100人\",\"\"))","v":""},null,null,null,null,"障害者雇用納付金の納付額（納付額が零の場合を含む。）及び在宅就業障害者特例調整金の申請額（(A)＜(B)の場合）",null,null,null,null,null,null,null,null,null,null,null,null,null,null,null,null,null,null,null,null,null,null,null,null,null,null,null,null,null,null,null,null,null,null,null,null,null,null,null,null,null,null,null,null,null,null,null,null,null,null,null,null,null,null,"(C)",null,"納付額((A)－(B)）"]
[null,null,"障害者雇用納付金の納付額、障害者雇用調整金及び在宅就業障害者特例調整金の申請額",null,null,null,null,"(A)",null,null,null,null,null,{"$f":"IF(B29<>\"h7\",IF(BQ69<=BQ71,\"0\",(BQ69-BQ71)*AE32),\"\")","v":"0"},null,null,null,null,null,null,null,null,null,null,null,null,null,null,null,null,null,null,null,null,null,null,null,null,null,null,null,null,null,null,null,"(B)",null,"在宅就業障害者特例調整金を申請",null,null,null,null,null,null,null,null,null,null,null,null,null,null,null,null,null,{"$f":"IF(BX31-8<=0,\"\",IF(BX30<>0,MID(BX30,BX31-8,1),\"\"))","v":""},{"$f":"IF(BX31-7<=0,\"\",IF(BX30<>0,MID(BX30,BX31-7,1),\"\"))","v":""},{"$f":"IF(BX31-6<=0,\"\",IF(BX30<>0,MID(BX30,BX31-6,1),\"\"))","v":""},{"$f":"IF(BX31-5<=0,\"\",IF(BX30<>0,MID(BX30,BX31-5,1),\"\"))","v":""},{"$f":"IF(BX31-4<=0,\"\",IF(BX30<>0,MID(BX30,BX31-4,1),\"\"))","v":""},{"$f":"IF(BX31-3<=0,\"\",IF(BX30<>0,MID(BX30,BX31-3,1),\"\"))","v":""},{"$f":"IF(BX31-2<=0,\"\",IF(BX30<>0,MID(BX30,BX31-2,1),\"\"))","v":""},{"$f":"IF(BX31-1<=0,\"\",IF(BX30<>0,MID(BX30,BX31-1,1),\"\"))","v":""},{"$f":"IF(B29=\"n7\",IF(N30=\"0\",\"0\",IF(BX30<>\"\",MID(BX30,BX31,1),\"0\")),\"\")","v":""},"円",{"$f":"IF(B29=\"n7\",IF(N30=\"0\",IF(N37=\"\",\"0\",\"\"),IF(AV34<>\"\",IF(N30>AV34,N30-AV34,\"\"),N30)),\"\")","v":""}]
[null,"④",null,null,null,null,null,null,"(N)",null,"法定雇用障害者の数",null,null,null,null,null,null,"(P)",null,"身体障害者、知的障害者及び精神障害者の合計数",null,null,null,null,null,null,null,null,null,null,null,null,null,null,null,null,null,null,null,null,null,null,null,null,"－",null,null,null,null,null,null,null,null,null,null,null,null,null,null,null,null,null,null,null,null,null,null,null,null,null,null,null,null,null,null,{"$f":"LEN(BX30)","v":0}]
["28年度改定前(B23)",null,null,null,null,null,null,null,null,null,null,null,null,null,null,null,null,null,null,null,null,null,null,null,null,null,null,null,"×",null,50000,null,null,null,null,null,null,null,null,null,null,null,null,null,null,null,null,"する場合は(L)の額 (ただし(M）の額が上限）",null,null,null,null,null,null,null,null,null,null,null,null,null,null,null,"(D)","在宅就業障害者特例調整金申請額                     （(B)－(A)）（(A)＜(B)の場合）"]
[{"$f":"IF(報奨金!B30<>\"h7\",IF(Sheet1!$T$3=28,IF(AND(V88>0,OR(V91>=AC92,AG86<AD89)),IF(W89=\"n7\",\"n7\",IF(W90=\"n7\",\"n7\",\"h7\")),\"n8\"),\"n7\"),\"h7\")","v":"n7"},null,null,null,null,null,null,null,"（",{"$f":"IF(B29=\"n7\",BQ69,\"\")","v":""},null,null,null,null,null,null,null,null,{"$f":"IF(B29=\"n7\",BQ71,\"\")","v":""},null,null,null,null,null,null,"）",null,null,null,null,null,null,null,null,null,null,null,null,null,null,null,null,null,null,null,null,null,null,null,null,null,null,null,null,null,null,null,null,null,null,null,null,null,null,null,null,null,null,null,null,null,null,null,null,null,{"$f":"IF(B29=\"n7\",IF(N30=\"0\",IF(AV34>0,IF(N37=\"\",AV34,\"\"),\"\"),IF(AV34=\"\",\"\",IF(AV34>N30,AV34-N30,\"\"))),\"\")","v":""}]
[null,null,null,null,null,null,null,null,null,null,null,null,null,null,null,null,"－",null,null,null,null,null,null,null,null,null,null,null,null,null,null,null,null,null,null,null,null,null,null,null,null,null,null,null,null,null,"（",{"$f":"IF(B29=\"n7\",IF(N37<>\"\",\"\",IF(BY44=0,\"\",BY44)),\"\")","v":""},null,null,null,null,null,null,null,null,null,"）円",null,null,null,null,null,null,null,{"$f":"IF(BX34-8<=0,\"\",IF(BX33<>0,MID(BX33,BX34-8,1),\"\"))","v":""},{"$f":"IF(BX34-7<=0,\"\",IF(BX33<>0,MID(BX33,BX34-7,1),\"\"))","v":""},{"$f":"IF(BX34-6<=0,\"\",IF(BX33<>0,MID(BX33,BX34-6,1),\"\"))","v":""},{"$f":"IF(BX34-5<=0,\"\",IF(BX33<>0,MID(BX33,BX34-5,1),\"\"))","v":""},{"$f":"IF(BX34-4<=0,\"\",IF(BX33<>0,MID(BX33,BX34-4,1),\"\"))","v":""},{"$f":"IF(BX34-3<=0,\"\",IF(BX33<>0,MID(BX33,BX34-3,1),\"\"))","v":""},{"$f":"IF(BX34-2<=0,\"\",IF(BX33<>0,MID(BX33,BX34-2,1),\"\"))","v":""},{"$f":"IF(BX34-1<=0,\"\",IF(BX33<>0,MID(BX33,BX34-1,1),\"\"))","v":""},{"$f":"IF(BX34<=0,\"\",IF(BX33<>0,MID(BX33,BX34,1),\"\"))","v":""},"円",{"$f":"LEN(BX33)","v":0}]
[null,null,null,null,null,null,null,"障害者雇用調整金及び在宅就業障害者特例調整金の申請額(障害者雇用調整金を申請する場合又は障害者雇用調整金及び在宅就業障害者特例調整金を申請する場合)",null,null,null,null,null,null,null,null,null,null,null,null,null,null,null,null,null,null,null,null,null,null,null,null,null,null,null,null,null,null,null,null,null,null,null,null,null,null,null,null,null,null,null,null,null,null,null,null,null,null,null,null,null,null,null,null,null,null,null,null,null,null,null,null,null,null,null,{"$f":"LEN(BX34)","v":1}]
[null,null,null,null,null,null,null,"(E)",null,null,null,null,null,null,null,null,null,null,null,null,null,null,null,null,null,null,null,null,null,null,null,null,null,null,null,null,null,null,null,null,null,null,null,null,null,"(F)",null,"在宅就業障害者特例調整金を申請"]
[null,null,null,null,null,null,null,null,null,null,null,null,null,{"$f":"IF(B29=\"n7\",IF(BQ71<=V85,\"\",(BQ71-V85)*AG38),\"\")","v":""},null,null,null,null,null,null,null,null,null,null,null,null,null,null,null,null,null,null,null,null,null,null,null,null,null,null,null,null,null,null,null,null,null,null,null,null,null,null,null,null,null,null,null,null,null,null,null,null,null,null,"障害者雇用調整金申請額及び在宅就業障害者特例調整金申請額（(E)＋(F)）"]
[null,null,null,null,null,null,null,null,"(P)",null,"身体障害者、知的障害者及び精神障害者の合計数",null,null,null,null,null,null,null,"(O)",null,"法定雇用障害者の数",null,null,null,null,null,null,null,"×",null,null,null,27000,null,null,null,null,"円",null,null,null,null,null,"＋",null,null,null,"する場合は(L)の額（ただし(M)の額が上限）",null,null,null,null,null,null,null,null,null,null,null,null,null,null,null,"(G)",null,null,null,null,null,null,null,null,null,null,null,{"$f":"IF(B29=\"n7\",IF(AV39=\"\",N37,N37+AV39),\"\")","v":""}]
[null,null,null,null,null,null,null,null,"（",{"$f":"IF(B29=\"n7\",IF(N30=\"0\",IF(BX30=\"\",IF(BX33=\"\",IF(Y85<Y86,BQ71,\"\"),\"\"),\"\"),\"\"),\"\")","v":""},null,null,null,null,null,null,"－",null,{"$f":"IF(B29=\"n7\",V86,\"\")","v":""},null,null,null,null,null,null,null,"）",null,null,null,null,null,null,null,null,null,null,null,null,null,null,null,null,null,null,null,"（",{"$f":"IF(N37=\"\",\"\",IF(BY44=0,\"\",BY44))","v":""},null,null,null,null,null,null,null,null,null,"）円",null,null,null,null,null,null,null,{"$f":"IF(CY4=\"1\",\"\",IF(BX39-8<=0,\"\",IF(BX38<>0,MID(BX38,BX39-8,1),\"\")))","v":""},{"$f":"IF(CY4=\"1\",\"\",IF(BX39-7<=0,\"\",IF(BX38<>0,MID(BX38,BX39-7,1),\"\")))","v":""},{"$f":"IF(CY4=\"1\",\"\",IF(BX39-6<=0,\"\",IF(BX38<>0,MID(BX38,BX39-6,1),\"\")))","v":""},{"$f":"IF(CY4=\"1\",\"\",IF(BX39-5<=0,\"\",IF(BX38<>0,MID(BX38,BX39-5,1),\"\")))","v":""},{"$f":"IF(CY4=\"1\",\"\",IF(BX39-4<=0,\"\",IF(BX38<>0,MID(BX38,BX39-4,1),\"\")))","v":""},{"$f":"IF(CY4=\"1\",\"\",IF(BX39-3<=0,\"\",IF(BX38<>0,MID(BX38,BX39-3,1),\"\")))","v":""},{"$f":"IF(CY4=\"1\",\"\",IF(BX39-2<=0,\"\",IF(BX38<>0,MID(BX38,BX39-2,1),\"\")))","v":""},{"$f":"IF(CY4=\"1\",\"\",IF(BX39-1<=0,\"\",IF(BX38<>0,MID(BX38,BX39-1,1),\"\")))","v":""},{"$f":"IF(CY4=\"1\",\"0\",IF(BX39<=0,\"\",IF(BX38<>0,MID(BX38,BX39,1),\"\")))","v":""},"円",{"$f":"LEN(BX38)","v":0}]
[]
[null,null,null,null,null,null,null,"(H)在宅就業障害者特例調整金申請額の算出",null,"　(I)年間の在宅就業障害者への支払い総額",null,null,null,null,null,null,null,null,null,null,null,null,null,null,null,null,null,null,null,null,null,null,null,"(J)　",null,null,null,null,null,null,null,null,"(K) (J)の小数点第１位以下は切捨て",null,null,null,null,null,null,null,null,null,null,null,null,null,null,null,null,null,null,null,null,"(L)"]
[null,null,null,null,null,null,null,null,null,null,null,null,null,null,null,null,null,null,null,null,null,null,null,null,null,null,null,null,null,null,null,null,null,{"$f":"IF(B29=\"n7\",ROUNDDOWN(K43/W43,1),\"\")","v":""},null,null,null,null,null,null,null,null,null,null,null,null,null,null,null,null,null,null,null,null,null,null,null,null,null,null,null,null,null,null,null,null,null,null,null,null,null,null,null,null,null,{"$f":"IF(B29=\"n7\",IF(AS43=\"\",\"\",AS43*BA43),\"\")","v":""}]
[null,null,null,null,null,null,null,null,null,null,{"$f":"CS4","v":0},null,null,null,null,null,null,null,null,null,"円","÷",350000,null,null,null,null,"円",null,null,null,"＝",null,"(",{"$f":"IF(B29=\"n7\",IF(AH42=0,\"\",TRUNC(AH42)),\"\")","v":""},null,null,". ",{"$f":"IF(B29=\"n7\",IF(AH42=0,\"\",(AH42-AI43)*10),\"\")","v":""},null,"）",null,null,"（",{"$f":"IF(B29=\"n7\",IF(AH42=0,\"\",TRUNC(AH42)),\"\")","v":""},null,null,null,". ","0",")","×",21000,null,null,null,null,null,"円",null,"＝",null,null,null,null,{"$f":"IF(BX43-8<=0,\"\",IF(BX42<>0,MID(BX42,BX43-8,1),\"\"))","v":""},{"$f":"IF(BX43-7<=0,\"\",IF(BX42<>0,MID(BX42,BX43-7,1),\"\"))","v":""},{"$f":"IF(BX43-6<=0,\"\",IF(BX42<>0,MID(BX42,BX43-6,1),\"\"))","v":""},{"$f":"IF(BX43-5<=0,\"\",IF(BX42<>0,MID(BX42,BX43-5,1),\"\"))","v":""},{"$f":"IF(BX43-4<=0,\"\",IF(BX42<>0,MID(BX42,BX43-4,1),\"\"))","v":""},{"$f":"IF(BX43-3<=0,\"\",IF(BX42<>0,MID(BX42,BX43-3,1),\"\"))","v":""},{"$f":"IF(BX43-2<=0,\"\",IF(BX42<>0,MID(BX42,BX43-2,1),\"\"))","v":""},{"$f":"IF(BX43-1<=0,\"\",IF(BX42<>0,MID(BX42,BX43-1,1),\"\"))","v":""},{"$f":"IF(BX43<=0,\"\",IF(BX42<>0,MID(BX42,BX43,1),\"\"))","v":""},"円",{"$f":"LEN(BX42)","v":0}]
[null,null,null,null,null,null,null,null,null,null,null,null,null,null,null,null,null,null,null,null,null,null,null,null,null,null,null,null,null,null,null,null,null,null,null,null,null,null,null,null,null,null,null,null,null,null,null,null,null,null,null,null,null,null,null,null,null,null,null,null,null,null,null,null,null,null,null,null,null,null,null,null,null,null,null,null,{"$f":"IF(B29=\"n7\",IF(K43=0,0,IF(BX42=\"\",0,IF(BX42<=BX47,BX42,BX47))),\"\")","v":""}]
[]
[null,null,null,null,null,null,null,null,null,"  在宅就業障害者特例調整金の支給限度額"]
[null,null,null,null,null,null,null,null,null,null,null,"(P)身体障害者、知的障害者及び精神障害者の合計数",null,null,null,null,null,null,null,null,null,null,null,null,null,null,null,null,null,null,null,null,null,null,null,null,null,null,null,null,null,null,null,null,null,null,null,null,null,null,null,null,null,null,null,null,null,null,null,null,null,null,null,"(M)",null,null,null,null,null,null,null,null,null,null,"円",{"$f":"IF(B29=\"n7\",IF(AS43=\"\",\"\",BQ71*AF48),\"\")","v":""}]
[null,null,null,null,null,null,null,null,null,null,"（",{"$f":"IF(B29=\"n7\",IF(K43=0,\"\",IF(AS43=\"\",\"\",TRUNC(BQ71))),\"\")","v":""},null,null,null,null,null,"．",{"$f":"IF(L48=\"\",\"\",(BQ71-L48)*10)","v":""},null,"）人",null,null,null,null,null,null,null,null,"×",null,21000,null,null,null,null,null,"円",null,null,null,null,null,null,null,null,null,null,null,null,null,null,null,null,null,"＝",null,null,null,null,null,null,null,null,null,{"$f":"IF(BX48-8<=0,\"\",IF(BX47<>0,MID(BX47,BX48-8,1),\"\"))","v":""},{"$f":"IF(BX48-7<=0,\"\",IF(BX47<>0,MID(BX47,BX48-7,1),\"\"))","v":""},{"$f":"IF(BX48-6<=0,\"\",IF(BX47<>0,MID(BX47,BX48-6,1),\"\"))","v":""},{"$f":"IF(BX48-5<=0,\"\",IF(BX47<>0,MID(BX47,BX48-5,1),\"\"))","v":""},{"$f":"IF(BX48-4<=0,\"\",IF(BX47<>0,MID(BX47,BX48-4,1),\"\"))","v":""},{"$f":"IF(BX48-3<=0,\"\",IF(BX47<>0,MID(BX47,BX48-3,1),\"\"))","v":""},{"$f":"IF(BX48-2<=0,\"\",IF(BX47<>0,MID(BX47,BX48-2,1),\"\"))","v":""},{"$f":"IF(BX48-1<=0,\"\",IF(BX47<>0,MID(BX47,BX48-1,1),\"\"))","v":""},{"$f":"IF(BX48<=0,\"\",IF(BX47<>0,MID(BX47,BX48,1),\"\"))","v":""},null,{"$f":"LEN(BX47)","v":0}]
[]
[]
[null,"⑤","特例給付金の申請額",null,null,null,null,"週労働時間が10時間以上20時間未満の雇用障害者の合計数（(P)を上限とする。ただし、小数点以下は切捨て。）",null,null,null,null,null,null,null,null,null,null,null,null,null,null,null,null,null,null,null,null,null,null,null,null,null,null,null,null,null,null,null,null,null,null,null,null,null,null,null,null,null,null,null,null,null,null,null,null,null,null,null,null,null,null,null,"(R)"]
[null,null,null,null,null,null,null,null,null,null,null,null,null,null,null,null,null,null,null,null,null,null,null,null,null,null,null,null,null,null,null,null,null,{"$f":"IF(B39=\"n7\",ROUNDDOWN(K53/W53,1),\"\")","v":""},null,null,null,null,null,null,null,null,null,null,null,null,null,null,null,null,null,null,null,null,null,null,null,null,null,null,null,null,null,null,null,null,null,null,null,null,null,null,null,null,null,{"$f":"IF(AND(L53<>\"\",AE53<>\"\"),MIN(L53,AE53)*BA53,\"\")","v":""}]
[null,null,null,null,null,null,null,"(Q)",null,null,"（",{"$f":"IF(BQ72=0,\"\",TRUNC(BQ72))","v":""},null,null,null,null,null,"．",0,null,"）人",null,null,"又は",null,null,"(P)",null,null,"（",{"$f":"IF(BQ71=0,\"\",TRUNC(BQ71))","v":""},null,null,null,null,null,"．",0,null,"）人のいずれか小さい数",null,null,null,null,null,null,null,null,null,null,null,"×",7000,null,null,null,null,null,"円",null,"＝",null,null,null,null,{"$f":"IF(BX53-8<=0,\"\",IF(BX52<>0,MID(BX52,BX53-8,1),\"\"))","v":""},{"$f":"IF(BX53-7<=0,\"\",IF(BX52<>0,MID(BX52,BX53-7,1),\"\"))","v":""},{"$f":"IF(BX53-6<=0,\"\",IF(BX52<>0,MID(BX52,BX53-6,1),\"\"))","v":""},{"$f":"IF(BX53-5<=0,\"\",IF(BX52<>0,MID(BX52,BX53-5,1),\"\"))","v":""},{"$f":"IF(BX53-4<=0,\"\",IF(BX52<>0,MID(BX52,BX53-4,1),\"\"))","v":""},{"$f":"IF(BX53-3<=0,\"\",IF(BX52<>0,MID(BX52,BX53-3,1),\"\"))","v":""},{"$f":"IF(BX53-2<=0,\"\",IF(BX52<>0,MID(BX52,BX53-2,1),\"\"))","v":""},{"$f":"IF(BX53-1<=0,\"\",IF(BX52<>0,MID(BX52,BX53-1,1),\"\"))","v":""},{"$f":"IF(BX53<=0,\"0\",IF(BX52<>0,MID(BX52,BX53,1),\"0\"))","v":"0"},"円",{"$f":"IF(DV4=\"1\",0,LEN(BX52))","v":0}]
[null,null,null,null,null,null,null,null,null,null,null,null,null,null,null,null,null,null,null,null,null,null,null,null,null,null,null,null,null,null,null,null,null,null,null,null,null,null,null,null,null,null,null,null,null,null,null,null,null,null,null,null,null,null,null,null,null,null,null,null,null,null,null,null,null,null,null,null,null,null,null,null,null,null,null,null,{"$f":"IF(B39=\"n7\",IF(K53=0,0,IF(BX52=\"\",0,IF(BX52<=BX57,BX52,BX57))),\"\")","v":""}]
[null,"⑥","障害者雇用納付金の延納申請",null,null,null,null,"(ｲ)  延納の申請",null,null,null,null,null,{"$f":"IF($CC$4=0,\"\",$CC$4)","v":""},null,null,null,"(ﾛ) 　第 　１ 　期",null,null,null,null,null,null,null,null,null,null,null,null,null,null,null,null,null,null,null,"(ﾊ) 　第 　２ 　期",null,null,null,null,null,null,null,null,null,null,null,null,null,null,null,null,null,null,null,"(ﾆ) 　第 　３ 　期"]
[null,null,null,null,null,null,null,null,null,null,null,null,null,null,null,null,null,{"$f":"IF($CC$4=1,$CD$4,\"\")","v":""},null,null,null,null,null,null,null,null,null,null,null,null,null,null,null,null,null,"円",null,{"$f":"IF($CC$4=1,$CE$4,\"\")","v":""},null,null,null,null,null,null,null,null,null,null,null,null,null,null,null,null,null,"円",null,{"$f":"IF($CC$4=1,$CF$4,\"\")","v":""},null,null,null,null,null,null,null,null,null,null,null,null,null,null,null,null,null,"円"]
[3,null,null,null,null,null,null,null,null,null,null,null,null,{"$f":"IF($CG$4=0,\"\",$CG$4)","v":""},null,null,null,null,"(ﾛ) 金融機関及び本・支店名",null,null,null,null,null,null,null,null,null,null,null,null,{"$f":"IF($CK$4=0,\"\",MID($CK$4,1,33))","v":""},null,null,null,null,null,null,null,null,null,null,null,"(ﾊ) 金融機関ｺｰﾄﾞ－本・支店ｺｰﾄﾞ",null,null,null,null,null,null,null,null,null,null,null,null,null,null,null,null,null,{"$f":"IF($CN$4=0,\"\",$CN$4)","v":""},null,null,null,"(ﾎ) 口座番号"]
[null,"⑦","障害者雇用調整金、在宅就業障害者特例調整金及び特例給付金の支給先",null,null,null,null,"(ｲ) 支給先の選択",null,null,null,null,null,null,null,null,null,{"$f":"IF($CI$4=0,\"\",MID($CI$4,1,27))","v":""},null,null,null,null,null,null,null,null,null,null,null,null,null,null,null,null,null,null,null,null,null,null,null,null,null,null,null,{"$f":"IF($CL$4=0,\"\",$CL$4)","v":""},null,null,null,"-",{"$f":"IF($CM$4=0,\"\",$CM$4)","v":""},null,null,null,null,"(ﾆ) 預金種目",null,null,null,null,null,null,null,null,null,null,null,null,{"$f":"IF($CO$4=0,\"\",$CO$4)","v":""}]
[null,null,null,null,null,null,null,null,null,null,null,null,null,null,null,null,null,null,null,null,null,null,null,null,null,null,null,null,null,"銀行",null,null,null,null,null,null,null,null,null,null,{"$f":"IF($CJ$4=2,\"支店\",\"本店\")","v":"本店"}]
[]
[null,null,null,null,null,null,null,"(ﾍ) 口座名義人",null,null,null,null,null,{"$f":"IF($CQ$4=0,\"\",MID($CQ$4,1,48))","v":""},null,null,null,null,null,null,null,null,null,null,null,null,null,null,null,null,null,null,null,null,null,null,null,null,null,null,null,"フリガナ"]
[null,null,null,null,null,null,null,null,null,null,null,null,null,null,null,null,null,null,null,null,null,null,null,null,null,null,null,null,null,null,null,null,null,null,null,null,null,null,null,null,null,null,null,null,null,{"$f":"IF($CP$4=0,\"\",MID($DD$4 & $CP$4 & $DE$4,1,30))","v":""}]
[]
[]
[4,"⑧障害者雇用納付金・障害者雇用調整金の算定内訳","区　　　 　　 　   　分",null,null,null,null,null,{"$f":"IF(MASTA!BG6<>\"\",MASTA!BG6,\"\")","v":"令和4年"},null,null,null,null,{"$f":"IF(MASTA!BH6<>\"\",MASTA!BH6,\"\")","v":""},null,null,null,null,{"$f":"IF(MASTA!BI6<>\"\",MASTA!BI6,\"\")","v":""},null,null,null,null,{"$f":"IF(MASTA!BJ6<>\"\",MASTA!BJ6,\"\")","v":""},null,null,null,null,{"$f":"IF(MASTA!BK6<>\"\",MASTA!BK6,\"\")","v":""},null,null,null,null,{"$f":"IF(MASTA!BL6<>\"\",MASTA!BL6,\"\")","v":""},null,null,null,null,{"$f":"IF(MASTA!BM6<>\"\",MASTA!BM6,\"\")","v":""},null,null,null,null,{"$f":"IF(MASTA!BN6<>\"\",MASTA!BN6,\"\")","v":""},null,null,null,null,{"$f":"IF(MASTA!BO6<>\"\",MASTA!BO6,\"\")","v":""},null,null,null,null,{"$f":"IF(MASTA!BP6<>\"\",MASTA!BP6,\"\")","v":"令和5年"},null,null,null,null,{"$f":"IF(MASTA!BQ6<>\"\",MASTA!BQ6,\"\")","v":""},null,null,null,null,{"$f":"IF(MASTA!BR6<>\"\",MASTA!BR6,\"\")","v":""},null,null,null,null,"合　　計"]
[null,null,null,null,null,null,null,null,"４月",null,null,null,null,"５月",null,null,null,null,"６月",null,null,null,null,"７月",null,null,null,null,"８月",null,null,null,null,"９月",null,null,null,null,"10月",null,null,null,null,"11月",null,null,null,null,"12月",null,null,null,null,"１月",null,null,null,null,"２月",null,null,null,null,"３月"]
[null,null,"(ｲ)","常 用 雇 用 労 働 者 の 総 数        　　　　　 (障害者雇用状況等報告書(Ⅰ)の③の(ﾊ)の合計数)",null,null,null,1,{"$f":"Sheet2!$EF$1","v":0},null,null,null,"人",{"$f":"Sheet2!$EG$1","v":0},null,null,null,"人",{"$f":"Sheet2!$EH$1","v":0},null,null,null,"人",{"$f":"Sheet2!$EI$1","v":0},null,null,null,"人",{"$f":"Sheet2!$EJ$1","v":0},null,null,null,"人",{"$f":"Sheet2!$EK$1","v":0},null,null,null,"人",{"$f":"Sheet2!$EL$1","v":0},null,null,null,"人",{"$f":"Sheet2!$EM$1","v":0},null,null,null,"人",{"$f":"Sheet2!$EN$1","v":0},null,null,null,"人",{"$f":"Sheet2!$EO$1","v":0},null,null,null,"人",{"$f":"Sheet2!$EP$1","v":0},null,null,null,"人",{"$f":"Sheet2!$EQ$1","v":0},null,null,null,"人",{"$f":"SUM(I67:BO67)","v":0},null,null,null,null,null,null,"人"]
[null,null,"(ﾛ)","法定雇用障害者数の算定の基礎となる労働者の数　　　　　　　　　　　　　　　　(障害者雇用状況等報告書(Ⅰ)の③の(ﾆ)の合計数)　",null,null,null,2,{"$f":"Sheet2!$ES$1","v":0},null,null,null,"人",{"$f":"Sheet2!$ET$1","v":0},null,null,null,"人",{"$f":"Sheet2!$EU$1","v":0},null,null,null,"人",{"$f":"Sheet2!$EV$1","v":0},null,null,null,"人",{"$f":"Sheet2!$EW$1","v":0},null,null,null,"人",{"$f":"Sheet2!$EX$1","v":0},null,null,null,"人",{"$f":"Sheet2!$EY$1","v":0},null,null,null,"人",{"$f":"Sheet2!$EZ$1","v":0},null,null,null,"人",{"$f":"Sheet2!$FA$1","v":0},null,null,null,"人",{"$f":"Sheet2!$FB$1","v":0},null,null,null,"人",{"$f":"Sheet2!$FC$1","v":0},null,null,null,"人",{"$f":"Sheet2!$FD$1","v":0},null,null,null,"人",{"$f":"SUM(I68:BO68)","v":0},null,null,null,null,null,null,"人"]
[null,null,"(ﾊ)\n","法定雇用障害者の数（納付金申告）\n((ﾛ)×2.3／100)",null,null,null,3,{"$f":"ROUNDDOWN(I68*MASTA!$I$29/100,0)","v":0},null,null,null,"人",{"$f":"ROUNDDOWN(N68*MASTA!$I$30/100,0)","v":0},null,null,null,"人",{"$f":"ROUNDDOWN(S68*MASTA!$I$31/100,0)","v":0},null,null,null,"人",{"$f":"ROUNDDOWN(X68*MASTA!$I$32/100,0)","v":0},null,null,null,"人",{"$f":"ROUNDDOWN(AC68*MASTA!$I$33/100,0)","v":0},null,null,null,"人",{"$f":"ROUNDDOWN(AH68*MASTA!$I$34/100,0)","v":0},null,null,null,"人",{"$f":"ROUNDDOWN(AM68*MASTA!$I$35/100,0)","v":0},null,null,null,"人",{"$f":"ROUNDDOWN(AR68*MASTA!$I$36/100,0)","v":0},null,null,null,"人",{"$f":"ROUNDDOWN(AW68*MASTA!$I$37/100,0)","v":0},null,null,null,"人",{"$f":"ROUNDDOWN(BB68*MASTA!$I$38/100,0)","v":0},null,null,null,"人",{"$f":"ROUNDDOWN(BG68*MASTA!$I$39/100,0)","v":0},null,null,null,"人",{"$f":"ROUNDDOWN(BL68*MASTA!$I$40/100,0)","v":0},null,null,null,"人",{"$f":"SUM(I69:BO69)","v":0},null,null,null,null,null,null,"人"]
[null,null,"(ﾆ)\n","法定雇用障害者の数（障害者雇用\n調整金申請）\n((ｲ)×2.3／100)",null,null,null,4,{"$f":"IF(BQ67=0,0,J86)","v":0},null,null,null,"人",{"$f":"IF(BQ67=0,0,K86)","v":0},null,null,null,"人",{"$f":"IF(BQ67=0,0,L86)","v":0},null,null,null,"人",{"$f":"IF(BQ67=0,0,M86)","v":0},null,null,null,"人",{"$f":"IF(BQ67=0,0,N86)","v":0},null,null,null,"人",{"$f":"IF(BQ67=0,0,O86)","v":0},null,null,null,"人",{"$f":"IF(BQ67=0,0,P86)","v":0},null,null,null,"人",{"$f":"IF(BQ67=0,0,Q86)","v":0},null,null,null,"人",{"$f":"IF(BQ67=0,0,R86)","v":0},null,null,null,"人",{"$f":"IF(BQ67=0,0,S86)","v":0},null,null,null,"人",{"$f":"IF(BQ67=0,0,T86)","v":0},null,null,null,"人",{"$f":"IF(BQ67=0,0,U86)","v":0},null,null,null,"人",{"$f":"IF(BQ67=0,0,IF(W86=0,\"\",W86))","v":0},null,null,null,null,null,null,"人"]
[null,null,"(ﾎ)\n","身体障害者、知的障害者及び精神障害者の合計数　　　　　　　　　　　　　　　　　(障害者雇用状況等報告書(Ⅰ)の③の（ｆ）の各月の合計数)",null,null,null,5,{"$f":"Sheet2!$DH$1","v":0},null,null,null,"人",{"$f":"Sheet2!$DI$1","v":0},null,null,null,"人",{"$f":"Sheet2!$DJ$1","v":0},null,null,null,"人",{"$f":"Sheet2!$DK$1","v":0},null,null,null,"人",{"$f":"Sheet2!$DL$1","v":0},null,null,null,"人",{"$f":"Sheet2!$DM$1","v":0},null,null,null,"人",{"$f":"Sheet2!$DN$1","v":0},null,null,null,"人",{"$f":"Sheet2!$DO$1","v":0},null,null,null,"人",{"$f":"Sheet2!$DP$1","v":0},null,null,null,"人",{"$f":"Sheet2!$DQ$1","v":0},null,null,null,"人",{"$f":"Sheet2!$DR$1","v":0},null,null,null,"人",{"$f":"Sheet2!$DS$1","v":0},null,null,null,"人",{"$f":"SUM(I71:BO71)","v":0},null,null,null,null,null,null,"人"]
[5,"⑨","週労働時間が10時間以上20時間未満の雇用障害者の数　　　　　　　　　　　　　　　　　(障害者雇用状況等報告書(Ⅰ)の③の（ﾁ）の各月の数)",null,null,null,null,6,{"$f":"Sheet2!$GL$1","v":0},null,null,null,"人",{"$f":"Sheet2!$GM$1","v":0},null,null,null,"人",{"$f":"Sheet2!$GN$1","v":0},null,null,null,"人",{"$f":"Sheet2!$GO$1","v":0},null,null,null,"人",{"$f":"Sheet2!$GP$1","v":0},null,null,null,"人",{"$f":"Sheet2!$GQ$1","v":0},null,null,null,"人",{"$f":"Sheet2!$GR$1","v":0},null,null,null,"人",{"$f":"Sheet2!$GS$1","v":0},null,null,null,"人",{"$f":"Sheet2!$GT$1","v":0},null,null,null,"人",{"$f":"Sheet2!$GU$1","v":0},null,null,null,"人",{"$f":"Sheet2!$GV$1","v":0},null,null,null,"人",{"$f":"Sheet2!$GW$1","v":0},null,null,null,"人",{"$f":"SUM(I72:BO72)","v":0},null,null,null,null,null,null,"人"]
[null,null,null,null,null,null,null,null,null,null,null,null,null,null,null,null,null,null,null,null,null,null,null,null,null,null,null,null,null,null,null,null,null,null,null,null,"記　入\n担当者",null,null,"所属部課名・\n連絡先電話番号",null,null,null,null,null,null,{"$f":"IF($CT$4=0,\"\",MID($CT$4,1,10))","v":""}]
[null,"社会保険\n労 務 士\n記 載 欄",null,null,"作成年月日・提出代行者\n事務代理者の表示",null,null,null,null,"氏　　　　　名",null,null,null,null,null,null,null,null,null,null,null,null,null,null,"電　話　番　号",null,null,null,null,null,null,null,null,null,null,null,null,null,null,null,null,null,null,null,null,null,null,null,null,null,null,null,null,null,null,null,null,null,null,null,null,{"$f":"IF($DA$4=0,\"\",$DA$4)","v":""},null,null,null,"-",{"$f":"IF($DB$4=0,\"\",$DB$4)","v":""},null,null,null,"-",{"$f":"IF($DC$4=0,\"\",$DC$4)","v":""}]
[]
[null,null,null,null,{"$f":"IF($DO$4=0,\"\",IF(MID($DO$4,2,2)=\"01\",VLOOKUP(MID($DO$4,1,1),MASTA!W2:X10,2,FALSE)&\"元年\",VLOOKUP(MID($DO$4,1,1),MASTA!W2:X10,2,FALSE)&MID($DO$4,2,2)&\"年\")&MID($DO$4,4,2)&\"月\"&MID($DO$4,6,2)&\"日\")","v":""},null,null,null,null,{"$f":"IF($DQ$4=0,\"\",MID($DQ$4,1,8)) &\" \"& IF($DR$4=0,\"\",MID($DR$4,1,8))","v":" "},null,null,null,null,null,null,null,null,null,null,null,null,null,null,{"$f":"IF(LEN($DS$4)=0,\"\",$DS$4 &\" - \") & IF(LEN($DT$4)=0,\"\",$DT$4 &\" - \") & IF(LEN($DU$4)=0,\"\",$DU$4)","v":""}]
[null,null,null,null,null,null,null,null,null,null,null,null,null,null,null,null,null,null,null,null,null,null,null,null,null,null,null,null,null,null,null,null,null,null,null,null,null,null,null,null,"（フリガナ）",null,null,null,null,null,null,"（",{"$f":"IF($CU$4=0,\"\",MID($CU$4,1,17))& \"　\" & IF($CV$4=0,\"\",MID($CV$4,1,17))","v":"　"},null,null,null,null,null,null,null,null,null,null,null,null,null,null,null,null,null,null,null,null,"）"]
[null,null,null,null,{"$f":"IF($DP$4=0,\"\",MID($DP$4,1,10))","v":""},null,null,null,null,null,null,null,null,null,null,null,null,null,null,null,null,null,null,null,null,null,null,null,null,null,null,null,null,null,null,null,null,null,null,null,"氏　　　名",null,null,null,null,null,null,{"$f":"IF($CW$4=0,\"\",MID($CW$4,1,8)) &\" \"& IF($CX$4=0,\"\",MID($CX$4,1,8))","v":" "}]
[null,"注）「記入上の注意」をよく読んで記入して下さい。　※欄には記入しないでください。"]
[]
[]
[1,2,3,4,5,6,7,8,9,10,11,12,13,14,15,16,17,18,19,20,21,22,23,24,25,26,27,28,29,30,31,32,33,34,35,36,37,38,39,40,41,42,43,44,45,46,47,48,49,50,51,52,53,54,55,56,57,58,59,60,61,62,63,64,65,66,67,68,69,70,71,72,73,74,75,76]
[]
[null,null,null,null,null,null,null,null,null,null,null,null,null,null,null,null,null,null,null,null,null,null,null,null,null,null,"申告申請チェック('1)→様式8の対象となる4月から6月までで300人以下の月数をカウント"]
[null,null,null,null,null,null,null,null,"(月)",{"$f":"ROUNDDOWN(I67*MASTA!$I$29/100,0)","v":0},{"$f":"ROUNDDOWN(N67*MASTA!$I$30/100,0)","v":0},{"$f":"ROUNDDOWN(S67*MASTA!$I$31/100,0)","v":0},{"$f":"ROUNDDOWN(X67*MASTA!$I$32/100,0)","v":0},{"$f":"ROUNDDOWN(AC67*MASTA!$I$33/100,0)","v":0},{"$f":"ROUNDDOWN(AH67*MASTA!$I$34/100,0)","v":0},{"$f":"ROUNDDOWN(AM67*MASTA!$I$35/100,0)","v":0},{"$f":"ROUNDDOWN(AR67*MASTA!$I$36/100,0)","v":0},{"$f":"ROUNDDOWN(AW67*MASTA!$I$37/100,0)","v":0},{"$f":"ROUNDDOWN(BB67*MASTA!$I$38/100,0)","v":0},{"$f":"ROUNDDOWN(BG67*MASTA!$I$39/100,0)","v":0},{"$f":"ROUNDDOWN(BL67*MASTA!$I$40/100,0)","v":0},{"$f":"SUM(J85:U85)","v":0},{"$f":"SUM(J86:U86)","v":0},null,{"$f":"SUM(I70:BO70)","v":0},null,"mon",4,5,6,"-","-","-"]
[null,null,null,null,null,null,null,null,null,{"$f":"IF(V86=\"\",\"\",ROUNDDOWN(I67*MASTA!$I$29/100,0))","v":""},{"$f":"IF(V86=\"\",\"\",ROUNDDOWN(N67*MASTA!$I$30/100,0))","v":""},{"$f":"IF(V86=\"\",\"\",ROUNDDOWN(S67*MASTA!$I$31/100,0))","v":""},{"$f":"IF(V86=\"\",\"\",ROUNDDOWN(X67*MASTA!$I$32/100,0))","v":""},{"$f":"IF(V86=\"\",\"\",ROUNDDOWN(AC67*MASTA!$I$33/100,0))","v":""},{"$f":"IF(V86=\"\",\"\",ROUNDDOWN(AH67*MASTA!$I$34/100,0))","v":""},{"$f":"IF(V86=\"\",\"\",ROUNDDOWN(AM67*MASTA!$I$35/100,0))","v":""},{"$f":"IF(V86=\"\",\"\",ROUNDDOWN(AR67*MASTA!$I$36/100,0))","v":""},{"$f":"IF(V86=\"\",\"\",ROUNDDOWN(AW67*MASTA!$I$37/100,0))","v":""},{"$f":"IF(V86=\"\",\"\",ROUNDDOWN(BB67*MASTA!$I$38/100,0))","v":""},{"$f":"IF(V86=\"\",\"\",ROUNDDOWN(BG67*MASTA!$I$39/100,0))","v":""},{"$f":"IF(V86=\"\",\"\",ROUNDDOWN(BL67*MASTA!$I$40/100,0))","v":""},{"$f":"IF(N30=\"0\",IF(BX30=\"\",IF(BX33=\"\",IF(V85<BQ71,V85,\"\"),\"\"),\"\"),\"\")","v":""},{"$f":"SUM(I70:BO70)","v":0},null,{"$f":"SUM(I71:BP71,)","v":0},null,null,{"$f":"IF(I67<>\"\",IF(AND(I67<=300,I67>0),1,0),\"\")","v":0},{"$f":"IF(N67<>\"\",IF(AND(N67<=300,N67>0),1,0),\"\")","v":0},{"$f":"IF(S67<>\"\",IF(AND(S67<=300,S67>0),1,0),\"\")","v":0},"-","-",{"$f":"IF(SUM(AB86:AD86)<>\"\",SUM(AB86:AD86),\"\")","v":0}]
[null,null,null,null,null,null,null,null,null,null,null,null,null,null,null,null,null,null,null,null,null,null,null,null,null,null,"4～6月の一部減額特例に必要な月数"]
[null,null,null,null,null,null,null,"<1>","(イ)常用雇用労働者の各月で、0人以上の月をカウント",{"$f":"IF(I67>0,1,0)","v":0},{"$f":"IF(N67>0,1,0)","v":0},{"$f":"IF(S67>0,1,0)","v":0},{"$f":"IF(X67>0,1,0)","v":0},{"$f":"IF(AC67>0,1,0)","v":0},{"$f":"IF(AH67>0,1,0)","v":0},{"$f":"IF(AM67>0,1,0)","v":0},{"$f":"IF(AR67>0,1,0)","v":0},{"$f":"IF(AW67>0,1,0)","v":0},{"$f":"IF(BB67>0,1,0)","v":0},{"$f":"IF(BG67>0,1,0)","v":0},{"$f":"IF(BL67>0,1,0)","v":0},{"$f":"SUM(J88:U88)","v":0},{"$f":"VLOOKUP(V88,J92:K104,2,FALSE)","v":0},null,null,null,"存続月",null,null,{"$f":"SUM(J88:L88)","v":0}]
[null,null,null,null,null,null,null,"<2>","(イ)常用雇用労働者の各月で、200人以上の月をカウント",{"$f":"IF(I67>200,1,0)","v":0},{"$f":"IF(N67>200,1,0)","v":0},{"$f":"IF(S67>200,1,0)","v":0},{"$f":"IF(X67>200,1,0)","v":0},{"$f":"IF(AC67>200,1,0)","v":0},{"$f":"IF(AH67>200,1,0)","v":0},{"$f":"IF(AM67>200,1,0)","v":0},{"$f":"IF(AR67>200,1,0)","v":0},{"$f":"IF(AW67>200,1,0)","v":0},{"$f":"IF(BB67>200,1,0)","v":0},{"$f":"IF(BG67>200,1,0)","v":0},{"$f":"IF(BL67>200,1,0)","v":0},{"$f":"SUM(J89:U89)","v":0},{"$f":"IF(V88>0,IF(V89>=W88,\"n7\",\"\"),0)","v":0},null,null,null,"月数",null,null,{"$f":"VLOOKUP(AD88,J92:K104,2,FALSE)","v":0}]
[null,null,null,null,null,null,null,"<3>","(イ)常用雇用労働者の各月で、100人以上の月をカウント",{"$f":"IF(I67>100,1,0)","v":0},{"$f":"IF(N67>100,1,0)","v":0},{"$f":"IF(S67>100,1,0)","v":0},{"$f":"IF(X67>100,1,0)","v":0},{"$f":"IF(AC67>100,1,0)","v":0},{"$f":"IF(AH67>100,1,0)","v":0},{"$f":"IF(AM67>100,1,0)","v":0},{"$f":"IF(AR67>100,1,0)","v":0},{"$f":"IF(AW67>100,1,0)","v":0},{"$f":"IF(BB67>100,1,0)","v":0},{"$f":"IF(BG67>100,1,0)","v":0},{"$f":"IF(BL67>100,1,0)","v":0},{"$f":"SUM(J90:U90)","v":0},{"$f":"IF(V88>0,IF(V90>=W88,\"n7\",\"\"),0)","v":0}]
[null,null,null,null,null,null,null,"<4>","(イ)常用雇用労働者の各月で、0人以上200人以下の月をカウント",{"$f":"IF(AND(I67<=200,I67>0),1,0)","v":0},{"$f":"IF(AND(N67<=200,N67>0),1,0)","v":0},{"$f":"IF(AND(S67<=200,S67>0),1,0)","v":0},{"$f":"IF(AND(X67<=200,X67>0),1,0)","v":0},{"$f":"IF(AND(AC67<=200,AC67>0),1,0)","v":0},{"$f":"IF(AND(AH67<=200,AH67>0),1,0)","v":0},{"$f":"IF(AND(AM67<=200,AM67>0),1,0)","v":0},{"$f":"IF(AND(AR67<=200,AR67>0),1,0)","v":0},{"$f":"IF(AND(AW67<=200,AW67>0),1,0)","v":0},{"$f":"IF(AND(BB67<=200,BB67>0),1,0)","v":0},{"$f":"IF(AND(BG67<=200,BG67>0),1,0)","v":0},{"$f":"IF(AND(BL67<=200,BL67>0),1,0)","v":0},{"$f":"SUM(J91:U91)","v":0},null,null,null,null,"通年4万円となる対象月数（200人以下）"]
[null,null,null,null,null,null,null,null,null,0,0,0,null,null,null,null,null,null,null,null,null,null,null,null,null,null,"月数",null,{"$f":"IF(V88=0,0,V88-VLOOKUP(V88,J92:K104,2,FALSE)+1)","v":0}]
[null,null,null,null,null,null,null,null,null,1,1,1]
[null,null,null,null,null,null,null,null,null,2,1,2]
[null,null,null,null,null,null,null,null,null,3,2,2]
[null,null,null,null,null,null,null,null,null,4,2,3]
[null,null,null,null,null,null,null,null,null,5,2,4]
[null,null,null,null,null,null,null,null,null,6,3,4]
[null,null,null,null,null,null,null,null,null,7,3,5]
[null,null,null,null,null,null,null,null,null,8,3,6]
[null,null,null,null,null,null,null,null,null,9,4,6]
[null,null,null,null,null,null,null,null,null,10,4,7]
[null,null,null,null,null,null,null,null,null,11,4,8]
[null,null,null,null,null,null,null,null,null,12,5,8]
[]
[null,null,null,null,null,null,null,"<5>","(イ)常用雇用労働者の各月で、300人以下の月をカウント",{"$f":"IF(AND(I67>0,I67<=300),1,0)","v":0},{"$f":"IF(AND(N67>0,N67<=300),1,0)","v":0},{"$f":"IF(AND(S67>0,S67<=300),1,0)","v":0},{"$f":"IF(AND(X67>0,X67<=300),1,0)","v":0},{"$f":"IF(AND(AC67>0,AC67<=300),1,0)","v":0},{"$f":"IF(AND(AH67>0,AH67<=300),1,0)","v":0},{"$f":"IF(AND(AM67>0,AM67<=300),1,0)","v":0},{"$f":"IF(AND(AR67>0,AR67<=300),1,0)","v":0},{"$f":"IF(AND(AW67>0,AW67<=300),1,0)","v":0},{"$f":"IF(AND(BB67>0,BB67<=300),1,0)","v":0},{"$f":"IF(AND(BG67>0,BG67<=300),1,0)","v":0},{"$f":"IF(AND(BL67>0,BL67<=300),1,0)","v":0},{"$f":"SUM(J106:U106)","v":0},{"$f":"IF(V106>0,IF(V106>=VLOOKUP(V88,J92:L104,3,FALSE),\"1\",\"0\"),0)","v":0}]
[]
[]
[]
[]
[]
[2,2,2,2,2,2,2,2,2,2,2,2,2,2,2,2,2,2,2,2,2,2,2,2,2,2,2,2,2,2,2,2,2,2,2,2,2,2,2,2,2,2,2,2,2,2,2,2,2,2,2,2,2,2,2,2,2,2,2,2,2,2,2,2,2,2,2,2,2,2,2,2,2,2,2,2,{"$f":"SUM(A112:BX112)","v":152}]

{"sheet":"納付金・調整金8","index":19,"n_rows":103,"n_cols":130,"rows_kept":103,"cut":false,"hidden":true,"merged":[[67,78,68,78],[68,74,68,77],[62,54,62,57],[61,79,61,84],[63,19,64,22],[63,49,64,52],[63,24,64,27],[63,28,64,28],[84,23,86,23],[65,68,66,68],[65,78,66,78],[66,74,66,77],[65,73,66,73],[66,69,66,72],[70,68,71,68],[70,69,71,69],[67,39,68,42],[67,44,68,47],[65,54,66,57],[65,58,66,58],[65,59,66,62],[65,69,65,72],[65,39,66,42],[67,64,68,67],[59,74,60,78],[59,79,60,85],[62,69,62,72],[59,49,59,53],[59,56,59,57],[59,59,59,63],[63,69,63,72],[63,74,63,77],[63,59,64,62],[63,63,64,63],[63,64,64,67],[63,68,64,68],[63,85,64,85],[52,19,53,30],[52,51,53,54],[52,56,53,58],[52,55,53,55],[51,33,53,42],[51,68,54,72],[63,29,64,32],[63,33,64,33],[63,34,64,37],[63,38,64,38],[63,39,64,42],[63,53,64,53],[63,54,64,57],[60,39,60,43],[63,43,64,43],[62,49,62,52],[59,69,60,73],[3,75,10,85],[12,76,12,78],[12,80,12,83],[61,29,61,32],[61,34,61,37],[61,39,61,42],[61,54,61,57],[61,59,61,62],[61,64,61,67],[61,44,61,47],[61,49,61,52],[60,44,60,48],[60,49,60,53],[60,54,60,58],[60,59,60,63],[60,64,60,68],[23,64,24,64],[23,65,24,65],[23,66,24,66],[23,40,23,45],[23,46,23,51],[19,83,21,83],[23,83,24,83],[23,68,24,68],[33,81,34,81],[40,81,41,81],[40,82,41,82],[40,77,41,77],[40,78,41,78],[40,79,41,79],[40,80,41,80],[33,74,34,74],[33,75,34,75],[33,76,34,76],[33,77,34,77],[0,3,0,4],[61,9,61,12],[60,29,60,33],[59,34,59,38],[59,39,59,43],[59,44,59,48],[60,34,60,38],[45,83,46,83],[46,13,46,18],[46,20,46,21],[45,80,46,80],[45,81,46,81],[45,82,46,82],[52,62,52,66],[33,78,34,78],[33,79,34,79],[60,19,60,23],[60,14,60,18],[60,24,60,28],[40,74,41,74],[37,79,38,79],[37,80,38,80],[37,81,38,81],[37,82,38,82],[9,56,9,57],[9,59,9,60],[67,49,68,52],[67,54,68,57],[65,43,66,43],[65,44,66,47],[65,48,66,48],[65,49,66,52],[72,4,74,9],[74,41,75,45],[74,48,75,83],[70,70,71,73],[70,75,71,78],[70,80,71,83],[70,79,71,79],[70,74,71,74],[69,37,75,39],[62,64,62,67],[55,49,58,52],[56,53,57,53],[61,69,61,72],[61,74,61,77],[56,54,57,83],[52,77,53,83],[67,74,67,77],[63,73,64,73],[61,14,61,17],[63,44,64,47],[63,48,64,48],[62,39,62,42],[62,44,62,47],[65,23,66,23],[65,34,66,37],[61,19,61,22],[61,24,61,27],[65,63,66,63],[65,64,66,67],[67,69,67,72],[64,69,64,72],[65,74,65,77],[62,74,62,77],[63,58,64,58],[67,73,68,73],[68,69,68,72],[62,59,62,62],[65,53,66,53],[65,24,66,27],[65,28,66,28],[65,38,66,38],[69,40,72,46],[70,48,71,65],[73,41,73,45],[73,49,73,71],[70,10,71,24],[70,25,71,35],[65,9,66,12],[65,13,66,13],[65,14,66,17],[65,18,66,18],[65,19,66,22],[67,34,68,37],[67,59,68,62],[63,7,64,8],[65,7,66,8],[62,24,62,27],[62,29,62,32],[62,34,62,37],[62,3,62,6],[62,7,62,8],[62,19,62,22],[72,10,74,24],[72,25,74,35],[70,1,74,3],[70,4,71,9],[67,7,68,8],[65,2,66,2],[65,3,66,6],[62,9,62,12],[62,14,62,17],[63,18,64,18],[63,13,64,13],[63,9,64,12],[63,14,64,17],[65,29,66,32],[65,33,66,33],[51,0,52,0],[51,7,53,13],[51,14,53,18],[52,1,56,1],[52,2,56,5],[55,7,58,13],[55,14,58,47],[59,0,60,0],[59,1,68,1],[59,2,60,8],[59,11,59,12],[59,14,59,18],[59,19,59,23],[59,24,59,28],[59,29,59,33],[67,24,68,27],[67,29,68,32],[63,23,64,23],[67,2,68,2],[67,3,68,6],[61,3,61,6],[61,7,61,8],[63,2,64,2],[63,3,64,6],[49,1,50,1],[49,2,50,5],[49,7,50,13],[49,14,50,18],[49,19,49,40],[49,41,49,62],[45,77,46,77],[45,78,46,78],[45,79,46,79],[45,69,46,69],[49,63,49,85],[50,19,50,38],[50,41,50,60],[50,63,50,82],[38,0,40,0],[39,8,46,10],[45,74,46,74],[45,75,46,75],[45,76,46,76],[41,21,41,22],[41,36,41,38],[41,40,41,41],[41,46,41,48],[41,50,41,51],[40,75,41,75],[40,76,41,76],[25,1,46,1],[25,2,46,5],[25,54,25,55],[28,23,29,23],[28,36,29,36],[28,50,29,50],[45,72,46,72],[45,73,46,73],[33,54,34,57],[33,9,34,9],[33,24,34,24],[33,26,34,26],[31,9,32,10],[31,11,33,16],[31,17,32,18],[31,19,33,22],[31,28,32,29],[31,30,33,35],[34,10,34,15],[34,18,34,23],[34,29,34,34],[29,10,29,15],[29,17,29,22],[29,37,29,42],[29,44,29,49],[28,74,29,74],[28,75,29,75],[28,76,29,76],[28,77,29,77],[28,78,29,78],[27,52,28,52],[27,71,28,72],[26,9,27,10],[26,11,28,14],[28,9,29,9],[26,15,27,16],[26,17,28,22],[26,42,27,43],[26,44,28,49],[27,25,28,25],[26,36,27,37],[26,38,28,41],[20,2,20,6],[21,57,21,58],[22,0,23,0],[22,58,22,67],[23,59,24,59],[23,60,24,60],[19,3,19,5],[19,27,21,44],[19,45,20,46],[19,55,21,56],[23,61,24,61],[23,62,24,62],[23,63,24,63],[23,79,24,79],[23,80,24,80],[23,81,24,81],[23,82,24,82],[23,77,24,77],[23,67,24,67],[23,78,24,78],[23,74,24,74],[23,75,24,75],[23,76,24,76],[23,70,24,72],[11,0,12,0],[11,1,21,1],[11,3,11,5],[11,9,11,41],[17,2,18,2],[17,3,18,5],[9,15,9,16],[9,17,9,18],[9,19,9,20],[9,22,9,23],[9,24,9,25],[9,26,9,27],[17,6,18,6],[18,25,18,26],[12,3,12,5],[13,2,13,6],[14,3,14,6],[15,3,15,6],[14,9,16,48],[12,9,12,68],[3,63,10,74],[17,27,18,46],[19,8,20,24],[19,57,20,58],[2,63,2,74],[2,75,2,85],[3,1,4,2],[8,1,10,1],[9,2,9,5],[9,9,9,10],[9,11,9,12],[9,13,9,14],[64,74,64,77],[63,78,64,78],[43,71,43,72],[39,71,39,72],[9,29,9,30],[9,44,9,45],[9,47,9,48],[9,50,9,51],[17,52,21,54],[17,55,18,60],[17,61,18,82],[18,48,20,50],[19,59,21,60],[11,69,12,74],[15,49,15,83],[19,61,21,82],[65,85,66,85],[67,85,68,85],[62,79,62,84],[63,79,64,84],[65,79,66,84],[67,79,68,84],[40,12,41,20],[67,13,68,13],[67,18,68,18],[67,23,68,23],[67,28,68,28],[67,33,68,33],[67,38,68,38],[67,43,68,43],[67,48,68,48],[67,53,68,53],[67,58,68,58],[67,63,68,63],[67,68,68,68],[67,9,68,12],[67,14,68,17],[67,19,68,22],[40,24,41,28],[60,9,60,13],[31,84,32,84],[27,54,28,57],[41,55,41,59],[46,34,46,37],[27,26,28,29],[28,64,29,64],[28,80,29,80],[28,81,29,81],[28,82,29,82],[28,79,29,79],[36,71,36,72],[37,74,38,74],[37,75,38,75],[37,76,38,76],[37,77,38,77],[31,36,32,37],[31,38,33,41],[32,71,33,72],[37,78,38,78],[33,80,34,80],[33,28,34,28],[33,43,34,43],[34,37,34,42],[33,82,34,82]]}
[null,null,null,null,null,null,null,null,null,null,null,null,null,null,null,null,null,null,null,null,null,null,null,null,null,null,null,null,null,null,null,null,null,null,null,null,null,null,null,null,null,null,null,null,null,null,null,null,null,null,null,null,null,null,null,null,null,null,null,null,null,null,null,null,null,null,null,null,null,null,null,null,null,null,null,null,null,null,null,null,null,null,null,null,null,null,null,null,null,null,null,null,93,94,95,96,97,98,99,100,101,102,103,104,105,106,107,108,109,110,111,112,113,114,115,116,117,118,119,120,121,122,123,124,125,126,127,128,129,130]
[]
[null,null,null,null,null,null,null,null,null,null,null,null,null,null,null,null,null,null,null,null,null,null,null,null,null,null,null,null,null,null,null,null,null,null,null,null,null,null,null,null,null,null,null,null,null,null,null,null,null,null,null,null,null,null,null,null,null,null,null,null,null,null,null,"※受理年月日・番号",null,null,null,null,null,null,null,null,null,null,null,"※整理番号",null,null,null,null,null,null,null,null,null,null,null,null,null,null,null,null,"申告年月日","延納申請","第1期","第2期","第3期","分割支給(9.あり,0.なし)","支給先の選択","金融機関名","本店支店区分（1.本店、2.支店）","支店名称","金融機関コード","支店コード","預金種目","口座番号","口座名義カナ","口座名義漢字","特例調整金(1.あり,2.なし)","在宅就業支払額","所属担当部課","氏名姓カナ","氏名名カナ","氏名姓漢字","氏名名漢字","辞退フラグ（1が辞退、0は辞退じゃない）","再計算後フラグ","電話番号1","電話番号2","電話番号3","口座名義前略","口座名義後略","特例(B)","納付(C)","特例(D)","特例(F)","申請(G)","総額(I)","特例(L)","限度(M)"]
[null,8,null,null,null,{"$f":"IF(Sheet1!T3<>\"\",\"平成 \"&Sheet1!T3&\" 年度\",\" 平成　　　年度\")","v":"平成 5 年度"},null,null,null,null,null,null,null,null,null,null,null,null,null,null,null,null,null,null,null,null,null,null,null,null,null,null,null,null,null,null,null,null,null,null,null,null,null,null,null,null,null,null,null,null,null,null,null,null,null,null,null,null,null,null,null,null,null,null,null,null,null,null,null,null,null,null,null,null,null,null,null,null,null,null,null,null,null,null,null,null,null,null,null,null,null,null,null,null,null,null,null,null,null,null,null,null,null,null,null,null,null,null,null,null,null,null,null,null,null,null,null,null,null,null,"",""]
[]
[null,null,null,null,null,"障害者雇用納付金申告書、障害者雇用調整金及び在宅就業障害者特例調整金支給申請書　　　"]
[null,null,null,null,null,"下記のとおり申告 ・",null,"申請",null,"します。"]
[null,null,null,null,null,"独立行政法人高齢・障害・求職者雇用支援機構理事長　殿",null,null,null,null,null,null,null,null,null,null,null,null,null,null,null,null,null,null,null,null,null,null,null,null,null,null,null,null,null,null,null,null,null,null,null,null,null,null,null,null,null,null,null,null,null,null,null,null,"② 県コード・職安コード"]
[null,"①"]
[null,null,"事業主番号",null,null,null,null,null,null,{"$f":"IF(Sheet1!$A$3=0,\"\",MID(Sheet1!$A$3,1,1))","v":""},null,{"$f":"IF(Sheet1!$A$3=0,\"\",MID(Sheet1!$A$3,2,1))","v":""},null,{"$f":"IF(Sheet1!$A$3=0,\"\",MID(Sheet1!$A$3,3,1))","v":""},null,{"$f":"IF(Sheet1!$A$3=0,\"\",MID(Sheet1!$A$3,4,1))","v":""},null,{"$f":"IF(Sheet1!$A$3=0,\"\",MID(Sheet1!$A$3,5,1))","v":""},null,{"$f":"IF(Sheet1!$A$3=0,\"\",MID(Sheet1!$A$3,6,1))","v":""},null,"－",0,null,0,null,0,null,"－",{"$f":"IF(Sheet1!$B$3=0,\"\",MID(Sheet1!$B$3,1,1))","v":""},null,null,null,null,null,null,null,null,null,null,null,null,"平成",null,{"$f":"IF($CO$4=0,\"\",MID($CO$4,2,2))","v":""},null,"年",{"$f":"IF($CO$4=0,\"\",MID($CO$4,4,2))","v":""},null,"月",{"$f":"IF($CO$4=0,\"\",MID($CO$4,6,2))","v":""},null,"日",null,null,null,{"$f":"IF(Sheet1!$C$3=0,\"\",Sheet1!$C$3)","v":""},null,"－",{"$f":"IF(Sheet1!$D$3=0,\"\",Sheet1!$D$3)","v":""}]
[]
[1,"③申告・申請事業主","(","フリガナ",null,null,")",null,"（",{"$f":"IF(Sheet1!$E$3=0,\"\",MID(Sheet1!$E$3,1,70))","v":""},null,null,null,null,null,null,null,null,null,null,null,null,null,null,null,null,null,null,null,null,null,null,null,null,null,null,null,null,null,null,null,null,"）",null,null,null,null,null,null,null,null,null,null,null,null,null,null,null,null,null,null,null,null,null,null,null,null,null,null,"郵便番号"]
[null,null,"(ｲ)","住　　　　　　　　　所　　　　　　　　　　　　　（法人のときは主たる事業所の所在地）",null,null,null,null,null,{"$f":"IF(Sheet1!$F$3=0,\"\",MID(Sheet1!$F$3,1,64))","v":""},null,null,null,null,null,null,null,null,null,null,null,null,null,null,null,null,null,null,null,null,null,null,null,null,null,null,null,null,null,null,null,null,null,null,null,null,null,null,null,null,null,null,null,null,null,null,null,null,null,null,null,null,null,null,null,null,null,null,null,null,null,null,null,null,null,null,{"$f":"IF(Sheet1!$G$3=0,\"\",Sheet1!$G$3)","v":""},null,null,"-",{"$f":"IF(Sheet1!$H$3=0,\"\",Sheet1!$H$3)","v":""}]
[]
[null,null,null,null,null,null,null,null,null,{"$f":"IF(Sheet1!$M$3=0,\"\",MID(Sheet1!$M$3,1,56))","v":""}]
[null,null,"(ﾛ)","名　　　　　　　称（フリガナ）",null,null,null,null,null,null,null,null,null,null,null,null,null,null,null,null,null,null,null,null,null,null,null,null,null,null,null,null,null,null,null,null,null,null,null,null,null,null,null,null,null,null,null,null,null,{"$f":"IF(Sheet1!$L$3=0,\"\",MID(Sheet1!$L$3,1,70))","v":""}]
[]
[null,null,"(","フリガナ",null,null,")",null,null,null,null,null,null,null,null,null,null,null,null,null,null,null,null,null,null,null,null,{"$f":"IF(Sheet1!$O$3=0,\"\",MID(Sheet1!$O$3,1,70))","v":""},null,null,null,null,null,null,null,null,null,null,null,null,null,null,null,null,null,null,null,null,null,null,null,null,"(ﾆ)\n 産 業\n 分 類",null,null,"(中分類番号)",null,null,null,null,null,"(主たる事業の内容)"]
[null,null,null,null,null,null,null,null,null,null,null,null,null,null,null,null,"代表者の役職",null,null,null,null,null,null,null,null,"（",null,null,null,null,null,null,null,null,null,null,null,null,null,null,null,null,null,null,null,null,null,"）","記名押印又は自筆による署名"]
[null,null,"(ﾊ)","e",null,null,null,null,{"$f":"IF(Sheet1!$N$3=0,\"\",MID(Sheet1!$N$3,1,20))","v":""},null,null,null,null,null,null,null,null,null,null,null,null,null,null,null,null,null,null,{"$f":"IF(Sheet1!$P$3=0,\"\",MID(Sheet1!$P$3,1,35))","v":""},null,null,null,null,null,null,null,null,null,null,null,null,null,null,null,null,null,"㊞",null,null,null,null,null,null,null,null,null,null,null,{"$f":"IF(Sheet1!$Q$3=0,\"\",Sheet1!$Q$3)","v":""},null,"(",null,{"$f":"IF(Sheet1!$R$3=0,\"\",MID(Sheet1!$R$3,1,24))","v":""},null,null,null,null,null,null,null,null,null,null,null,null,null,null,null,null,null,null,null,null,null,"）"]
[null,null,"(法人のときは代表者の役職・氏名)"]
[]
[2,{"$f":"IF(報奨金!B30<>\"h7\",IF(Sheet1!$T$3=28,IF(AND(V85>0,AG82>=AD86,V88<AC89),IF(W86=\"n8\",\"n8\",IF(W87=\"n8\",\"n8\",\"h7\")),\"n7\"),\"n7\"),\"h7\")","v":"n7"},null,null,null,null,null,"障害者雇用納付金の納付額、障害者雇用調整金及び在宅就業障害者特例調整金の申請額の合計額",null,null,null,null,null,null,null,null,null,null,null,null,null,null,null,null,null,null,null,null,null,null,null,null,null,null,null,null,null,null,null,null,null,null,null,null,null,null,null,null,null,null,null,null,null,null,null,null,"(A1)",null,"納付額（(C)-(E)-(G)）",null,null,null,null,null,null,null,null,null,null,null,null,"(A2)",null,"申請額（(E)＋(G)-(C)）",null,null,null,null,null,null,null,null,null,null,"A1↓"]
[null,null,null,null,null,null,null,null,null,null,null,null,null,null,null,null,null,null,null,null,null,null,null,null,null,null,null,null,null,null,null,null,null,null,null,null,null,null,null,null,{"$f":"CG29-CG34-CG38","v":{"$error":"#VALUE!"}},null,null,null,null,null,{"$f":"CG34+CG38-CG29","v":{"$error":"#VALUE!"}},null,null,null,null,null,null,null,null,null,null,null,null,{"$f":"IF(CG25-8<=0,\"\",IF(CG24<>0,MID(CG24,CG25-8,1),\"\"))","v":""},{"$f":"IF(CG25-7<=0,\"\",IF(CG24<>0,MID(CG24,CG25-7,1),\"\"))","v":""},{"$f":"IF(CG25-6<=0,\"\",IF(CG24<>0,MID(CG24,CG25-6,1),\"\"))","v":""},{"$f":"IF(CG25-5<=0,\"\",IF(CG24<>0,MID(CG24,CG25-5,1),\"\"))","v":""},{"$f":"IF(CG25-4<=0,\"\",IF(CG24<>0,MID(CG24,CG25-4,1),\"\"))","v":""},{"$f":"IF(CG25-3<=0,\"\",IF(CG24<>0,MID(CG24,CG25-3,1),\"\"))","v":""},{"$f":"IF(CG25-2<=0,\"\",IF(CG24<>0,MID(CG24,CG25-2,1),\"\"))","v":""},{"$f":"IF(CG25-1<=0,\"\",IF(CG24<>0,MID(CG24,CG25-1,1),\"\"))","v":""},{"$f":"IF(CG25<=0,\"\",IF(OR(CG24<>0,CG27=0),MID(CG24,CG25,1),\"0\"))","v":""},"円",null,"又は",null,null,null,{"$f":"IF(DL4=\"1\",\"\",IF(CG28-8<=0,\"\",IF(CG27<>0,MID(CG27,CG28-8,1),\"\")))","v":""},{"$f":"IF(DL4=\"1\",\"\",IF(CG28-7<=0,\"\",IF(CG27<>0,MID(CG27,CG28-7,1),\"\")))","v":""},{"$f":"IF(DL4=\"1\",\"\",IF(CG28-6<=0,\"\",IF(CG27<>0,MID(CG27,CG28-6,1),\"\")))","v":""},{"$f":"IF(DL4=\"1\",\"\",IF(CG28-5<=0,\"\",IF(CG27<>0,MID(CG27,CG28-5,1),\"\")))","v":""},{"$f":"IF(DL4=\"1\",\"\",IF(CG28-4<=0,\"\",IF(CG27<>0,MID(CG27,CG28-4,1),\"\")))","v":""},{"$f":"IF(DL4=\"1\",\"\",IF(CG28-3<=0,\"\",IF(CG27<>0,MID(CG27,CG28-3,1),\"\")))","v":""},{"$f":"IF(DL4=\"1\",\"\",IF(CG28-2<=0,\"\",IF(CG27<>0,MID(CG27,CG28-2,1),\"\")))","v":""},{"$f":"IF(DL4=\"1\",\"\",IF(CG28-1<=0,\"\",IF(CG27<>0,MID(CG27,CG28-1,1),\"\")))","v":""},{"$f":"IF(DL4=\"1\",\"\",IF(CG28<=0,\"\",IF(CG27<>0,MID(CG27,CG28,1),\"\")))","v":""},"円",{"$f":"IF(B23=\"n8\",IF(AO24>0,AO24,0),\"\")","v":""}]
[null,null,null,null,null,null,null,null,null,null,null,null,null,null,null,null,null,null,null,null,null,null,null,null,null,null,null,null,null,null,null,null,null,null,null,null,null,null,null,null,null,null,null,null,null,null,null,null,null,null,null,null,null,null,null,null,null,null,null,null,null,null,null,null,null,null,null,null,null,null,null,null,null,null,null,null,null,null,null,null,null,null,null,null,{"$f":"LEN(CG24)","v":0}]
[null,"④","障害者雇用納付金の納付額、障害者雇用調整金及び在宅就業障害者特例調整金の申請額",null,null,null,null,"（B）障害者雇用納付金の納付額（納付額が零の場合を含む。）",null,null,null,null,null,null,null,null,null,null,null,null,null,null,null,null,null,null,null,null,null,null,null,null,null,null,null,null,null,null,null,null,null,null,null,null,null,null,null,null,null,null,null,null,null,null,null,null,null,null,null,null,null,null,null,null,null,null,null,null,null,null,null,null,null,"（(C)＜(E)＋(G)の場合）",null,null,null,null,null,null,null,null,null,null,"A2↓"]
[null,null,null,null,null,null,null,null,null,"(N1)",null,"4月～6月の法定雇用障害者の数",null,null,null,"(P1)",null,"4月～6月の身体障害者、知的障害者及び精神障害者の合計数",null,null,null,null,null,{"$f":"((BR65-BR69)*AA28+(BW65-BW69)*BC28)>=0","v":true},{"$f":"IF(AND(X27,B23=\"n8\"),((BR65-BR69)*AA28+(BW65-BW69)*BC28),0)","v":0},null,null,null,null,null,null,null,null,null,null,null,"(N2)",null,"7月～3月の法定雇用障害者の数",null,null,null,"(P2)",null,"7月～3月の身体障害者、知的障害者及び精神障害者の合計数",null,null,null,null,null,null,null,null,null,null,null,null,null,null,null,null,null,null,null,null,null,null,null,null,null,null,null,null,null,null,null,null,null,null,null,null,null,null,null,{"$f":"IF(B23=\"n8\",IF(AU24>0,AU24,0),\"\")","v":""}]
[null,null,null,null,null,null,null,null,null,null,null,null,null,null,null,null,null,null,null,null,null,null,null,null,null,"×",40000,null,null,null,null,null,null,null,null,null,null,null,null,null,null,null,null,null,null,null,null,null,null,null,null,null,"×",null,50000,null,null,null,null,null,null,null,null,null,null,null,null,null,null,null,null,"(C)",null,"納付額",null,null,null,null,null,null,null,null,null,null,{"$f":"LEN(CG27)","v":0}]
[null,null,null,null,null,null,null,null,null,"（",null,null,null,null,null,null,null,null,null,null,null,null,null,"）",null,null,null,null,null,null,"円",null,null,null,"＋",null,"（",null,null,null,null,null,null,null,null,null,null,null,null,null,"）",null,null,null,null,null,null,null,"円",null,null,null,null,null,null,null,null,null,null,null,null,null,null,null,{"$f":"IF(CG30-8<=0,\"\",IF(CG29<>0,MID(CG29,CG30-8,1),\"\"))","v":""},{"$f":"IF(CG30-7<=0,\"\",IF(CG29<>0,MID(CG29,CG30-7,1),\"\"))","v":""},{"$f":"IF(CG30-6<=0,\"\",IF(CG29<>0,MID(CG29,CG30-6,1),\"\"))","v":""},{"$f":"IF(CG30-5<=0,\"\",IF(CG29<>0,MID(CG29,CG30-5,1),\"\"))","v":""},{"$f":"IF(CG30-4<=0,\"\",IF(CG29<>0,MID(CG29,CG30-4,1),\"\"))","v":""},{"$f":"IF(CG30-3<=0,\"\",IF(CG29<>0,MID(CG29,CG30-3,1),\"\"))","v":""},{"$f":"IF(CG30-2<=0,\"\",IF(CG29<>0,MID(CG29,CG30-2,1),\"\"))","v":""},{"$f":"IF(CG30-1<=0,\"\",IF(CG29<>0,MID(CG29,CG30-1,1),\"\"))","v":""},{"$f":"IF(Y27<=0,\"\",IF(CG29<>0,MID(CG29,CG30,1),\"\"))","v":""},null,{"$f":"Y27","v":0}]
[null,null,null,null,null,null,null,null,null,null,{"$f":"IF(B23=\"n8\",BR65,\"\")","v":""},null,null,null,null,null,"－",{"$f":"IF(B23=\"n8\",BR69,\"\")","v":""},null,null,null,null,null,null,null,null,null,null,null,null,null,null,null,null,null,null,null,{"$f":"IF(B23=\"n8\",BW65,\"\")","v":""},null,null,null,null,null,"－",{"$f":"IF(B23=\"n8\",BW69,\"\")","v":""},null,null,null,null,null,null,null,null,null,null,null,null,null,null,null,null,null,null,null,null,null,null,null,null,null,null,null,null,null,null,null,null,null,null,null,null,null,null,"円",{"$f":"LEN(CG29)","v":1}]
[null,null,null,null,null,null,null,"（D）障害者雇用調整金の申請額（障害者雇用調整金を申請する場合）"]
[null,null,null,null,null,null,null,null,null,"(P1)",null,"4月～6月の身体障害者、知的障害者及び精神障害者の合計数",null,null,null,null,null,"(O1)",null,"4月～6月の法定雇用障害者の数",null,null,null,{"$f":"IF(W83=0,FALSE,(BR69-BR67)+(BW69-BW67)>=0)","v":false},{"$f":"IF(B23=\"n8\",IF(CB68<=V82,0,((BR69-BR67)+(BW69-BW67))*BC34),0)","v":0},null,null,null,"(P2)",null,"7月～3月の身体障害者、知的障害者及び精神障害者の合計数",null,null,null,null,null,"(O2)",null,"7月～3月の法定雇用障害者の数"]
[null,null,null,null,null,null,null,null,null,null,null,null,null,null,null,null,null,null,null,null,null,null,null,null,null,null,null,null,null,null,null,null,null,null,null,null,null,null,null,null,null,null,null,null,null,null,null,null,null,null,null,null,null,null,null,null,null,null,null,null,null,null,null,null,null,null,null,null,null,null,null,"(E)",null,"障害者雇用調整金申請額"]
[null,null,null,null,null,null,null,null,null,"（",null,null,null,null,null,null,null,null,null,null,null,null,null,null,"）",null,"＋",null,"（",null,null,null,null,null,null,null,null,null,null,null,null,null,null,"）",null,null,null,null,null,null,null,null,null,null,27000,null,null,null,null,null,null,null,null,null,null,null,null,null,null,null,null,null,null,null,{"$f":"IF(CG35-8<=0,\"\",IF(CG34<>0,MID(CG34,CG35-8,1),\"\"))","v":""},{"$f":"IF(CG35-7<=0,\"\",IF(CG34<>0,MID(CG34,CG35-7,1),\"\"))","v":""},{"$f":"IF(CG35-6<=0,\"\",IF(CG34<>0,MID(CG34,CG35-6,1),\"\"))","v":""},{"$f":"IF(CG35-5<=0,\"\",IF(CG34<>0,MID(CG34,CG35-5,1),\"\"))","v":""},{"$f":"IF(CG35-4<=0,\"\",IF(CG34<>0,MID(CG34,CG35-4,1),\"\"))","v":""},{"$f":"IF(CG35-3<=0,\"\",IF(CG34<>0,MID(CG34,CG35-3,1),\"\"))","v":""},{"$f":"IF(CG35-2<=0,\"\",IF(CG34<>0,MID(CG34,CG35-2,1),\"\"))","v":""},{"$f":"IF(CG35-1<=0,\"\",IF(CG34<>0,MID(CG34,CG35-1,1),\"\"))","v":""},{"$f":"IF(CG35<=0,\"\",IF(CG34<>0,MID(CG34,CG35,1),\"\"))","v":""},null,{"$f":"$Y32","v":0}]
[null,null,null,null,null,null,null,null,null,null,{"$f":"IF(B23=\"n8\",IF(X32,BR69,\"\"),\"\")","v":""},null,null,null,null,null,null,"－",{"$f":"IF(B23=\"n8\",IF(X32,BR67,\"\"),\"\")","v":""},null,null,null,null,null,null,null,null,null,null,{"$f":"IF(B23=\"n8\",IF(X32,BW69,\"\"),\"\")","v":""},null,null,null,null,null,null,"－",{"$f":"IF(B23=\"n8\",IF(X32,BW67,\"\"),\"\")","v":""},null,null,null,null,null,null,null,null,null,null,null,null,null,null,"×",null,null,null,null,null,"円",null,null,null,null,null,null,null,null,null,null,null,null,null,null,null,null,null,null,null,null,null,null,null,null,"円",{"$f":"LEN(CG34)","v":1}]
[null,null,null,null,null,null,null,"（F）在宅就業障害者特例調整金の申請額（在宅就業障害者特例調整金を申請する場合)"]
[null,null,null,null,null,null,null,null,null,null,null,null,null,null,null,null,null,null,null,null,null,null,null,null,null,null,null,null,null,null,null,null,null,null,null,null,null,null,null,null,null,null,null,null,null,null,null,null,null,null,null,null,null,null,null,null,null,null,null,null,null,null,null,null,null,null,null,null,null,null,null,"(G)",null,"在宅就業障害者特例調整金申請額"]
[null,null,null,null,null,null,null,null,null,"（H）の算出に基づく（Ｌ）の額（ただし（M）の額が上限）",null,null,null,null,null,null,null,null,null,null,null,null,null,null,null,null,null,null,null,null,null,null,null,null,null,null,null,null,null,null,null,null,null,null,null,null,null,null,null,null,null,null,null,null,null,null,null,null,null,null,null,null,null,null,null,null,null,null,null,null,null,null,null,null,{"$f":"IF(CG39-8<=0,\"\",IF(CG38<>0,MID(CG38,CG39-8,1),\"\"))","v":""},{"$f":"IF(CG39-7<=0,\"\",IF(CG38<>0,MID(CG38,CG39-7,1),\"\"))","v":""},{"$f":"IF(CG39-6<=0,\"\",IF(CG38<>0,MID(CG38,CG39-6,1),\"\"))","v":""},{"$f":"IF(CG39-5<=0,\"\",IF(CG38<>0,MID(CG38,CG39-5,1),\"\"))","v":""},{"$f":"IF(CG39-4<=0,\"\",IF(CG38<>0,MID(CG38,CG39-4,1),\"\"))","v":""},{"$f":"IF(CG39-3<=0,\"\",IF(CG38<>0,MID(CG38,CG39-3,1),\"\"))","v":""},{"$f":"IF(CG39-2<=0,\"\",IF(CG38<>0,MID(CG38,CG39-2,1),\"\"))","v":""},{"$f":"IF(CG39-1<=0,\"\",IF(CG38<>0,MID(CG38,CG39-1,1),\"\"))","v":""},{"$f":"IF(CG39<=0,\"\",IF(CG38<>0,MID(CG38,CG39,1),\"\"))","v":""},null,{"$f":"IF(CG41>CG46,CG46,CG41)","v":""}]
[null,null,null,null,null,null,null,null,null,null,null,null,null,null,null,null,null,null,null,null,null,null,null,null,null,null,null,null,null,null,null,null,null,null,null,null,null,null,null,null,null,null,null,null,null,null,null,null,null,null,null,null,null,null,null,null,null,null,null,null,null,null,null,null,null,null,null,null,null,null,null,null,null,null,null,null,null,null,null,null,null,null,null,"円",{"$f":"IF(CG38=\"0\",0,LEN(CG38))","v":0}]
[null,null,null,null,null,null,null,null,"(H)在宅就業障害者特例調整金申請額の算出",null,null,"　(I)年間の在宅就業障害者への支払い総額",null,null,null,null,null,null,null,null,null,null,null,null,null,null,null,null,null,null,null,null,null,null,null,"(J)　",null,null,null,null,null,null,null,null,null,"(K)　(J)の小数点第１位以下は切捨て",null,null,null,null,null,null,null,null,null,null,null,null,null,null,null,null,null,null,null,null,null,null,null,null,null,"(L)"]
[null,null,null,null,null,null,null,null,null,null,null,null,{"$f":"DF4","v":0},null,null,null,null,null,null,null,null,null,null,null,350000,null,null,null,null,null,null,null,null,null,null,{"$f":"IF(B23=\"n8\",ROUNDDOWN(M41/Y41,1),\"\")","v":""},null,null,null,null,null,null,null,null,null,null,null,null,null,null,null,null,null,null,null,null,null,null,null,null,null,null,null,null,null,null,null,null,null,null,null,null,null,null,{"$f":"IF(CG42-8<=0,\"\",IF(CG41<>0,MID(CG41,CG42-8,1),\"\"))","v":""},{"$f":"IF(CG42-7<=0,\"\",IF(CG41<>0,MID(CG41,CG42-7,1),\"\"))","v":""},{"$f":"IF(CG42-6<=0,\"\",IF(CG41<>0,MID(CG41,CG42-6,1),\"\"))","v":""},{"$f":"IF(CG42-5<=0,\"\",IF(CG41<>0,MID(CG41,CG42-5,1),\"\"))","v":""},{"$f":"IF(CG42-4<=0,\"\",IF(CG41<>0,MID(CG41,CG42-4,1),\"\"))","v":""},{"$f":"IF(CG42-3<=0,\"\",IF(CG41<>0,MID(CG41,CG42-3,1),\"\"))","v":""},{"$f":"IF(CG42-2<=0,\"\",IF(CG41<>0,MID(CG41,CG42-2,1),\"\"))","v":""},{"$f":"IF(CG42-1<=0,\"\",IF(CG41<>0,MID(CG41,CG42-1,1),\"\"))","v":""},{"$f":"IF(CG42<=0,\"\",IF(CG41<>\"\",MID(CG41,CG42,1),\"\"))","v":""},null,{"$f":"IF(B23=\"n8\",IF(AU42=\"\",\"0\",AU42*BD42),\"\")","v":""}]
[null,null,null,null,null,null,null,null,null,null,null,null,null,null,null,null,null,null,null,null,null,"円",null,"÷",null,null,null,null,null,"円",null,null,null,"＝",null,"(",{"$f":"IF(B23=\"n8\",IF(AJ41=0,\"\",TRUNC(AJ41)),\"\")","v":""},null,null,". ",{"$f":"IF(B23=\"n8\",IF(AJ41=0,\"\",(AJ41-AK42)*10),\"\")","v":""},null,"）",null,null,"（",{"$f":"IF(B23=\"n8\",IF(AJ41=0,\"\",TRUNC(AJ41)),\"\")","v":""},null,null,". ","0",null,")","×",null,21000,null,null,null,null,"円",null,"＝",null,null,null,null,null,null,null,null,null,null,null,null,null,null,null,null,null,null,null,null,"円",{"$f":"IF(CG41=\"0\",0,LEN(CG41))","v":0}]
[null,null,null,null,null,null,null,null,null,null,null,null,null,null,null,null,null,null,null,null,null,null,null,null,null,null,null,null,null,null,null,null,null,null,null,null,null,null,null,null,null,null,null,null,null,null,null,null,null,null,null,null,null,null,null,null,null,null,null,null,null,null,null,null,null,null,null,null,null,null,null,null,null,null,null,null,null,null,null,null,null,null,null,null,null,{"$f":"IF(B23=\"n8\",IF(M41=0,0,IF(CG41=\"\",0,IF(CG41<=CG46,CG41,CG46))),\"\")","v":""}]
[null,null,null,null,null,null,null,null,null,null,null,"　 在宅就業障害者特例調整金の支給限度額",null,null,null,null,null,null,null,null,null,null,null,null,null,null,null,null,null,null,null,null,null,null,null,null,null,null,null,null,null,null,null,null,null,null,null,null,null,null,null,null,null,null,null,null,null,null,null,null,null,null,null,null,null,null,null,null,null,null,null,"(M)"]
[]
[null,null,null,null,null,null,null,null,null,null,null,null,null,"(P1＋P2)身体障害者、知的障害者及び精神障害者の合計数",null,null,null,null,null,null,null,null,null,null,null,null,null,null,null,null,null,null,null,null,null,null,null,null,null,null,null,null,null,null,null,null,null,null,null,null,null,null,null,null,null,null,null,null,null,null,null,null,null,null,null,null,null,null,null,null,null,null,null,null,{"$f":"IF(CG47-8<=0,\"\",IF(CG46<>0,MID(CG46,CG47-8,1),\"\"))","v":""},{"$f":"IF(CG47-7<=0,\"\",IF(CG46<>0,MID(CG46,CG47-7,1),\"\"))","v":""},{"$f":"IF(CG47-6<=0,\"\",IF(CG46<>0,MID(CG46,CG47-6,1),\"\"))","v":""},{"$f":"IF(CG47-5<=0,\"\",IF(CG46<>0,MID(CG46,CG47-5,1),\"\"))","v":""},{"$f":"IF(CG47-4<=0,\"\",IF(CG46<>0,MID(CG46,CG47-4,1),\"\"))","v":""},{"$f":"IF(CG47-3<=0,\"\",IF(CG46<>0,MID(CG46,CG47-3,1),\"\"))","v":""},{"$f":"IF(CG47-2<=0,\"\",IF(CG46<>0,MID(CG46,CG47-2,1),\"\"))","v":""},{"$f":"IF(CG47-1<=0,\"\",IF(CG46<>0,MID(CG46,CG47-1,1),\"\"))","v":""},{"$f":"IF(CG47<=0,\"\",IF(CG46<>\"\",MID(CG46,CG47,1),\"\"))","v":""},"円",{"$f":"IF(B23=\"n8\",IF(AU42=\"\",\"0\",N47*AI47),\"\")","v":""}]
[null,null,null,null,null,null,null,null,null,null,null,null,"（",{"$f":"IF(B23=\"n8\",IF(M41=0,\"\",IF(AU42=\"\",\"\",TRUNC(CB68))),\"\")","v":""},null,null,null,null,null,"．",{"$f":"IF(N47=\"\",\"\",(CB68-N47)*10)","v":""},null,"）人",null,null,null,null,null,null,null,"×",null,null,null,21000,null,null,null,"円",null,null,null,null,null,null,null,null,null,null,null,null,null,null,null,null,null,"＝",null,null,null,null,null,null,null,null,null,null,null,null,null,null,null,null,null,null,null,null,null,null,null,null,null,null,null,{"$f":"IF(CG46=\"0\",0,LEN(CG46))","v":0}]
[]
[]
[null,"⑤","障害者雇用納付金の延納申請",null,null,null,null,"(ｲ)  延納の申請",null,null,null,null,null,null,{"$f":"IF($CP$4=0,\"\",$CP$4)","v":""},null,null,null,null,"(ﾛ) 　第 　１ 　期",null,null,null,null,null,null,null,null,null,null,null,null,null,null,null,null,null,null,null,null,null,"(ﾊ) 　第 　２ 　期",null,null,null,null,null,null,null,null,null,null,null,null,null,null,null,null,null,null,null,null,null,"(ﾆ) 　第 　３ 　期"]
[null,null,null,null,null,null,null,null,null,null,null,null,null,null,null,null,null,null,null,{"$f":"IF($CP$4=1,$CQ$4,\"\")","v":""},null,null,null,null,null,null,null,null,null,null,null,null,null,null,null,null,null,null,null,"円",null,{"$f":"IF($CP$4=1,$CR$4,\"\")","v":""},null,null,null,null,null,null,null,null,null,null,null,null,null,null,null,null,null,null,null,"円",null,{"$f":"IF($CP$4=1,$CS$4,\"\")","v":""},null,null,null,null,null,null,null,null,null,null,null,null,null,null,null,null,null,null,null,"円"]
[3,null,null,null,null,null,null,"(ｲ) 支給先の選択",null,null,null,null,null,null,{"$f":"IF($CT$4=0,\"\",$CT$4)","v":""},null,null,null,null,null,"(ﾛ) 金融機関及び本・支店名",null,null,null,null,null,null,null,null,null,null,null,null,{"$f":"IF($CX$4=0,\"\",MID($CX$4,1,33))","v":""},null,null,null,null,null,null,null,null,null,null,null,null,null,"(ﾊ) 金融機関ｺｰﾄﾞ－本・支店ｺｰﾄﾞ",null,null,null,null,null,null,null,null,null,null,null,null,null,null,null,null,null,null,null,null,{"$f":"IF($DA$4=0,\"\",$DA$4)","v":""},null,null,null,null,null,"(ﾎ) 口座番号"]
[null,"⑥","障害者雇用調整金及び在宅就業障害者特例調整金の支給先",null,null,null,null,null,null,null,null,null,null,null,null,null,null,null,null,{"$f":"IF($CV$4=0,\"\",MID($CV$4,1,27))","v":""},null,null,null,null,null,null,null,null,null,null,null,null,null,null,null,null,null,null,null,null,null,null,null,null,null,null,null,null,null,null,null,{"$f":"IF($CY$4=0,\"\",$CY$4)","v":""},null,null,null,"－",{"$f":"IF($CZ$4=0,\"\",$CZ$4)","v":""},null,null,null,null,null,"(ﾆ) 預金種目",null,null,null,null,null,null,null,null,null,null,null,null,null,null,{"$f":"IF($DB$4=0,\"\",$DB$4)","v":""}]
[null,null,null,null,null,null,null,null,null,null,null,null,null,null,null,null,null,null,null,null,null,null,null,null,null,null,null,null,null,null,null,"銀行",null,null,null,null,null,null,null,null,null,null,null,{"$f":"IF($CW$4=2,\"支店\",\"本店\")","v":"本店"}]
[]
[null,null,null,null,null,null,null,"(ﾍ) 口座名義人",null,null,null,null,null,null,{"$f":"IF($DD$4=0,\"\",MID($DD$4,1,48))","v":""},null,null,null,null,null,null,null,null,null,null,null,null,null,null,null,null,null,null,null,null,null,null,null,null,null,null,null,null,null,null,null,null,null,null,"フリガナ"]
[null,null,null,null,null,null,null,null,null,null,null,null,null,null,null,null,null,null,null,null,null,null,null,null,null,null,null,null,null,null,null,null,null,null,null,null,null,null,null,null,null,null,null,null,null,null,null,null,null,null,null,null,null,null,{"$f":"IF($DC$4=0,\"\",MID($DQ$4 & $DC$4 & $DR$4,1,30))","v":""}]
[]
[]
[4,"⑦障害者雇用納付金・障害者雇用調整金の算定内訳","区　　　 　　 　   　分",null,null,null,null,null,null,"平","成",{"$f":"IF(Sheet1!T3<>\"\",Sheet1!T3-1,\"\")","v":4},null,"年",null,null,null,null,null,null,null,null,null,null,null,null,null,null,null,null,null,null,null,null,null,null,null,null,null,null,null,null,null,null,null,null,null,null,null,null,null,null,null,null,"平","成",{"$f":"IF(Sheet1!T3<>\"\",Sheet1!T3,\"\")","v":5},null,"年",null,null,null,null,null,null,null,null,null,null,"4月～6月\n小計",null,null,null,null,"7月～3月\n小計",null,null,null,null,"合　　計"]
[null,null,null,null,null,null,null,null,null,"４月",null,null,null,null,"５月",null,null,null,null,"６月",null,null,null,null,"７月",null,null,null,null,"８月",null,null,null,null,"９月",null,null,null,null,"10月",null,null,null,null,"11月",null,null,null,null,"12月",null,null,null,null,"１月",null,null,null,null,"２月",null,null,null,null,"３月"]
[null,null,"(ｲ)","常 用 雇 用 労 働 者 の 総 数        　　　　　 (障害者雇用状況等報告書(Ⅰ)の③の(ﾊ)の合計数)",null,null,null,1,null,{"$f":"Sheet2!$EF$1","v":0},null,null,null,"人",{"$f":"Sheet2!$EG$1","v":0},null,null,null,"人",{"$f":"Sheet2!$EH$1","v":0},null,null,null,"人",{"$f":"Sheet2!$EI$1","v":0},null,null,null,"人",{"$f":"Sheet2!$EJ$1","v":0},null,null,null,"人",{"$f":"Sheet2!$EK$1","v":0},null,null,null,"人",{"$f":"Sheet2!$EL$1","v":0},null,null,null,"人",{"$f":"Sheet2!$EM$1","v":0},null,null,null,"人",{"$f":"Sheet2!$EN$1","v":0},null,null,null,"人",{"$f":"Sheet2!$EO$1","v":0},null,null,null,"人",{"$f":"Sheet2!$EP$1","v":0},null,null,null,"人",{"$f":"Sheet2!$EQ$1","v":0},null,null,null,"人",{"$f":"SUM(J62:W62)","v":0},null,null,null,"人",{"$f":"SUM(Y62:BP62)","v":0},null,null,null,"人",{"$f":"SUM(J62:BP62)","v":0},null,null,null,null,null,"人"]
[null,null,"(ﾛ)","法定雇用障害者数の算定の基礎となる労働者の数　　　　　　　　　　　　　　　　(障害者雇用状況等報告書(Ⅰ)の③の(ﾆ)の合計数)",null,null,null,2,null,{"$f":"Sheet2!$ES$1","v":0},null,null,null,"人",{"$f":"Sheet2!$ET$1","v":0},null,null,null,"人",{"$f":"Sheet2!$EU$1","v":0},null,null,null,null,{"$f":"Sheet2!$EV$1","v":0},null,null,null,null,{"$f":"Sheet2!$EW$1","v":0},null,null,null,null,{"$f":"Sheet2!$EX$1","v":0},null,null,null,null,{"$f":"Sheet2!$EY$1","v":0},null,null,null,null,{"$f":"Sheet2!$EZ$1","v":0},null,null,null,null,{"$f":"Sheet2!$FA$1","v":0},null,null,null,null,{"$f":"Sheet2!$FB$1","v":0},null,null,null,null,{"$f":"Sheet2!$FC$1","v":0},null,null,null,null,{"$f":"Sheet2!$FD$1","v":0},null,null,null,null,{"$f":"SUM(J63:W63)","v":0},null,null,null,"人",{"$f":"SUM(Y63:BP63)","v":0},null,null,null,"人",{"$f":"SUM(J63:BP63)","v":0},null,null,null,null,null,"人"]
[null,null,"(ﾊ)","法定雇用障害者の数（納付金申告）\n((ﾛ)×2／100)",null,null,null,3,null,{"$f":"ROUNDDOWN(J63*2/100,0)","v":0},null,null,null,"人",{"$f":"ROUNDDOWN(O63*2/100,0)","v":0},null,null,null,"人",{"$f":"ROUNDDOWN(T63*2/100,0)","v":0},null,null,null,"人",{"$f":"ROUNDDOWN(Y63*2/100,0)","v":0},null,null,null,"人",{"$f":"ROUNDDOWN(AD63*2/100,0)","v":0},null,null,null,"人",{"$f":"ROUNDDOWN(AI63*2/100,0)","v":0},null,null,null,"人",{"$f":"ROUNDDOWN(AN63*2/100,0)","v":0},null,null,null,"人",{"$f":"ROUNDDOWN(AS63*2/100,0)","v":0},null,null,null,"人",{"$f":"ROUNDDOWN(AX63*2/100,0)","v":0},null,null,null,"人",{"$f":"ROUNDDOWN(BC63*2/100,0)","v":0},null,null,null,"人",{"$f":"ROUNDDOWN(BH63*2/100,0)","v":0},null,null,null,"人",{"$f":"ROUNDDOWN(BM63*2/100,0)","v":0},null,null,null,"人","（N1）",null,null,null,"人","（N2）",null,null,null,"人",{"$f":"SUM(J64:BP65)","v":0},null,null,null,null,null,"人"]
[null,null,null,null,null,null,null,null,null,null,null,null,null,null,null,null,null,null,null,null,null,null,null,null,null,null,null,null,null,null,null,null,null,null,null,null,null,null,null,null,null,null,null,null,null,null,null,null,null,null,null,null,null,null,null,null,null,null,null,null,null,null,null,null,null,null,null,null,null,{"$f":"SUM(J64:W65)","v":0},null,null,null,null,{"$f":"SUM(Y64:BP65)","v":0}]
[null,null,"(ﾆ)","法定雇用障害者の数（障害者雇用\n調整金申請）\n((ｲ)×2／100)",null,null,null,4,null,{"$f":"IF(CB62=0,0,J83)","v":0},null,null,null,"人",{"$f":"IF(CB62=0,0,K83)","v":0},null,null,null,"人",{"$f":"IF(CB62=0,0,L83)","v":0},null,null,null,"人",{"$f":"IF(CB62=0,0,M83)","v":0},null,null,null,"人",{"$f":"IF(CB62=0,0,N83)","v":0},null,null,null,"人",{"$f":"IF(CB62=0,0,O83)","v":0},null,null,null,"人",{"$f":"IF(CB62=0,0,P83)","v":0},null,null,null,"人",{"$f":"IF(CB62=0,0,Q83)","v":0},null,null,null,"人",{"$f":"IF(CB62=0,0,R83)","v":0},null,null,null,"人",{"$f":"IF(CB62=0,0,S83)","v":0},null,null,null,"人",{"$f":"IF(CB62=0,0,T83)","v":0},null,null,null,"人",{"$f":"IF(CB62=0,0,U83)","v":0},null,null,null,"人","（01）",null,null,null,"人","（02）",null,null,null,"人",{"$f":"IF(CB62<>0,IF(W83=0,\"\",W83),0)","v":0},null,null,null,null,null,"人"]
[null,null,null,null,null,null,null,null,null,null,null,null,null,null,null,null,null,null,null,null,null,null,null,null,null,null,null,null,null,null,null,null,null,null,null,null,null,null,null,null,null,null,null,null,null,null,null,null,null,null,null,null,null,null,null,null,null,null,null,null,null,null,null,null,null,null,null,null,null,{"$f":"IF(W83=0,\"\",SUM(J66:W67))","v":""},null,null,null,null,{"$f":"IF(W83=0,\"\",SUM(Y66:BP67))","v":""}]
[null,null,"(ﾎ)","身体障害者、知的障害者及び精神障害者の合計数　　　　　　　　　　　　　　　　　(障害者雇用状況等報告書(Ⅰ)の③の（ｆ）の各月の合計数)",null,null,null,5,null,{"$f":"Sheet2!$DH$1","v":0},null,null,null,"人",{"$f":"Sheet2!$DI$1","v":0},null,null,null,"人",{"$f":"Sheet2!$DJ$1","v":0},null,null,null,"人",{"$f":"Sheet2!$DK$1","v":0},null,null,null,"人",{"$f":"Sheet2!$DL$1","v":0},null,null,null,"人",{"$f":"Sheet2!$DM$1","v":0},null,null,null,"人",{"$f":"Sheet2!$DN$1","v":0},null,null,null,"人",{"$f":"Sheet2!$DO$1","v":0},null,null,null,"人",{"$f":"Sheet2!$DP$1","v":0},null,null,null,"人",{"$f":"Sheet2!$DQ$1","v":0},null,null,null,"人",{"$f":"Sheet2!$DR$1","v":0},null,null,null,"人",{"$f":"Sheet2!$DS$1","v":0},null,null,null,"人","（P1）",null,null,null,"人","（P2）",null,null,null,"人",{"$f":"SUM(J68:BP69)","v":0},null,null,null,null,null,"人"]
[null,null,null,null,null,null,null,null,null,null,null,null,null,null,null,null,null,null,null,null,null,null,null,null,null,null,null,null,null,null,null,null,null,null,null,null,null,null,null,null,null,null,null,null,null,null,null,null,null,null,null,null,null,null,null,null,null,null,null,null,null,null,null,null,null,null,null,null,null,{"$f":"SUM(J68:W69)","v":0},null,null,null,null,{"$f":"SUM(Y68:BP69)","v":0}]
[null,null,null,null,null,null,null,null,null,null,null,null,null,null,null,null,null,null,null,null,null,null,null,null,null,null,null,null,null,null,null,null,null,null,null,null,null,"記　入　担当者",null,null,"所属部課名・     連絡先電話番号"]
[null,"社会保険\n労 務 士\n記 載 欄",null,null,"作成年月日・提出代行者\n事務代理者の表示",null,null,null,null,null,"氏　　　　　名",null,null,null,null,null,null,null,null,null,null,null,null,null,null,"電　話　番　号",null,null,null,null,null,null,null,null,null,null,null,null,null,null,null,null,null,null,null,null,null,null,{"$f":"IF($DG$4=0,\"\",MID($DG$4,1,10))","v":""},null,null,null,null,null,null,null,null,null,null,null,null,null,null,null,null,null,null,null,null,null,{"$f":"IF($DN$4=0,\"\",$DN$4)","v":""},null,null,null,"-",{"$f":"IF($DO$4=0,\"\",$DO$4)","v":""},null,null,null,"-",{"$f":"IF($DP$4=0,\"\",$DP$4)","v":""}]
[]
[]
[null,null,null,null,null,null,null,null,null,null,null,null,null,null,null,null,null,null,null,null,null,null,null,null,null,null,null,null,null,null,null,null,null,null,null,null,null,null,null,null,null,"（フリガナ）",null,null,null,null,null,null,"（",{"$f":"IF($DH$4=0,\"\",MID($DH$4,1,17))& \"　\" & IF($DI$4=0,\"\",MID($DI$4,1,17))","v":"　"},null,null,null,null,null,null,null,null,null,null,null,null,null,null,null,null,null,null,null,null,null,null,"）"]
[null,null,null,null,null,null,null,null,null,null,null,null,null,null,null,null,null,null,null,null,null,null,null,null,null,null,null,null,null,null,null,null,null,null,null,null,null,null,null,null,null,"氏　　　名",null,null,null,null,null,null,{"$f":"IF($DJ$4=0,\"\",MID($DJ$4,1,8)) &\" \"& IF($DK$4=0,\"\",MID($DK$4,1,8))","v":" "}]
[null,"注）（事業主控）裏面の「注意」をよく読んで記入して下さい。"]
[1,2,3,4,5,6,7,8,9,10,11,12,13,14,15,16,17,18,19,20,21,22,23,24,25,26,27,28,29,30,31,32,33,34,35,36,37,38,39,40,41,42,43,44,45,46,47,48,49,50,51,52,53,54,55,56,57,58,59,60,61,62,63,64,65,66,67,68,69,70,71,72,73,74,75,76,77,78,79,80,81,82,83,84,85,86,87,88,89,90,91,92,93]
[]
[]
[null,null,null,null,null,null,null,null,null,null,null,null,null,null,null,null,null,null,null,null,null,null,null,null,null,null,"申告申請チェック('1)"]
[null,null,null,null,null,null,null,null,"(月)",4,5,6,7,8,9,10,11,12,1,2,3,null,null,null,null,null,"mon",4,5,6,"-","-","-"]
[null,null,null,null,null,null,null,null,null,{"$f":"ROUNDDOWN(J62*2/100,0)","v":0},{"$f":"ROUNDDOWN(O62*2/100,0)","v":0},{"$f":"ROUNDDOWN(T62*2/100,0)","v":0},{"$f":"ROUNDDOWN(Y62*2/100,0)","v":0},{"$f":"ROUNDDOWN(AD62*2/100,0)","v":0},{"$f":"ROUNDDOWN(AI62*2/100,0)","v":0},{"$f":"ROUNDDOWN(AN62*2/100,0)","v":0},{"$f":"ROUNDDOWN(AS62*2/100,0)","v":0},{"$f":"ROUNDDOWN(AX62*2/100,0)","v":0},{"$f":"ROUNDDOWN(BC62*2/100,0)","v":0},{"$f":"ROUNDDOWN(BH62*2/100,0)","v":0},{"$f":"ROUNDDOWN(BM62*2/100,0)","v":0},{"$f":"SUM(J82:U82)","v":0},{"$f":"SUM(J83:U83)","v":0},null,{"$f":"SUM(J66:BP67)","v":0},null,"判定",{"$f":"IF(J62<>\"\",IF(AND(J62<=300,J62>0),1,0),\"\")","v":0},{"$f":"IF(O62<>\"\",IF(AND(O62<=300,O62>0),1,0),\"\")","v":0},{"$f":"IF(T62<>\"\",IF(AND(T62<=300,T62>0),1,0),\"\")","v":0},"-","-",{"$f":"IF(SUM(AB82:AD82)<>\"\",SUM(AB82:AD82),\"\")","v":0}]
[null,null,null,null,null,null,null,null,null,{"$f":"IF(V83=\"\",\"\",ROUNDDOWN(J62*2/100,0))","v":""},{"$f":"IF(V83=\"\",\"\",ROUNDDOWN(O62*2/100,0))","v":""},{"$f":"IF(V83=\"\",\"\",ROUNDDOWN(T62*2/100,0))","v":""},{"$f":"IF(V83=\"\",\"\",ROUNDDOWN(Y62*2/100,0))","v":""},{"$f":"IF(V83=\"\",\"\",ROUNDDOWN(AD62*2/100,0))","v":""},{"$f":"IF(V83=\"\",\"\",ROUNDDOWN(AI62*2/100,0))","v":""},{"$f":"IF(V83=\"\",\"\",ROUNDDOWN(AN62*2/100,0))","v":""},{"$f":"IF(V83=\"\",\"\",ROUNDDOWN(AS62*2/100,0))","v":""},{"$f":"IF(V83=\"\",\"\",ROUNDDOWN(AX62*2/100,0))","v":""},{"$f":"IF(V83=\"\",\"\",ROUNDDOWN(BC62*2/100,0))","v":""},{"$f":"IF(V83=\"\",\"\",ROUNDDOWN(BH62*2/100,0))","v":""},{"$f":"IF(V83=\"\",\"\",ROUNDDOWN(BM62*2/100,0))","v":""},{"$f":"IF(V82<CB68,V82,\"\")","v":""},{"$f":"SUM(J66:BP67)","v":0},null,{"$f":"SUM(J68:BP69)","v":0}]
[null,null,null,null,null,null,null,null,null,null,null,null,null,null,null,null,null,null,null,null,null,null,null,null,null,null,"4～6月の一部減額特例月数の判定基準"]
[null,null,null,null,null,null,null,"<1>","(イ)常用雇用労働者の各月で、0人以上の月をカウント",{"$f":"IF(J62>0,1,0)","v":0},{"$f":"IF(O62>0,1,0)","v":0},{"$f":"IF(T62>0,1,0)","v":0},{"$f":"IF(Y62>0,1,0)","v":0},{"$f":"IF(AD62>0,1,0)","v":0},{"$f":"IF(AI62>0,1,0)","v":0},{"$f":"IF(AN62>0,1,0)","v":0},{"$f":"IF(AS62>0,1,0)","v":0},{"$f":"IF(AX62>0,1,0)","v":0},{"$f":"IF(BC62>0,1,0)","v":0},{"$f":"IF(BH62>0,1,0)","v":0},{"$f":"IF(BM62>0,1,0)","v":0},{"$f":"SUM(J85:U85)","v":0},{"$f":"VLOOKUP(V85,J89:K101,2,FALSE)","v":0},null,null,null,"存続月",null,null,{"$f":"SUM(J85:L85)","v":0}]
[null,null,null,null,null,null,null,"<2>","(イ)常用雇用労働者の各月で、200人以上の月をカウント",{"$f":"IF(J62>200,1,0)","v":0},{"$f":"IF(O62>200,1,0)","v":0},{"$f":"IF(T62>200,1,0)","v":0},{"$f":"IF(Y62>200,1,0)","v":0},{"$f":"IF(AD62>200,1,0)","v":0},{"$f":"IF(AI62>200,1,0)","v":0},{"$f":"IF(AN62>200,1,0)","v":0},{"$f":"IF(AS62>200,1,0)","v":0},{"$f":"IF(AX62>200,1,0)","v":0},{"$f":"IF(BC62>200,1,0)","v":0},{"$f":"IF(BH62>200,1,0)","v":0},{"$f":"IF(BM62>200,1,0)","v":0},{"$f":"SUM(J86:U86)","v":0},{"$f":"IF(V85>0,IF(V86>=W85,\"n7\",\"\"),0)","v":0},null,null,null,"月数",null,null,{"$f":"VLOOKUP(AD85,J89:K101,2,FALSE)","v":0}]
[null,null,null,null,null,null,null,"<3>","(イ)常用雇用労働者の各月で、100人以上の月をカウント",{"$f":"IF(J62>100,1,0)","v":0},{"$f":"IF(O62>100,1,0)","v":0},{"$f":"IF(T62>100,1,0)","v":0},{"$f":"IF(Y62>100,1,0)","v":0},{"$f":"IF(AD62>100,1,0)","v":0},{"$f":"IF(AI62>100,1,0)","v":0},{"$f":"IF(AN62>100,1,0)","v":0},{"$f":"IF(AS62>100,1,0)","v":0},{"$f":"IF(AX62>100,1,0)","v":0},{"$f":"IF(BC62>100,1,0)","v":0},{"$f":"IF(BH62>100,1,0)","v":0},{"$f":"IF(BM62>100,1,0)","v":0},{"$f":"SUM(J87:U87)","v":0},{"$f":"IF(V85>0,IF(V87>=W85,\"n7\",\"\"),0)","v":0}]
[null,null,null,null,null,null,null,"<4>","(イ)常用雇用労働者の各月で、0人以上200人以下の月をカウント",{"$f":"IF(AND(J62<=200,J62>0),1,0)","v":0},{"$f":"IF(AND(O62<=200,O62>0),1,0)","v":0},{"$f":"IF(AND(T62<=200,T62>0),1,0)","v":0},{"$f":"IF(AND(Y62<=200,Y62>0),1,0)","v":0},{"$f":"IF(AND(AD62<=200,AD62>0),1,0)","v":0},{"$f":"IF(AND(AI62<=200,AI62>0),1,0)","v":0},{"$f":"IF(AND(AN62<=200,AN62>0),1,0)","v":0},{"$f":"IF(AND(AS62<=200,AS62>0),1,0)","v":0},{"$f":"IF(AND(AX62<=200,AX62>0),1,0)","v":0},{"$f":"IF(AND(BC62<=200,BC62>0),1,0)","v":0},{"$f":"IF(AND(BH62<=200,BH62>0),1,0)","v":0},{"$f":"IF(AND(BM62<=200,BM62>0),1,0)","v":0},{"$f":"SUM(J88:U88)","v":0},null,null,null,null,"通年4万円となる対象月数（200人以下）"]
[null,null,null,null,null,null,null,null,null,0,0,null,null,null,null,null,null,null,null,null,null,null,null,null,null,null,"月数",null,{"$f":"IF(V85=0,0,V85-VLOOKUP(V85,J89:K101,2,FALSE)+1)","v":0}]
[null,null,null,null,null,null,null,null,null,1,1]
[null,null,null,null,null,null,null,null,null,2,1]
[null,null,null,null,null,null,null,null,null,3,2]
[null,null,null,null,null,null,null,null,null,4,2]
[null,null,null,null,null,null,null,null,null,5,2]
[null,null,null,null,null,null,null,null,null,6,3]
[null,null,null,null,null,null,null,null,null,7,3]
[null,null,null,null,null,null,null,null,null,8,3]
[null,null,null,null,null,null,null,null,null,9,4]
[null,null,null,null,null,null,null,null,null,10,4]
[null,null,null,null,null,null,null,null,null,11,4]
[null,null,null,null,null,null,null,null,null,12,5]
[]
[null,null,null,null,null,null,null,"<5>","(イ)常用雇用労働者の各月で、300人以下の月をカウント",{"$f":"IF(J62<=300,1,0)","v":1},{"$f":"IF(O62<=300,1,0)","v":1},{"$f":"IF(T62<=300,1,0)","v":1},{"$f":"IF(Y62<=300,1,0)","v":1},{"$f":"IF(AD62<=300,1,0)","v":1},{"$f":"IF(AI62<=300,1,0)","v":1},{"$f":"IF(AN62<=300,1,0)","v":1},{"$f":"IF(AS62<=300,1,0)","v":1},{"$f":"IF(AX62<=300,1,0)","v":1},{"$f":"IF(BC62<=300,1,0)","v":1},{"$f":"IF(BH62<=300,1,0)","v":1},{"$f":"IF(BM62<=300,1,0)","v":1},{"$f":"SUM(J103:U103)","v":12},{"$f":"IF(V103>0,IF(V103>=W85,\"1\",\"0\"),0)","v":"1"}]

{"sheet":"報奨金","index":20,"n_rows":99,"n_cols":125,"rows_kept":99,"cut":false,"hidden":false,"merged":[[22,3,22,5],[62,53,62,56],[62,58,62,61],[62,63,62,66],[62,68,62,72],[22,60,23,60],[22,61,23,61],[22,69,23,69],[57,58,57,62],[59,53,59,56],[56,58,56,62],[60,68,60,72],[56,53,56,57],[56,68,57,73],[57,63,57,67],[40,73,41,73],[35,64,36,64],[35,71,36,71],[35,70,36,70],[35,63,36,63],[35,65,36,65],[35,66,36,66],[44,1,46,1],[44,2,46,6],[45,7,45,8],[45,10,45,15],[45,17,45,18],[45,21,45,22],[45,23,45,24],[45,26,45,31],[62,43,62,46],[57,43,57,47],[59,2,60,3],[59,5,59,6],[59,8,59,11],[61,3,61,6],[57,8,57,12],[61,8,61,11],[56,8,56,12],[61,13,61,16],[61,18,61,21],[57,38,57,42],[56,23,56,27],[49,30,52,39],[53,39,55,42],[56,33,56,37],[14,0,16,0],[17,56,18,65],[26,54,27,65],[15,3,15,5],[26,3,26,5],[17,3,17,6],[14,3,14,6],[26,39,26,40],[26,49,27,49],[26,50,27,50],[26,53,27,53],[18,7,19,7],[18,8,19,8],[18,23,19,23],[18,24,19,24],[18,25,19,25],[14,1,28,1],[16,2,16,6],[27,2,27,6],[18,11,19,11],[18,12,19,12],[18,13,19,13],[23,2,23,6],[18,3,19,5],[70,29,70,32],[26,66,27,66],[18,31,19,31],[18,32,19,32],[18,33,19,33],[18,34,19,34],[18,35,19,35],[18,36,19,36],[18,37,19,37],[18,38,19,38],[18,39,18,46],[19,39,19,40],[56,38,56,42],[58,28,58,31],[58,33,58,36],[58,63,58,66],[18,28,19,28],[18,29,19,29],[56,63,56,67],[57,53,57,57],[31,41,31,42],[58,43,58,46],[36,44,36,46],[62,48,62,51],[64,1,68,2],[64,3,65,7],[64,8,65,22],[64,23,65,33],[66,8,68,22],[66,23,68,33],[58,38,58,41],[58,13,58,16],[60,5,60,6],[60,7,60,22],[58,23,58,26],[58,18,58,21],[66,3,66,7],[67,3,68,7],[62,2,62,6],[62,8,62,11],[62,13,62,16],[62,18,62,21],[62,23,62,26],[62,28,62,31],[62,33,62,36],[62,38,62,41],[58,3,58,6],[58,8,58,11],[64,69,65,72],[67,48,67,68],[68,47,69,69],[63,46,66,57],[64,59,65,62],[64,64,65,67],[59,68,59,72],[58,68,58,72],[58,58,58,61],[59,58,59,61],[59,63,59,66],[58,48,58,51],[60,23,60,67],[59,23,59,26],[59,28,59,31],[59,33,59,36],[59,38,59,41],[58,53,58,56],[67,40,67,44],[68,40,69,44],[63,35,69,38],[63,39,66,45],[59,43,59,46],[59,48,59,51],[56,0,57,0],[56,1,61,1],[33,0,35,0],[33,7,42,7],[35,9,36,17],[41,10,41,15],[41,17,41,18],[29,22,30,29],[29,0,30,0],[29,7,29,8],[29,9,30,16],[30,1,40,1],[30,2,40,6],[31,10,31,17],[31,19,31,20],[31,22,31,28],[48,0,50,0],[49,1,54,1],[49,2,54,6],[49,13,52,15],[53,7,55,12],[53,13,55,38],[50,16,52,27],[56,2,57,7],[11,1,13,1],[11,7,13,7],[11,8,11,29],[12,10,12,11],[14,21,14,65],[15,21,15,66],[17,48,18,53],[17,55,18,55],[18,30,19,30],[11,46,11,50],[11,51,13,52],[13,46,13,50],[19,48,20,53],[12,28,12,29],[12,32,12,33],[12,21,12,22],[12,23,12,24],[12,25,12,26],[12,18,12,19],[12,40,12,41],[12,34,12,35],[11,30,13,30],[18,27,19,27],[13,8,13,29],[9,44,10,52],[2,53,2,63],[11,44,13,45],[29,63,30,71],[17,66,18,66],[19,55,20,68],[2,64,2,73],[17,73,20,73],[19,71,20,72],[22,41,23,46],[22,49,23,49],[22,50,23,50],[22,51,23,51],[22,52,23,52],[22,53,23,53],[22,54,23,54],[22,55,23,55],[22,56,23,56],[22,57,23,57],[22,58,23,58],[22,59,23,59],[12,8,12,9],[35,67,36,67],[35,68,36,68],[35,69,36,69],[61,63,61,66],[61,68,61,72],[61,48,61,51],[61,53,61,56],[61,58,61,61],[48,60,48,63],[49,60,52,63],[54,43,54,72],[50,45,51,48],[50,49,51,49],[50,50,51,52],[50,66,51,72],[45,49,45,54],[57,48,57,52],[56,48,56,52],[57,33,57,37],[45,33,45,34],[3,64,13,73],[18,9,19,9],[22,9,27,37],[0,3,0,4],[61,33,61,36],[61,38,61,41],[61,43,61,46],[61,23,61,26],[61,28,61,31],[12,12,12,13],[12,14,12,15],[12,16,12,17],[56,28,56,32],[57,13,57,17],[57,18,57,22],[57,23,57,27],[57,28,57,32],[56,13,56,17],[56,18,56,22],[56,43,56,47],[18,17,19,17],[18,18,19,18],[59,13,59,16],[59,18,59,21],[29,44,30,53],[3,53,13,63],[12,37,12,38],[18,19,19,19],[18,20,19,20],[18,21,19,21],[36,34,36,36],[36,38,36,39],[18,14,19,14],[18,10,19,10],[18,15,19,15],[18,22,19,22],[22,39,23,40],[18,26,19,26],[18,16,19,16]]}
[null,null,null,null,null,null,null,null,null,null,null,null,null,null,null,null,null,null,null,null,null,null,null,null,null,null,null,null,null,null,null,null,null,null,null,null,null,null,null,null,null,null,null,null,null,null,null,null,null,null,null,null,null,null,null,null,null,null,null,null,null,null,null,null,null,null,null,null,null,null,null,null,null,null,null,null,null,null,null,80,81,82,83,84,85,86,87,88,89,90,91,92,93,94,95,96,97,98,99,100,101,102,103,104,105,106,107,108,109,110,111,112,113,114,115,116,117,118,119,120,121,122,123,124,125]
[]
[null,null,null,null,null,null,null,null,null,null,null,null,null,null,null,null,null,null,null,null,null,null,null,null,null,null,null,null,null,null,null,null,null,null,null,null,null,null,null,null,null,null,null,null,null,null,null,null,null,null,null,null,null,"※受理年月日・番号",null,null,null,null,null,null,null,null,null,null,"※整理番号",null,null,null,null,null,null,null,null,null,null,null,null,null,null,"申請年月日",null,null,null,null,"分割支給(9.あり,0.なし)","支給先の選択","金融機関名","本店支店区分（1.本店、2.支店）","支店名称","金融機関コード","支店コード","預金種目","口座番号","口座名義カナ","口座名義漢字","特例調整金(1.あり,2.なし)","在宅就業支払額","所属担当部課","氏名姓カナ","氏名名カナ","氏名姓漢字","氏名名漢字","入力フラグ",null,"電話番号1","電話番号2","電話番号3","口座名義前略","口座名義後略","特例(B)","納付(C)","特例(D)","特例(F)","申請(G)","総額(I)","特例(L)","限度(M)","社労士記載有無","作成年月日","提出代行者等","氏名（姓）","氏名（名）","電話番号１","電話番号２","電話番号３"]
[null,4,null,null,null,{"$f":"MASTA!BF6 & \" 年度\"","v":"令和5 年度"}]
[null,null,null,null,null,"報奨金、在宅就業障害者特例報奨金及び特例給付金支給申請書"]
[null,null,null,null,null,"(常用雇用労働者の総数が100人以下の事業主用)"]
[null,null,null,null,null,"下記のとおり申請します。"]
[]
[]
[null,null,null,null,null,"独立行政法人高齢・障害・求職者雇用支援機構理事長　殿",null,null,null,null,null,null,null,null,null,null,null,null,null,null,null,null,null,null,null,null,null,null,null,null,null,null,null,null,null,null,null,null,null,null,null,null,null,null,"② 県コード・職安コード"]
[]
[null,"①"]
[null,null,"事     業     主     番     号",null,null,null,null,null,{"$f":"IF(Sheet1!$A$3=0,\"\",MID(Sheet1!$A$3,1,1))","v":""},null,{"$f":"IF(Sheet1!$A$3=0,\"\",MID(Sheet1!$A$3,2,1))","v":""},null,{"$f":"IF(Sheet1!$A$3=0,\"\",MID(Sheet1!$A$3,3,1))","v":""},null,{"$f":"IF(Sheet1!$A$3=0,\"\",MID(Sheet1!$A$3,4,1))","v":""},null,{"$f":"IF(Sheet1!$A$3=0,\"\",MID(Sheet1!$A$3,5,1))","v":""},null,{"$f":"IF(Sheet1!$A$3=0,\"\",MID(Sheet1!$A$3,6,1))","v":""},null,"－",0,null,0,null,0,null,"－",{"$f":"IF(Sheet1!$B$3=0,\"\",MID(Sheet1!$B$3,1,1))","v":""},null,null,null,{"$f":"IF($CB$4=0,\"\",VLOOKUP(MID($CB$4,1,1),MASTA!W2:X10,2,FALSE))","v":""},null,{"$f":"IF($CB$4=0,\"\",IF(MID($CB$4,2,2)=\"01\",\"元\",MID($CB$4,2,2)))","v":""},null,"年",{"$f":"IF($CB$4=0,\"\",MID($CB$4,4,2))","v":""},null,"月",{"$f":"IF($CB$4=0,\"\",MID($CB$4,6,2))","v":""},null,"日",null,null,null,{"$f":"IF(Sheet1!$C$3=0,\"\",MID(Sheet1!$C$3,1,1))","v":""},{"$f":"IF(Sheet1!$C$3=0,\"\",MID(Sheet1!$C$3,2,1))","v":""},"－",{"$f":"IF(Sheet1!$D$3=0,\"\",MID(Sheet1!$D$3,1,1))","v":""},{"$f":"IF(Sheet1!$D$3=0,\"\",MID(Sheet1!$D$3,2,1))","v":""}]
[]
[1,"③ 申請事業主","(","フ      リ      ガ      ナ)",null,null,null,null,null,null,null,null,null,null,null,null,null,null,null,null,"（",{"$f":"IF(Sheet1!$E$3=0,\"\",MID(Sheet1!$E$3,1,70))","v":""},null,null,null,null,null,null,null,null,null,null,null,null,null,null,null,null,null,null,null,null,null,null,null,null,null,null,null,null,null,null,null,null,null,null,null,null,null,null,null,null,null,null,null,null,"）"]
[null,null,"(ｲ)","住  　　　　　　　　　　所　　　　　　　　　　　（法人のときは主たる事業所の所在地）",null,null,null," 郵便番号",null,null,null,{"$f":"IF(Sheet1!$G$3=0,\"\",MID(Sheet1!$G$3,1,1))","v":""},{"$f":"IF(Sheet1!$G$3=0,\"\",MID(Sheet1!$G$3,2,1))","v":""},{"$f":"IF(Sheet1!$G$3=0,\"\",MID(Sheet1!$G$3,3,1))","v":""},"－",{"$f":"IF(Sheet1!$H$3=0,\"\",MID(Sheet1!$H$3,1,1))","v":""},{"$f":"IF(Sheet1!$H$3=0,\"\",MID(Sheet1!$H$3,2,1))","v":""},{"$f":"IF(Sheet1!$H$3=0,\"\",MID(Sheet1!$H$3,3,1))","v":""},{"$f":"IF(Sheet1!$H$3=0,\"\",MID(Sheet1!$H$3,4,1))","v":""},null,null,{"$f":"IF(Sheet1!$F$3=0,\"\",MID(Sheet1!$F$3,1,64))","v":""}]
[]
[null,null,null,null,null,null,null,null,null,null,null,null,null,null,null,null,null,null,null,null,null,null,null,null,null,null,null,null,null,null,null,null,null,null,null,null,null,null,null,null,null,null,null,null,null,null,null,null," 代表者の役職",null,null,null,null,null,null,"(",{"$f":"IF(Sheet1!$O$3=0,\"\",MID(Sheet1!$O$3,1,70))","v":""},null,null,null,null,null,null,null,null,null,")"]
[null,null,"(","フ      リ      ガ      ナ)",null,null,null,"(",{"$f":"IF(Sheet1!$L$3=0,\"\",MID(Sheet1!$L$3,1,1))","v":""},{"$f":"IF(Sheet1!$L$3=0,\"\",MID(Sheet1!$L$3,2,1))","v":""},{"$f":"IF(Sheet1!$L$3=0,\"\",MID(Sheet1!$L$3,3,1))","v":""},{"$f":"IF(Sheet1!$L$3=0,\"\",MID(Sheet1!$L$3,4,1))","v":""},{"$f":"IF(Sheet1!$L$3=0,\"\",MID(Sheet1!$L$3,5,1))","v":""},{"$f":"IF(Sheet1!$L$3=0,\"\",MID(Sheet1!$L$3,6,1))","v":""},{"$f":"IF(Sheet1!$L$3=0,\"\",MID(Sheet1!$L$3,7,1))","v":""},{"$f":"IF(Sheet1!$L$3=0,\"\",MID(Sheet1!$L$3,8,1))","v":""},{"$f":"IF(Sheet1!$L$3=0,\"\",MID(Sheet1!$L$3,9,1))","v":""},{"$f":"IF(Sheet1!$L$3=0,\"\",MID(Sheet1!$L$3,10,1))","v":""},{"$f":"IF(Sheet1!$L$3=0,\"\",MID(Sheet1!$L$3,11,1))","v":""},{"$f":"IF(Sheet1!$L$3=0,\"\",MID(Sheet1!$L$3,12,1))","v":""},{"$f":"IF(Sheet1!$L$3=0,\"\",MID(Sheet1!$L$3,13,1))","v":""},{"$f":"IF(Sheet1!$L$3=0,\"\",MID(Sheet1!$L$3,14,1))","v":""},{"$f":"IF(Sheet1!$L$3=0,\"\",MID(Sheet1!$L$3,15,1))","v":""},{"$f":"IF(Sheet1!$L$3=0,\"\",MID(Sheet1!$L$3,16,1))","v":""},{"$f":"IF(Sheet1!$L$3=0,\"\",MID(Sheet1!$L$3,17,1))","v":""},{"$f":"IF(Sheet1!$L$3=0,\"\",MID(Sheet1!$L$3,18,1))","v":""},{"$f":"IF(Sheet1!$L$3=0,\"\",MID(Sheet1!$L$3,19,1))","v":""},{"$f":"IF(Sheet1!$L$3=0,\"\",MID(Sheet1!$L$3,20,1))","v":""},{"$f":"IF(Sheet1!$L$3=0,\"\",MID(Sheet1!$L$3,21,1))","v":""},{"$f":"IF(Sheet1!$L$3=0,\"\",MID(Sheet1!$L$3,22,1))","v":""},{"$f":"IF(Sheet1!$L$3=0,\"\",MID(Sheet1!$L$3,23,1))","v":""},{"$f":"IF(Sheet1!$L$3=0,\"\",MID(Sheet1!$L$3,24,1))","v":""},{"$f":"IF(Sheet1!$L$3=0,\"\",MID(Sheet1!$L$3,25,1))","v":""},{"$f":"IF(Sheet1!$L$3=0,\"\",MID(Sheet1!$L$3,26,1))","v":""},{"$f":"IF(Sheet1!$L$3=0,\"\",MID(Sheet1!$L$3,27,1))","v":""},{"$f":"IF(Sheet1!$L$3=0,\"\",MID(Sheet1!$L$3,28,1))","v":""},{"$f":"IF(Sheet1!$L$3=0,\"\",MID(Sheet1!$L$3,29,1))","v":""},{"$f":"IF(Sheet1!$L$3=0,\"\",MID(Sheet1!$L$3,30,1))","v":""},")","( フ リ ガ ナ)"]
[null,null,null,null,null,null,null,null,null,null,null,null,null,null,null,null,null,null,null,null,null,null,null,null,null,null,null,null,null,null,null,null,null,null,null,null,null,null,null,"(ハ)",null,"氏　　　　  名",null,null,null,null,null,null,{"$f":"IF(Sheet1!$N$3=0,\"\",MID(Sheet1!$N$3,1,20))","v":""},null,null,null,null,null,null,{"$f":"IF(Sheet1!$P$3=0,\"\",MID(Sheet1!$P$3,1,35))","v":""}]
[null,null,null,null,null,null,null,null,null,null,null,null,null,null,null,null,null,null,null,null,null,null,null,null,null,null,null,null,null,null,null,null,null,null,null,null,null,null,null," (法人のときは代表者の役職・氏名)"]
[]
[null,null,"(ロ)","名  　　　　　　　　　　称",null,null,null,null,null,{"$f":"IF(Sheet1!$M$3=0,\"\",MID(Sheet1!$M$3,1,56))","v":""},null,null,null,null,null,null,null,null,null,null,null,null,null,null,null,null,null,null,null,null,null,null,null,null,null,null,null,null,null,"(ニ)",null,"法　人　番　号",null,null,null,null,null,null,null,{"$f":"IF(Sheet1!$I3=\"\",\"\",MID(Sheet1!$I3,1,1))","v":""},{"$f":"IF(Sheet1!$I3=\"\",\"\",MID(Sheet1!$I3,2,1))","v":""},{"$f":"IF(Sheet1!$I3=\"\",\"\",MID(Sheet1!$I3,3,1))","v":""},{"$f":"IF(Sheet1!$I3=\"\",\"\",MID(Sheet1!$I3,4,1))","v":""},{"$f":"IF(Sheet1!$I3=\"\",\"\",MID(Sheet1!$I3,5,1))","v":""},{"$f":"IF(Sheet1!$I3=\"\",\"\",MID(Sheet1!$I3,6,1))","v":""},{"$f":"IF(Sheet1!$I3=\"\",\"\",MID(Sheet1!$I3,7,1))","v":""},{"$f":"IF(Sheet1!$I3=\"\",\"\",MID(Sheet1!$I3,8,1))","v":""},{"$f":"IF(Sheet1!$I3=\"\",\"\",MID(Sheet1!$I3,9,1))","v":""},{"$f":"IF(Sheet1!$I3=\"\",\"\",MID(Sheet1!$I3,10,1))","v":""},{"$f":"IF(Sheet1!$I3=\"\",\"\",MID(Sheet1!$I3,11,1))","v":""},{"$f":"IF(Sheet1!$I3=\"\",\"\",MID(Sheet1!$I3,12,1))","v":""},{"$f":"IF(Sheet1!$I3=\"\",\"\",MID(Sheet1!$I3,13,1))","v":""}]
[]
[]
[null,null,null,null,null,null,null,null,null,null,null,null,null,null,null,null,null,null,null,null,null,null,null,null,null,null,null,null,null,null,null,null,null,null,null,null,null,null,null,null,null,null,null,null,null,null,null,null,"(中分類番号)",null,null,null,null,null,null,null,null,"(主たる事業の内容)"]
[null,null,null,null,null,null,null,null,null,null,null,null,null,null,null,null,null,null,null,null,null,null,null,null,null,null,null,null,null,null,null,null,null,null,null,null,null,null,null,"(ホ)",null,"産  業  分  類",null,null,null,null,null,null,null,{"$f":"IF(Sheet1!$Q$3=0,\"\",MID(Sheet1!$Q$3,1,1))","v":""},{"$f":"IF(Sheet1!$Q$3=0,\"\",MID(Sheet1!$Q$3,2,1))","v":""},null,null,"(",{"$f":"IF(Sheet1!$R$3=0,\"\",MID(Sheet1!$R$3,1,24))","v":""},null,null,null,null,null,null,null,null,null,null,null,")"]
[]
[]
[2,{"$f":"IF(X84=\"\",\"\",\"h7\")","v":""},{"$f":"IF(BQ62>BQ61,\"hあり\",\"hなし\")","v":"hなし"},null,null,null,null,"(A)",null,"(L)身体障害者、知的障害者及び精神障害者の合計数",null,null,null,null,null,null,null,null,null,null,null,null,"(J)又は７２のいずれか多い数((K)の数)",null,null,null,null,null,null,null,null,null,null,null,null,null,null,null,null,null,null,null,"(B)",null,"在宅就業障害者特例報奨金を申請する場合は(H)の額（ただし(I)の額が上限）",null,null,null,null,null,null,null,null,null,null,null,null,null,null,null,null,"(C)",null,"（(A)＋(B)）\n報奨金及び在宅就業障害者特例報奨金申請額"]
[null,"④","報奨金及び在宅就業障害者\n特例報奨金の申請額",null,null,null,null,null,null,null,null,null,null,null,null,null,null,null,null,null,null,null,null,null,null,null,null,null,null,null,null,null,null,null,null,null,null,null,null,{"$f":"IF(B30=\"h7\",IF(C30=\"hあり\",IF((K32-W32)<=0,\"\",(K32-W32)*21000),\"\"),\"\")","v":""},null,null,null,null,null,null,null,null,null,null,null,null,null,null,null,{"$f":"IF(B30=\"h7\",IF(C30=\"hあり\",IF(AN31=\"\",\"\",BW38),\"\"),\"\")","v":""},null,null,null,null,null,null,null,null,null,null,null,null,null,null,null,null,null,null,{"$f":"IF(B30=\"h7\",IF(C30=\"hあり\",SUM(AN31,BD31),\"\"),\"\")","v":""}]
[null,null,null,null,null,null,null,null,"（",null,{"$f":"IF(B30=\"h7\",IF(C30=\"hあり\",BQ62,\"\"),\"\")","v":""},null,null,null,null,null,null,null,null,"－",null,null,{"$f":"IF(B30=\"h7\",IF(C30=\"hあり\",BQ61,\"\"),\"\")","v":""},null,null,null,null,null,null,null,"）",null,"×",null,"２１，０００ 円",null,null,null,null,null,null,"＋",null,null,{"$f":"IF(BD32-8<=0,\"\",IF(BD31<>0,MID(BD31,BD32-8,1),\"\"))","v":""},{"$f":"IF(BD32-7<=0,\"\",IF(BD31<>0,MID(BD31,BD32-7,1),\"\"))","v":""},{"$f":"IF(BD32-6<=0,\"\",IF(BD31<>0,MID(BD31,BD32-6,1),\"\"))","v":""},{"$f":"IF(BD32-5<=0,\"\",IF(BD31<>0,MID(BD31,BD32-5,1),\"\"))","v":""},{"$f":"IF(BD32-4<=0,\"\",IF(BD31<>0,MID(BD31,BD32-4,1),\"\"))","v":""},{"$f":"IF(BD32-3<=0,\"\",IF(BD31<>0,MID(BD31,BD32-3,1),\"\"))","v":""},{"$f":"IF(BD32<=0,\"\",IF(BD31<>0,MID(BD31,BD32-2,1),\"\"))","v":""},{"$f":"IF(BD32-1<=0,\"\",IF(BD31<>0,MID(BD31,BD32-1,1),\"\"))","v":""},{"$f":"IF(BD32<=0,\"\",IF(BD31<>0,MID(BD31,BD32,1),\"\"))","v":""},null,"円",{"$f":"LEN(BD31)","v":0},null,null,null,null,"＝",null,null,{"$f":"IF(BW32-8<=0,\"\",IF(BW31<>0,MID(BW31,BW32-8,1),\"\"))","v":""},{"$f":"IF(BW32-7<=0,\"\",IF(BW31<>0,MID(BW31,BW32-7,1),\"\"))","v":""},{"$f":"IF(BW32-6<=0,\"\",IF(BW31<>0,MID(BW31,BW32-6,1),\"\"))","v":""},{"$f":"IF(BW32-5<=0,\"\",IF(BW31<>0,MID(BW31,BW32-5,1),\"\"))","v":""},{"$f":"IF(BW32-4<=0,\"\",IF(BW31<>0,MID(BW31,BW32-4,1),\"\"))","v":""},{"$f":"IF(BW32-3<=0,\"\",IF(BW31<>0,MID(BW31,BW32-3,1),\"\"))","v":""},{"$f":"IF(BW32<=0,\"\",IF(BW31<>0,MID(BW31,BW32-2,1),\"\"))","v":""},{"$f":"IF(BW32-1<=0,\"\",IF(BW31<>0,MID(BW31,BW32-1,1),\"\"))","v":""},{"$f":"IF(BW32<=0,\"\",IF(BW31<>0,MID(BW31,BW32,1),\"\"))","v":""},"円",null,{"$f":"LEN(BW31)","v":0}]
[]
[null,null,null,null,null,null,null,"（D)在宅就業障害者特例報奨金申請額の算出"]
[null,null,null,null,null,null,null,null,"　(E)年間の在宅就業障害者への支払い総額",null,null,null,null,null,null,null,null,null,null,null,null,null,null,null,null,null,null,null,{"$f":"ROUNDDOWN(Z35/787500,1)","v":0},null,null,null,null,"(F)　",null,null,null,null,null,null,null,null,null,"(G)　(F)の小数点第１位以下は切捨て",null,null,null,null,null,null,null,null,null,null,null,null,null,null,null,null,null,null,"(H) "]
[null,null,null,null,null,null,null,null,null,{"$f":"CS4","v":0},null,null,null,null,null,null,null,null,null,null,null,null,null,null,null,null,null,null,null,null,null,null,null,{"$f":"IF(B30=\"h7\",IF(C30=\"hあり\",ROUNDDOWN(J36/350000,1),\"\"),\"\")","v":""},null,null,null,null,null,null,null,null,null,null,null,null,null,null,null,null,null,null,null,null,null,null,null,null,null,null,null,null,null,{"$f":"IF(BW37-8<=0,\"\",IF(BW36<>0,MID(BW36,BW37-8,1),\"\"))","v":""},{"$f":"IF(BW37-7<=0,\"\",IF(BW36<>0,MID(BW36,BW37-7,1),\"\"))","v":""},{"$f":"IF(BW37-6<=0,\"\",IF(BW36<>0,MID(BW36,BW37-6,1),\"\"))","v":""},{"$f":"IF(BW37-5<=0,\"\",IF(BW36<>0,MID(BW36,BW37-5,1),\"\"))","v":""},{"$f":"IF(BW37-4<=0,\"\",IF(BW36<>0,MID(BW36,BW37-4,1),\"\"))","v":""},{"$f":"IF(BW37-3<=0,\"\",IF(BW36<>0,MID(BW36,BW37-3,1),\"\"))","v":""},{"$f":"IF(BW37<=0,\"\",IF(BW36<>0,MID(BW36,BW37-2,1),\"\"))","v":""},{"$f":"IF(BW37-1<=0,\"\",IF(BW36<>0,MID(BW36,BW37-1,1),\"\"))","v":""},{"$f":"IF(BW37<=0,\"\",IF(BW36<>0,MID(BW36,BW37,1),\"\"))","v":""},null,null,{"$f":"IF(B30=\"h7\",IF(C30=\"hあり\",IF(AS37=\"\",\"\",AS37*17000),\"\"),\"\")","v":""}]
[null,null,null,null,null,null,null,null,null,null,null,null,null,null,null,null,null,null,null,"円","÷","３５０，０００円",null,null,null,null,null,null,null,null,null,"＝",null,"(",{"$f":"IF(B30=\"h7\",IF(C30=\"hあり\",IF(AH36=0,\"\",TRUNC(AH36)),\"\"),\"\")","v":""},null,null,". ",{"$f":"IF(B30=\"h7\",IF(C30=\"hあり\",IF(AH36=0,\"\",(AH36-AI37)*10),\"\"),\"\")","v":""},null,"）",null,null,"（",{"$f":"IF(B30=\"h7\",IF(C30=\"hあり\",IF(AH36=0,\"\",TRUNC(AH36)),\"\"),\"\")","v":""},null,null,". ","0",")","×",null,"１７，０００円",null,null,null,null,null,null,null,"＝",null,null,null,null,null,null,null,null,null,null,null,"円",null,{"$f":"LEN(BW36)","v":0}]
[null,null,null,null,null,null,null,null,null,null,null,null,null,null,null,null,null,null,null,null,null,null,null,null,null,null,null,null,null,null,null,null,null,null,null,null,null,null,null,null,null,null,null,null,null,null,null,null,null,null,null,null,null,null,null,null,null,null,null,null,null,null,null,null,null,null,null,null,null,null,null,null,null,null,{"$f":"IF(B30=\"h7\",IF(C30=\"hあり\",IF(J36=0,0,IF(BW36=\"\",0,IF(BW36<=BW41,BW36,BW41))),\"\"),\"\")","v":""}]
[]
[null,null,null,null,null,null,null,null,"　在宅就業障害者特例報奨金の支給限度額",null,null,null,null,null,null,null,null,null,null,null,null,null,null,null,null,null,null,null,null,null,null,null,null,null,null,null,null,null,null,null,null,null,null,null,null,null,null,null,null,null,null,null,null,null,null,null,null,null,null,null,null,null,"(I)"]
[null,null,null,null,null,null,null,null,null,null,"(L)身体障害者、知的障害者及び精神障害者の合計数",null,null,null,null,null,null,null,null,null,null,null,null,null,null,null,null,null,null,null,null,null,null,null,null,null,null,null,null,null,null,null,null,null,null,null,null,null,null,null,null,null,null,null,null,null,null,null,null,null,null,null,null,null,null,null,null,null,null,null,null,null,null,null,{"$f":"IF(B30=\"h7\",IF(C30=\"hあり\",IF(AS37=\"\",\"\",BQ62*17000),\"\"),\"\")","v":""}]
[null,null,null,null,null,null,null,null,null,"（",{"$f":"IF(B30=\"h7\",IF(C30=\"hあり\",IF(J36=0,\"\",IF(AS37=\"\",\"\",TRUNC(BQ62))),\"\"),\"\")","v":""},null,null,null,null,null,"．",{"$f":"IF(K42=\"\",\"\",(BQ62-K42)*10)","v":""},null,"）人",null,null,null,null,null,null,null,null,null,null,null,null,"×",null,"１７，０００  円",null,null,null,null,null,null,null,null,null,null,null,null,null,null,null,null,null,null,null,null,null,null,null,null,null,"＝",null,null,{"$f":"IF(BW42-8<=0,\"\",IF(BW41<>0,MID(BW41,BW42-8,1),\"\"))","v":""},{"$f":"IF(BW42-7<=0,\"\",IF(BW41<>0,MID(BW41,BW42-7,1),\"\"))","v":""},{"$f":"IF(BW42-6<=0,\"\",IF(BW41<>0,MID(BW41,BW42-6,1),\"\"))","v":""},{"$f":"IF(BW42-5<=0,\"\",IF(BW41<>0,MID(BW41,BW42-5,1),\"\"))","v":""},{"$f":"IF(BW42-4<=0,\"\",IF(BW41<>0,MID(BW41,BW42-4,1),\"\"))","v":""},{"$f":"IF(BW42-3<=0,\"\",IF(BW41<>0,MID(BW41,BW42-3,1),\"\"))","v":""},{"$f":"IF(BW42<=0,\"\",IF(BW41<>0,MID(BW41,BW42-2,1),\"\"))","v":""},{"$f":"IF(BW42-1<=0,\"\",IF(BW41<>0,MID(BW41,BW42-1,1),\"\"))","v":""},{"$f":"IF(BW42<=0,\"\",IF(BW41<>0,MID(BW41,BW42,1),\"\"))","v":""},"円",null,{"$f":"LEN(BW41)","v":0}]
[]
[]
[null,"⑤","特例給付金の申請額",null,null,null,null,"週労働時間が10時間以上20時間未満の雇用障害者の合計数（(L)を上限とする。ただし、小数点以下は切捨て。）",null,null,null,null,null,null,null,null,null,null,null,null,null,null,null,null,null,null,null,null,null,null,null,null,null,null,null,null,null,null,null,null,null,null,null,null,null,null,null,null,null,null,null,null,null,null,null,null,null,null,null,null,null,null,"(N)",null,null,null,null,null,null,null,null,null,null,null,{"$f":"IF(AND(K46<>\"\",AA46<>\"\"),MIN(K46,AA46)*AX46,\"\")","v":""}]
[null,null,null,null,null,null,null,"(M)",null,"（",{"$f":"IF(BQ63=0,\"\",TRUNC(BQ63))","v":""},null,null,null,null,null,"．",0,null,"）人",null,"又は",null,"(L)",null,"（",{"$f":"IF(BQ62=0,\"\",TRUNC(BQ62))","v":""},null,null,null,null,null,"．",0,null,"）人のいずれか小さい数",null,null,null,null,null,null,null,null,null,null,null,null,"×",5000,null,null,null,null,null,"円",null,null,null,null,"＝",null,null,{"$f":"IF(BW46-8<=0,\"\",IF(BW45<>0,MID(BW45,BW46-8,1),\"\"))","v":""},{"$f":"IF(BW46-7<=0,\"\",IF(BW45<>0,MID(BW45,BW46-7,1),\"\"))","v":""},{"$f":"IF(BW46-6<=0,\"\",IF(BW45<>0,MID(BW45,BW46-6,1),\"\"))","v":""},{"$f":"IF(BW46-5<=0,\"\",IF(BW45<>0,MID(BW45,BW46-5,1),\"\"))","v":""},{"$f":"IF(BW46-4<=0,\"\",IF(BW45<>0,MID(BW45,BW46-4,1),\"\"))","v":""},{"$f":"IF(BW46-3<=0,\"\",IF(BW45<>0,MID(BW45,BW46-3,1),\"\"))","v":""},{"$f":"IF(BW46-2<=0,\"\",IF(BW45<>0,MID(BW45,BW46-2,1),\"\"))","v":""},{"$f":"IF(BW46-1<=0,\"\",IF(BW45<>0,MID(BW45,BW46-1,1),\"\"))","v":""},{"$f":"IF(BW46<=0,\"\",IF(BW45<>0,MID(BW45,BW46,1),\"\"))","v":""},"円",null,{"$f":"LEN(BW45)","v":0}]
[]
[null,null,null,null,null,null,null,null,"(ﾁ)　"]
[3]
[null,"⑥","報奨金、在宅就業障害者\n及び特例給付金の支給先",null,null,null,null,null,null,null,null,null,null,{"$f":"IF($CG$4=0,\"\",$CG$4)","v":""},null,null,null,"(ﾛ) 金融機関及び本・支店名",null,null,null,null,null,null,null,null,null,null,null,null,{"$f":"IF($CK$4=0,\"\",MID($CK$4,1,33))","v":""},null,null,null,null,null,null,null,null,null,null,null,null,null,"(ﾊ) 金融機関ｺｰﾄﾞ－本・支店ｺｰﾄﾞ",null,null,null,null,null,null,null,null,null,null,null,null,null,null,null,{"$f":"IF($CN$4=0,\"\",$CN$4)","v":""},null,null,null,"(ﾎ) 口座番号"]
[null,null,null,null,null,null,null,"(ｲ) 支給先の選択",null,null,null,null,null,null,null,null,{"$f":"IF($CI$4=0,\"\",MID($CI$4,1,27))","v":""},null,null,null,null,null,null,null,null,null,null,null,null,null,null,null,null,null,null,null,null,null,null,null,null,null,null,null,null,{"$f":"IF($CL$4=0,\"\",$CL$4)","v":""},null,null,null,"-",{"$f":"IF($CM$4=0,\"\",$CM$4)","v":""},null,null,null,null,"(ﾆ) 預金種目",null,null,null,null,null,null,null,null,null,null,{"$f":"IF($CO$4=0,\"\",$CO$4)","v":""}]
[null,null,null,null,null,null,null,null,null,null,null,null,null,null,null,null,null,null,null,null,null,null,null,null,null,null,null,null,"銀行",null,null,null,null,null,null,null,null,null,null,null,{"$f":"IF($CJ$4=2,\"支店\",\"本店\")","v":"本店"}]
[]
[null,null,null,null,null,null,null,"(ﾍ) 口座名義人",null,null,null,null,null,{"$f":"IF($CQ$4=0,\"\",MID($CQ$4,1,48))","v":""},null,null,null,null,null,null,null,null,null,null,null,null,null,null,null,null,null,null,null,null,null,null,null,null,null,"フリガナ"]
[null,null,null,null,null,null,null,null,null,null,null,null,null,null,null,null,null,null,null,null,null,null,null,null,null,null,null,null,null,null,null,null,null,null,null,null,null,null,null,null,null,null,null,{"$f":"IF($CP$4=0,\"\",MID($DD$4 & $CP$4 & $DE$4,1,30))","v":""}]
[]
[4,"⑦ 報奨金の算定内訳","区　　　　　　　　　分",null,null,null,null,null,{"$f":"IF(MASTA!BG6<>\"\",MASTA!BG6,\"\")","v":"令和4年"},null,null,null,null,{"$f":"IF(MASTA!BH6<>\"\",MASTA!BH6,\"\")","v":""},null,null,null,null,{"$f":"IF(MASTA!BI6<>\"\",MASTA!BI6,\"\")","v":""},null,null,null,null,{"$f":"IF(MASTA!BJ6<>\"\",MASTA!BJ6,\"\")","v":""},null,null,null,null,{"$f":"IF(MASTA!BK6<>\"\",MASTA!BK6,\"\")","v":""},null,null,null,null,{"$f":"IF(MASTA!BL6<>\"\",MASTA!BL6,\"\")","v":""},null,null,null,null,{"$f":"IF(MASTA!BM6<>\"\",MASTA!BM6,\"\")","v":""},null,null,null,null,{"$f":"IF(MASTA!BN6<>\"\",MASTA!BN6,\"\")","v":""},null,null,null,null,{"$f":"IF(MASTA!BO6<>\"\",MASTA!BO6,\"\")","v":""},null,null,null,null,{"$f":"IF(MASTA!BP6<>\"\",MASTA!BP6,\"\")","v":"令和5年"},null,null,null,null,{"$f":"IF(MASTA!BQ6<>\"\",MASTA!BQ6,\"\")","v":""},null,null,null,null,{"$f":"IF(MASTA!BR6<>\"\",MASTA!BR6,\"\")","v":""},null,null,null,null,"合　　計"]
[null,null,null,null,null,null,null,null,"４月",null,null,null,null,"５月",null,null,null,null,"６月",null,null,null,null,"７月",null,null,null,null,"８月",null,null,null,null,"９月",null,null,null,null,"10月",null,null,null,null,"11月",null,null,null,null,"12月",null,null,null,null,"1月",null,null,null,null,"２月",null,null,null,null,"３月"]
[null,null,"(ｲ)","常 用 雇 用 労 働 者 の 総 数        　　　　　 (障害者雇用状況等報告書(Ⅰ)の③の(ﾊ)の合計数)",null,null,null,1,{"$f":"Sheet2!$EF$1","v":0},null,null,null,"人",{"$f":"Sheet2!$EG$1","v":0},null,null,null,"人",{"$f":"Sheet2!$EH$1","v":0},null,null,null,"人",{"$f":"Sheet2!$EI$1","v":0},null,null,null,"人",{"$f":"Sheet2!$EJ$1","v":0},null,null,null,"人",{"$f":"Sheet2!$EK$1","v":0},null,null,null,"人",{"$f":"Sheet2!$EL$1","v":0},null,null,null,"人",{"$f":"Sheet2!$EM$1","v":0},null,null,null,"人",{"$f":"Sheet2!$EN$1","v":0},null,null,null,"人",{"$f":"Sheet2!$EO$1","v":0},null,null,null,"人",{"$f":"Sheet2!$EP$1","v":0},null,null,null,"人",{"$f":"Sheet2!$EQ$1","v":0},null,null,null,"人",{"$f":"SUM(I59:BO59)","v":0},null,null,null,null,"人"]
[null,null,"(ﾛ)\n報奨金の支給を受けるために必要な障害者等の数",null,"(a)","(ｲ) × 4 ／ 100",null,2,{"$f":"ROUNDDOWN(I59*4/100,0)","v":0},null,null,null,"人",{"$f":"ROUNDDOWN(N59*4/100,0)","v":0},null,null,null,"人",{"$f":"ROUNDDOWN(S59*4/100,0)","v":0},null,null,null,"人",{"$f":"ROUNDDOWN(X59*4/100,0)","v":0},null,null,null,"人",{"$f":"ROUNDDOWN(AC59*4/100,0)","v":0},null,null,null,"人",{"$f":"ROUNDDOWN(AH59*4/100,0)","v":0},null,null,null,"人",{"$f":"ROUNDDOWN(AM59*4/100,0)","v":0},null,null,null,"人",{"$f":"ROUNDDOWN(AR59*4/100,0)","v":0},null,null,null,"人",{"$f":"ROUNDDOWN(AW59*4/100,0)","v":0},null,null,null,"人",{"$f":"ROUNDDOWN(BB59*4/100,0)","v":0},null,null,null,"人",{"$f":"ROUNDDOWN(BG59*4/100,0)","v":0},null,null,null,"人",{"$f":"ROUNDDOWN(BL59*4/100,0)","v":0},null,null,null,"人",{"$f":"SUM(I60:BO60)","v":0},null,null,null,null,"人"]
[null,null,null,null,"(b)","(J)又は７２のいずれか多い数",null,null,null,null,null,null,null,null,null,null,null,null,null,null,null,null,null,null,null,null,null,null,null,null,null,null,null,null,null,null,null,null,null,null,null,null,null,null,null,null,null,null,null,null,null,null,null,null,null,null,null,null,null,null,null,null,null,null,null,null,null,null,{"$f":"IF(BQ60<=72,72,BQ60)","v":72},null,null,null,null,"人"]
[null,null,"(ﾊ)","身体障害者、知的障害者及び精神障害者の合計数　　　　　　　　　　　　　　　　　(障害者雇用状況等報告書(Ⅰ)の③の（ｆ）の各月の合計数)",null,null,null,3,{"$f":"Sheet2!$DH$1","v":0},null,null,null,"人",{"$f":"Sheet2!$DI$1","v":0},null,null,null,"人",{"$f":"Sheet2!$DJ$1","v":0},null,null,null,"人",{"$f":"Sheet2!$DK$1","v":0},null,null,null,"人",{"$f":"Sheet2!$DL$1","v":0},null,null,null,"人",{"$f":"Sheet2!$DM$1","v":0},null,null,null,"人",{"$f":"Sheet2!$DN$1","v":0},null,null,null,"人",{"$f":"Sheet2!$DO$1","v":0},null,null,null,"人",{"$f":"Sheet2!$DP$1","v":0},null,null,null,"人",{"$f":"Sheet2!$DQ$1","v":0},null,null,null,"人",{"$f":"Sheet2!$DR$1","v":0},null,null,null,"人",{"$f":"Sheet2!$DS$1","v":0},null,null,null,"人",{"$f":"SUM(I62:BO62)","v":0},null,null,null,null,"人"]
[5,"⑧","週労働時間が10時間以上20時間未満の雇用障害者の数　　　　　　　　　　　　　　　　　(障害者雇用状況等報告書(Ⅰ)の③の（ﾁ）の各月の数)",null,null,null,null,4,{"$f":"Sheet2!$GL$1","v":0},null,null,null,"人",{"$f":"Sheet2!$GM$1","v":0},null,null,null,"人",{"$f":"Sheet2!$GN$1","v":0},null,null,null,"人",{"$f":"Sheet2!$GO$1","v":0},null,null,null,"人",{"$f":"Sheet2!$GP$1","v":0},null,null,null,"人",{"$f":"Sheet2!$GQ$1","v":0},null,null,null,"人",{"$f":"Sheet2!$GR$1","v":0},null,null,null,"人",{"$f":"Sheet2!$GS$1","v":0},null,null,null,"人",{"$f":"Sheet2!$GT$1","v":0},null,null,null,"人",{"$f":"Sheet2!$GU$1","v":0},null,null,null,"人",{"$f":"Sheet2!$GV$1","v":0},null,null,null,"人",{"$f":"Sheet2!$GW$1","v":0},null,null,null,"人",{"$f":"SUM(I63:BO63)","v":0},null,null,null,null,"人"]
[null,null,null,null,null,null,null,null,null,null,null,null,null,null,null,null,null,null,null,null,null,null,null,null,null,null,null,null,null,null,null,null,null,null,null,"記　入\n担当者",null,null,null,"所属部課名・\n連絡先電話番号",null,null,null,null,null,null,{"$f":"IF($CT$4=0,\"\",MID($CT$4,1,10))","v":""}]
[null,"社会保険\n労 務 士\n記 載 欄",null,"作成年月日・提出代行者\n事務代理者の表示",null,null,null,null,"氏　　　　　名",null,null,null,null,null,null,null,null,null,null,null,null,null,null,"電　話　番　号",null,null,null,null,null,null,null,null,null,null,null,null,null,null,null,null,null,null,null,null,null,null,null,null,null,null,null,null,null,null,null,null,null,null,null,{"$f":"IF($DA$4=0,\"\",$DA$4)","v":""},null,null,null,null,{"$f":"IF($DB$4=0,\"\",$DB$4)","v":""},null,null,null,null,{"$f":"IF($DC$4=0,\"\",$DC$4)","v":""}]
[null,null,null,null,null,null,null,null,null,null,null,null,null,null,null,null,null,null,null,null,null,null,null,null,null,null,null,null,null,null,null,null,null,null,null,null,null,null,null,null,null,null,null,null,null,null,null,null,null,null,null,null,null,null,null,null,null,null,null,null,null,null,null,"-",null,null,null,null,"-"]
[null,null,null,{"$f":"IF($DO$4=0,\"\",IF(MID($DO$4,2,2)=\"01\",VLOOKUP(MID($DO$4,1,1),MASTA!W2:X10,2,FALSE)&\"元年\",VLOOKUP(MID($DO$4,1,1),MASTA!W2:X10,2,FALSE)&MID($DO$4,2,2)&\"年\")&MID($DO$4,4,2)&\"月\"&MID($DO$4,6,2)&\"日\")","v":""},null,null,null,null,{"$f":"IF($DQ$4=0,\"\",MID($DQ$4,1,8)) &\" \"& IF($DR$4=0,\"\",MID($DR$4,1,8))","v":" "},null,null,null,null,null,null,null,null,null,null,null,null,null,null,{"$f":"IF(LEN($DS$4)=0,\"\",$DS$4 &\" - \") & IF(LEN($DT$4)=0,\"\",$DT$4 &\" - \") & IF(LEN($DU$4)=0,\"\",$DU$4)","v":""}]
[null,null,null,{"$f":"IF($DP$4=0,\"\",MID($DP$4,1,10))","v":""},null,null,null,null,null,null,null,null,null,null,null,null,null,null,null,null,null,null,null,null,null,null,null,null,null,null,null,null,null,null,null,null,null,null,null,null,"（フリガナ）",null,null,null,null,null,null,"（",{"$f":"IF($CU$4=0,\"\",MID($CU$4,1,17))& \"　\" & IF($CV$4=0,\"\",MID($CV$4,1,17))","v":"　"},null,null,null,null,null,null,null,null,null,null,null,null,null,null,null,null,null,null,null,null,"）"]
[null,null,null,null,null,null,null,null,null,null,null,null,null,null,null,null,null,null,null,null,null,null,null,null,null,null,null,null,null,null,null,null,null,null,null,null,null,null,null,null,"氏　　　名",null,null,null,null,null,null,{"$f":"IF($CW$4=0,\"\",MID($CW$4,1,8)) &\" \"& IF($CX$4=0,\"\",MID($CX$4,1,8))","v":" "}]
[null,"注）「記入上の注意」をよく読んで記入して下さい。"]
[null,"　　　※欄には記入しないで下さい。"]
[1,2,3,4,5,6,7,8,9,10,11,12,13,14,15,16,17,18,19,20,21,22,23,24,25,26,27,28,29,30,31,32,33,34,35,36,37,38,39,40,41,42,43,44,45,46,47,48,49,50,51,52,53,54,55,56,57,58,59,60,61,62,63,64,65,66,67,68,69,70,71,72,73,74]
[]
[]
[]
[]
[]
[]
[]
[]
[]
[]
[null,null,null,null,null,null,null,null,null,{"$f":"IF(I59>0,1,0)","v":0},{"$f":"IF(N59>0,1,0)","v":0},{"$f":"IF(S59>0,1,0)","v":0},{"$f":"IF(X59>0,1,0)","v":0},{"$f":"IF(AC59>0,1,0)","v":0},{"$f":"IF(AH59>0,1,0)","v":0},{"$f":"IF(AM59>0,1,0)","v":0},{"$f":"IF(AR59>0,1,0)","v":0},{"$f":"IF(AW59>0,1,0)","v":0},{"$f":"IF(BB59>0,1,0)","v":0},{"$f":"IF(BG59>0,1,0)","v":0},{"$f":"IF(BL59>0,1,0)","v":0},{"$f":"SUM(J83:U83)","v":0},{"$f":"VLOOKUP(V83,J87:K99,2,FALSE)","v":0},"※報奨金フラグ判定"]
[null,null,null,null,null,null,null,null,null,{"$f":"IF(I59>200,1,0)","v":0},{"$f":"IF(N59>200,1,0)","v":0},{"$f":"IF(S59>200,1,0)","v":0},{"$f":"IF(X59>200,1,0)","v":0},{"$f":"IF(AC59>200,1,0)","v":0},{"$f":"IF(AH59>200,1,0)","v":0},{"$f":"IF(AM59>200,1,0)","v":0},{"$f":"IF(AR59>200,1,0)","v":0},{"$f":"IF(AW59>200,1,0)","v":0},{"$f":"IF(BB59>200,1,0)","v":0},{"$f":"IF(BG59>200,1,0)","v":0},{"$f":"IF(BL59>200,1,0)","v":0},{"$f":"SUM(J84:U84)","v":0},null,{"$f":"IF(OR(W83<=V84,W83<=V85),\"\",\"h7\")","v":""}]
[null,null,null,null,null,null,null,null,null,{"$f":"IF(I59>100,1,0)","v":0},{"$f":"IF(N59>100,1,0)","v":0},{"$f":"IF(S59>100,1,0)","v":0},{"$f":"IF(X59>100,1,0)","v":0},{"$f":"IF(AC59>100,1,0)","v":0},{"$f":"IF(AH59>100,1,0)","v":0},{"$f":"IF(AM59>100,1,0)","v":0},{"$f":"IF(AR59>100,1,0)","v":0},{"$f":"IF(AW59>100,1,0)","v":0},{"$f":"IF(BB59>100,1,0)","v":0},{"$f":"IF(BG59>100,1,0)","v":0},{"$f":"IF(BL59>100,1,0)","v":0},{"$f":"SUM(J85:U85)","v":0},{"$f":"IF(V83>0,IF(V85>=W83,\"n7\",\"\"),0)","v":0}]
[]
[null,null,null,null,null,null,null,null,null,0,0]
[null,null,null,null,null,null,null,null,null,1,1]
[null,null,null,null,null,null,null,null,null,2,1]
[null,null,null,null,null,null,null,null,null,3,2]
[null,null,null,null,null,null,null,null,null,4,2]
[null,null,null,null,null,null,null,null,null,5,2]
[null,null,null,null,null,null,null,null,null,6,3]
[null,null,null,null,null,null,null,null,null,7,3]
[null,null,null,null,null,null,null,null,null,8,3]
[null,null,null,null,null,null,null,null,null,9,4]
[null,null,null,null,null,null,null,null,null,10,4]
[null,null,null,null,null,null,null,null,null,11,4]
[null,null,null,null,null,null,null,null,null,12,5]

{"sheet":"特例給付金","index":21,"n_rows":54,"n_cols":125,"rows_kept":54,"cut":false,"hidden":false,"merged":[[28,0,30,0],[42,63,42,66],[42,68,42,72],[44,58,44,61],[44,63,44,66],[43,68,43,72],[43,38,43,41],[43,43,43,46],[43,48,43,51],[43,53,43,56],[43,58,43,61],[43,63,43,66],[44,68,44,72],[30,49,30,54],[44,2,44,6],[44,8,44,11],[44,13,44,16],[44,18,44,21],[44,23,44,26],[41,63,41,67],[40,58,40,62],[40,63,40,67],[34,49,35,49],[42,38,42,41],[29,1,31,1],[29,2,31,6],[30,7,30,8],[30,10,30,15],[30,17,30,18],[42,43,42,46],[42,3,42,6],[42,8,42,11],[42,13,42,16],[42,18,42,21],[42,23,42,26],[42,28,42,31],[42,33,42,36],[30,21,30,22],[30,23,30,24],[30,26,30,31],[30,33,30,34],[40,0,41,0],[40,1,43,1],[40,2,41,7],[40,8,40,12],[40,13,40,17],[40,18,40,22],[34,66,35,72],[37,7,39,12],[32,0,34,0],[33,1,38,1],[33,2,38,6],[33,30,36,39],[33,60,36,63],[34,16,36,27],[34,45,35,48],[42,58,42,61],[40,68,41,73],[40,23,40,27],[43,3,43,6],[21,60,22,60],[21,61,22,61],[21,39,22,40],[21,41,22,46],[21,3,21,5],[21,9,26,37],[21,54,22,54],[21,55,22,55],[21,56,22,56],[21,57,22,57],[21,58,22,58],[21,59,22,59],[25,39,25,40],[25,49,26,49],[25,50,26,50],[25,53,26,53],[25,54,26,65],[52,29,52,32],[21,49,22,49],[21,50,22,50],[21,51,22,51],[21,52,22,52],[21,53,22,53],[44,28,44,31],[44,33,44,36],[44,38,44,41],[44,43,44,46],[40,53,40,57],[40,28,40,32],[40,33,40,37],[40,38,40,42],[40,43,40,47],[40,48,40,52],[43,28,43,31],[43,33,43,36],[34,50,35,52],[37,13,39,38],[37,39,39,42],[38,43,38,72],[32,60,32,63],[33,13,36,15],[46,64,47,67],[46,69,47,72],[48,3,48,7],[48,8,50,22],[48,23,50,33],[49,3,50,7],[49,40,49,44],[49,48,49,68],[50,40,51,44],[50,47,51,69],[45,35,51,38],[45,39,48,45],[45,46,48,57],[46,1,50,2],[46,3,47,7],[46,8,47,22],[46,23,47,33],[46,59,47,62],[41,38,41,42],[41,43,41,47],[41,48,41,52],[41,53,41,57],[41,58,41,62],[41,8,41,12],[41,13,41,17],[41,18,41,22],[41,23,41,27],[41,28,41,32],[41,33,41,37],[42,48,42,51],[42,53,42,56],[44,48,44,51],[44,53,44,56],[43,8,43,11],[43,13,43,16],[43,18,43,21],[43,23,43,26],[17,25,18,25],[17,26,18,26],[17,27,18,27],[17,13,18,13],[17,14,18,14],[17,15,18,15],[17,16,18,16],[17,17,18,17],[17,18,18,18],[18,39,18,40],[18,48,19,53],[18,55,19,68],[17,31,18,31],[17,32,18,32],[17,33,18,33],[17,34,18,34],[17,35,18,35],[17,36,18,36],[16,56,17,65],[17,10,18,10],[17,11,18,11],[17,12,18,12],[13,0,15,0],[13,1,27,1],[13,3,13,6],[25,3,25,5],[16,66,17,66],[16,73,19,73],[17,28,18,28],[17,29,18,29],[17,30,18,30],[17,19,18,19],[17,20,18,20],[17,21,18,21],[17,22,18,22],[17,23,18,23],[17,24,18,24],[18,71,19,72],[25,66,26,66],[26,2,26,6],[17,37,18,37],[17,38,18,38],[17,39,17,46],[13,21,13,65],[14,3,14,5],[14,21,14,66],[15,2,15,6],[16,3,16,6],[16,48,17,53],[16,55,17,55],[11,32,11,33],[11,34,11,35],[11,37,11,38],[11,40,11,41],[12,8,12,29],[12,46,12,50],[10,51,12,52],[11,8,11,9],[11,10,11,11],[11,12,11,13],[11,14,11,15],[11,16,11,17],[11,18,11,19],[17,3,18,5],[17,7,18,7],[17,8,18,8],[17,9,18,9],[0,3,0,4],[2,53,2,63],[2,64,2,73],[8,44,9,52],[10,1,12,1],[10,7,12,7],[10,8,10,29],[10,30,12,30],[10,44,12,45],[10,46,10,50],[11,21,11,22],[11,23,11,24],[11,25,11,26],[11,28,11,29],[3,53,12,63],[3,64,12,73]]}
[null,null,null,null,null,null,null,null,null,null,null,null,null,null,null,null,null,null,null,null,null,null,null,null,null,null,null,null,null,null,null,null,null,null,null,null,null,null,null,null,null,null,null,null,null,null,null,null,null,null,null,null,null,null,null,null,null,null,null,null,null,null,null,null,null,null,null,null,null,null,null,null,null,null,null,null,null,null,null,80,81,82,83,84,85,86,87,88,89,90,91,92,93,94,95,96,97,98,99,100,101,102,103,104,105,106,107,108,109,110,111,112,113,114,115,116,117,118,119,120,121,122,123,124,125]
[]
[null,null,null,null,null,null,null,null,null,null,null,null,null,null,null,null,null,null,null,null,null,null,null,null,null,null,null,null,null,null,null,null,null,null,null,null,null,null,null,null,null,null,null,null,null,null,null,null,null,null,null,null,null,"※受理年月日・番号",null,null,null,null,null,null,null,null,null,null,"※整理番号",null,null,null,null,null,null,null,null,null,null,null,null,null,null,"申請年月日",null,null,null,null,"分割支給(9.あり,0.なし)","支給先の選択","金融機関名","本店支店区分（1.本店、2.支店）","支店名称","金融機関コード","支店コード","預金種目","口座番号","口座名義カナ","口座名義漢字","特例調整金(1.あり,2.なし)","在宅就業支払額","所属担当部課","氏名姓カナ","氏名名カナ","氏名姓漢字","氏名名漢字","入力フラグ",null,"電話番号1","電話番号2","電話番号3","口座名義前略","口座名義後略","特例(B)","納付(C)","特例(D)","特例(F)","申請(G)","総額(I)","特例(L)","限度(M)","社労士記載有無","作成年月日","提出代行者等","氏名（姓）","氏名（名）","電話番号１","電話番号２","電話番号３"]
[null,9,null,null,null,{"$f":"MASTA!BF6 & \" 年度\"","v":"令和5 年度"}]
[null,null,null,null,null,"特例給付金支給申請書(常用雇用労働者の総数が100人以下であって特例給付金のみ申請する事業主用)"]
[null,null,null,null,null,"下記のとおり申請します。"]
[]
[]
[null,null,null,null,null,"独立行政法人高齢・障害・求職者雇用支援機構理事長　殿",null,null,null,null,null,null,null,null,null,null,null,null,null,null,null,null,null,null,null,null,null,null,null,null,null,null,null,null,null,null,null,null,null,null,null,null,null,null,"② 県コード・職安コード"]
[]
[null,"①"]
[null,null,"事     業     主     番     号",null,null,null,null,null,{"$f":"IF(Sheet1!$A$3=0,\"\",MID(Sheet1!$A$3,1,1))","v":""},null,{"$f":"IF(Sheet1!$A$3=0,\"\",MID(Sheet1!$A$3,2,1))","v":""},null,{"$f":"IF(Sheet1!$A$3=0,\"\",MID(Sheet1!$A$3,3,1))","v":""},null,{"$f":"IF(Sheet1!$A$3=0,\"\",MID(Sheet1!$A$3,4,1))","v":""},null,{"$f":"IF(Sheet1!$A$3=0,\"\",MID(Sheet1!$A$3,5,1))","v":""},null,{"$f":"IF(Sheet1!$A$3=0,\"\",MID(Sheet1!$A$3,6,1))","v":""},null,"－",0,null,0,null,0,null,"－",{"$f":"IF(Sheet1!$B$3=0,\"\",MID(Sheet1!$B$3,1,1))","v":""},null,null,null,{"$f":"IF($CB$4=0,\"\",VLOOKUP(MID($CB$4,1,1),MASTA!W2:X10,2,FALSE))","v":""},null,{"$f":"IF($CB$4=0,\"\",IF(MID($CB$4,2,2)=\"01\",\"元\",MID($CB$4,2,2)))","v":""},null,"年",{"$f":"IF($CB$4=0,\"\",MID($CB$4,4,2))","v":""},null,"月",{"$f":"IF($CB$4=0,\"\",MID($CB$4,6,2))","v":""},null,"日",null,null,null,{"$f":"IF(Sheet1!$C$3=0,\"\",MID(Sheet1!$C$3,1,1))","v":""},{"$f":"IF(Sheet1!$C$3=0,\"\",MID(Sheet1!$C$3,2,1))","v":""},"－",{"$f":"IF(Sheet1!$D$3=0,\"\",MID(Sheet1!$D$3,1,1))","v":""},{"$f":"IF(Sheet1!$D$3=0,\"\",MID(Sheet1!$D$3,2,1))","v":""}]
[]
[1,"③ 申請事業主","(","フ      リ      ガ      ナ)",null,null,null,null,null,null,null,null,null,null,null,null,null,null,null,null,"（",{"$f":"IF(Sheet1!$E$3=0,\"\",MID(Sheet1!$E$3,1,70))","v":""},null,null,null,null,null,null,null,null,null,null,null,null,null,null,null,null,null,null,null,null,null,null,null,null,null,null,null,null,null,null,null,null,null,null,null,null,null,null,null,null,null,null,null,null,"）"]
[null,null,"(ｲ)","住  　　　　　　　　　　所　　　　　　　　　　　（法人のときは主たる事業所の所在地）",null,null,null," 郵便番号",null,null,null,{"$f":"IF(Sheet1!$G$3=0,\"\",MID(Sheet1!$G$3,1,1))","v":""},{"$f":"IF(Sheet1!$G$3=0,\"\",MID(Sheet1!$G$3,2,1))","v":""},{"$f":"IF(Sheet1!$G$3=0,\"\",MID(Sheet1!$G$3,3,1))","v":""},"－",{"$f":"IF(Sheet1!$H$3=0,\"\",MID(Sheet1!$H$3,1,1))","v":""},{"$f":"IF(Sheet1!$H$3=0,\"\",MID(Sheet1!$H$3,2,1))","v":""},{"$f":"IF(Sheet1!$H$3=0,\"\",MID(Sheet1!$H$3,3,1))","v":""},{"$f":"IF(Sheet1!$H$3=0,\"\",MID(Sheet1!$H$3,4,1))","v":""},null,null,{"$f":"IF(Sheet1!$F$3=0,\"\",MID(Sheet1!$F$3,1,64))","v":""}]
[]
[null,null,null,null,null,null,null,null,null,null,null,null,null,null,null,null,null,null,null,null,null,null,null,null,null,null,null,null,null,null,null,null,null,null,null,null,null,null,null,null,null,null,null,null,null,null,null,null," 代表者の役職",null,null,null,null,null,null,"(",{"$f":"IF(Sheet1!$O$3=0,\"\",MID(Sheet1!$O$3,1,70))","v":""},null,null,null,null,null,null,null,null,null,")"]
[null,null,"(","フ      リ      ガ      ナ)",null,null,null,"(",{"$f":"IF(Sheet1!$L$3=0,\"\",MID(Sheet1!$L$3,1,1))","v":""},{"$f":"IF(Sheet1!$L$3=0,\"\",MID(Sheet1!$L$3,2,1))","v":""},{"$f":"IF(Sheet1!$L$3=0,\"\",MID(Sheet1!$L$3,3,1))","v":""},{"$f":"IF(Sheet1!$L$3=0,\"\",MID(Sheet1!$L$3,4,1))","v":""},{"$f":"IF(Sheet1!$L$3=0,\"\",MID(Sheet1!$L$3,5,1))","v":""},{"$f":"IF(Sheet1!$L$3=0,\"\",MID(Sheet1!$L$3,6,1))","v":""},{"$f":"IF(Sheet1!$L$3=0,\"\",MID(Sheet1!$L$3,7,1))","v":""},{"$f":"IF(Sheet1!$L$3=0,\"\",MID(Sheet1!$L$3,8,1))","v":""},{"$f":"IF(Sheet1!$L$3=0,\"\",MID(Sheet1!$L$3,9,1))","v":""},{"$f":"IF(Sheet1!$L$3=0,\"\",MID(Sheet1!$L$3,10,1))","v":""},{"$f":"IF(Sheet1!$L$3=0,\"\",MID(Sheet1!$L$3,11,1))","v":""},{"$f":"IF(Sheet1!$L$3=0,\"\",MID(Sheet1!$L$3,12,1))","v":""},{"$f":"IF(Sheet1!$L$3=0,\"\",MID(Sheet1!$L$3,13,1))","v":""},{"$f":"IF(Sheet1!$L$3=0,\"\",MID(Sheet1!$L$3,14,1))","v":""},{"$f":"IF(Sheet1!$L$3=0,\"\",MID(Sheet1!$L$3,15,1))","v":""},{"$f":"IF(Sheet1!$L$3=0,\"\",MID(Sheet1!$L$3,16,1))","v":""},{"$f":"IF(Sheet1!$L$3=0,\"\",MID(Sheet1!$L$3,17,1))","v":""},{"$f":"IF(Sheet1!$L$3=0,\"\",MID(Sheet1!$L$3,18,1))","v":""},{"$f":"IF(Sheet1!$L$3=0,\"\",MID(Sheet1!$L$3,19,1))","v":""},{"$f":"IF(Sheet1!$L$3=0,\"\",MID(Sheet1!$L$3,20,1))","v":""},{"$f":"IF(Sheet1!$L$3=0,\"\",MID(Sheet1!$L$3,21,1))","v":""},{"$f":"IF(Sheet1!$L$3=0,\"\",MID(Sheet1!$L$3,22,1))","v":""},{"$f":"IF(Sheet1!$L$3=0,\"\",MID(Sheet1!$L$3,23,1))","v":""},{"$f":"IF(Sheet1!$L$3=0,\"\",MID(Sheet1!$L$3,24,1))","v":""},{"$f":"IF(Sheet1!$L$3=0,\"\",MID(Sheet1!$L$3,25,1))","v":""},{"$f":"IF(Sheet1!$L$3=0,\"\",MID(Sheet1!$L$3,26,1))","v":""},{"$f":"IF(Sheet1!$L$3=0,\"\",MID(Sheet1!$L$3,27,1))","v":""},{"$f":"IF(Sheet1!$L$3=0,\"\",MID(Sheet1!$L$3,28,1))","v":""},{"$f":"IF(Sheet1!$L$3=0,\"\",MID(Sheet1!$L$3,29,1))","v":""},{"$f":"IF(Sheet1!$L$3=0,\"\",MID(Sheet1!$L$3,30,1))","v":""},")","( フ リ ガ ナ)"]
[null,null,null,null,null,null,null,null,null,null,null,null,null,null,null,null,null,null,null,null,null,null,null,null,null,null,null,null,null,null,null,null,null,null,null,null,null,null,null,"(ハ)",null,"氏　　　　  名",null,null,null,null,null,null,{"$f":"IF(Sheet1!$N$3=0,\"\",MID(Sheet1!$N$3,1,20))","v":""},null,null,null,null,null,null,{"$f":"IF(Sheet1!$P$3=0,\"\",MID(Sheet1!$P$3,1,35))","v":""}]
[null,null,null,null,null,null,null,null,null,null,null,null,null,null,null,null,null,null,null,null,null,null,null,null,null,null,null,null,null,null,null,null,null,null,null,null,null,null,null," (法人のときは代表者の役職・氏名)"]
[]
[null,null,"(ロ)","名　　　　　　　　　　　称",null,null,null,null,null,{"$f":"IF(Sheet1!$M$3=0,\"\",MID(Sheet1!$M$3,1,56))","v":""},null,null,null,null,null,null,null,null,null,null,null,null,null,null,null,null,null,null,null,null,null,null,null,null,null,null,null,null,null,"(ニ)",null,"法　人　番　号",null,null,null,null,null,null,null,{"$f":"IF(Sheet1!$I3=\"\",\"\",MID(Sheet1!$I3,1,1))","v":""},{"$f":"IF(Sheet1!$I3=\"\",\"\",MID(Sheet1!$I3,2,1))","v":""},{"$f":"IF(Sheet1!$I3=\"\",\"\",MID(Sheet1!$I3,3,1))","v":""},{"$f":"IF(Sheet1!$I3=\"\",\"\",MID(Sheet1!$I3,4,1))","v":""},{"$f":"IF(Sheet1!$I3=\"\",\"\",MID(Sheet1!$I3,5,1))","v":""},{"$f":"IF(Sheet1!$I3=\"\",\"\",MID(Sheet1!$I3,6,1))","v":""},{"$f":"IF(Sheet1!$I3=\"\",\"\",MID(Sheet1!$I3,7,1))","v":""},{"$f":"IF(Sheet1!$I3=\"\",\"\",MID(Sheet1!$I3,8,1))","v":""},{"$f":"IF(Sheet1!$I3=\"\",\"\",MID(Sheet1!$I3,9,1))","v":""},{"$f":"IF(Sheet1!$I3=\"\",\"\",MID(Sheet1!$I3,10,1))","v":""},{"$f":"IF(Sheet1!$I3=\"\",\"\",MID(Sheet1!$I3,11,1))","v":""},{"$f":"IF(Sheet1!$I3=\"\",\"\",MID(Sheet1!$I3,12,1))","v":""},{"$f":"IF(Sheet1!$I3=\"\",\"\",MID(Sheet1!$I3,13,1))","v":""}]
[]
[]
[null,null,null,null,null,null,null,null,null,null,null,null,null,null,null,null,null,null,null,null,null,null,null,null,null,null,null,null,null,null,null,null,null,null,null,null,null,null,null,null,null,null,null,null,null,null,null,null,"(中分類番号)",null,null,null,null,null,null,null,null,"(主たる事業の内容)"]
[null,null,null,null,null,null,null,null,null,null,null,null,null,null,null,null,null,null,null,null,null,null,null,null,null,null,null,null,null,null,null,null,null,null,null,null,null,null,null,"(ホ)",null,"産  業  分  類",null,null,null,null,null,null,null,{"$f":"IF(Sheet1!$Q$3=0,\"\",MID(Sheet1!$Q$3,1,1))","v":""},{"$f":"IF(Sheet1!$Q$3=0,\"\",MID(Sheet1!$Q$3,2,1))","v":""},null,null,"(",{"$f":"IF(Sheet1!$R$3=0,\"\",MID(Sheet1!$R$3,1,24))","v":""},null,null,null,null,null,null,null,null,null,null,null,")"]
[]
[]
[2]
[null,"④","特例給付金の申請額",null,null,null,null,"週労働時間が10時間以上20時間未満の雇用障害者の合計数（(A)を上限とする。ただし、小数点以下は切捨て。）",null,null,null,null,null,null,null,null,null,null,null,null,null,null,null,null,null,null,null,null,null,null,null,null,null,null,null,null,null,null,null,null,null,null,null,null,null,null,null,null,null,null,null,null,null,null,null,null,null,null,null,null,null,null,"(C)",null,null,null,null,null,null,null,null,null,null,null,{"$f":"IF(AND(K31<>\"\",AA31<>\"\"),MIN(K31,AA31)*AX31,\"\")","v":""}]
[null,null,null,null,null,null,null,"(B)",null,"（",{"$f":"IF(BQ45=0,\"\",TRUNC(BQ45))","v":""},null,null,null,null,null,"．",0,null,"）人",null,"又は",null,"(A)",null,"（",{"$f":"IF(BQ44=0,\"\",TRUNC(BQ44))","v":""},null,null,null,null,null,"．",0,null,"）人のいずれか小さい数",null,null,null,null,null,null,null,null,null,null,null,null,"×",5000,null,null,null,null,null,"円",null,null,null,null,"＝",null,null,{"$f":"IF(BW31-8<=0,\"\",IF(BW30<>0,MID(BW30,BW31-8,1),\"\"))","v":""},{"$f":"IF(BW31-7<=0,\"\",IF(BW30<>0,MID(BW30,BW31-7,1),\"\"))","v":""},{"$f":"IF(BW31-6<=0,\"\",IF(BW30<>0,MID(BW30,BW31-6,1),\"\"))","v":""},{"$f":"IF(BW31-5<=0,\"\",IF(BW30<>0,MID(BW30,BW31-5,1),\"\"))","v":""},{"$f":"IF(BW31-4<=0,\"\",IF(BW30<>0,MID(BW30,BW31-4,1),\"\"))","v":""},{"$f":"IF(BW31-3<=0,\"\",IF(BW30<>0,MID(BW30,BW31-3,1),\"\"))","v":""},{"$f":"IF(BW31-2<=0,\"\",IF(BW30<>0,MID(BW30,BW31-2,1),\"\"))","v":""},{"$f":"IF(BW31-1<=0,\"\",IF(BW30<>0,MID(BW30,BW31-1,1),\"\"))","v":""},{"$f":"IF(BW31<=0,\"0\",IF(BW30<>0,MID(BW30,BW31,1),\"\"))","v":"0"},"円",null,{"$f":"LEN(BW30)","v":0}]
[]
[3]
[null,"⑤","特例給付金の支給先",null,null,null,null,null,null,null,null,null,null,{"$f":"IF($CG$4=0,\"\",$CG$4)","v":""},null,null,null,"(ﾛ) 金融機関及び本・支店名",null,null,null,null,null,null,null,null,null,null,null,null,{"$f":"IF($CK$4=0,\"\",MID($CK$4,1,33))","v":""},null,null,null,null,null,null,null,null,null,null,null,null,null,"(ﾊ) 金融機関ｺｰﾄﾞ－本・支店ｺｰﾄﾞ",null,null,null,null,null,null,null,null,null,null,null,null,null,null,null,{"$f":"IF($CN$4=0,\"\",$CN$4)","v":""},null,null,null,"(ﾎ) 口座番号"]
[null,null,null,null,null,null,null,"(ｲ) 支給先の選択",null,null,null,null,null,null,null,null,{"$f":"IF($CI$4=0,\"\",MID($CI$4,1,27))","v":""},null,null,null,null,null,null,null,null,null,null,null,null,null,null,null,null,null,null,null,null,null,null,null,null,null,null,null,null,{"$f":"IF($CL$4=0,\"\",$CL$4)","v":""},null,null,null,"-",{"$f":"IF($CM$4=0,\"\",$CM$4)","v":""},null,null,null,null,"(ﾆ) 預金種目",null,null,null,null,null,null,null,null,null,null,{"$f":"IF($CO$4=0,\"\",$CO$4)","v":""}]
[null,null,null,null,null,null,null,null,null,null,null,null,null,null,null,null,null,null,null,null,null,null,null,null,null,null,null,null,"銀行",null,null,null,null,null,null,null,null,null,null,null,{"$f":"IF($CJ$4=2,\"支店\",\"本店\")","v":"本店"}]
[]
[null,null,null,null,null,null,null,"(ﾍ) 口座名義人",null,null,null,null,null,{"$f":"IF($CQ$4=0,\"\",MID($CQ$4,1,48))","v":""},null,null,null,null,null,null,null,null,null,null,null,null,null,null,null,null,null,null,null,null,null,null,null,null,null,"フリガナ"]
[null,null,null,null,null,null,null,null,null,null,null,null,null,null,null,null,null,null,null,null,null,null,null,null,null,null,null,null,null,null,null,null,null,null,null,null,null,null,null,null,null,null,null,{"$f":"IF($CP$4=0,\"\",MID($DD$4 & $CP$4 & $DE$4,1,30))","v":""}]
[]
[4,"⑥特例給付金の算定内訳","区　　　　　　　　　分",null,null,null,null,null,{"$f":"IF(MASTA!BG6<>\"\",MASTA!BG6,\"\")","v":"令和4年"},null,null,null,null,{"$f":"IF(MASTA!BH6<>\"\",MASTA!BH6,\"\")","v":""},null,null,null,null,{"$f":"IF(MASTA!BI6<>\"\",MASTA!BI6,\"\")","v":""},null,null,null,null,{"$f":"IF(MASTA!BJ6<>\"\",MASTA!BJ6,\"\")","v":""},null,null,null,null,{"$f":"IF(MASTA!BK6<>\"\",MASTA!BK6,\"\")","v":""},null,null,null,null,{"$f":"IF(MASTA!BL6<>\"\",MASTA!BL6,\"\")","v":""},null,null,null,null,{"$f":"IF(MASTA!BM6<>\"\",MASTA!BM6,\"\")","v":""},null,null,null,null,{"$f":"IF(MASTA!BN6<>\"\",MASTA!BN6,\"\")","v":""},null,null,null,null,{"$f":"IF(MASTA!BO6<>\"\",MASTA!BO6,\"\")","v":""},null,null,null,null,{"$f":"IF(MASTA!BP6<>\"\",MASTA!BP6,\"\")","v":"令和5年"},null,null,null,null,{"$f":"IF(MASTA!BQ6<>\"\",MASTA!BQ6,\"\")","v":""},null,null,null,null,{"$f":"IF(MASTA!BR6<>\"\",MASTA!BR6,\"\")","v":""},null,null,null,null,"合　　計"]
[null,null,null,null,null,null,null,null,"４月",null,null,null,null,"５月",null,null,null,null,"６月",null,null,null,null,"７月",null,null,null,null,"８月",null,null,null,null,"９月",null,null,null,null,"10月",null,null,null,null,"11月",null,null,null,null,"12月",null,null,null,null,"1月",null,null,null,null,"２月",null,null,null,null,"３月"]
[null,null,"(ｲ)","常 用 雇 用 労 働 者 の 総 数        　　　　　 (障害者雇用状況等報告書(Ⅰ)の③の(ﾊ)の合計数)",null,null,null,1,{"$f":"Sheet2!$EF$1","v":0},null,null,null,"人",{"$f":"Sheet2!$EG$1","v":0},null,null,null,"人",{"$f":"Sheet2!$EH$1","v":0},null,null,null,"人",{"$f":"Sheet2!$EI$1","v":0},null,null,null,"人",{"$f":"Sheet2!$EJ$1","v":0},null,null,null,"人",{"$f":"Sheet2!$EK$1","v":0},null,null,null,"人",{"$f":"Sheet2!$EL$1","v":0},null,null,null,"人",{"$f":"Sheet2!$EM$1","v":0},null,null,null,"人",{"$f":"Sheet2!$EN$1","v":0},null,null,null,"人",{"$f":"Sheet2!$EO$1","v":0},null,null,null,"人",{"$f":"Sheet2!$EP$1","v":0},null,null,null,"人",{"$f":"Sheet2!$EQ$1","v":0},null,null,null,"人",{"$f":"SUM(I43:BO43)","v":0},null,null,null,null,"人"]
[null,null,"(ﾛ)","身体障害者、知的障害者及び精神障害者の合計数　　　　　　　　　　　　　　　　　(障害者雇用状況等報告書(Ⅰ)の③の（ｆ）の各月の合計数)",null,null,null,2,{"$f":"Sheet2!$DH$1","v":0},null,null,null,"人",{"$f":"Sheet2!$DI$1","v":0},null,null,null,"人",{"$f":"Sheet2!$DJ$1","v":0},null,null,null,"人",{"$f":"Sheet2!$DK$1","v":0},null,null,null,"人",{"$f":"Sheet2!$DL$1","v":0},null,null,null,"人",{"$f":"Sheet2!$DM$1","v":0},null,null,null,"人",{"$f":"Sheet2!$DN$1","v":0},null,null,null,"人",{"$f":"Sheet2!$DO$1","v":0},null,null,null,"人",{"$f":"Sheet2!$DP$1","v":0},null,null,null,"人",{"$f":"Sheet2!$DQ$1","v":0},null,null,null,"人",{"$f":"Sheet2!$DR$1","v":0},null,null,null,"人",{"$f":"Sheet2!$DS$1","v":0},null,null,null,"人",{"$f":"SUM(I44:BO44)","v":0},null,null,null,null,"人"]
[5,"⑦","週労働時間が10時間以上20時間未満の雇用障害者の数　　　　　　　　　　　　　　　　　(障害者雇用状況等報告書(Ⅰ)の③の（ﾁ）の各月の数)",null,null,null,null,3,{"$f":"Sheet2!$GL$1","v":0},null,null,null,"人",{"$f":"Sheet2!$GM$1","v":0},null,null,null,"人",{"$f":"Sheet2!$GN$1","v":0},null,null,null,"人",{"$f":"Sheet2!$GO$1","v":0},null,null,null,"人",{"$f":"Sheet2!$GP$1","v":0},null,null,null,"人",{"$f":"Sheet2!$GQ$1","v":0},null,null,null,"人",{"$f":"Sheet2!$GR$1","v":0},null,null,null,"人",{"$f":"Sheet2!$GS$1","v":0},null,null,null,"人",{"$f":"Sheet2!$GT$1","v":0},null,null,null,"人",{"$f":"Sheet2!$GU$1","v":0},null,null,null,"人",{"$f":"Sheet2!$GV$1","v":0},null,null,null,"人",{"$f":"Sheet2!$GW$1","v":0},null,null,null,"人",{"$f":"SUM(I45:BO45)","v":0},null,null,null,null,"人"]
[null,null,null,null,null,null,null,null,null,null,null,null,null,null,null,null,null,null,null,null,null,null,null,null,null,null,null,null,null,null,null,null,null,null,null,"記　入\n担当者",null,null,null,"所属部課名・\n連絡先電話番号",null,null,null,null,null,null,{"$f":"IF($CT$4=0,\"\",MID($CT$4,1,10))","v":""}]
[null,"社会保険\n労 務 士\n記 載 欄",null,"作成年月日・提出代行者\n事務代理者の表示",null,null,null,null,"氏　　　　　名",null,null,null,null,null,null,null,null,null,null,null,null,null,null,"電　話　番　号",null,null,null,null,null,null,null,null,null,null,null,null,null,null,null,null,null,null,null,null,null,null,null,null,null,null,null,null,null,null,null,null,null,null,null,{"$f":"IF($DA$4=0,\"\",$DA$4)","v":""},null,null,null,null,{"$f":"IF($DB$4=0,\"\",$DB$4)","v":""},null,null,null,null,{"$f":"IF($DC$4=0,\"\",$DC$4)","v":""}]
[null,null,null,null,null,null,null,null,null,null,null,null,null,null,null,null,null,null,null,null,null,null,null,null,null,null,null,null,null,null,null,null,null,null,null,null,null,null,null,null,null,null,null,null,null,null,null,null,null,null,null,null,null,null,null,null,null,null,null,null,null,null,null,"-",null,null,null,null,"-"]
[null,null,null,{"$f":"IF($DO$4=0,\"\",IF(MID($DO$4,2,2)=\"01\",VLOOKUP(MID($DO$4,1,1),MASTA!W2:X10,2,FALSE)&\"元年\",VLOOKUP(MID($DO$4,1,1),MASTA!W2:X10,2,FALSE)&MID($DO$4,2,2)&\"年\")&MID($DO$4,4,2)&\"月\"&MID($DO$4,6,2)&\"日\")","v":""},null,null,null,null,{"$f":"IF($DQ$4=0,\"\",MID($DQ$4,1,8)) &\" \"& IF($DR$4=0,\"\",MID($DR$4,1,8))","v":" "},null,null,null,null,null,null,null,null,null,null,null,null,null,null,{"$f":"IF(LEN($DS$4)=0,\"\",$DS$4 &\" - \") & IF(LEN($DT$4)=0,\"\",$DT$4 &\" - \") & IF(LEN($DU$4)=0,\"\",$DU$4)","v":""}]
[null,null,null,{"$f":"IF($DP$4=0,\"\",MID($DP$4,1,10))","v":""},null,null,null,null,null,null,null,null,null,null,null,null,null,null,null,null,null,null,null,null,null,null,null,null,null,null,null,null,null,null,null,null,null,null,null,null,"（フリガナ）",null,null,null,null,null,null,"（",{"$f":"IF($CU$4=0,\"\",MID($CU$4,1,17))& \"　\" & IF($CV$4=0,\"\",MID($CV$4,1,17))","v":"　"},null,null,null,null,null,null,null,null,null,null,null,null,null,null,null,null,null,null,null,null,"）"]
[null,null,null,null,null,null,null,null,null,null,null,null,null,null,null,null,null,null,null,null,null,null,null,null,null,null,null,null,null,null,null,null,null,null,null,null,null,null,null,null,"氏　　　名",null,null,null,null,null,null,{"$f":"IF($CW$4=0,\"\",MID($CW$4,1,8)) &\" \"& IF($CX$4=0,\"\",MID($CX$4,1,8))","v":" "}]
[null,"注）「記入上の注意」をよく読んで記入して下さい。"]
[null,"　　　※欄には記入しないで下さい。"]
[1,2,3,4,5,6,7,8,9,10,11,12,13,14,15,16,17,18,19,20,21,22,23,24,25,26,27,28,29,30,31,32,33,34,35,36,37,38,39,40,41,42,43,44,45,46,47,48,49,50,51,52,53,54,55,56,57,58,59,60,61,62,63,64,65,66,67,68,69,70,71,72,73,74]

{"sheet":"Sheet10","index":22,"n_rows":120,"n_cols":112,"rows_kept":120,"cut":false,"hidden":false,"merged":[[5,2,7,2],[5,3,7,15],[5,17,8,17],[6,18,7,19],[6,20,7,21],[6,22,7,23],[6,24,7,25],[6,26,7,27],[6,28,7,29],[9,75,10,83],[15,65,16,72],[9,18,10,54],[9,57,10,58],[9,59,10,72],[12,60,17,62],[14,37,14,38],[15,75,18,83],[3,7,3,71],[12,1,15,1],[12,2,21,2],[24,42,25,46],[15,48,16,51],[15,42,16,46],[15,47,16,47],[9,2,10,2],[23,37,23,38],[9,3,10,15],[16,37,16,38],[24,65,25,72],[24,74,27,74],[24,75,27,83],[18,10,20,35],[18,36,20,39],[19,40,19,72],[25,37,25,38],[27,10,29,35],[27,36,29,39],[28,40,28,72],[15,74,18,74],[15,54,15,58],[31,2,37,2],[32,37,32,38],[24,47,25,47],[24,48,25,51],[24,54,24,58],[31,25,35,36],[33,4,35,21],[22,2,28,2],[22,60,26,62],[39,2,48,2],[40,60,44,62],[41,37,41,38],[46,40,46,72],[42,42,43,46],[42,47,43,47],[42,48,43,51],[42,54,42,58],[42,65,43,72],[43,37,43,38],[45,10,47,35],[45,36,47,39],[40,25,44,36],[42,4,44,21],[33,75,36,83],[34,37,34,38],[36,10,38,35],[36,36,38,39],[37,40,37,72],[33,65,34,72],[33,74,36,74],[33,42,34,46],[33,47,34,47],[33,48,34,51],[33,54,33,58],[30,60,35,62],[49,2,56,2],[49,60,53,62],[50,37,50,38],[51,42,52,46],[51,47,52,47],[51,48,52,51],[51,54,51,58],[54,10,56,35],[51,4,53,21],[52,37,52,38],[54,36,56,39],[55,40,55,72],[49,25,53,36],[42,74,45,74],[51,74,54,74],[60,75,63,83],[51,75,54,83],[42,75,45,83],[60,48,61,51],[60,54,60,58],[60,65,61,72],[60,74,63,74],[51,65,52,72],[67,2,73,2],[67,60,71,62],[68,37,68,38],[69,42,70,46],[69,47,70,47],[69,48,70,51],[58,2,65,2],[59,37,59,38],[60,42,61,46],[60,47,61,47],[61,37,61,38],[63,10,65,35],[63,36,65,39],[64,40,64,72],[57,60,61,62],[60,4,62,21],[77,37,77,38],[78,42,79,46],[78,47,79,47],[78,48,79,51],[78,54,78,58],[81,10,83,35],[78,4,80,21],[69,74,72,74],[69,75,72,83],[70,37,70,38],[72,36,74,39],[73,40,73,72],[67,25,71,36],[69,54,69,58],[72,10,74,35],[69,4,71,21],[69,65,70,72],[0,3,0,4],[93,2,101,2],[93,60,97,62],[95,37,95,38],[96,42,97,46],[96,47,97,47],[85,2,92,2],[85,60,89,62],[99,10,101,35],[96,4,98,21],[87,42,88,46],[87,54,87,58],[90,10,92,35],[87,4,89,21],[100,40,100,72],[94,25,98,36],[88,37,88,38],[90,36,92,39],[91,40,91,72],[85,25,89,36],[87,65,88,72],[87,47,88,47],[87,48,88,51],[86,37,86,38],[96,75,99,83],[96,48,97,51],[96,54,96,58],[106,0,106,90],[15,4,17,21],[13,25,17,36],[22,25,26,36],[24,4,26,21],[58,25,62,36],[97,37,97,38],[99,36,101,39],[96,65,97,72],[96,74,99,74],[87,75,90,83],[87,74,90,74],[78,65,79,72],[78,74,81,74],[78,75,81,83],[79,37,79,38],[81,36,83,39],[82,40,82,72],[76,25,80,36],[75,2,84,2],[76,60,80,62]]}
[]
[]
[]
[null,"　",7,null,null,null,null,"分割支給先一覧表",null,null,null,null,null,null,null,null,null,null,null,null,null,null,null,null,null,null,null,null,null,null,null,null,null,null,null,null,null,null,null,null,null,null,null,null,null,null,null,null,null,null,null,null,null,null,null,null,null,null,null,null,null,null,null,null,null,null,null,null,null,null,null,null,null,null,null,null,null,null,null,null,null,null,null,null,null,null,null,"別紙"]
[]
[null,null,"①","事業主番号"]
[null,null,null,null,null,null,null,null,null,null,null,null,null,null,null,null,null,null,{"$f":"IF(Sheet1!$A$3=0,\"\",MID(Sheet1!$A$3,1,1))","v":""},null,{"$f":"IF(Sheet1!$A$3=0,\"\",MID(Sheet1!$A$3,2,1))","v":""},null,{"$f":"IF(Sheet1!$A$3=0,\"\",MID(Sheet1!$A$3,3,1))","v":""},null,{"$f":"IF(Sheet1!$A$3=0,\"\",MID(Sheet1!$A$3,4,1))","v":""},null,{"$f":"IF(Sheet1!$A$3=0,\"\",MID(Sheet1!$A$3,5,1))","v":""},null,{"$f":"IF(Sheet1!$A$3=0,\"\",MID(Sheet1!$A$3,6,1))","v":""}]
[]
[]
[null,null,"②","申請事業主名称",null,null,null,null,null,null,null,null,null,null,null,null,null,"  竹芝ビルサービス株式会社",{"$f":"IF(Sheet1!$M$3=0,\"\",MID(Sheet1!$M$3,1,56))","v":""},null,null,null,null,null,null,null,null,null,null,null,null,null,null,null,null,null,null,null,null,null,null,null,null,null,null,null,null,null,null,null,null,null,null,null,null,null," ","(ﾁ) ",null,"分 割 支 給 合 計 額",null,null,null,null,null,null,null,null,null,null,null,null,null,null," ",{"$f":"SUM(BX16+BX25+BX34+BX43+BX52+BX61+BX70+BX79+BX88+BX97)","v":0},null,null,null,null,null,null,null,null,null,"円"]
[]
[]
[null,1,1,null,null,null,null,null,null,null,null,null,null,null,null,null,null,null,null,null,null,null,null,null,null,null,null,null,null,null,null,null,null,null,null,null,null,null,null,null,null,null,null,null,null,null,null,null,null,null,null,null,null,null,null,null,null,null,null,null,{"$f":"IF($DB$111=0,\"\",$DD$111)","v":""}]
[null,null,null,null,null,null,null,null,null,null,null,null,null,null,null,null,null,null,null,null,null,null,null,null,null,{"$f":"IF($CZ$111=0,\"\",MID($CZ$111,1,33))","v":""}]
[null,null,null,"(ｲ) 金融機関及び本・支店名",null,null,null,null,null,null,null,null,null,null,null,null,null,null,null,null,null,null,null,null,null,null,null,null,null,null,null,null,null,null,null,null,null,null,null,null,null,"(ﾛ) 金融機関ｺｰﾄﾞ－本・支店ｺｰﾄﾞ",null,null,null,null,null,null,null,null,null,null,null,null,null,null,null,null,null,null,null,null,null,null,"(ﾆ) 口座番号",null,null,null,null,null,null,null,null,null," (ﾍ) 分割支給額"]
[null,null,null,null,{"$f":"IF($CY$111=0,\"\",MID($CY$111,1,27))","v":""},null,null,null,null,null,null,null,null,null,null,null,null,null,null,null,null,null,null,null,null,null,null,null,null,null,null,null,null,null,null,null,null,null,null,null,null,null,{"$f":"IF($DB$111=0,\"\",$DB$111)","v":""},null,null,null,null,"－",{"$f":"IF($DC$111=0,\"\",$DC$111)","v":""},null,null,null,null,null,"(ﾊ) 預金種目",null,null,null,null,null,null,null,null,null,null,{"$f":"IF($DE$111=0,\"\",$DE$111)","v":""},null,null,null,null,null,null,null,null,"　",{"$f":"IF($DH$111=\"\",0,$DH$111)","v":0},null,null,null,null,null,null,null,null,null,"円"]
[null,null,null,null,null,null,null,null,null,null,null,null,null,null,null,null,null,null,null,null,null,null,null,"銀行",null,null,null,null,null,null,null,null,null,null,null,null,null,{"$f":"IF($DA$111=2,\"支店\",\"本店\")","v":"本店"}]
[]
[null,null,null,null,null,null,null,null,null,null,{"$f":"IF($DG$111=0,\"\",MID($DG$111,1,48))","v":""},null,null,null,null,null,null,null,null,null,null,null,null,null,null,null,null,null,null,null,null,null,null,null,null,null,"フリガナ"]
[null,null,null,"(ﾎ) 口座名義人",null,null,null,null,null,null,null,null,null,null,null,null,null,null,null,null,null,null,null,null,null,null,null,null,null,null,null,null,null,null,null,null,null,null,null,null,{"$f":"IF($DF$111=0,\"\",MID($DF$111,1,30))","v":""}]
[]
[]
[null,null,2,null,null,null,null,null,null,null,null,null,null,null,null,null,null,null,null,null,null,null,null,null,null,{"$f":"IF($CZ$112=0,\"\",MID($CZ$112,1,33))","v":""},null,null,null,null,null,null,null,null,null,null,null,null,null,null,null,null,null,null,null,null,null,null,null,null,null,null,null,null,null,null,null,null,null,null,{"$f":"IF($DB$112=0,\"\",$DD$112)","v":""}]
[null,null,null,"(ｲ) 金融機関及び本・支店名",null,null,null,null,null,null,null,null,null,null,null,null,null,null,null,null,null,null,null,null,null,null,null,null,null,null,null,null,null,null,null,null,null,null,null,null,null,"(ﾛ) 金融機関ｺｰﾄﾞ－本・支店ｺｰﾄﾞ",null,null,null,null,null,null,null,null,null,null,null,null,null,null,null,null,null,null,null,null,null,null,"(ﾆ) 口座番号",null,null,null,null,null,null,null,null,null," (ﾍ) 分割支給額"]
[null,null,null,null,{"$f":"IF($CY$112=0,\"\",MID($CY$112,1,27))","v":""},null,null,null,null,null,null,null,null,null,null,null,null,null,null,null,null,null,null,null,null,null,null,null,null,null,null,null,null,null,null,null,null,null,null,null,null,null,{"$f":"IF($DB$112=0,\"\",$DB$112)","v":""},null,null,null,null,"－",{"$f":"IF($DC$112=0,\"\",$DC$112)","v":""},null,null,null,null,null,"(ﾊ) 預金種目",null,null,null,null,null,null,null,null,null,null,{"$f":"IF($DE$112=0,\"\",$DE$112)","v":""},null,null,null,null,null,null,null,null," ",{"$f":"IF($DH$112=\"\",0,$DH$112)","v":0},null,null,null,null,null,null,null,null,null,"円"]
[null,null,null,null,null,null,null,null,null,null,null,null,null,null,null,null,null,null,null,null,null,null,null,"銀行",null,null,null,null,null,null,null,null,null,null,null,null,null,{"$f":"IF($DA$112=2,\"支店\",\"本店\")","v":"本店"}]
[]
[null,null,null,null,null,null,null,null,null,null,{"$f":"IF($DG$112=0,\"\",MID($DG$112,1,48))","v":""},null,null,null,null,null,null,null,null,null,null,null,null,null,null,null,null,null,null,null,null,null,null,null,null,null,"フリガナ"]
[null,null,null,"(ﾎ) 口座名義人",null,null,null,null,null,null,null,null,null,null,null,null,null,null,null,null,null,null,null,null,null,null,null,null,null,null,null,null,null,null,null,null,null,null,null,null,{"$f":"IF($DF$112=0,\"\",MID($DF$112,1,30))","v":""}]
[]
[null,null,null,null,null,null,null,null,null,null,null,null,null,null,null,null,null,null,null,null,null,null,null,null,null,null,null,null,null,null,null,null,null,null,null,null,null,null,null,null,null,null,null,null,null,null,null,null,null,null,null,null,null,null,null,null,null,null,null,null,{"$f":"IF($DB$113=0,\"\",$DD$113)","v":""}]
[null,null,3,null,null,null,null,null,null,null,null,null,null,null,null,null,null,null,null,null,null,null,null,null,null,{"$f":"IF($CZ$113=0,\"\",MID($CZ$113,1,33))","v":""}]
[null,null,null,"(ｲ) 金融機関及び本・支店名",null,null,null,null,null,null,null,null,null,null,null,null,null,null,null,null,null,null,null,null,null,null,null,null,null,null,null,null,null,null,null,null,null,null,null,null,null,"(ﾛ) 金融機関ｺｰﾄﾞ－本・支店ｺｰﾄﾞ",null,null,null,null,null,null,null,null,null,null,null,null,null,null,null,null,null,null,null,null,null,null,"(ﾆ) 口座番号",null,null,null,null,null,null,null,null,null," (ﾍ) 分割支給額"]
[null,null,null,null,{"$f":"IF($CY$113=0,\"\",MID($CY$113,1,27))","v":""},null,null,null,null,null,null,null,null,null,null,null,null,null,null,null,null,null,null,null,null,null,null,null,null,null,null,null,null,null,null,null,null,null,null,null,null,null,{"$f":"IF($DB$113=0,\"\",$DB$113)","v":""},null,null,null,null,"－",{"$f":"IF($DC$113=0,\"\",$DC$113)","v":""},null,null,null,null,null,"(ﾊ) 預金種目",null,null,null,null,null,null,null,null,null,null,{"$f":"IF($DE$113=0,\"\",$DE$113)","v":""},null,null,null,null,null,null,null,null," ",{"$f":"IF($DH$113=\"\",0,$DH$113)","v":0},null,null,null,null,null,null,null,null,null,"円"]
[null,null,null,null,null,null,null,null,null,null,null,null,null,null,null,null,null,null,null,null,null,null,null,"銀行",null,null,null,null,null,null,null,null,null,null,null,null,null,{"$f":"IF($DA$111=2,\"支店\",\"本店\")","v":"本店"}]
[]
[null,null,null,null,null,null,null,null,null,null,{"$f":"IF($DG$113=0,\"\",MID($DG$113,1,48))","v":""},null,null,null,null,null,null,null,null,null,null,null,null,null,null,null,null,null,null,null,null,null,null,null,null,null,"フリガナ"]
[null,null,null,"(ﾎ) 口座名義人",null,null,null,null,null,null,null,null,null,null,null,null,null,null,null,null,null,null,null,null,null,null,null,null,null,null,null,null,null,null,null,null,null,null,null,null,{"$f":"IF($DF$113=0,\"\",MID($DF$113,1,30))","v":""}]
[]
[null,null,4,null,null,null,null,null,null,null,null,null,null,null,null,null,null,null,null,null,null,null,null,null,null,null,null,null,null,null,null,null,null,null,null,null,null,null,null,null,null,null,null,null,null,null,null,null,null,null,null,null,null,null,null,null,null,null,null,null,2,2]
[null,null,null,null,null,null,null,null,null,null,null,null,null,null,null,null,null,null,null,null,null,null,null,null,null,{"$f":"IF($CZ$114=0,\"\",MID($CZ$114,1,33))","v":""},null,null,null,null,null,null,null,null,null,null,null,null,null,null,null,null,null,null,null,null,null,null,null,null,null,null,null,null,null,null,null,null,null,null,{"$f":"IF($DB$114=0,\"\",$DD$114)","v":""}]
[null,null,null,"(ｲ) 金融機関及び本・支店名",null,null,null,null,null,null,null,null,null,null,null,null,null,null,null,null,null,null,null,null,null,null,null,null,null,null,null,null,null,null,null,null,null,null,null,null,null,"(ﾛ) 金融機関ｺｰﾄﾞ－本・支店ｺｰﾄﾞ",null,null,null,null,null,null,null,null,null,null,null,null,null,null,null,null,null,null,null,null,null,null,"(ﾆ) 口座番号",null,null,null,null,null,null,null,null,null," (ﾍ) 分割支給額"]
[null,null,null,null,{"$f":"IF($CY$114=0,\"\",MID($CY$114,1,27))","v":""},null,null,null,null,null,null,null,null,null,null,null,null,null,null,null,null,null,null,null,null,null,null,null,null,null,null,null,null,null,null,null,null,null,null,null,null,null,{"$f":"IF($DB$114=0,\"\",$DB$114)","v":""},null,null,null,null,"－",{"$f":"IF($DC$114=0,\"\",$DC$114)","v":""},null,null,null,null,null,"(ﾊ) 預金種目",null,null,null,null,null,null,null,null,null,null,{"$f":"IF($DE$114=0,\"\",$DE$114)","v":""},null,null,null,null,null,null,null,null," ",{"$f":"IF($DH$114=\"\",0,$DH$114)","v":0},null,null,null,null,null,null,null,null,null,"円"]
[null,null,null,null,null,null,null,null,null,null,null,null,null,null,null,null,null,null,null,null,null,null,null,"銀行",null,null,null,null,null,null,null,null,null,null,null,null,null,{"$f":"IF($DA$111=2,\"支店\",\"本店\")","v":"本店"}]
[]
[null,null,null,null,null,null,null,null,null,null,{"$f":"IF($DG$114=0,\"\",MID($DG$114,1,48))","v":""},null,null,null,null,null,null,null,null,null,null,null,null,null,null,null,null,null,null,null,null,null,null,null,null,null,"フリガナ"]
[null,null,null,"(ﾎ) 口座名義人",null,null,null,null,null,null,null,null,null,null,null,null,null,null,null,null,null,null,null,null,null,null,null,null,null,null,null,null,null,null,null,null,null,null,null,null,{"$f":"IF($DF$114=0,\"\",MID($DF$114,1,30))","v":""}]
[]
[]
[null,null,5,null,null,null,null,null,null,null,null,null,null,null,null,null,null,null,null,null,null,null,null,null,null,{"$f":"IF($CZ$115=0,\"\",MID($CZ$115,1,33))","v":""},null,null,null,null,null,null,null,null,null,null,null,null,null,null,null,null,null,null,null,null,null,null,null,null,null,null,null,null,null,null,null,null,null,null,{"$f":"IF($DB$115=0,\"\",$DD$115)","v":""}]
[null,null,null,"(ｲ) 金融機関及び本・支店名",null,null,null,null,null,null,null,null,null,null,null,null,null,null,null,null,null,null,null,null,null,null,null,null,null,null,null,null,null,null,null,null,null,null,null,null,null,"(ﾛ) 金融機関ｺｰﾄﾞ－本・支店ｺｰﾄﾞ",null,null,null,null,null,null,null,null,null,null,null,null,null,null,null,null,null,null,null,null,null,null,"(ﾆ) 口座番号",null,null,null,null,null,null,null,null,null," (ﾍ) 分割支給額"]
[null,null,null,null,{"$f":"IF($CY$115=0,\"\",MID($CY$115,1,27))","v":""},null,null,null,null,null,null,null,null,null,null,null,null,null,null,null,null,null,null,null,null,null,null,null,null,null,null,null,null,null,null,null,null,null,null,null,null,null,{"$f":"IF($DB$115=0,\"\",$DB$115)","v":""},null,null,null,null,"－",{"$f":"IF($DC$115=0,\"\",$DC$115)","v":""},null,null,null,null,null,"(ﾊ) 預金種目",null,null,null,null,null,null,null,null,null,null,{"$f":"IF($DE$115=0,\"\",$DE$115)","v":""},null,null,null,null,null,null,null,null," ",{"$f":"IF($DH$115=\"\",0,$DH$115)","v":0},null,null,null,null,null,null,null,null,null,"円"]
[null,null,null,null,null,null,null,null,null,null,null,null,null,null,null,null,null,null,null,null,null,null,null,"銀行",null,null,null,null,null,null,null,null,null,null,null,null,null,{"$f":"IF($DA$111=2,\"支店\",\"本店\")","v":"本店"}]
[]
[null,null,null,null,null,null,null,null,null,null,{"$f":"IF($DG$115=0,\"\",MID($DG$115,1,48))","v":""},null,null,null,null,null,null,null,null,null,null,null,null,null,null,null,null,null,null,null,null,null,null,null,null,null,"フリガナ"]
[null,null,null,"(ﾎ) 口座名義人",null,null,null,null,null,null,null,null,null,null,null,null,null,null,null,null,null,null,null,null,null,null,null,null,null,null,null,null,null,null,null,null,null,null,null,null,{"$f":"IF($DF$115=0,\"\",MID($DF$115,1,30))","v":""}]
[]
[null,null,null,null,null,null,null,null,null,null,null,null,null,null,null,null,null,null,null,null,null,null,null,null,null,null,null,null,null,null,null,null,null,null,null,null,null,null,null,null,null,null,null,null,null,null,null,null,null,null,null,null,null,null,null,null,null,null,null,null,{"$f":"IF($DB$116=0,\"\",$DD$116)","v":""}]
[null,null,6,null,null,null,null,null,null,null,null,null,null,null,null,null,null,null,null,null,null,null,null,null,null,{"$f":"IF($CZ$116=0,\"\",MID($CZ$116,1,33))","v":""}]
[null,null,null,"(ｲ) 金融機関及び本・支店名",null,null,null,null,null,null,null,null,null,null,null,null,null,null,null,null,null,null,null,null,null,null,null,null,null,null,null,null,null,null,null,null,null,null,null,null,null,"(ﾛ) 金融機関ｺｰﾄﾞ－本・支店ｺｰﾄﾞ",null,null,null,null,null,null,null,null,null,null,null,null,null,null,null,null,null,null,null,null,null,null,"(ﾆ) 口座番号",null,null,null,null,null,null,null,null,null," (ﾍ) 分割支給額"]
[null,null,null,null,{"$f":"IF($CY$116=0,\"\",MID($CY$116,1,27))","v":""},null,null,null,null,null,null,null,null,null,null,null,null,null,null,null,null,null,null,null,null,null,null,null,null,null,null,null,null,null,null,null,null,null,null,null,null,null,{"$f":"IF($DB$116=0,\"\",$DB$116)","v":""},null,null,null,null,"－",{"$f":"IF($DC$116=0,\"\",$DC$116)","v":""},null,null,null,null,null,"(ﾊ) 預金種目",null,null,null,null,null,null,null,null,null,null,{"$f":"IF($DE$116=0,\"\",$DE$116)","v":""},null,null,null,null,null,null,null,null," ",{"$f":"IF($DH$116=\"\",0,$DH$116)","v":0},null,null,null,null,null,null,null,null,null,"円"]
[null,null,null,null,null,null,null,null,null,null,null,null,null,null,null,null,null,null,null,null,null,null,null,"銀行",null,null,null,null,null,null,null,null,null,null,null,null,null,{"$f":"IF($DA$111=2,\"支店\",\"本店\")","v":"本店"}]
[]
[null,null,null,null,null,null,null,null,null,null,{"$f":"IF($DG$116=0,\"\",MID($DG$116,1,48))","v":""},null,null,null,null,null,null,null,null,null,null,null,null,null,null,null,null,null,null,null,null,null,null,null,null,null,"フリガナ"]
[null,null,null,"(ﾎ) 口座名義人",null,null,null,null,null,null,null,null,null,null,null,null,null,null,null,null,null,null,null,null,null,null,null,null,null,null,null,null,null,null,null,null,null,null,null,null,{"$f":"IF($DF$116=0,\"\",MID($DF$116,1,30))","v":""}]
[]
[]
[null,null,7,null,null,null,null,null,null,null,null,null,null,null,null,null,null,null,null,null,null,null,null,null,null,{"$f":"IF($CZ$117=0,\"\",MID($CZ$117,1,33))","v":""},null,null,null,null,null,null,null,null,null,null,null,null,null,null,null,null,null,null,null,null,null,null,null,null,null,null,null,null,null,null,null,null,null,null,{"$f":"IF($DB$117=0,\"\",$DD$117)","v":""}]
[null,null,null,"(ｲ) 金融機関及び本・支店名",null,null,null,null,null,null,null,null,null,null,null,null,null,null,null,null,null,null,null,null,null,null,null,null,null,null,null,null,null,null,null,null,null,null,null,null,null,"(ﾛ) 金融機関ｺｰﾄﾞ－本・支店ｺｰﾄﾞ",null,null,null,null,null,null,null,null,null,null,null,null,null,null,null,null,null,null,null,null,null,null,"(ﾆ) 口座番号",null,null,null,null,null,null,null,null,null," (ﾍ) 分割支給額"]
[null,null,null,null,{"$f":"IF($CY$117=0,\"\",MID($CY$117,1,27))","v":""},null,null,null,null,null,null,null,null,null,null,null,null,null,null,null,null,null,null,null,null,null,null,null,null,null,null,null,null,null,null,null,null,null,null,null,null,null,{"$f":"IF($DB$117=0,\"\",$DB$117)","v":""},null,null,null,null,"－",{"$f":"IF($DC$117=0,\"\",$DC$117)","v":""},null,null,null,null,null,"(ﾊ) 預金種目",null,null,null,null,null,null,null,null,null,null,{"$f":"IF($DE$117=0,\"\",$DE$117)","v":""},null,null,null,null,null,null,null,null," ",{"$f":"IF($DH$117=\"\",0,$DH$117)","v":0},null,null,null,null,null,null,null,null,null,"円"]
[null,null,null,null,null,null,null,null,null,null,null,null,null,null,null,null,null,null,null,null,null,null,null,"銀行",null,null,null,null,null,null,null,null,null,null,null,null,null,{"$f":"IF($DA$111=2,\"支店\",\"本店\")","v":"本店"}]
[]
[null,null,null,null,null,null,null,null,null,null,{"$f":"IF($DG$117=0,\"\",MID($DG$117,1,48))","v":""},null,null,null,null,null,null,null,null,null,null,null,null,null,null,null,null,null,null,null,null,null,null,null,null,null,"フリガナ"]
[null,null,null,"(ﾎ) 口座名義人",null,null,null,null,null,null,null,null,null,null,null,null,null,null,null,null,null,null,null,null,null,null,null,null,null,null,null,null,null,null,null,null,null,null,null,null,{"$f":"IF($DF$117=0,\"\",MID($DF$117,1,30))","v":""}]
[]
[null,null,8]
[null,null,null,null,null,null,null,null,null,null,null,null,null,null,null,null,null,null,null,null,null,null,null,null,null,{"$f":"IF($CZ$118=0,\"\",MID($CZ$118,1,33))","v":""},null,null,null,null,null,null,null,null,null,null,null,null,null,null,null,null,null,null,null,null,null,null,null,null,null,null,null,null,null,null,null,null,null,null,{"$f":"IF($DB$118=0,\"\",$DD$118)","v":""}]
[null,null,null,"(ｲ) 金融機関及び本・支店名",null,null,null,null,null,null,null,null,null,null,null,null,null,null,null,null,null,null,null,null,null,null,null,null,null,null,null,null,null,null,null,null,null,null,null,null,null,"(ﾛ) 金融機関ｺｰﾄﾞ－本・支店ｺｰﾄﾞ",null,null,null,null,null,null,null,null,null,null,null,null,null,null,null,null,null,null,null,null,null,null,"(ﾆ) 口座番号",null,null,null,null,null,null,null,null,null," (ﾍ) 分割支給額"]
[null,null,null,null,{"$f":"IF($CY$118=0,\"\",MID($CY$118,1,27))","v":""},null,null,null,null,null,null,null,null,null,null,null,null,null,null,null,null,null,null,null,null,null,null,null,null,null,null,null,null,null,null,null,null,null,null,null,null,null,{"$f":"IF($DB$118=0,\"\",$DB$118)","v":""},null,null,null,null,"－",{"$f":"IF($DC$118=0,\"\",$DC$118)","v":""},null,null,null,null,null,"(ﾊ) 預金種目",null,null,null,null,null,null,null,null,null,null,{"$f":"IF($DE$118=0,\"\",$DE$118)","v":""},null,null,null,null,null,null,null,null," ",{"$f":"IF($DH$118=\"\",0,$DH$118)","v":0},null,null,null,null,null,null,null,null,null,"円"]
[null,null,null,null,null,null,null,null,null,null,null,null,null,null,null,null,null,null,null,null,null,null,null,"銀行",null,null,null,null,null,null,null,null,null,null,null,null,null,{"$f":"IF($DA$111=2,\"支店\",\"本店\")","v":"本店"}]
[]
[null,null,null,null,null,null,null,null,null,null,{"$f":"IF($DG$118=0,\"\",MID($DG$118,1,48))","v":""},null,null,null,null,null,null,null,null,null,null,null,null,null,null,null,null,null,null,null,null,null,null,null,null,null,"フリガナ"]
[null,null,null,"(ﾎ) 口座名義人",null,null,null,null,null,null,null,null,null,null,null,null,null,null,null,null,null,null,null,null,null,null,null,null,null,null,null,null,null,null,null,null,null,null,null,null,{"$f":"IF($DF$118=0,\"\",MID($DF$118,1,30))","v":""}]
[]
[]
[null,null,9,null,null,null,null,null,null,null,null,null,null,null,null,null,null,null,null,null,null,null,null,null,null,{"$f":"IF($CZ$119=0,\"\",MID($CZ$119,1,33))","v":""},null,null,null,null,null,null,null,null,null,null,null,null,null,null,null,null,null,null,null,null,null,null,null,null,null,null,null,null,null,null,null,null,null,null,{"$f":"IF($DB$119=0,\"\",$DD$119)","v":""}]
[null,null,null,"(ｲ) 金融機関及び本・支店名",null,null,null,null,null,null,null,null,null,null,null,null,null,null,null,null,null,null,null,null,null,null,null,null,null,null,null,null,null,null,null,null,null,null,null,null,null,"(ﾛ) 金融機関ｺｰﾄﾞ－本・支店ｺｰﾄﾞ",null,null,null,null,null,null,null,null,null,null,null,null,null,null,null,null,null,null,null,null,null,null,"(ﾆ) 口座番号",null,null,null,null,null,null,null,null,null," (ﾍ) 分割支給額"]
[null,null,null,null,{"$f":"IF($CY$119=0,\"\",MID($CY$119,1,27))","v":""},null,null,null,null,null,null,null,null,null,null,null,null,null,null,null,null,null,null,null,null,null,null,null,null,null,null,null,null,null,null,null,null,null,null,null,null,null,{"$f":"IF($DB$119=0,\"\",$DB$119)","v":""},null,null,null,null,"－",{"$f":"IF($DC$119=0,\"\",$DC$119)","v":""},null,null,null,null,null,"(ﾊ) 預金種目",null,null,null,null,null,null,null,null,null,null,{"$f":"IF($DE$119=0,\"\",$DE$119)","v":""},null,null,null,null,null,null,null,null," ",{"$f":"IF($DH$119=\"\",0,$DH$119)","v":0},null,null,null,null,null,null,null,null,null,"円"]
[null,null,null,null,null,null,null,null,null,null,null,null,null,null,null,null,null,null,null,null,null,null,null,"銀行",null,null,null,null,null,null,null,null,null,null,null,null,null,{"$f":"IF($DA$111=2,\"支店\",\"本店\")","v":"本店"}]
[]
[null,null,null,null,null,null,null,null,null,null,{"$f":"IF($DG$119=0,\"\",MID($DG$119,1,48))","v":""},null,null,null,null,null,null,null,null,null,null,null,null,null,null,null,null,null,null,null,null,null,null,null,null,null,"フリガナ"]
[null,null,null,"(ﾎ) 口座名義人",null,null,null,null,null,null,null,null,null,null,null,null,null,null,null,null,null,null,null,null,null,null,null,null,null,null,null,null,null,null,null,null,null,null,null,null,{"$f":"IF($DF$119=0,\"\",MID($DF$119,1,30))","v":""}]
[]
[null,null,10,null,null,null,null,null,null,null,null,null,null,null,null,null,null,null,null,null,null,null,null,null,null,null,null,null,null,null,null,null,null,null,null,null,null,null,null,null,null,null,null,null,null,null,null,null,null,null,null,null,null,null,null,null,null,null,null,null,{"$f":"IF($DB$120=0,\"\",$DD$120)","v":""}]
[null,null,null,null,null,null,null,null,null,null,null,null,null,null,null,null,null,null,null,null,null,null,null,null,null,{"$f":"IF($CZ$120=0,\"\",MID($CZ$120,1,33))","v":""}]
[null,null,null,"(ｲ) 金融機関及び本・支店名",null,null,null,null,null,null,null,null,null,null,null,null,null,null,null,null,null,null,null,null,null,null,null,null,null,null,null,null,null,null,null,null,null,null,null,null,null,"(ﾛ) 金融機関ｺｰﾄﾞ－本・支店ｺｰﾄﾞ",null,null,null,null,null,null,null,null,null,null,null,null,null,null,null,null,null,null,null,null,null,null,"(ﾆ) 口座番号",null,null,null,null,null,null,null,null,null," (ﾍ) 分割支給額"]
[null,null,null,null,{"$f":"IF($CY$120=0,\"\",MID($CY$120,1,27))","v":""},null,null,null,null,null,null,null,null,null,null,null,null,null,null,null,null,null,null,null,null,null,null,null,null,null,null,null,null,null,null,null,null,null,null,null,null,null,{"$f":"IF($DB$120=0,\"\",$DB$120)","v":""},null,null,null,null,"－",{"$f":"IF($DC$120=0,\"\",$DC$120)","v":""},null,null,null,null,null,"(ﾊ) 預金種目",null,null,null,null,null,null,null,null,null,null,{"$f":"IF($DE$120=0,\"\",$DE$120)","v":""},null,null,null,null,null,null,null,null," ",{"$f":"IF($DH$120=\"\",0,$DH$120)","v":0},null,null,null,null,null,null,null,null,null,"円"]
[null,null,null,null,null,null,null,null,null,null,null,null,null,null,null,null,null,null,null,null,null,null,null,"銀行",null,null,null,null,null,null,null,null,null,null,null,null,null,{"$f":"IF($DA$111=2,\"支店\",\"本店\")","v":"本店"}]
[]
[null,null,null,null,null,null,null,null,null,null,{"$f":"IF($DG$120=0,\"\",MID($DG$120,1,48))","v":""},null,null,null,null,null,null,null,null,null,null,null,null,null,null,null,null,null,null,null,null,null,null,null,null,null,"フリガナ"]
[null,null,null,"(ﾎ) 口座名義人",null,null,null,null,null,null,null,null,null,null,null,null,null,null,null,null,null,null,null,null,null,null,null,null,null,null,null,null,null,null,null,null,null,null,null,null,{"$f":"IF($DF$120=0,\"\",MID($DF$120,1,30))","v":""}]
[]
[]
[null,null,"＊","注）「記入上の注意」をよく読んで記入して下さい。"]
[]
[]
["　"]
[]
[]
[null,null,null,null,null,null,null,null,null,null,null,null,null,null,null,null,null,null,null,null,null,null,null,null,null,null,null,null,null,null,null,null,null,null,null,null,null,null,null,null,null,null,null,null,null,null,null,null,null,null,null,null,null,null,null,null,null,null,null,null,null,null,null,null,null,null,null,null,null,null,null,null,null,null,null,null,null,null,null,null,null,null,null,null,null,null,null,null,null,null,null,null,null,null,null,null,null,null,"Sheet8\nのＮｏ","Sheet8\nの行数","並び順","Sheet10\nのＮｏ","金融機関","支店名","本店支店","金融機関コード","支店コード","預金種目","口座番号","口座名義人漢字","口座名義人フリガナ","分割支給額"]
[null,null,null,null,null,null,null,null,null,null,null,null,null,null,null,null,null,null,null,null,null,null,null,null,null,null,null,null,null,null,null,null,null,null,null,null,null,null,null,null,null,null,null,null,null,null,null,null,null,null,null,null,null,null,null,null,null,null,null,null,null,null,null,null,null,null,null,null,null,null,null,null,null,null,null,null,null,null,null,null,null,null,null,null,null,null,null,null,null,null,null,null,null,null,null,null,null,null,{"$f":"INDIRECT(\"Sheet8!X4\")","v":0},1,{"$f":"IF($CU111=0,\"\",VLOOKUP($CX111,$CU$111:$CV$120,2,FALSE))","v":""},1,{"$f":"IF($CW111=\"\",\"\",INDIRECT(\"Sheet8!\" & \"Y\" & $CW111+3))","v":""},{"$f":"IF($CW111=\"\",\"\",INDIRECT(\"Sheet8!\" & \"Z\" & $CW111+3))","v":""},{"$f":"IF($CW111=\"\",\"\",INDIRECT(\"Sheet8!\" & \"AA\" & $CW111+3))","v":""},{"$f":"IF($CW111=\"\",\"\",INDIRECT(\"Sheet8!\" & \"AB\" & $CW111+3))","v":""},{"$f":"IF($CW111=\"\",\"\",INDIRECT(\"Sheet8!\" & \"AC\" & $CW111+3))","v":""},{"$f":"IF($CW111=\"\",\"\",INDIRECT(\"Sheet8!\" & \"AD\" & $CW111+3))","v":""},{"$f":"IF($CW111=\"\",\"\",INDIRECT(\"Sheet8!\" & \"AE\" & $CW111+3))","v":""},{"$f":"IF($CW111=\"\",\"\",INDIRECT(\"Sheet8!\" & \"AK\" & $CW111+3))","v":""},{"$f":"IF($CW111=\"\",\"\",INDIRECT(\"Sheet8!\" & \"AG\" & $CW111+3))","v":""},{"$f":"IF($CW111=\"\",\"\",INDIRECT(\"Sheet8!\" & \"AH\" & $CW111+3))","v":""}]
[null,null,null,null,null,null,null,null,null,null,null,null,null,null,null,null,null,null,null,null,null,null,null,null,null,null,null,null,null,null,null,null,null,null,null,null,null,null,null,null,null,null,null,null,null,null,null,null,null,null,null,null,null,null,null,null,null,null,null,null,null,null,null,null,null,null,null,null,null,null,null,null,null,null,null,null,null,null,null,null,null,null,null,null,null,null,null,null,null,null,null,null,null,null,null,null,null,null,{"$f":"INDIRECT(\"Sheet8!X5\")","v":0},2,{"$f":"IF($CU112=0,\"\",VLOOKUP($CX112,$CU$111:$CV$120,2,FALSE))","v":""},2,{"$f":"IF($CW112=\"\",\"\",INDIRECT(\"Sheet8!\" & \"Y\" & $CW112+3))","v":""},{"$f":"IF($CW112=\"\",\"\",INDIRECT(\"Sheet8!\" & \"Z\" & $CW112+3))","v":""},{"$f":"IF($CW112=\"\",\"\",INDIRECT(\"Sheet8!\" & \"AA\" & $CW112+3))","v":""},{"$f":"IF($CW112=\"\",\"\",INDIRECT(\"Sheet8!\" & \"AB\" & $CW112+3))","v":""},{"$f":"IF($CW112=\"\",\"\",INDIRECT(\"Sheet8!\" & \"AC\" & $CW112+3))","v":""},{"$f":"IF($CW112=\"\",\"\",INDIRECT(\"Sheet8!\" & \"AD\" & $CW112+3))","v":""},{"$f":"IF($CW112=\"\",\"\",INDIRECT(\"Sheet8!\" & \"AE\" & $CW112+3))","v":""},{"$f":"IF($CW112=\"\",\"\",INDIRECT(\"Sheet8!\" & \"AK\" & $CW112+3))","v":""},{"$f":"IF($CW112=\"\",\"\",INDIRECT(\"Sheet8!\" & \"AG\" & $CW112+3))","v":""},{"$f":"IF($CW112=\"\",\"\",INDIRECT(\"Sheet8!\" & \"AH\" & $CW112+3))","v":""}]
[null,null,null,null,null,null,null,null,null,null,null,null,null,null,null,null,null,null,null,null,null,null,null,null,null,null,null,null,null,null,null,null,null,null,null,null,null,null,null,null,null,null,null,null,null,null,null,null,null,null,null,null,null,null,null,null,null,null,null,null,null,null,null,null,null,null,null,null,null,null,null,null,null,null,null,null,null,null,null,null,null,null,null,null,null,null,null,null,null,null,null,null,null,null,null,null,null,null,{"$f":"INDIRECT(\"Sheet8!X6\")","v":0},3,"",3,{"$f":"IF($CW113=\"\",\"\",INDIRECT(\"Sheet8!\" & \"Y\" & $CW113+3))","v":""},"","","","","","",{"$f":"IF($CW113=\"\",\"\",INDIRECT(\"Sheet8!\" & \"AK\" & $CW113+3))","v":""},"",""]
[null,null,null,null,null,null,null,null,null,null,null,null,null,null,null,null,null,null,null,null,null,null,null,null,null,null,null,null,null,null,null,null,null,null,null,null,null,null,null,null,null,null,null,null,null,null,null,null,null,null,null,null,null,null,null,null,null,null,null,null,null,null,null,null,null,null,null,null,null,null,null,null,null,null,null,null,null,null,null,null,null,null,null,null,null,null,null,null,null,null,null,null,null,null,null,null,null,null,{"$f":"INDIRECT(\"Sheet8!X7\")","v":0},4,"",4,"","","","","","","",{"$f":"IF($CW114=\"\",\"\",INDIRECT(\"Sheet8!\" & \"AK\" & $CW114+3))","v":""},"",""]
[null,null,null,null,null,null,null,null,null,null,null,null,null,null,null,null,null,null,null,null,null,null,null,null,null,null,null,null,null,null,null,null,null,null,null,null,null,null,null,null,null,null,null,null,null,null,null,null,null,null,null,null,null,null,null,null,null,null,null,null,null,null,null,null,null,null,null,null,null,null,null,null,null,null,null,null,null,null,null,null,null,null,null,null,null,null,null,null,null,null,null,null,null,null,null,null,null,null,{"$f":"INDIRECT(\"Sheet8!X8\")","v":0},5,"",5,"","","","","","","","","",""]
[null,null,null,null,null,null,null,null,null,null,null,null,null,null,null,null,null,null,null,null,null,null,null,null,null,null,null,null,null,null,null,null,null,null,null,null,null,null,null,null,null,null,null,null,null,null,null,null,null,null,null,null,null,null,null,null,null,null,null,null,null,null,null,null,null,null,null,null,null,null,null,null,null,null,null,null,null,null,null,null,null,null,null,null,null,null,null,null,null,null,null,null,null,null,null,null,null,null,{"$f":"INDIRECT(\"Sheet8!X9\")","v":0},6,"",6,"","","","","","","","","",""]
[null,null,null,null,null,null,null,null,null,null,null,null,null,null,null,null,null,null,null,null,null,null,null,null,null,null,null,null,null,null,null,null,null,null,null,null,null,null,null,null,null,null,null,null,null,null,null,null,null,null,null,null,null,null,null,null,null,null,null,null,null,null,null,null,null,null,null,null,null,null,null,null,null,null,null,null,null,null,null,null,null,null,null,null,null,null,null,null,null,null,null,null,null,null,null,null,null,null,{"$f":"INDIRECT(\"Sheet8!X10\")","v":0},7,"",7,"","","","","","","","","",""]
[null,null,null,null,null,null,null,null,null,null,null,null,null,null,null,null,null,null,null,null,null,null,null,null,null,null,null,null,null,null,null,null,null,null,null,null,null,null,null,null,null,null,null,null,null,null,null,null,null,null,null,null,null,null,null,null,null,null,null,null,null,null,null,null,null,null,null,null,null,null,null,null,null,null,null,null,null,null,null,null,null,null,null,null,null,null,null,null,null,null,null,null,null,null,null,null,null,null,{"$f":"INDIRECT(\"Sheet8!X11\")","v":0},8,"",8,"","","","","","","","","",""]
[null,null,null,null,null,null,null,null,null,null,null,null,null,null,null,null,null,null,null,null,null,null,null,null,null,null,null,null,null,null,null,null,null,null,null,null,null,null,null,null,null,null,null,null,null,null,null,null,null,null,null,null,null,null,null,null,null,null,null,null,null,null,null,null,null,null,null,null,null,null,null,null,null,null,null,null,null,null,null,null,null,null,null,null,null,null,null,null,null,null,null,null,null,null,null,null,null,null,{"$f":"INDIRECT(\"Sheet8!X12\")","v":0},9,"",9,"","","","","","","","","",""]
[null,null,null,null,null,null,null,null,null,null,null,null,null,null,null,null,null,null,null,null,null,null,null,null,null,null,null,null,null,null,null,null,null,null,null,null,null,null,null,null,null,null,null,null,null,null,null,null,null,null,null,null,null,null,null,null,null,null,null,null,null,null,null,null,null,null,null,null,null,null,null,null,null,null,null,null,null,null,null,null,null,null,null,null,null,null,null,null,null,null,null,null,null,null,null,null,null,null,{"$f":"INDIRECT(\"Sheet8!X13\")","v":0},10,"",10,"","","","","","","","","",""]

{"sheet":"Sheet11","index":23,"n_rows":120,"n_cols":112,"rows_kept":120,"cut":false,"hidden":false,"merged":[[6,28,7,29],[9,2,10,2],[9,3,10,15],[9,18,10,54],[5,2,7,2],[6,26,7,27],[9,57,10,58],[9,59,10,72],[0,3,0,4],[3,7,3,71],[5,3,7,15],[5,17,8,17],[6,18,7,19],[6,20,7,21],[6,22,7,23],[6,24,7,25],[12,1,15,1],[12,2,21,2],[12,60,17,62],[13,25,17,36],[14,37,14,38],[15,4,17,21],[15,42,16,46],[15,74,18,74],[15,75,18,83],[16,37,16,38],[18,10,20,35],[18,36,20,39],[19,40,19,72],[15,47,16,47],[15,48,16,51],[15,54,15,58],[15,65,16,72],[9,75,10,83],[31,2,37,2],[31,25,35,36],[32,37,32,38],[33,4,35,21],[24,65,25,72],[24,74,27,74],[24,75,27,83],[25,37,25,38],[27,36,29,39],[28,40,28,72],[22,2,28,2],[22,25,26,36],[22,60,26,62],[23,37,23,38],[24,4,26,21],[24,42,25,46],[24,47,25,47],[24,48,25,51],[24,54,24,58],[27,10,29,35],[33,75,36,83],[34,37,34,38],[36,10,38,35],[36,36,38,39],[37,40,37,72],[30,60,35,62],[33,48,34,51],[33,54,33,58],[33,42,34,46],[33,47,34,47],[33,65,34,72],[33,74,36,74],[42,65,43,72],[42,74,45,74],[42,75,45,83],[43,37,43,38],[45,36,47,39],[46,40,46,72],[39,2,48,2],[40,25,44,36],[40,60,44,62],[41,37,41,38],[42,4,44,21],[42,42,43,46],[42,47,43,47],[42,48,43,51],[42,54,42,58],[45,10,47,35],[58,2,65,2],[58,25,62,36],[59,37,59,38],[60,4,62,21],[51,65,52,72],[51,74,54,74],[51,75,54,83],[52,37,52,38],[54,36,56,39],[55,40,55,72],[49,2,56,2],[49,25,53,36],[49,60,53,62],[50,37,50,38],[51,4,53,21],[51,42,52,46],[51,47,52,47],[51,48,52,51],[51,54,51,58],[54,10,56,35],[60,75,63,83],[61,37,61,38],[63,10,65,35],[63,36,65,39],[64,40,64,72],[57,60,61,62],[60,48,61,51],[60,54,60,58],[60,42,61,46],[60,47,61,47],[60,65,61,72],[60,74,63,74],[69,65,70,72],[69,74,72,74],[69,75,72,83],[70,37,70,38],[72,36,74,39],[73,40,73,72],[67,2,73,2],[67,25,71,36],[67,60,71,62],[68,37,68,38],[69,4,71,21],[69,42,70,46],[69,47,70,47],[69,48,70,51],[69,54,69,58],[72,10,74,35],[78,65,79,72],[78,74,81,74],[78,75,81,83],[79,37,79,38],[81,36,83,39],[82,40,82,72],[75,2,84,2],[76,25,80,36],[76,60,80,62],[77,37,77,38],[78,4,80,21],[78,42,79,46],[78,47,79,47],[78,48,79,51],[78,54,78,58],[81,10,83,35],[87,65,88,72],[87,74,90,74],[87,75,90,83],[88,37,88,38],[90,36,92,39],[91,40,91,72],[85,2,92,2],[85,25,89,36],[85,60,89,62],[86,37,86,38],[87,4,89,21],[87,42,88,46],[87,47,88,47],[87,48,88,51],[87,54,87,58],[90,10,92,35],[100,40,100,72],[93,2,101,2],[93,60,97,62],[96,4,98,21],[96,42,97,46],[96,47,97,47],[96,48,97,51],[106,0,106,90],[96,65,97,72],[96,74,99,74],[96,75,99,83],[97,37,97,38],[99,10,101,35],[96,54,96,58],[94,25,98,36],[95,37,95,38],[99,36,101,39]]}
[]
[]
[]
[null,"　",7,null,null,null,null,"分割支給先一覧表",null,null,null,null,null,null,null,null,null,null,null,null,null,null,null,null,null,null,null,null,null,null,null,null,null,null,null,null,null,null,null,null,null,null,null,null,null,null,null,null,null,null,null,null,null,null,null,null,null,null,null,null,null,null,null,null,null,null,null,null,null,null,null,null,null,null,null,null,null,null,null,null,null,null,null,null,null,null,null,"別紙"]
[]
[null,null,"①","事業主番号"]
[null,null,null,null,null,null,null,null,null,null,null,null,null,null,null,null,null,null,{"$f":"IF(Sheet1!$A$3=0,\"\",MID(Sheet1!$A$3,1,1))","v":""},null,{"$f":"IF(Sheet1!$A$3=0,\"\",MID(Sheet1!$A$3,2,1))","v":""},null,{"$f":"IF(Sheet1!$A$3=0,\"\",MID(Sheet1!$A$3,3,1))","v":""},null,{"$f":"IF(Sheet1!$A$3=0,\"\",MID(Sheet1!$A$3,4,1))","v":""},null,{"$f":"IF(Sheet1!$A$3=0,\"\",MID(Sheet1!$A$3,5,1))","v":""},null,{"$f":"IF(Sheet1!$A$3=0,\"\",MID(Sheet1!$A$3,6,1))","v":""}]
[]
[]
[null,null,"②","申請事業主名称",null,null,null,null,null,null,null,null,null,null,null,null,null,"  竹芝ビルサービス株式会社",{"$f":"IF(Sheet1!$M$3=0,\"\",MID(Sheet1!$M$3,1,56))","v":""},null,null,null,null,null,null,null,null,null,null,null,null,null,null,null,null,null,null,null,null,null,null,null,null,null,null,null,null,null,null,null,null,null,null,null,null,null," ","(ﾁ) ",null,"分 割 支 給 合 計 額",null,null,null,null,null,null,null,null,null,null,null,null,null,null," ",{"$f":"SUM(BX16+BX25+BX34+BX43+BX52+BX61+BX70+BX79+BX88+BX97)","v":0},null,null,null,null,null,null,null,null,null,"円"]
[]
[]
[null,2,1,null,null,null,null,null,null,null,null,null,null,null,null,null,null,null,null,null,null,null,null,null,null,null,null,null,null,null,null,null,null,null,null,null,null,null,null,null,null,null,null,null,null,null,null,null,null,null,null,null,null,null,null,null,null,null,null,null,{"$f":"IF($DB$111=0,\"\",$DD$111)","v":""}]
[null,null,null,null,null,null,null,null,null,null,null,null,null,null,null,null,null,null,null,null,null,null,null,null,null,{"$f":"IF($CZ$111=0,\"\",MID($CZ$111,1,33))","v":""}]
[null,null,null,"(ｲ) 金融機関及び本・支店名",null,null,null,null,null,null,null,null,null,null,null,null,null,null,null,null,null,null,null,null,null,null,null,null,null,null,null,null,null,null,null,null,null,null,null,null,null,"(ﾛ) 金融機関ｺｰﾄﾞ－本・支店ｺｰﾄﾞ",null,null,null,null,null,null,null,null,null,null,null,null,null,null,null,null,null,null,null,null,null,null,"(ﾆ) 口座番号",null,null,null,null,null,null,null,null,null," (ﾍ) 分割支給額"]
[null,null,null,null,{"$f":"IF($CY$111=0,\"\",MID($CY$111,1,27))","v":""},null,null,null,null,null,null,null,null,null,null,null,null,null,null,null,null,null,null,null,null,null,null,null,null,null,null,null,null,null,null,null,null,null,null,null,null,null,{"$f":"IF($DB$111=0,\"\",$DB$111)","v":""},null,null,null,null,"－",{"$f":"IF($DC$111=0,\"\",$DC$111)","v":""},null,null,null,null,null,"(ﾊ) 預金種目",null,null,null,null,null,null,null,null,null,null,{"$f":"IF($DE$111=0,\"\",$DE$111)","v":""},null,null,null,null,null,null,null,null,"　",{"$f":"IF($DH$111=\"\",0,$DH$111)","v":0},null,null,null,null,null,null,null,null,null,"円"]
[null,null,null,null,null,null,null,null,null,null,null,null,null,null,null,null,null,null,null,null,null,null,null,"銀行",null,null,null,null,null,null,null,null,null,null,null,null,null,{"$f":"IF($DA$111=2,\"支店\",\"本店\")","v":"本店"}]
[]
[null,null,null,null,null,null,null,null,null,null,{"$f":"IF($DG$111=0,\"\",MID($DG$111,1,48))","v":""},null,null,null,null,null,null,null,null,null,null,null,null,null,null,null,null,null,null,null,null,null,null,null,null,null,"フリガナ"]
[null,null,null,"(ﾎ) 口座名義人",null,null,null,null,null,null,null,null,null,null,null,null,null,null,null,null,null,null,null,null,null,null,null,null,null,null,null,null,null,null,null,null,null,null,null,null,{"$f":"IF($DF$111=0,\"\",MID($DF$111,1,30))","v":""}]
[]
[]
[null,null,2,null,null,null,null,null,null,null,null,null,null,null,null,null,null,null,null,null,null,null,null,null,null,{"$f":"IF($CZ$112=0,\"\",MID($CZ$112,1,33))","v":""},null,null,null,null,null,null,null,null,null,null,null,null,null,null,null,null,null,null,null,null,null,null,null,null,null,null,null,null,null,null,null,null,null,null,{"$f":"IF($DB$112=0,\"\",$DD$112)","v":""}]
[null,null,null,"(ｲ) 金融機関及び本・支店名",null,null,null,null,null,null,null,null,null,null,null,null,null,null,null,null,null,null,null,null,null,null,null,null,null,null,null,null,null,null,null,null,null,null,null,null,null,"(ﾛ) 金融機関ｺｰﾄﾞ－本・支店ｺｰﾄﾞ",null,null,null,null,null,null,null,null,null,null,null,null,null,null,null,null,null,null,null,null,null,null,"(ﾆ) 口座番号",null,null,null,null,null,null,null,null,null," (ﾍ) 分割支給額"]
[null,null,null,null,{"$f":"IF($CY$112=0,\"\",MID($CY$112,1,27))","v":""},null,null,null,null,null,null,null,null,null,null,null,null,null,null,null,null,null,null,null,null,null,null,null,null,null,null,null,null,null,null,null,null,null,null,null,null,null,{"$f":"IF($DB$112=0,\"\",$DB$112)","v":""},null,null,null,null,"－",{"$f":"IF($DC$112=0,\"\",$DC$112)","v":""},null,null,null,null,null,"(ﾊ) 預金種目",null,null,null,null,null,null,null,null,null,null,{"$f":"IF($DE$112=0,\"\",$DE$112)","v":""},null,null,null,null,null,null,null,null," ",{"$f":"IF($DH$112=\"\",0,$DH$112)","v":0},null,null,null,null,null,null,null,null,null,"円"]
[null,null,null,null,null,null,null,null,null,null,null,null,null,null,null,null,null,null,null,null,null,null,null,"銀行",null,null,null,null,null,null,null,null,null,null,null,null,null,{"$f":"IF($DA$112=2,\"支店\",\"本店\")","v":"本店"}]
[]
[null,null,null,null,null,null,null,null,null,null,{"$f":"IF($DG$112=0,\"\",MID($DG$112,1,48))","v":""},null,null,null,null,null,null,null,null,null,null,null,null,null,null,null,null,null,null,null,null,null,null,null,null,null,"フリガナ"]
[null,null,null,"(ﾎ) 口座名義人",null,null,null,null,null,null,null,null,null,null,null,null,null,null,null,null,null,null,null,null,null,null,null,null,null,null,null,null,null,null,null,null,null,null,null,null,{"$f":"IF($DF$112=0,\"\",MID($DF$112,1,30))","v":""}]
[]
[null,null,null,null,null,null,null,null,null,null,null,null,null,null,null,null,null,null,null,null,null,null,null,null,null,null,null,null,null,null,null,null,null,null,null,null,null,null,null,null,null,null,null,null,null,null,null,null,null,null,null,null,null,null,null,null,null,null,null,null,{"$f":"IF($DB$113=0,\"\",$DD$113)","v":""}]
[null,null,3,null,null,null,null,null,null,null,null,null,null,null,null,null,null,null,null,null,null,null,null,null,null,{"$f":"IF($CZ$113=0,\"\",MID($CZ$113,1,33))","v":""}]
[null,null,null,"(ｲ) 金融機関及び本・支店名",null,null,null,null,null,null,null,null,null,null,null,null,null,null,null,null,null,null,null,null,null,null,null,null,null,null,null,null,null,null,null,null,null,null,null,null,null,"(ﾛ) 金融機関ｺｰﾄﾞ－本・支店ｺｰﾄﾞ",null,null,null,null,null,null,null,null,null,null,null,null,null,null,null,null,null,null,null,null,null,null,"(ﾆ) 口座番号",null,null,null,null,null,null,null,null,null," (ﾍ) 分割支給額"]
[null,null,null,null,{"$f":"IF($CY$113=0,\"\",MID($CY$113,1,27))","v":""},null,null,null,null,null,null,null,null,null,null,null,null,null,null,null,null,null,null,null,null,null,null,null,null,null,null,null,null,null,null,null,null,null,null,null,null,null,{"$f":"IF($DB$113=0,\"\",$DB$113)","v":""},null,null,null,null,"－",{"$f":"IF($DC$113=0,\"\",$DC$113)","v":""},null,null,null,null,null,"(ﾊ) 預金種目",null,null,null,null,null,null,null,null,null,null,{"$f":"IF($DE$113=0,\"\",$DE$113)","v":""},null,null,null,null,null,null,null,null," ",{"$f":"IF($DH$113=\"\",0,$DH$113)","v":0},null,null,null,null,null,null,null,null,null,"円"]
[null,null,null,null,null,null,null,null,null,null,null,null,null,null,null,null,null,null,null,null,null,null,null,"銀行",null,null,null,null,null,null,null,null,null,null,null,null,null,{"$f":"IF($DA$111=2,\"支店\",\"本店\")","v":"本店"}]
[]
[null,null,null,null,null,null,null,null,null,null,{"$f":"IF($DG$113=0,\"\",MID($DG$113,1,48))","v":""},null,null,null,null,null,null,null,null,null,null,null,null,null,null,null,null,null,null,null,null,null,null,null,null,null,"フリガナ"]
[null,null,null,"(ﾎ) 口座名義人",null,null,null,null,null,null,null,null,null,null,null,null,null,null,null,null,null,null,null,null,null,null,null,null,null,null,null,null,null,null,null,null,null,null,null,null,{"$f":"IF($DF$113=0,\"\",MID($DF$113,1,30))","v":""}]
[]
[null,null,4,null,null,null,null,null,null,null,null,null,null,null,null,null,null,null,null,null,null,null,null,null,null,null,null,null,null,null,null,null,null,null,null,null,null,null,null,null,null,null,null,null,null,null,null,null,null,null,null,null,null,null,null,null,null,null,null,null,2,2]
[null,null,null,null,null,null,null,null,null,null,null,null,null,null,null,null,null,null,null,null,null,null,null,null,null,{"$f":"IF($CZ$114=0,\"\",MID($CZ$114,1,33))","v":""},null,null,null,null,null,null,null,null,null,null,null,null,null,null,null,null,null,null,null,null,null,null,null,null,null,null,null,null,null,null,null,null,null,null,{"$f":"IF($DB$114=0,\"\",$DD$114)","v":""}]
[null,null,null,"(ｲ) 金融機関及び本・支店名",null,null,null,null,null,null,null,null,null,null,null,null,null,null,null,null,null,null,null,null,null,null,null,null,null,null,null,null,null,null,null,null,null,null,null,null,null,"(ﾛ) 金融機関ｺｰﾄﾞ－本・支店ｺｰﾄﾞ",null,null,null,null,null,null,null,null,null,null,null,null,null,null,null,null,null,null,null,null,null,null,"(ﾆ) 口座番号",null,null,null,null,null,null,null,null,null," (ﾍ) 分割支給額"]
[null,null,null,null,{"$f":"IF($CY$114=0,\"\",MID($CY$114,1,27))","v":""},null,null,null,null,null,null,null,null,null,null,null,null,null,null,null,null,null,null,null,null,null,null,null,null,null,null,null,null,null,null,null,null,null,null,null,null,null,{"$f":"IF($DB$114=0,\"\",$DB$114)","v":""},null,null,null,null,"－",{"$f":"IF($DC$114=0,\"\",$DC$114)","v":""},null,null,null,null,null,"(ﾊ) 預金種目",null,null,null,null,null,null,null,null,null,null,{"$f":"IF($DE$114=0,\"\",$DE$114)","v":""},null,null,null,null,null,null,null,null," ",{"$f":"IF($DH$114=\"\",0,$DH$114)","v":0},null,null,null,null,null,null,null,null,null,"円"]
[null,null,null,null,null,null,null,null,null,null,null,null,null,null,null,null,null,null,null,null,null,null,null,"銀行",null,null,null,null,null,null,null,null,null,null,null,null,null,{"$f":"IF($DA$111=2,\"支店\",\"本店\")","v":"本店"}]
[]
[null,null,null,null,null,null,null,null,null,null,{"$f":"IF($DG$114=0,\"\",MID($DG$114,1,48))","v":""},null,null,null,null,null,null,null,null,null,null,null,null,null,null,null,null,null,null,null,null,null,null,null,null,null,"フリガナ"]
[null,null,null,"(ﾎ) 口座名義人",null,null,null,null,null,null,null,null,null,null,null,null,null,null,null,null,null,null,null,null,null,null,null,null,null,null,null,null,null,null,null,null,null,null,null,null,{"$f":"IF($DF$114=0,\"\",MID($DF$114,1,30))","v":""}]
[]
[]
[null,null,5,null,null,null,null,null,null,null,null,null,null,null,null,null,null,null,null,null,null,null,null,null,null,{"$f":"IF($CZ$115=0,\"\",MID($CZ$115,1,33))","v":""},null,null,null,null,null,null,null,null,null,null,null,null,null,null,null,null,null,null,null,null,null,null,null,null,null,null,null,null,null,null,null,null,null,null,{"$f":"IF($DB$115=0,\"\",$DD$115)","v":""}]
[null,null,null,"(ｲ) 金融機関及び本・支店名",null,null,null,null,null,null,null,null,null,null,null,null,null,null,null,null,null,null,null,null,null,null,null,null,null,null,null,null,null,null,null,null,null,null,null,null,null,"(ﾛ) 金融機関ｺｰﾄﾞ－本・支店ｺｰﾄﾞ",null,null,null,null,null,null,null,null,null,null,null,null,null,null,null,null,null,null,null,null,null,null,"(ﾆ) 口座番号",null,null,null,null,null,null,null,null,null," (ﾍ) 分割支給額"]
[null,null,null,null,{"$f":"IF($CY$115=0,\"\",MID($CY$115,1,27))","v":""},null,null,null,null,null,null,null,null,null,null,null,null,null,null,null,null,null,null,null,null,null,null,null,null,null,null,null,null,null,null,null,null,null,null,null,null,null,{"$f":"IF($DB$115=0,\"\",$DB$115)","v":""},null,null,null,null,"－",{"$f":"IF($DC$115=0,\"\",$DC$115)","v":""},null,null,null,null,null,"(ﾊ) 預金種目",null,null,null,null,null,null,null,null,null,null,{"$f":"IF($DE$115=0,\"\",$DE$115)","v":""},null,null,null,null,null,null,null,null," ",{"$f":"IF($DH$115=\"\",0,$DH$115)","v":0},null,null,null,null,null,null,null,null,null,"円"]
[null,null,null,null,null,null,null,null,null,null,null,null,null,null,null,null,null,null,null,null,null,null,null,"銀行",null,null,null,null,null,null,null,null,null,null,null,null,null,{"$f":"IF($DA$111=2,\"支店\",\"本店\")","v":"本店"}]
[]
[null,null,null,null,null,null,null,null,null,null,{"$f":"IF($DG$115=0,\"\",MID($DG$115,1,48))","v":""},null,null,null,null,null,null,null,null,null,null,null,null,null,null,null,null,null,null,null,null,null,null,null,null,null,"フリガナ"]
[null,null,null,"(ﾎ) 口座名義人",null,null,null,null,null,null,null,null,null,null,null,null,null,null,null,null,null,null,null,null,null,null,null,null,null,null,null,null,null,null,null,null,null,null,null,null,{"$f":"IF($DF$115=0,\"\",MID($DF$115,1,30))","v":""}]
[]
[null,null,null,null,null,null,null,null,null,null,null,null,null,null,null,null,null,null,null,null,null,null,null,null,null,null,null,null,null,null,null,null,null,null,null,null,null,null,null,null,null,null,null,null,null,null,null,null,null,null,null,null,null,null,null,null,null,null,null,null,{"$f":"IF($DB$116=0,\"\",$DD$116)","v":""}]
[null,null,6,null,null,null,null,null,null,null,null,null,null,null,null,null,null,null,null,null,null,null,null,null,null,{"$f":"IF($CZ$116=0,\"\",MID($CZ$116,1,33))","v":""}]
[null,null,null,"(ｲ) 金融機関及び本・支店名",null,null,null,null,null,null,null,null,null,null,null,null,null,null,null,null,null,null,null,null,null,null,null,null,null,null,null,null,null,null,null,null,null,null,null,null,null,"(ﾛ) 金融機関ｺｰﾄﾞ－本・支店ｺｰﾄﾞ",null,null,null,null,null,null,null,null,null,null,null,null,null,null,null,null,null,null,null,null,null,null,"(ﾆ) 口座番号",null,null,null,null,null,null,null,null,null," (ﾍ) 分割支給額"]
[null,null,null,null,{"$f":"IF($CY$116=0,\"\",MID($CY$116,1,27))","v":""},null,null,null,null,null,null,null,null,null,null,null,null,null,null,null,null,null,null,null,null,null,null,null,null,null,null,null,null,null,null,null,null,null,null,null,null,null,{"$f":"IF($DB$116=0,\"\",$DB$116)","v":""},null,null,null,null,"－",{"$f":"IF($DC$116=0,\"\",$DC$116)","v":""},null,null,null,null,null,"(ﾊ) 預金種目",null,null,null,null,null,null,null,null,null,null,{"$f":"IF($DE$116=0,\"\",$DE$116)","v":""},null,null,null,null,null,null,null,null," ",{"$f":"IF($DH$116=\"\",0,$DH$116)","v":0},null,null,null,null,null,null,null,null,null,"円"]
[null,null,null,null,null,null,null,null,null,null,null,null,null,null,null,null,null,null,null,null,null,null,null,"銀行",null,null,null,null,null,null,null,null,null,null,null,null,null,{"$f":"IF($DA$111=2,\"支店\",\"本店\")","v":"本店"}]
[]
[null,null,null,null,null,null,null,null,null,null,{"$f":"IF($DG$116=0,\"\",MID($DG$116,1,48))","v":""},null,null,null,null,null,null,null,null,null,null,null,null,null,null,null,null,null,null,null,null,null,null,null,null,null,"フリガナ"]
[null,null,null,"(ﾎ) 口座名義人",null,null,null,null,null,null,null,null,null,null,null,null,null,null,null,null,null,null,null,null,null,null,null,null,null,null,null,null,null,null,null,null,null,null,null,null,{"$f":"IF($DF$116=0,\"\",MID($DF$116,1,30))","v":""}]
[]
[]
[null,null,7,null,null,null,null,null,null,null,null,null,null,null,null,null,null,null,null,null,null,null,null,null,null,{"$f":"IF($CZ$117=0,\"\",MID($CZ$117,1,33))","v":""},null,null,null,null,null,null,null,null,null,null,null,null,null,null,null,null,null,null,null,null,null,null,null,null,null,null,null,null,null,null,null,null,null,null,{"$f":"IF($DB$117=0,\"\",$DD$117)","v":""}]
[null,null,null,"(ｲ) 金融機関及び本・支店名",null,null,null,null,null,null,null,null,null,null,null,null,null,null,null,null,null,null,null,null,null,null,null,null,null,null,null,null,null,null,null,null,null,null,null,null,null,"(ﾛ) 金融機関ｺｰﾄﾞ－本・支店ｺｰﾄﾞ",null,null,null,null,null,null,null,null,null,null,null,null,null,null,null,null,null,null,null,null,null,null,"(ﾆ) 口座番号",null,null,null,null,null,null,null,null,null," (ﾍ) 分割支給額"]
[null,null,null,null,{"$f":"IF($CY$117=0,\"\",MID($CY$117,1,27))","v":""},null,null,null,null,null,null,null,null,null,null,null,null,null,null,null,null,null,null,null,null,null,null,null,null,null,null,null,null,null,null,null,null,null,null,null,null,null,{"$f":"IF($DB$117=0,\"\",$DB$117)","v":""},null,null,null,null,"－",{"$f":"IF($DC$117=0,\"\",$DC$117)","v":""},null,null,null,null,null,"(ﾊ) 預金種目",null,null,null,null,null,null,null,null,null,null,{"$f":"IF($DE$117=0,\"\",$DE$117)","v":""},null,null,null,null,null,null,null,null," ",{"$f":"IF($DH$117=\"\",0,$DH$117)","v":0},null,null,null,null,null,null,null,null,null,"円"]
[null,null,null,null,null,null,null,null,null,null,null,null,null,null,null,null,null,null,null,null,null,null,null,"銀行",null,null,null,null,null,null,null,null,null,null,null,null,null,{"$f":"IF($DA$111=2,\"支店\",\"本店\")","v":"本店"}]
[]
[null,null,null,null,null,null,null,null,null,null,{"$f":"IF($DG$117=0,\"\",MID($DG$117,1,48))","v":""},null,null,null,null,null,null,null,null,null,null,null,null,null,null,null,null,null,null,null,null,null,null,null,null,null,"フリガナ"]
[null,null,null,"(ﾎ) 口座名義人",null,null,null,null,null,null,null,null,null,null,null,null,null,null,null,null,null,null,null,null,null,null,null,null,null,null,null,null,null,null,null,null,null,null,null,null,{"$f":"IF($DF$117=0,\"\",MID($DF$117,1,30))","v":""}]
[]
[null,null,8]
[null,null,null,null,null,null,null,null,null,null,null,null,null,null,null,null,null,null,null,null,null,null,null,null,null,{"$f":"IF($CZ$118=0,\"\",MID($CZ$118,1,33))","v":""},null,null,null,null,null,null,null,null,null,null,null,null,null,null,null,null,null,null,null,null,null,null,null,null,null,null,null,null,null,null,null,null,null,null,{"$f":"IF($DB$118=0,\"\",$DD$118)","v":""}]
[null,null,null,"(ｲ) 金融機関及び本・支店名",null,null,null,null,null,null,null,null,null,null,null,null,null,null,null,null,null,null,null,null,null,null,null,null,null,null,null,null,null,null,null,null,null,null,null,null,null,"(ﾛ) 金融機関ｺｰﾄﾞ－本・支店ｺｰﾄﾞ",null,null,null,null,null,null,null,null,null,null,null,null,null,null,null,null,null,null,null,null,null,null,"(ﾆ) 口座番号",null,null,null,null,null,null,null,null,null," (ﾍ) 分割支給額"]
[null,null,null,null,{"$f":"IF($CY$118=0,\"\",MID($CY$118,1,27))","v":""},null,null,null,null,null,null,null,null,null,null,null,null,null,null,null,null,null,null,null,null,null,null,null,null,null,null,null,null,null,null,null,null,null,null,null,null,null,{"$f":"IF($DB$118=0,\"\",$DB$118)","v":""},null,null,null,null,"－",{"$f":"IF($DC$118=0,\"\",$DC$118)","v":""},null,null,null,null,null,"(ﾊ) 預金種目",null,null,null,null,null,null,null,null,null,null,{"$f":"IF($DE$118=0,\"\",$DE$118)","v":""},null,null,null,null,null,null,null,null," ",{"$f":"IF($DH$118=\"\",0,$DH$118)","v":0},null,null,null,null,null,null,null,null,null,"円"]
[null,null,null,null,null,null,null,null,null,null,null,null,null,null,null,null,null,null,null,null,null,null,null,"銀行",null,null,null,null,null,null,null,null,null,null,null,null,null,{"$f":"IF($DA$111=2,\"支店\",\"本店\")","v":"本店"}]
[]
[null,null,null,null,null,null,null,null,null,null,{"$f":"IF($DG$118=0,\"\",MID($DG$118,1,48))","v":""},null,null,null,null,null,null,null,null,null,null,null,null,null,null,null,null,null,null,null,null,null,null,null,null,null,"フリガナ"]
[null,null,null,"(ﾎ) 口座名義人",null,null,null,null,null,null,null,null,null,null,null,null,null,null,null,null,null,null,null,null,null,null,null,null,null,null,null,null,null,null,null,null,null,null,null,null,{"$f":"IF($DF$118=0,\"\",MID($DF$118,1,30))","v":""}]
[]
[]
[null,null,9,null,null,null,null,null,null,null,null,null,null,null,null,null,null,null,null,null,null,null,null,null,null,{"$f":"IF($CZ$119=0,\"\",MID($CZ$119,1,33))","v":""},null,null,null,null,null,null,null,null,null,null,null,null,null,null,null,null,null,null,null,null,null,null,null,null,null,null,null,null,null,null,null,null,null,null,{"$f":"IF($DB$119=0,\"\",$DD$119)","v":""}]
[null,null,null,"(ｲ) 金融機関及び本・支店名",null,null,null,null,null,null,null,null,null,null,null,null,null,null,null,null,null,null,null,null,null,null,null,null,null,null,null,null,null,null,null,null,null,null,null,null,null,"(ﾛ) 金融機関ｺｰﾄﾞ－本・支店ｺｰﾄﾞ",null,null,null,null,null,null,null,null,null,null,null,null,null,null,null,null,null,null,null,null,null,null,"(ﾆ) 口座番号",null,null,null,null,null,null,null,null,null," (ﾍ) 分割支給額"]
[null,null,null,null,{"$f":"IF($CY$119=0,\"\",MID($CY$119,1,27))","v":""},null,null,null,null,null,null,null,null,null,null,null,null,null,null,null,null,null,null,null,null,null,null,null,null,null,null,null,null,null,null,null,null,null,null,null,null,null,{"$f":"IF($DB$119=0,\"\",$DB$119)","v":""},null,null,null,null,"－",{"$f":"IF($DC$119=0,\"\",$DC$119)","v":""},null,null,null,null,null,"(ﾊ) 預金種目",null,null,null,null,null,null,null,null,null,null,{"$f":"IF($DE$119=0,\"\",$DE$119)","v":""},null,null,null,null,null,null,null,null," ",{"$f":"IF($DH$119=\"\",0,$DH$119)","v":0},null,null,null,null,null,null,null,null,null,"円"]
[null,null,null,null,null,null,null,null,null,null,null,null,null,null,null,null,null,null,null,null,null,null,null,"銀行",null,null,null,null,null,null,null,null,null,null,null,null,null,{"$f":"IF($DA$111=2,\"支店\",\"本店\")","v":"本店"}]
[]
[null,null,null,null,null,null,null,null,null,null,{"$f":"IF($DG$119=0,\"\",MID($DG$119,1,48))","v":""},null,null,null,null,null,null,null,null,null,null,null,null,null,null,null,null,null,null,null,null,null,null,null,null,null,"フリガナ"]
[null,null,null,"(ﾎ) 口座名義人",null,null,null,null,null,null,null,null,null,null,null,null,null,null,null,null,null,null,null,null,null,null,null,null,null,null,null,null,null,null,null,null,null,null,null,null,{"$f":"IF($DF$119=0,\"\",MID($DF$119,1,30))","v":""}]
[]
[null,null,10,null,null,null,null,null,null,null,null,null,null,null,null,null,null,null,null,null,null,null,null,null,null,null,null,null,null,null,null,null,null,null,null,null,null,null,null,null,null,null,null,null,null,null,null,null,null,null,null,null,null,null,null,null,null,null,null,null,{"$f":"IF($DB$120=0,\"\",$DD$120)","v":""}]
[null,null,null,null,null,null,null,null,null,null,null,null,null,null,null,null,null,null,null,null,null,null,null,null,null,{"$f":"IF($CZ$120=0,\"\",MID($CZ$120,1,33))","v":""}]
[null,null,null,"(ｲ) 金融機関及び本・支店名",null,null,null,null,null,null,null,null,null,null,null,null,null,null,null,null,null,null,null,null,null,null,null,null,null,null,null,null,null,null,null,null,null,null,null,null,null,"(ﾛ) 金融機関ｺｰﾄﾞ－本・支店ｺｰﾄﾞ",null,null,null,null,null,null,null,null,null,null,null,null,null,null,null,null,null,null,null,null,null,null,"(ﾆ) 口座番号",null,null,null,null,null,null,null,null,null," (ﾍ) 分割支給額"]
[null,null,null,null,{"$f":"IF($CY$120=0,\"\",MID($CY$120,1,27))","v":""},null,null,null,null,null,null,null,null,null,null,null,null,null,null,null,null,null,null,null,null,null,null,null,null,null,null,null,null,null,null,null,null,null,null,null,null,null,{"$f":"IF($DB$120=0,\"\",$DB$120)","v":""},null,null,null,null,"－",{"$f":"IF($DC$120=0,\"\",$DC$120)","v":""},null,null,null,null,null,"(ﾊ) 預金種目",null,null,null,null,null,null,null,null,null,null,{"$f":"IF($DE$120=0,\"\",$DE$120)","v":""},null,null,null,null,null,null,null,null," ",{"$f":"IF($DH$120=\"\",0,$DH$120)","v":0},null,null,null,null,null,null,null,null,null,"円"]
[null,null,null,null,null,null,null,null,null,null,null,null,null,null,null,null,null,null,null,null,null,null,null,"銀行",null,null,null,null,null,null,null,null,null,null,null,null,null,{"$f":"IF($DA$111=2,\"支店\",\"本店\")","v":"本店"}]
[]
[null,null,null,null,null,null,null,null,null,null,{"$f":"IF($DG$120=0,\"\",MID($DG$120,1,48))","v":""},null,null,null,null,null,null,null,null,null,null,null,null,null,null,null,null,null,null,null,null,null,null,null,null,null,"フリガナ"]
[null,null,null,"(ﾎ) 口座名義人",null,null,null,null,null,null,null,null,null,null,null,null,null,null,null,null,null,null,null,null,null,null,null,null,null,null,null,null,null,null,null,null,null,null,null,null,{"$f":"IF($DF$120=0,\"\",MID($DF$120,1,30))","v":""}]
[]
[]
[null,null,"＊","注）「記入上の注意」をよく読んで記入して下さい。"]
[]
[]
["　"]
[]
[]
[null,null,null,null,null,null,null,null,null,null,null,null,null,null,null,null,null,null,null,null,null,null,null,null,null,null,null,null,null,null,null,null,null,null,null,null,null,null,null,null,null,null,null,null,null,null,null,null,null,null,null,null,null,null,null,null,null,null,null,null,null,null,null,null,null,null,null,null,null,null,null,null,null,null,null,null,null,null,null,null,null,null,null,null,null,null,null,null,null,null,null,null,null,null,null,null,null,null,"Sheet9\nのＮｏ","Sheet9\nの行数","並び順","Sheet11\nのＮｏ","金融機関","支店名","本店支店","金融機関コード","支店コード","預金種目","口座番号","口座名義人フリカナ","口座名義人漢字","分割支給額"]
[null,null,null,null,null,null,null,null,null,null,null,null,null,null,null,null,null,null,null,null,null,null,null,null,null,null,null,null,null,null,null,null,null,null,null,null,null,null,null,null,null,null,null,null,null,null,null,null,null,null,null,null,null,null,null,null,null,null,null,null,null,null,null,null,null,null,null,null,null,null,null,null,null,null,null,null,null,null,null,null,null,null,null,null,null,null,null,null,null,null,null,null,null,null,null,null,null,null,{"$f":"INDIRECT(\"Sheet9!X4\")","v":0},1,{"$f":"IF($CU111=0,\"\",VLOOKUP($CX111,$CU$111:$CV$120,2,FALSE))","v":""},1,{"$f":"IF($CW111=\"\",\"\",INDIRECT(\"Sheet9!\" & \"Y\" & $CW111+3))","v":""},{"$f":"IF($CW111=\"\",\"\",INDIRECT(\"Sheet9!\" & \"Z\" & $CW111+3))","v":""},{"$f":"IF($CW111=\"\",\"\",INDIRECT(\"Sheet9!\" & \"AA\" & $CW111+3))","v":""},{"$f":"IF($CW111=\"\",\"\",INDIRECT(\"Sheet9!\" & \"AB\" & $CW111+3))","v":""},{"$f":"IF($CW111=\"\",\"\",INDIRECT(\"Sheet9!\" & \"AC\" & $CW111+3))","v":""},{"$f":"IF($CW111=\"\",\"\",INDIRECT(\"Sheet9!\" & \"AD\" & $CW111+3))","v":""},{"$f":"IF($CW111=\"\",\"\",INDIRECT(\"Sheet9!\" & \"AE\" & $CW111+3))","v":""},{"$f":"IF($CW111=\"\",\"\",INDIRECT(\"Sheet9!\" & \"AK\" & $CW111+3))","v":""},{"$f":"IF($CW111=\"\",\"\",INDIRECT(\"Sheet9!\" & \"AG\" & $CW111+3))","v":""},{"$f":"IF($CW111=\"\",\"\",INDIRECT(\"Sheet9!\" & \"AH\" & $CW111+3))","v":""}]
[null,null,null,null,null,null,null,null,null,null,null,null,null,null,null,null,null,null,null,null,null,null,null,null,null,null,null,null,null,null,null,null,null,null,null,null,null,null,null,null,null,null,null,null,null,null,null,null,null,null,null,null,null,null,null,null,null,null,null,null,null,null,null,null,null,null,null,null,null,null,null,null,null,null,null,null,null,null,null,null,null,null,null,null,null,null,null,null,null,null,null,null,null,null,null,null,null,null,{"$f":"INDIRECT(\"Sheet9!X5\")","v":0},2,{"$f":"IF($CU112=0,\"\",VLOOKUP($CX112,$CU$111:$CV$120,2,FALSE))","v":""},2,"","","","","","","",{"$f":"IF($CW112=\"\",\"\",INDIRECT(\"Sheet9!\" & \"AK\" & $CW112+3))","v":""},{"$f":"IF($CW112=\"\",\"\",INDIRECT(\"Sheet9!\" & \"AG\" & $CW112+3))","v":""},""]
[null,null,null,null,null,null,null,null,null,null,null,null,null,null,null,null,null,null,null,null,null,null,null,null,null,null,null,null,null,null,null,null,null,null,null,null,null,null,null,null,null,null,null,null,null,null,null,null,null,null,null,null,null,null,null,null,null,null,null,null,null,null,null,null,null,null,null,null,null,null,null,null,null,null,null,null,null,null,null,null,null,null,null,null,null,null,null,null,null,null,null,null,null,null,null,null,null,null,{"$f":"INDIRECT(\"Sheet9!X6\")","v":0},3,"",3,"","","","","","","","","",""]
[null,null,null,null,null,null,null,null,null,null,null,null,null,null,null,null,null,null,null,null,null,null,null,null,null,null,null,null,null,null,null,null,null,null,null,null,null,null,null,null,null,null,null,null,null,null,null,null,null,null,null,null,null,null,null,null,null,null,null,null,null,null,null,null,null,null,null,null,null,null,null,null,null,null,null,null,null,null,null,null,null,null,null,null,null,null,null,null,null,null,null,null,null,null,null,null,null,null,{"$f":"INDIRECT(\"Sheet9!X7\")","v":0},4,"",4,"","","","","","","","","",""]
[null,null,null,null,null,null,null,null,null,null,null,null,null,null,null,null,null,null,null,null,null,null,null,null,null,null,null,null,null,null,null,null,null,null,null,null,null,null,null,null,null,null,null,null,null,null,null,null,null,null,null,null,null,null,null,null,null,null,null,null,null,null,null,null,null,null,null,null,null,null,null,null,null,null,null,null,null,null,null,null,null,null,null,null,null,null,null,null,null,null,null,null,null,null,null,null,null,null,{"$f":"INDIRECT(\"Sheet9!X8\")","v":0},5,"",5,"","","","","","","","","",""]
[null,null,null,null,null,null,null,null,null,null,null,null,null,null,null,null,null,null,null,null,null,null,null,null,null,null,null,null,null,null,null,null,null,null,null,null,null,null,null,null,null,null,null,null,null,null,null,null,null,null,null,null,null,null,null,null,null,null,null,null,null,null,null,null,null,null,null,null,null,null,null,null,null,null,null,null,null,null,null,null,null,null,null,null,null,null,null,null,null,null,null,null,null,null,null,null,null,null,{"$f":"INDIRECT(\"Sheet9!X9\")","v":0},6,"",6,"","","","","","","","","",""]
[null,null,null,null,null,null,null,null,null,null,null,null,null,null,null,null,null,null,null,null,null,null,null,null,null,null,null,null,null,null,null,null,null,null,null,null,null,null,null,null,null,null,null,null,null,null,null,null,null,null,null,null,null,null,null,null,null,null,null,null,null,null,null,null,null,null,null,null,null,null,null,null,null,null,null,null,null,null,null,null,null,null,null,null,null,null,null,null,null,null,null,null,null,null,null,null,null,null,{"$f":"INDIRECT(\"Sheet9!X10\")","v":0},7,"",7,"","","","","","","","","",""]
[null,null,null,null,null,null,null,null,null,null,null,null,null,null,null,null,null,null,null,null,null,null,null,null,null,null,null,null,null,null,null,null,null,null,null,null,null,null,null,null,null,null,null,null,null,null,null,null,null,null,null,null,null,null,null,null,null,null,null,null,null,null,null,null,null,null,null,null,null,null,null,null,null,null,null,null,null,null,null,null,null,null,null,null,null,null,null,null,null,null,null,null,null,null,null,null,null,null,{"$f":"INDIRECT(\"Sheet9!X11\")","v":0},8,"",8,"","","","","","","","","",""]
[null,null,null,null,null,null,null,null,null,null,null,null,null,null,null,null,null,null,null,null,null,null,null,null,null,null,null,null,null,null,null,null,null,null,null,null,null,null,null,null,null,null,null,null,null,null,null,null,null,null,null,null,null,null,null,null,null,null,null,null,null,null,null,null,null,null,null,null,null,null,null,null,null,null,null,null,null,null,null,null,null,null,null,null,null,null,null,null,null,null,null,null,null,null,null,null,null,null,{"$f":"INDIRECT(\"Sheet9!X12\")","v":0},9,"",9,"","","","","","","","","",""]
[null,null,null,null,null,null,null,null,null,null,null,null,null,null,null,null,null,null,null,null,null,null,null,null,null,null,null,null,null,null,null,null,null,null,null,null,null,null,null,null,null,null,null,null,null,null,null,null,null,null,null,null,null,null,null,null,null,null,null,null,null,null,null,null,null,null,null,null,null,null,null,null,null,null,null,null,null,null,null,null,null,null,null,null,null,null,null,null,null,null,null,null,null,null,null,null,null,null,{"$f":"INDIRECT(\"Sheet9!X13\")","v":0},10,"",10,"","","","","","","","","",""]

{"sheet":"printTokureiBunkatsuList","index":24,"n_rows":120,"n_cols":112,"rows_kept":120,"cut":false,"hidden":false,"merged":[[6,28,7,29],[9,2,10,2],[9,3,10,15],[9,18,10,54],[9,57,10,58],[9,59,10,72],[0,3,0,4],[3,7,3,71],[5,2,7,2],[5,3,7,15],[5,17,8,17],[6,18,7,19],[6,20,7,21],[6,22,7,23],[6,24,7,25],[6,26,7,27],[12,1,15,1],[12,2,21,2],[12,60,17,62],[13,25,17,36],[14,37,14,38],[15,4,17,21],[15,42,16,46],[15,47,16,47],[15,48,16,51],[15,54,15,58],[15,65,16,72],[15,74,18,74],[15,75,18,83],[16,37,16,38],[18,10,20,35],[18,36,20,39],[19,40,19,72],[9,75,10,83],[24,65,25,72],[24,74,27,74],[24,75,27,83],[25,37,25,38],[27,10,29,35],[27,36,29,39],[28,40,28,72],[22,2,28,2],[22,25,26,36],[22,60,26,62],[23,37,23,38],[24,4,26,21],[24,42,25,46],[24,47,25,47],[24,48,25,51],[24,54,24,58],[33,65,34,72],[33,74,36,74],[33,75,36,83],[34,37,34,38],[36,10,38,35],[36,36,38,39],[37,40,37,72],[30,60,35,62],[31,2,37,2],[31,25,35,36],[32,37,32,38],[33,4,35,21],[33,42,34,46],[33,47,34,47],[33,48,34,51],[33,54,33,58],[42,65,43,72],[42,74,45,74],[42,75,45,83],[43,37,43,38],[45,10,47,35],[45,36,47,39],[46,40,46,72],[39,2,48,2],[40,25,44,36],[40,60,44,62],[41,37,41,38],[42,4,44,21],[42,42,43,46],[42,47,43,47],[42,48,43,51],[42,54,42,58],[51,65,52,72],[51,74,54,74],[51,75,54,83],[52,37,52,38],[54,10,56,35],[54,36,56,39],[55,40,55,72],[49,2,56,2],[49,25,53,36],[49,60,53,62],[50,37,50,38],[51,4,53,21],[51,42,52,46],[51,47,52,47],[51,48,52,51],[51,54,51,58],[60,65,61,72],[60,74,63,74],[60,75,63,83],[61,37,61,38],[63,10,65,35],[63,36,65,39],[64,40,64,72],[57,60,61,62],[58,2,65,2],[58,25,62,36],[59,37,59,38],[60,4,62,21],[60,42,61,46],[60,47,61,47],[60,48,61,51],[60,54,60,58],[69,65,70,72],[69,74,72,74],[69,75,72,83],[70,37,70,38],[72,10,74,35],[72,36,74,39],[73,40,73,72],[67,2,73,2],[67,25,71,36],[67,60,71,62],[68,37,68,38],[69,4,71,21],[69,42,70,46],[69,47,70,47],[69,48,70,51],[69,54,69,58],[78,65,79,72],[78,74,81,74],[78,75,81,83],[79,37,79,38],[81,10,83,35],[81,36,83,39],[82,40,82,72],[75,2,84,2],[76,25,80,36],[76,60,80,62],[77,37,77,38],[78,4,80,21],[78,42,79,46],[78,47,79,47],[78,48,79,51],[78,54,78,58],[87,65,88,72],[87,74,90,74],[87,75,90,83],[88,37,88,38],[90,10,92,35],[90,36,92,39],[91,40,91,72],[85,2,92,2],[85,25,89,36],[85,60,89,62],[86,37,86,38],[87,4,89,21],[87,42,88,46],[87,47,88,47],[87,48,88,51],[87,54,87,58],[106,0,106,90],[96,65,97,72],[96,74,99,74],[96,75,99,83],[97,37,97,38],[99,10,101,35],[99,36,101,39],[100,40,100,72],[93,2,101,2],[93,60,97,62],[94,25,98,36],[95,37,95,38],[96,4,98,21],[96,42,97,46],[96,47,97,47],[96,48,97,51],[96,54,96,58]]}
[]
[]
[]
[null,"　",7,null,null,null,null,"分割支給先一覧表",null,null,null,null,null,null,null,null,null,null,null,null,null,null,null,null,null,null,null,null,null,null,null,null,null,null,null,null,null,null,null,null,null,null,null,null,null,null,null,null,null,null,null,null,null,null,null,null,null,null,null,null,null,null,null,null,null,null,null,null,null,null,null,null,null,null,null,null,null,null,null,null,null,null,null,null,null,null,null,"別紙"]
[]
[null,null,"①","事業主番号"]
[null,null,null,null,null,null,null,null,null,null,null,null,null,null,null,null,null,null,{"$f":"IF(Sheet1!$A$3=0,\"\",MID(Sheet1!$A$3,1,1))","v":""},null,{"$f":"IF(Sheet1!$A$3=0,\"\",MID(Sheet1!$A$3,2,1))","v":""},null,{"$f":"IF(Sheet1!$A$3=0,\"\",MID(Sheet1!$A$3,3,1))","v":""},null,{"$f":"IF(Sheet1!$A$3=0,\"\",MID(Sheet1!$A$3,4,1))","v":""},null,{"$f":"IF(Sheet1!$A$3=0,\"\",MID(Sheet1!$A$3,5,1))","v":""},null,{"$f":"IF(Sheet1!$A$3=0,\"\",MID(Sheet1!$A$3,6,1))","v":""}]
[]
[]
[null,null,"②","申請事業主名称",null,null,null,null,null,null,null,null,null,null,null,null,null,"  竹芝ビルサービス株式会社",{"$f":"IF(Sheet1!$M$3=0,\"\",MID(Sheet1!$M$3,1,56))","v":""},null,null,null,null,null,null,null,null,null,null,null,null,null,null,null,null,null,null,null,null,null,null,null,null,null,null,null,null,null,null,null,null,null,null,null,null,null," ","(ﾁ) ",null,"分 割 支 給 合 計 額",null,null,null,null,null,null,null,null,null,null,null,null,null,null," ",{"$f":"SUM(DH111:DH120)","v":0},null,null,null,null,null,null,null,null,null,"円"]
[]
[]
[null,3,1,null,null,null,null,null,null,null,null,null,null,null,null,null,null,null,null,null,null,null,null,null,null,null,null,null,null,null,null,null,null,null,null,null,null,null,null,null,null,null,null,null,null,null,null,null,null,null,null,null,null,null,null,null,null,null,null,null,{"$f":"IF($DB$111=0,\"\",$DD$111)","v":""}]
[null,null,null,null,null,null,null,null,null,null,null,null,null,null,null,null,null,null,null,null,null,null,null,null,null,{"$f":"IF($CZ$111=0,\"\",MID($CZ$111,1,33))","v":""}]
[null,null,null,"(ｲ) 金融機関及び本・支店名",null,null,null,null,null,null,null,null,null,null,null,null,null,null,null,null,null,null,null,null,null,null,null,null,null,null,null,null,null,null,null,null,null,null,null,null,null,"(ﾛ) 金融機関ｺｰﾄﾞ－本・支店ｺｰﾄﾞ",null,null,null,null,null,null,null,null,null,null,null,null,null,null,null,null,null,null,null,null,null,null,"(ﾆ) 口座番号",null,null,null,null,null,null,null,null,null," (ﾍ) 分割支給額"]
[null,null,null,null,{"$f":"IF($CY$111=0,\"\",MID($CY$111,1,27))","v":""},null,null,null,null,null,null,null,null,null,null,null,null,null,null,null,null,null,null,null,null,null,null,null,null,null,null,null,null,null,null,null,null,null,null,null,null,null,{"$f":"IF($DB$111=0,\"\",$DB$111)","v":""},null,null,null,null,"－",{"$f":"IF($DC$111=0,\"\",$DC$111)","v":""},null,null,null,null,null,"(ﾊ) 預金種目",null,null,null,null,null,null,null,null,null,null,{"$f":"IF($DE$111=0,\"\",$DE$111)","v":""},null,null,null,null,null,null,null,null,"　",{"$f":"IF($DH$111=\"\",0,$DH$111)","v":0},null,null,null,null,null,null,null,null,null,"円"]
[null,null,null,null,null,null,null,null,null,null,null,null,null,null,null,null,null,null,null,null,null,null,null,"銀行",null,null,null,null,null,null,null,null,null,null,null,null,null,{"$f":"IF($DA$111=2,\"支店\",\"本店\")","v":"本店"}]
[]
[null,null,null,null,null,null,null,null,null,null,{"$f":"IF($DG$111=0,\"\",MID($DG$111,1,48))","v":""},null,null,null,null,null,null,null,null,null,null,null,null,null,null,null,null,null,null,null,null,null,null,null,null,null,"フリガナ"]
[null,null,null,"(ﾎ) 口座名義人",null,null,null,null,null,null,null,null,null,null,null,null,null,null,null,null,null,null,null,null,null,null,null,null,null,null,null,null,null,null,null,null,null,null,null,null,{"$f":"IF($DF$111=0,\"\",MID($DF$111,1,30))","v":""}]
[]
[]
[null,null,2,null,null,null,null,null,null,null,null,null,null,null,null,null,null,null,null,null,null,null,null,null,null,{"$f":"IF($CZ$112=0,\"\",MID($CZ$112,1,33))","v":""},null,null,null,null,null,null,null,null,null,null,null,null,null,null,null,null,null,null,null,null,null,null,null,null,null,null,null,null,null,null,null,null,null,null,{"$f":"IF($DB$112=0,\"\",$DD$112)","v":""}]
[null,null,null,"(ｲ) 金融機関及び本・支店名",null,null,null,null,null,null,null,null,null,null,null,null,null,null,null,null,null,null,null,null,null,null,null,null,null,null,null,null,null,null,null,null,null,null,null,null,null,"(ﾛ) 金融機関ｺｰﾄﾞ－本・支店ｺｰﾄﾞ",null,null,null,null,null,null,null,null,null,null,null,null,null,null,null,null,null,null,null,null,null,null,"(ﾆ) 口座番号",null,null,null,null,null,null,null,null,null," (ﾍ) 分割支給額"]
[null,null,null,null,{"$f":"IF($CY$112=0,\"\",MID($CY$112,1,27))","v":""},null,null,null,null,null,null,null,null,null,null,null,null,null,null,null,null,null,null,null,null,null,null,null,null,null,null,null,null,null,null,null,null,null,null,null,null,null,{"$f":"IF($DB$112=0,\"\",$DB$112)","v":""},null,null,null,null,"－",{"$f":"IF($DC$112=0,\"\",$DC$112)","v":""},null,null,null,null,null,"(ﾊ) 預金種目",null,null,null,null,null,null,null,null,null,null,{"$f":"IF($DE$112=0,\"\",$DE$112)","v":""},null,null,null,null,null,null,null,null," ",{"$f":"IF($DH$112=\"\",0,$DH$112)","v":0},null,null,null,null,null,null,null,null,null,"円"]
[null,null,null,null,null,null,null,null,null,null,null,null,null,null,null,null,null,null,null,null,null,null,null,"銀行",null,null,null,null,null,null,null,null,null,null,null,null,null,{"$f":"IF($DA$112=2,\"支店\",\"本店\")","v":"本店"}]
[]
[null,null,null,null,null,null,null,null,null,null,{"$f":"IF($DG$112=0,\"\",MID($DG$112,1,48))","v":""},null,null,null,null,null,null,null,null,null,null,null,null,null,null,null,null,null,null,null,null,null,null,null,null,null,"フリガナ"]
[null,null,null,"(ﾎ) 口座名義人",null,null,null,null,null,null,null,null,null,null,null,null,null,null,null,null,null,null,null,null,null,null,null,null,null,null,null,null,null,null,null,null,null,null,null,null,{"$f":"IF($DF$112=0,\"\",MID($DF$112,1,30))","v":""}]
[]
[null,null,null,null,null,null,null,null,null,null,null,null,null,null,null,null,null,null,null,null,null,null,null,null,null,null,null,null,null,null,null,null,null,null,null,null,null,null,null,null,null,null,null,null,null,null,null,null,null,null,null,null,null,null,null,null,null,null,null,null,{"$f":"IF($DB$113=0,\"\",$DD$113)","v":""}]
[null,null,3,null,null,null,null,null,null,null,null,null,null,null,null,null,null,null,null,null,null,null,null,null,null,{"$f":"IF($CZ$113=0,\"\",MID($CZ$113,1,33))","v":""}]
[null,null,null,"(ｲ) 金融機関及び本・支店名",null,null,null,null,null,null,null,null,null,null,null,null,null,null,null,null,null,null,null,null,null,null,null,null,null,null,null,null,null,null,null,null,null,null,null,null,null,"(ﾛ) 金融機関ｺｰﾄﾞ－本・支店ｺｰﾄﾞ",null,null,null,null,null,null,null,null,null,null,null,null,null,null,null,null,null,null,null,null,null,null,"(ﾆ) 口座番号",null,null,null,null,null,null,null,null,null," (ﾍ) 分割支給額"]
[null,null,null,null,{"$f":"IF($CY$113=0,\"\",MID($CY$113,1,27))","v":""},null,null,null,null,null,null,null,null,null,null,null,null,null,null,null,null,null,null,null,null,null,null,null,null,null,null,null,null,null,null,null,null,null,null,null,null,null,{"$f":"IF($DB$113=0,\"\",$DB$113)","v":""},null,null,null,null,"－",{"$f":"IF($DC$113=0,\"\",$DC$113)","v":""},null,null,null,null,null,"(ﾊ) 預金種目",null,null,null,null,null,null,null,null,null,null,{"$f":"IF($DE$113=0,\"\",$DE$113)","v":""},null,null,null,null,null,null,null,null," ",{"$f":"IF($DH$113=\"\",0,$DH$113)","v":0},null,null,null,null,null,null,null,null,null,"円"]
[null,null,null,null,null,null,null,null,null,null,null,null,null,null,null,null,null,null,null,null,null,null,null,"銀行",null,null,null,null,null,null,null,null,null,null,null,null,null,{"$f":"IF($DA$113=2,\"支店\",\"本店\")","v":"本店"}]
[]
[null,null,null,null,null,null,null,null,null,null,{"$f":"IF($DG$113=0,\"\",MID($DG$113,1,48))","v":""},null,null,null,null,null,null,null,null,null,null,null,null,null,null,null,null,null,null,null,null,null,null,null,null,null,"フリガナ"]
[null,null,null,"(ﾎ) 口座名義人",null,null,null,null,null,null,null,null,null,null,null,null,null,null,null,null,null,null,null,null,null,null,null,null,null,null,null,null,null,null,null,null,null,null,null,null,{"$f":"IF($DF$113=0,\"\",MID($DF$113,1,30))","v":""}]
[]
[null,null,4,null,null,null,null,null,null,null,null,null,null,null,null,null,null,null,null,null,null,null,null,null,null,null,null,null,null,null,null,null,null,null,null,null,null,null,null,null,null,null,null,null,null,null,null,null,null,null,null,null,null,null,null,null,null,null,null,null,2,2]
[null,null,null,null,null,null,null,null,null,null,null,null,null,null,null,null,null,null,null,null,null,null,null,null,null,{"$f":"IF($CZ$114=0,\"\",MID($CZ$114,1,33))","v":""},null,null,null,null,null,null,null,null,null,null,null,null,null,null,null,null,null,null,null,null,null,null,null,null,null,null,null,null,null,null,null,null,null,null,{"$f":"IF($DB$114=0,\"\",$DD$114)","v":""}]
[null,null,null,"(ｲ) 金融機関及び本・支店名",null,null,null,null,null,null,null,null,null,null,null,null,null,null,null,null,null,null,null,null,null,null,null,null,null,null,null,null,null,null,null,null,null,null,null,null,null,"(ﾛ) 金融機関ｺｰﾄﾞ－本・支店ｺｰﾄﾞ",null,null,null,null,null,null,null,null,null,null,null,null,null,null,null,null,null,null,null,null,null,null,"(ﾆ) 口座番号",null,null,null,null,null,null,null,null,null," (ﾍ) 分割支給額"]
[null,null,null,null,{"$f":"IF($CY$114=0,\"\",MID($CY$114,1,27))","v":""},null,null,null,null,null,null,null,null,null,null,null,null,null,null,null,null,null,null,null,null,null,null,null,null,null,null,null,null,null,null,null,null,null,null,null,null,null,{"$f":"IF($DB$114=0,\"\",$DB$114)","v":""},null,null,null,null,"－",{"$f":"IF($DC$114=0,\"\",$DC$114)","v":""},null,null,null,null,null,"(ﾊ) 預金種目",null,null,null,null,null,null,null,null,null,null,{"$f":"IF($DE$114=0,\"\",$DE$114)","v":""},null,null,null,null,null,null,null,null," ",{"$f":"IF($DH$114=\"\",0,$DH$114)","v":0},null,null,null,null,null,null,null,null,null,"円"]
[null,null,null,null,null,null,null,null,null,null,null,null,null,null,null,null,null,null,null,null,null,null,null,"銀行",null,null,null,null,null,null,null,null,null,null,null,null,null,{"$f":"IF($DA$114=2,\"支店\",\"本店\")","v":"本店"}]
[]
[null,null,null,null,null,null,null,null,null,null,{"$f":"IF($DG$114=0,\"\",MID($DG$114,1,48))","v":""},null,null,null,null,null,null,null,null,null,null,null,null,null,null,null,null,null,null,null,null,null,null,null,null,null,"フリガナ"]
[null,null,null,"(ﾎ) 口座名義人",null,null,null,null,null,null,null,null,null,null,null,null,null,null,null,null,null,null,null,null,null,null,null,null,null,null,null,null,null,null,null,null,null,null,null,null,{"$f":"IF($DF$114=0,\"\",MID($DF$114,1,30))","v":""}]
[]
[]
[null,null,5,null,null,null,null,null,null,null,null,null,null,null,null,null,null,null,null,null,null,null,null,null,null,{"$f":"IF($CZ$115=0,\"\",MID($CZ$115,1,33))","v":""},null,null,null,null,null,null,null,null,null,null,null,null,null,null,null,null,null,null,null,null,null,null,null,null,null,null,null,null,null,null,null,null,null,null,{"$f":"IF($DB$115=0,\"\",$DD$115)","v":""}]
[null,null,null,"(ｲ) 金融機関及び本・支店名",null,null,null,null,null,null,null,null,null,null,null,null,null,null,null,null,null,null,null,null,null,null,null,null,null,null,null,null,null,null,null,null,null,null,null,null,null,"(ﾛ) 金融機関ｺｰﾄﾞ－本・支店ｺｰﾄﾞ",null,null,null,null,null,null,null,null,null,null,null,null,null,null,null,null,null,null,null,null,null,null,"(ﾆ) 口座番号",null,null,null,null,null,null,null,null,null," (ﾍ) 分割支給額"]
[null,null,null,null,{"$f":"IF($CY$115=0,\"\",MID($CY$115,1,27))","v":""},null,null,null,null,null,null,null,null,null,null,null,null,null,null,null,null,null,null,null,null,null,null,null,null,null,null,null,null,null,null,null,null,null,null,null,null,null,{"$f":"IF($DB$115=0,\"\",$DB$115)","v":""},null,null,null,null,"－",{"$f":"IF($DC$115=0,\"\",$DC$115)","v":""},null,null,null,null,null,"(ﾊ) 預金種目",null,null,null,null,null,null,null,null,null,null,{"$f":"IF($DE$115=0,\"\",$DE$115)","v":""},null,null,null,null,null,null,null,null," ",{"$f":"IF($DH$115=\"\",0,$DH$115)","v":0},null,null,null,null,null,null,null,null,null,"円"]
[null,null,null,null,null,null,null,null,null,null,null,null,null,null,null,null,null,null,null,null,null,null,null,"銀行",null,null,null,null,null,null,null,null,null,null,null,null,null,{"$f":"IF($DA$115=2,\"支店\",\"本店\")","v":"本店"}]
[]
[null,null,null,null,null,null,null,null,null,null,{"$f":"IF($DG$115=0,\"\",MID($DG$115,1,48))","v":""},null,null,null,null,null,null,null,null,null,null,null,null,null,null,null,null,null,null,null,null,null,null,null,null,null,"フリガナ"]
[null,null,null,"(ﾎ) 口座名義人",null,null,null,null,null,null,null,null,null,null,null,null,null,null,null,null,null,null,null,null,null,null,null,null,null,null,null,null,null,null,null,null,null,null,null,null,{"$f":"IF($DF$115=0,\"\",MID($DF$115,1,30))","v":""}]
[]
[null,null,null,null,null,null,null,null,null,null,null,null,null,null,null,null,null,null,null,null,null,null,null,null,null,null,null,null,null,null,null,null,null,null,null,null,null,null,null,null,null,null,null,null,null,null,null,null,null,null,null,null,null,null,null,null,null,null,null,null,{"$f":"IF($DB$116=0,\"\",$DD$116)","v":""}]
[null,null,6,null,null,null,null,null,null,null,null,null,null,null,null,null,null,null,null,null,null,null,null,null,null,{"$f":"IF($CZ$116=0,\"\",MID($CZ$116,1,33))","v":""}]
[null,null,null,"(ｲ) 金融機関及び本・支店名",null,null,null,null,null,null,null,null,null,null,null,null,null,null,null,null,null,null,null,null,null,null,null,null,null,null,null,null,null,null,null,null,null,null,null,null,null,"(ﾛ) 金融機関ｺｰﾄﾞ－本・支店ｺｰﾄﾞ",null,null,null,null,null,null,null,null,null,null,null,null,null,null,null,null,null,null,null,null,null,null,"(ﾆ) 口座番号",null,null,null,null,null,null,null,null,null," (ﾍ) 分割支給額"]
[null,null,null,null,{"$f":"IF($CY$116=0,\"\",MID($CY$116,1,27))","v":""},null,null,null,null,null,null,null,null,null,null,null,null,null,null,null,null,null,null,null,null,null,null,null,null,null,null,null,null,null,null,null,null,null,null,null,null,null,{"$f":"IF($DB$116=0,\"\",$DB$116)","v":""},null,null,null,null,"－",{"$f":"IF($DC$116=0,\"\",$DC$116)","v":""},null,null,null,null,null,"(ﾊ) 預金種目",null,null,null,null,null,null,null,null,null,null,{"$f":"IF($DE$116=0,\"\",$DE$116)","v":""},null,null,null,null,null,null,null,null," ",{"$f":"IF($DH$116=\"\",0,$DH$116)","v":0},null,null,null,null,null,null,null,null,null,"円"]
[null,null,null,null,null,null,null,null,null,null,null,null,null,null,null,null,null,null,null,null,null,null,null,"銀行",null,null,null,null,null,null,null,null,null,null,null,null,null,{"$f":"IF($DA$116=2,\"支店\",\"本店\")","v":"本店"}]
[]
[null,null,null,null,null,null,null,null,null,null,{"$f":"IF($DG$116=0,\"\",MID($DG$116,1,48))","v":""},null,null,null,null,null,null,null,null,null,null,null,null,null,null,null,null,null,null,null,null,null,null,null,null,null,"フリガナ"]
[null,null,null,"(ﾎ) 口座名義人",null,null,null,null,null,null,null,null,null,null,null,null,null,null,null,null,null,null,null,null,null,null,null,null,null,null,null,null,null,null,null,null,null,null,null,null,{"$f":"IF($DF$116=0,\"\",MID($DF$116,1,30))","v":""}]
[]
[]
[null,null,7,null,null,null,null,null,null,null,null,null,null,null,null,null,null,null,null,null,null,null,null,null,null,{"$f":"IF($CZ$117=0,\"\",MID($CZ$117,1,33))","v":""},null,null,null,null,null,null,null,null,null,null,null,null,null,null,null,null,null,null,null,null,null,null,null,null,null,null,null,null,null,null,null,null,null,null,{"$f":"IF($DB$117=0,\"\",$DD$117)","v":""}]
[null,null,null,"(ｲ) 金融機関及び本・支店名",null,null,null,null,null,null,null,null,null,null,null,null,null,null,null,null,null,null,null,null,null,null,null,null,null,null,null,null,null,null,null,null,null,null,null,null,null,"(ﾛ) 金融機関ｺｰﾄﾞ－本・支店ｺｰﾄﾞ",null,null,null,null,null,null,null,null,null,null,null,null,null,null,null,null,null,null,null,null,null,null,"(ﾆ) 口座番号",null,null,null,null,null,null,null,null,null," (ﾍ) 分割支給額"]
[null,null,null,null,{"$f":"IF($CY$117=0,\"\",MID($CY$117,1,27))","v":""},null,null,null,null,null,null,null,null,null,null,null,null,null,null,null,null,null,null,null,null,null,null,null,null,null,null,null,null,null,null,null,null,null,null,null,null,null,{"$f":"IF($DB$117=0,\"\",$DB$117)","v":""},null,null,null,null,"－",{"$f":"IF($DC$117=0,\"\",$DC$117)","v":""},null,null,null,null,null,"(ﾊ) 預金種目",null,null,null,null,null,null,null,null,null,null,{"$f":"IF($DE$117=0,\"\",$DE$117)","v":""},null,null,null,null,null,null,null,null," ",{"$f":"IF($DH$117=\"\",0,$DH$117)","v":0},null,null,null,null,null,null,null,null,null,"円"]
[null,null,null,null,null,null,null,null,null,null,null,null,null,null,null,null,null,null,null,null,null,null,null,"銀行",null,null,null,null,null,null,null,null,null,null,null,null,null,{"$f":"IF($DA$117=2,\"支店\",\"本店\")","v":"本店"}]
[]
[null,null,null,null,null,null,null,null,null,null,{"$f":"IF($DG$117=0,\"\",MID($DG$117,1,48))","v":""},null,null,null,null,null,null,null,null,null,null,null,null,null,null,null,null,null,null,null,null,null,null,null,null,null,"フリガナ"]
[null,null,null,"(ﾎ) 口座名義人",null,null,null,null,null,null,null,null,null,null,null,null,null,null,null,null,null,null,null,null,null,null,null,null,null,null,null,null,null,null,null,null,null,null,null,null,{"$f":"IF($DF$117=0,\"\",MID($DF$117,1,30))","v":""}]
[]
[null,null,8]
[null,null,null,null,null,null,null,null,null,null,null,null,null,null,null,null,null,null,null,null,null,null,null,null,null,{"$f":"IF($CZ$118=0,\"\",MID($CZ$118,1,33))","v":""},null,null,null,null,null,null,null,null,null,null,null,null,null,null,null,null,null,null,null,null,null,null,null,null,null,null,null,null,null,null,null,null,null,null,{"$f":"IF($DB$118=0,\"\",$DD$118)","v":""}]
[null,null,null,"(ｲ) 金融機関及び本・支店名",null,null,null,null,null,null,null,null,null,null,null,null,null,null,null,null,null,null,null,null,null,null,null,null,null,null,null,null,null,null,null,null,null,null,null,null,null,"(ﾛ) 金融機関ｺｰﾄﾞ－本・支店ｺｰﾄﾞ",null,null,null,null,null,null,null,null,null,null,null,null,null,null,null,null,null,null,null,null,null,null,"(ﾆ) 口座番号",null,null,null,null,null,null,null,null,null," (ﾍ) 分割支給額"]
[null,null,null,null,{"$f":"IF($CY$118=0,\"\",MID($CY$118,1,27))","v":""},null,null,null,null,null,null,null,null,null,null,null,null,null,null,null,null,null,null,null,null,null,null,null,null,null,null,null,null,null,null,null,null,null,null,null,null,null,{"$f":"IF($DB$118=0,\"\",$DB$118)","v":""},null,null,null,null,"－",{"$f":"IF($DC$118=0,\"\",$DC$118)","v":""},null,null,null,null,null,"(ﾊ) 預金種目",null,null,null,null,null,null,null,null,null,null,{"$f":"IF($DE$118=0,\"\",$DE$118)","v":""},null,null,null,null,null,null,null,null," ",{"$f":"IF($DH$118=\"\",0,$DH$118)","v":0},null,null,null,null,null,null,null,null,null,"円"]
[null,null,null,null,null,null,null,null,null,null,null,null,null,null,null,null,null,null,null,null,null,null,null,"銀行",null,null,null,null,null,null,null,null,null,null,null,null,null,{"$f":"IF($DA$118=2,\"支店\",\"本店\")","v":"本店"}]
[]
[null,null,null,null,null,null,null,null,null,null,{"$f":"IF($DG$118=0,\"\",MID($DG$118,1,48))","v":""},null,null,null,null,null,null,null,null,null,null,null,null,null,null,null,null,null,null,null,null,null,null,null,null,null,"フリガナ"]
[null,null,null,"(ﾎ) 口座名義人",null,null,null,null,null,null,null,null,null,null,null,null,null,null,null,null,null,null,null,null,null,null,null,null,null,null,null,null,null,null,null,null,null,null,null,null,{"$f":"IF($DF$118=0,\"\",MID($DF$118,1,30))","v":""}]
[]
[]
[null,null,9,null,null,null,null,null,null,null,null,null,null,null,null,null,null,null,null,null,null,null,null,null,null,{"$f":"IF($CZ$119=0,\"\",MID($CZ$119,1,33))","v":""},null,null,null,null,null,null,null,null,null,null,null,null,null,null,null,null,null,null,null,null,null,null,null,null,null,null,null,null,null,null,null,null,null,null,{"$f":"IF($DB$119=0,\"\",$DD$119)","v":""}]
[null,null,null,"(ｲ) 金融機関及び本・支店名",null,null,null,null,null,null,null,null,null,null,null,null,null,null,null,null,null,null,null,null,null,null,null,null,null,null,null,null,null,null,null,null,null,null,null,null,null,"(ﾛ) 金融機関ｺｰﾄﾞ－本・支店ｺｰﾄﾞ",null,null,null,null,null,null,null,null,null,null,null,null,null,null,null,null,null,null,null,null,null,null,"(ﾆ) 口座番号",null,null,null,null,null,null,null,null,null," (ﾍ) 分割支給額"]
[null,null,null,null,{"$f":"IF($CY$119=0,\"\",MID($CY$119,1,27))","v":""},null,null,null,null,null,null,null,null,null,null,null,null,null,null,null,null,null,null,null,null,null,null,null,null,null,null,null,null,null,null,null,null,null,null,null,null,null,{"$f":"IF($DB$119=0,\"\",$DB$119)","v":""},null,null,null,null,"－",{"$f":"IF($DC$119=0,\"\",$DC$119)","v":""},null,null,null,null,null,"(ﾊ) 預金種目",null,null,null,null,null,null,null,null,null,null,{"$f":"IF($DE$119=0,\"\",$DE$119)","v":""},null,null,null,null,null,null,null,null," ",{"$f":"IF($DH$119=\"\",0,$DH$119)","v":0},null,null,null,null,null,null,null,null,null,"円"]
[null,null,null,null,null,null,null,null,null,null,null,null,null,null,null,null,null,null,null,null,null,null,null,"銀行",null,null,null,null,null,null,null,null,null,null,null,null,null,{"$f":"IF($DA$119=2,\"支店\",\"本店\")","v":"本店"}]
[]
[null,null,null,null,null,null,null,null,null,null,{"$f":"IF($DG$119=0,\"\",MID($DG$119,1,48))","v":""},null,null,null,null,null,null,null,null,null,null,null,null,null,null,null,null,null,null,null,null,null,null,null,null,null,"フリガナ"]
[null,null,null,"(ﾎ) 口座名義人",null,null,null,null,null,null,null,null,null,null,null,null,null,null,null,null,null,null,null,null,null,null,null,null,null,null,null,null,null,null,null,null,null,null,null,null,{"$f":"IF($DF$119=0,\"\",MID($DF$119,1,30))","v":""}]
[]
[null,null,10,null,null,null,null,null,null,null,null,null,null,null,null,null,null,null,null,null,null,null,null,null,null,null,null,null,null,null,null,null,null,null,null,null,null,null,null,null,null,null,null,null,null,null,null,null,null,null,null,null,null,null,null,null,null,null,null,null,{"$f":"IF($DB$120=0,\"\",$DD$120)","v":""}]
[null,null,null,null,null,null,null,null,null,null,null,null,null,null,null,null,null,null,null,null,null,null,null,null,null,{"$f":"IF($CZ$120=0,\"\",MID($CZ$120,1,33))","v":""}]
[null,null,null,"(ｲ) 金融機関及び本・支店名",null,null,null,null,null,null,null,null,null,null,null,null,null,null,null,null,null,null,null,null,null,null,null,null,null,null,null,null,null,null,null,null,null,null,null,null,null,"(ﾛ) 金融機関ｺｰﾄﾞ－本・支店ｺｰﾄﾞ",null,null,null,null,null,null,null,null,null,null,null,null,null,null,null,null,null,null,null,null,null,null,"(ﾆ) 口座番号",null,null,null,null,null,null,null,null,null," (ﾍ) 分割支給額"]
[null,null,null,null,{"$f":"IF($CY$120=0,\"\",MID($CY$120,1,27))","v":""},null,null,null,null,null,null,null,null,null,null,null,null,null,null,null,null,null,null,null,null,null,null,null,null,null,null,null,null,null,null,null,null,null,null,null,null,null,{"$f":"IF($DB$120=0,\"\",$DB$120)","v":""},null,null,null,null,"－",{"$f":"IF($DC$120=0,\"\",$DC$120)","v":""},null,null,null,null,null,"(ﾊ) 預金種目",null,null,null,null,null,null,null,null,null,null,{"$f":"IF($DE$120=0,\"\",$DE$120)","v":""},null,null,null,null,null,null,null,null," ",{"$f":"IF($DH$120=\"\",0,$DH$120)","v":0},null,null,null,null,null,null,null,null,null,"円"]
[null,null,null,null,null,null,null,null,null,null,null,null,null,null,null,null,null,null,null,null,null,null,null,"銀行",null,null,null,null,null,null,null,null,null,null,null,null,null,{"$f":"IF($DA$120=2,\"支店\",\"本店\")","v":"本店"}]
[]
[null,null,null,null,null,null,null,null,null,null,{"$f":"IF($DG$120=0,\"\",MID($DG$120,1,48))","v":""},null,null,null,null,null,null,null,null,null,null,null,null,null,null,null,null,null,null,null,null,null,null,null,null,null,"フリガナ"]
[null,null,null,"(ﾎ) 口座名義人",null,null,null,null,null,null,null,null,null,null,null,null,null,null,null,null,null,null,null,null,null,null,null,null,null,null,null,null,null,null,null,null,null,null,null,null,{"$f":"IF($DF$120=0,\"\",MID($DF$120,1,30))","v":""}]
[]
[]
[null,null,"＊","注）「記入上の注意」をよく読んで記入して下さい。"]
[]
[]
["　"]
[]
[]
[null,null,null,null,null,null,null,null,null,null,null,null,null,null,null,null,null,null,null,null,null,null,null,null,null,null,null,null,null,null,null,null,null,null,null,null,null,null,null,null,null,null,null,null,null,null,null,null,null,null,null,null,null,null,null,null,null,null,null,null,null,null,null,null,null,null,null,null,null,null,null,null,null,null,null,null,null,null,null,null,null,null,null,null,null,null,null,null,null,null,null,null,null,null,null,null,null,null,"tmpTokureiBunkatsuList\nのＮｏ","tmpTokureiBunkatsuList\nの行数","並び順","printTokureiBunkatsuList\nのＮｏ","金融機関","支店名","本店支店","金融機関コード","支店コード","預金種目","口座番号","口座名義人漢字","口座名義人フリガナ","分割支給額"]
[null,null,null,null,null,null,null,null,null,null,null,null,null,null,null,null,null,null,null,null,null,null,null,null,null,null,null,null,null,null,null,null,null,null,null,null,null,null,null,null,null,null,null,null,null,null,null,null,null,null,null,null,null,null,null,null,null,null,null,null,null,null,null,null,null,null,null,null,null,null,null,null,null,null,null,null,null,null,null,null,null,null,null,null,null,null,null,null,null,null,null,null,null,null,null,null,null,null,{"$f":"INDIRECT(\"tmpTokureiBunkatsuList!X4\")","v":0},1,{"$f":"IF($CU111=0,\"\",VLOOKUP($CX111,$CU$111:$CV$120,2,FALSE))","v":""},1,{"$f":"IF($CW111=\"\",\"\",INDIRECT(\"tmpTokureiBunkatsuList!Y\" & $CW111+3))","v":""},{"$f":"IF($CW111=\"\",\"\",INDIRECT(\"tmpTokureiBunkatsuList!Z\" & $CW111+3))","v":""},{"$f":"IF($CW111=\"\",\"\",INDIRECT(\"tmpTokureiBunkatsuList!AA\" & $CW111+3))","v":""},{"$f":"IF($CW111=\"\",\"\",INDIRECT(\"tmpTokureiBunkatsuList!AB\" & $CW111+3))","v":""},{"$f":"IF($CW111=\"\",\"\",INDIRECT(\"tmpTokureiBunkatsuList!AC\" & $CW111+3))","v":""},{"$f":"IF($CW111=\"\",\"\",INDIRECT(\"tmpTokureiBunkatsuList!AD\" & $CW111+3))","v":""},{"$f":"IF($CW111=\"\",\"\",INDIRECT(\"tmpTokureiBunkatsuList!AE\" & $CW111+3))","v":""},{"$f":"IF($CW111=\"\",\"\",INDIRECT(\"tmpTokureiBunkatsuList!AK\" & $CW111+3))","v":""},{"$f":"IF($CW111=\"\",\"\",INDIRECT(\"tmpTokureiBunkatsuList!AG\" & $CW111+3))","v":""},{"$f":"IF($CW111=\"\",\"\",INDIRECT(\"tmpTokureiBunkatsuList!AH\" & $CW111+3))","v":""}]
[null,null,null,null,null,null,null,null,null,null,null,null,null,null,null,null,null,null,null,null,null,null,null,null,null,null,null,null,null,null,null,null,null,null,null,null,null,null,null,null,null,null,null,null,null,null,null,null,null,null,null,null,null,null,null,null,null,null,null,null,null,null,null,null,null,null,null,null,null,null,null,null,null,null,null,null,null,null,null,null,null,null,null,null,null,null,null,null,null,null,null,null,null,null,null,null,null,null,{"$f":"INDIRECT(\"tmpTokureiBunkatsuList!X5\")","v":0},2,{"$f":"IF($CU112=0,\"\",VLOOKUP($CX112,$CU$111:$CV$120,2,FALSE))","v":""},2,{"$f":"IF($CW112=\"\",\"\",INDIRECT(\"tmpTokureiBunkatsuList!Y\" & $CW112+3))","v":""},{"$f":"IF($CW112=\"\",\"\",INDIRECT(\"tmpTokureiBunkatsuList!Z\" & $CW112+3))","v":""},{"$f":"IF($CW112=\"\",\"\",INDIRECT(\"tmpTokureiBunkatsuList!AA\" & $CW112+3))","v":""},{"$f":"IF($CW112=\"\",\"\",INDIRECT(\"tmpTokureiBunkatsuList!AB\" & $CW112+3))","v":""},{"$f":"IF($CW112=\"\",\"\",INDIRECT(\"tmpTokureiBunkatsuList!AC\" & $CW112+3))","v":""},{"$f":"IF($CW112=\"\",\"\",INDIRECT(\"tmpTokureiBunkatsuList!AD\" & $CW112+3))","v":""},{"$f":"IF($CW112=\"\",\"\",INDIRECT(\"tmpTokureiBunkatsuList!AE\" & $CW112+3))","v":""},{"$f":"IF($CW112=\"\",\"\",INDIRECT(\"tmpTokureiBunkatsuList!AK\" & $CW112+3))","v":""},{"$f":"IF($CW112=\"\",\"\",INDIRECT(\"tmpTokureiBunkatsuList!AG\" & $CW112+3))","v":""},{"$f":"IF($CW112=\"\",\"\",INDIRECT(\"tmpTokureiBunkatsuList!AH\" & $CW112+3))","v":""}]
[null,null,null,null,null,null,null,null,null,null,null,null,null,null,null,null,null,null,null,null,null,null,null,null,null,null,null,null,null,null,null,null,null,null,null,null,null,null,null,null,null,null,null,null,null,null,null,null,null,null,null,null,null,null,null,null,null,null,null,null,null,null,null,null,null,null,null,null,null,null,null,null,null,null,null,null,null,null,null,null,null,null,null,null,null,null,null,null,null,null,null,null,null,null,null,null,null,null,{"$f":"INDIRECT(\"tmpTokureiBunkatsuList!X6\")","v":0},3,"",3,"","","","","","","","","",""]
[null,null,null,null,null,null,null,null,null,null,null,null,null,null,null,null,null,null,null,null,null,null,null,null,null,null,null,null,null,null,null,null,null,null,null,null,null,null,null,null,null,null,null,null,null,null,null,null,null,null,null,null,null,null,null,null,null,null,null,null,null,null,null,null,null,null,null,null,null,null,null,null,null,null,null,null,null,null,null,null,null,null,null,null,null,null,null,null,null,null,null,null,null,null,null,null,null,null,{"$f":"INDIRECT(\"tmpTokureiBunkatsuList!X7\")","v":0},4,"",4,"","","","","","","","","",""]
[null,null,null,null,null,null,null,null,null,null,null,null,null,null,null,null,null,null,null,null,null,null,null,null,null,null,null,null,null,null,null,null,null,null,null,null,null,null,null,null,null,null,null,null,null,null,null,null,null,null,null,null,null,null,null,null,null,null,null,null,null,null,null,null,null,null,null,null,null,null,null,null,null,null,null,null,null,null,null,null,null,null,null,null,null,null,null,null,null,null,null,null,null,null,null,null,null,null,{"$f":"INDIRECT(\"tmpTokureiBunkatsuList!X8\")","v":0},5,"",5,"","","","","","","","","",""]
[null,null,null,null,null,null,null,null,null,null,null,null,null,null,null,null,null,null,null,null,null,null,null,null,null,null,null,null,null,null,null,null,null,null,null,null,null,null,null,null,null,null,null,null,null,null,null,null,null,null,null,null,null,null,null,null,null,null,null,null,null,null,null,null,null,null,null,null,null,null,null,null,null,null,null,null,null,null,null,null,null,null,null,null,null,null,null,null,null,null,null,null,null,null,null,null,null,null,{"$f":"INDIRECT(\"tmpTokureiBunkatsuList!X9\")","v":0},6,"",6,"","","","","","","","","",""]
[null,null,null,null,null,null,null,null,null,null,null,null,null,null,null,null,null,null,null,null,null,null,null,null,null,null,null,null,null,null,null,null,null,null,null,null,null,null,null,null,null,null,null,null,null,null,null,null,null,null,null,null,null,null,null,null,null,null,null,null,null,null,null,null,null,null,null,null,null,null,null,null,null,null,null,null,null,null,null,null,null,null,null,null,null,null,null,null,null,null,null,null,null,null,null,null,null,null,{"$f":"INDIRECT(\"tmpTokureiBunkatsuList!X10\")","v":0},7,"",7,"","","","","","","","","",""]
[null,null,null,null,null,null,null,null,null,null,null,null,null,null,null,null,null,null,null,null,null,null,null,null,null,null,null,null,null,null,null,null,null,null,null,null,null,null,null,null,null,null,null,null,null,null,null,null,null,null,null,null,null,null,null,null,null,null,null,null,null,null,null,null,null,null,null,null,null,null,null,null,null,null,null,null,null,null,null,null,null,null,null,null,null,null,null,null,null,null,null,null,null,null,null,null,null,null,{"$f":"INDIRECT(\"tmpTokureiBunkatsuList!X11\")","v":0},8,"",8,"","","","","","","","","",""]
[null,null,null,null,null,null,null,null,null,null,null,null,null,null,null,null,null,null,null,null,null,null,null,null,null,null,null,null,null,null,null,null,null,null,null,null,null,null,null,null,null,null,null,null,null,null,null,null,null,null,null,null,null,null,null,null,null,null,null,null,null,null,null,null,null,null,null,null,null,null,null,null,null,null,null,null,null,null,null,null,null,null,null,null,null,null,null,null,null,null,null,null,null,null,null,null,null,null,{"$f":"INDIRECT(\"tmpTokureiBunkatsuList!X12\")","v":0},9,"",9,"","","","","","","","","",""]
[null,null,null,null,null,null,null,null,null,null,null,null,null,null,null,null,null,null,null,null,null,null,null,null,null,null,null,null,null,null,null,null,null,null,null,null,null,null,null,null,null,null,null,null,null,null,null,null,null,null,null,null,null,null,null,null,null,null,null,null,null,null,null,null,null,null,null,null,null,null,null,null,null,null,null,null,null,null,null,null,null,null,null,null,null,null,null,null,null,null,null,null,null,null,null,null,null,null,{"$f":"INDIRECT(\"tmpTokureiBunkatsuList!X13\")","v":0},10,"",10,"","","","","","","","","",""]