{"text_format":"1","workbook":"xlsx","n_sheets":146,"sheets":["課題説明 ","印刷用","印刷用(アンケート）","印刷用(アンケート） (2)","差し込み用","回答参考","入力フォーム合計","採点","Word回答取込","採点例","1","2","3","4","5","6","7","8","9","10","11","12","13","14","15","16","17","18","19","20","21","22","23","24","25","印刷用(アンケート） (6)","印刷用(アンケート） (5)","課題説明  (106)","回答参考 (2)","印刷用(アンケート） (4)","印刷用(アンケート） (3)","課題説明  (105)","課題説明  (104)","課題説明  (103)","課題説明  (102)","課題説明  (101)","課題説明  (100)","課題説明  (99)","課題説明  (98)","課題説明  (97)","課題説明  (96)","課題説明  (95)","課題説明  (94)","課題説明  (93)","課題説明  (92)","課題説明  (91)","課題説明  (90)","課題説明  (89)","課題説明  (88)","課題説明  (87)","課題説明  (86)","課題説明  (85)","課題説明  (84)","課題説明  (83)","課題説明  (82)","課題説明  (81)","課題説明  (80)","課題説明  (79)","課題説明  (78)","課題説明  (77)","課題説明  (76)","課題説明  (75)","課題説明  (74)","課題説明  (73)","課題説明  (72)","課題説明  (71)","課題説明  (70)","課題説明  (69)","課題説明  (68)","課題説明  (67)","課題説明  (66)","課題説明  (65)","課題説明  (64)","課題説明  (63)","課題説明  (62)","課題説明  (61)","課題説明  (60)","課題説明  (59)","課題説明  (58)","課題説明  (57)","課題説明  (56)","課題説明  (55)","課題説明  (54)","課題説明  (53)","課題説明  (52)","課題説明  (51)","課題説明  (50)","課題説明  (49)","課題説明  (48)","課題説明  (47)","課題説明  (46)","課題説明  (45)","課題説明  (44)","課題説明  (43)","課題説明  (42)","課題説明  (41)","課題説明  (40)","課題説明  (39)","課題説明  (38)","課題説明  (37)","課題説明  (36)","課題説明  (35)","課題説明  (34)","課題説明  (33)","課題説明  (32)","課題説明  (31)","課題説明  (30)","課題説明  (29)","課題説明  (28)","課題説明  (27)","課題説明  (26)","課題説明  (25)","課題説明  (24)","課題説明  (23)","課題説明  (22)","課題説明  (21)","課題説明  (20)","課題説明  (19)","課題説明  (18)","課題説明  (17)","課題説明  (16)","課題説明  (15)","課題説明  (14)","課題説明  (13)","課題説明  (12)","課題説明  (11)","課題説明  (10)","課題説明  (9)","課題説明  (8)","課題説明  (7)","課題説明  (6)","課題説明  (5)","課題説明  (4)","課題説明  (3)","課題説明  (2)","原本"],"not_rendered":{"charts":0,"images":0,"macros":1,"external_links":0,"defined_names":35,"comments":0,"pivot_tables":0},"unopened":[],"bounds":{"document_bytes":16777216,"sheet_cells":100000,"rows_first":2000,"rows_last":500,"rows_between":2000,"halvings":0,"cell_chars":16384,"cell_head_chars":4096},"cells_cut":0,"cells_raw":0,"read":"whole","date_system":"1900"}

{"sheet":"課題説明 ","index":0,"n_rows":5,"n_cols":1,"rows_kept":5,"cut":false,"hidden":true,"merged":[[0,0,0,13],[1,0,1,13],[2,0,2,13],[4,0,4,13],[3,0,3,13]]}
["当課題及びエクセルファイルの取扱いについての注意事項"]
["○当課題は、パソコンデータ入力競技課題１を想定して作成されており、当エクセルを使用することで、課題作成から選手の入力作業、採点までが可能です。\n\n　　当エクセルファイルの構成及び説明は以下の通りです。\n\n　　　◆「課題説明」　・・・当シート。\n\n　　　◆「印刷用」　　・・・印刷用シートの画面上に「印刷用」ボタンが設置されており、１クリックで「差し込み用\n　　　　　　　　　　　　　　シート」内のアンケートデータを一度に印刷することができます。\n　　　　　　　　　　　　　　ただし、印刷初期設定の給紙トレイは”手差し”、用紙は”ハガキサイズ”となっている\n　　　　　　　　　　　　　　ため、他のサイズの用紙を用意した場合は、プリンターエラーが出る場合があります。\n　　　　　　　　　　　　　　また、一度印刷ボタンを押すと途中で中断できないため、印刷環境を整えてからクリック\n　　　　　　　　　　　　　　してください。\n\n                            ※各施設に設置されているプリンターの仕様によっても、設定方法が異なる可能性があるため\n　　　　　　　　　　　　　　適宜、プリンターにあった設定方法を確認してください。\n\n　　　◆「差し込み用」・・・このシートに入力されているデータは、当課題の”答え”を兼ねていますので、当シート\n　　　　　　　　　　　　　　のデータを変更するとすべてのシートに影響します。\n\n　　　◆「回答参考」　・・・「アンケート入力用フォーマット」構成のためのシートです。\n\n　　　"]
["　　　◆「１」～「２１」の「アンケート入力用フォーマット」\n　　　　　　　　　　　・・・選手が実際に当フォーマットに入力する用に作成しています。\n　　　　　　　　　　　　　　当フォーマットは課題数に応じてシートをコピーし増設してください。\n\n　　　◆「入力フォーム合計」　・・・「アンケート入力用フォーマット」に入力した情報が当シートにまとまります。\n　　　　　　　　　　　　　　　　　　「アンケート入力用フォーマット」を増設した場合は、「入力フォーム合計」に\n　　　　　　　　　　　　　　　　　　 連動しているセルの数式を修正する必要があります。　　　　　　　　　　　　　　\n\n　　　◆「採点例」　　・・・「差し込み用」と「入力フォーマット合計」を比較して採点できるシートです。"]
["○当課題（エクセルファイル）は、マクロは使用しておりませんが、使用するにあたって以下の知識を必要とします。\n　　\n　　　◆エクセル関数（if関数、vlookup関数など）\n　　　◆行・列の表示方法\n　　　◆シートの保護、シートの表示・非表示及びシートへのパスワードの付与"]
["○当エクセルをそのまま地方アビリンピック大会の課題として実施する場合は、以下の点に注意して下さい。\n\n　　■選手が競技を実施するために不要なシートは非表示にし、パスワードをかけること。（選手によるシート再表示防止）\n\n　　　　（操作方法）※Microsoft　Excel2010の場合\n　　　　　１．非表示にしたいシートの名前タブ上で右クリックし「非表示」をクリック\n　　　　　２．左上の「ファイル」をクリック\n　　　　　３．「情報」タブの「ブックの保護」をクリック\n　　　　　４．「ブック構成の保護」をクリックし、「シート構成」にチェックを付けたままパスワードを設定する。\n　\n　　　※シートを再表示したい時は、２→３→４の順に進むと「ブック構成の保護解除」になりパスワードを入力すること\n　　　　で解除できます。　　　\n\n\n\n"]

{"sheet":"印刷用","index":1,"n_rows":24,"n_cols":6,"rows_kept":24,"cut":false,"hidden":true,"merged":[[0,0,0,5],[1,0,1,5],[10,0,10,5],[23,3,23,5],[14,3,14,5],[15,3,15,5],[22,3,22,5]]}
["お客様アンケート"]
["いつもご利用いただき誠にありがとうございます。"]
["アンケートにご協力くださいますようにお願いします。",null,null,null,"No",100]
["①　当店をどの程度ご利用されていますか。",null,null,null,"回答欄",{"$f":"IF($F$3=\"\",\"\",VLOOKUP($F$3,差し込み用!$A$2:$J$26,2,FALSE))","v":{"$error":"#N/A"}}]
["１．ほぼ毎日","２．週4～5回","３．週2～3回","４．週1回","５．月2～3回"]
["６．月1回程度","７．半年に2～3回","８．半年に1回","９．年1回程度","１０．今回が初めて"]
["②　誰とお越しになりましたか。",null,null,null,"回答欄",{"$f":"IF($F$3=\"\",\"\",VLOOKUP($F$3,差し込み用!$A$2:$J$26,3,FALSE))","v":{"$error":"#N/A"}}]
["１．1人","２．子供連れ家族","３． 夫婦","４．友人","５．仕事関係者"]
["６．恋人","７．その他"]
["③　当店に関してのご意見、ご要望があれば教えてください。"]
[{"$f":"IF($F$3=\"\",\"\",VLOOKUP($F$3,差し込み用!$A$2:$J$26,4,FALSE))","v":{"$error":"#N/A"}}]
[]
["よろしければ、お客様の氏名、ご年齢、ご職業、電話番号、メールアドレスを教えてください。"]
["後日お得な割引クーポンを発送します。（それぞれ1つだけお答えください。）"]
["④","フリガナ","回答欄",{"$f":"IF($F$3=\"\",\"\",VLOOKUP($F$3,差し込み用!$A$2:$J$26,5,FALSE))","v":{"$error":"#N/A"}}]
["⑤","氏名","回答欄",{"$f":"IF($F$3=\"\",\"\",VLOOKUP($F$3,差し込み用!$A$2:$J$26,6,FALSE))","v":{"$error":"#N/A"}}]
["⑥","年齢",null,null,"回答欄",{"$f":"IF($F$3=\"\",\"\",VLOOKUP($F$3,差し込み用!$A$2:$J$26,7,FALSE))","v":{"$error":"#N/A"}}]
[null,null,"１．10代","２．20代","３．30代","４．40代"]
[null,null,"５．50代","６．60代","７．70歳以上"]
["⑦","職業",null,null,"回答欄",{"$f":"IF($F$3=\"\",\"\",VLOOKUP($F$3,差し込み用!$A$2:$J$26,8,FALSE))","v":{"$error":"#N/A"}}]
[null,null,"１．中高生","２．短・専・大","３．事務職","４．販売・サービス業"]
[null,null,"５．建設業","６．主婦・主夫","７．無職","８．その他"]
["⑧","電話番号","回答欄",{"$f":"IF($F$3=\"\",\"\",VLOOKUP($F$3,差し込み用!$A$2:$J$26,9,FALSE))","v":{"$error":"#N/A"}}]
["⑨","メールアドレス","回答欄",{"$f":"IF($F$3=\"\",\"\",VLOOKUP($F$3,差し込み用!$A$2:$J$26,10,FALSE))","v":{"$error":"#N/A"}}]

{"sheet":"印刷用(アンケート）","index":2,"n_rows":27,"n_cols":6,"rows_kept":27,"cut":false,"hidden":true,"merged":[[26,3,26,5],[15,3,15,5],[16,3,16,5],[25,3,25,5],[11,0,11,1],[11,2,11,3],[11,4,11,5],[12,0,12,3],[13,3,13,4],[13,1,13,2],[0,0,0,5],[1,0,1,5],[10,0,10,1],[10,2,10,3],[10,4,10,5]]}
["アビリン電気店　お客様アンケート"]
["いつもご利用いただき誠にありがとうございます。"]
["アンケートにご協力くださいますようにお願いします。",null,null,null,"No",1]
["１．このたびは何を購入されましたか?１つだけお選びください。　",null,null,null,"回答欄",{"$f":"IF($F$3=\"\",\"\",VLOOKUP($F$3,差し込み用!$A$2:$L$26,2,FALSE))","v":""}]
["１．テレビ","２．冷蔵庫","３．洗濯機","４．電子レンジ","５．掃除機"]
["６．扇風機","７．エアコン","８．炊飯器","９．オーブン","１０．ゲーム機"]
["２．ご購入された商品は何でお知りになりましたか？１つだけお選びください。　",null,null,null,"回答欄",{"$f":"IF($F$3=\"\",\"\",VLOOKUP($F$3,差し込み用!$A$2:$L$26,3,FALSE))","v":""}]
["１．新聞","２．テレビ","３． ラジオ","４．雑誌","５．その他情報誌"]
["６．折込広告","７．車内広告","８．Ｗｅｂ","９．その他広告","10．ご家族、ご友人"]
["３．購入された理由は何ですか？１つだけお選びください。　",null,null,null,"回答欄",{"$f":"IF($F$3=\"\",\"\",VLOOKUP($F$3,差し込み用!$A$2:$L$26,4,FALSE))","v":0}]
["１．使っているものが古くなったから",null,"２．値段が手ごろだったから",null,"３．友人が使っていたから"]
["４．商品が気に入ったから",null,"５．家族にすすめられたから",null,"６．その他"]
["４．ご購入した商品は満足いただけましたでしょうか？",null,null,null,"回答欄",{"$f":"IF($F$3=\"\",\"\",VLOOKUP($F$3,差し込み用!$A$2:$L$26,5,FALSE))","v":0}]
["１．大変満足","２．まあまあ満足",null,"３． どちらかといえば不満足",null,"４．たいへん不満"]
["５．よろしければ、お客様について、お教えください。"]
["5.①","フリガナ","回答欄",{"$f":"IF($F$3=\"\",\"\",VLOOKUP($F$3,差し込み用!$A$2:$L$26,6,FALSE))","v":0}]
["5.②","氏名","回答欄",{"$f":"IF($F$3=\"\",\"\",VLOOKUP($F$3,差し込み用!$A$2:$L$26,7,FALSE))","v":""}]
["5.③","性別","１．男性","2.女性","回答欄",{"$f":"IF($F$3=\"\",\"\",VLOOKUP($F$3,差し込み用!$A$2:$L$26,8,FALSE))","v":""}]
["5.④","年齢",null,null,"回答欄",{"$f":"IF($F$3=\"\",\"\",VLOOKUP($F$3,差し込み用!$A$2:$L$26,9,FALSE))","v":0}]
[null,null,"1.10代","2.20代","3.30代","4.40代"]
[null,null,"5.50代","6.60代","7.70歳以上"]
["5.⑤","職業",null,null,"回答欄",{"$f":"IF($F$3=\"\",\"\",VLOOKUP($F$3,差し込み用!$A$2:$L$26,10,FALSE))","v":0}]
[null,null,"1.小学生","2.中高生","3.短・専門・大学生","4.管理職"]
[null,null,"5.事務職","6.専門・技術職","7.販売・サービス業","8.建設業"]
[null,null,"9.工場勤務","10.主婦・主夫","11.無職","12.その他"]
["5.⑥","電話番号","回答欄",{"$f":"IF($F$3=\"\",\"\",VLOOKUP($F$3,差し込み用!$A$2:$L$26,11,FALSE))","v":0}]
["5.⑦","メールアドレス","回答欄",{"$f":"IF($F$3=\"\",\"\",VLOOKUP($F$3,差し込み用!$A$2:$L$26,12,FALSE))","v":0}]

{"sheet":"印刷用(アンケート） (2)","index":3,"n_rows":27,"n_cols":6,"rows_kept":27,"cut":false,"hidden":true,"merged":[[26,3,26,5],[12,0,12,3],[13,1,13,2],[13,3,13,4],[15,3,15,5],[16,3,16,5],[25,3,25,5],[11,0,11,1],[11,2,11,3],[11,4,11,5],[0,0,0,5],[1,0,1,5],[10,0,10,1],[10,2,10,3],[10,4,10,5]]}
["アビリンオート　お客様アンケート"]
["いつもご利用いただき誠にありがとうございます。"]
["アンケートにご協力くださいますようにお願いします。",null,null,null,"No",1]
["１．どのメーカーの車を購入しましたか？　１つだけお選びください。",null,null,null,"回答欄",{"$f":"IF($F$3=\"\",\"\",VLOOKUP($F$3,差し込み用!$A$2:$L$26,2,FALSE))","v":""}]
["１．トヨタ","２．日産","３．本田","４．マツダ","５．スバル"]
["６．スズキ","７．ミツビシ","８．ダイハツ","９．レクサス","１０．輸入車"]
["２．ご購入された車種は？１つだけお選びください。　",null,null,null,"回答欄",{"$f":"IF($F$3=\"\",\"\",VLOOKUP($F$3,差し込み用!$A$2:$L$26,3,FALSE))","v":""}]
["１．軽自動車","２．SUV","３． １BOX","４．ワゴン","５．セダン"]
["６．コンパクト","７．オープン","８．ハイブリッド","９．電気自動車","10．その他"]
["３．購入された理由は何ですか？１つだけお選びください。　",null,null,null,"回答欄",{"$f":"IF($F$3=\"\",\"\",VLOOKUP($F$3,差し込み用!$A$2:$L$26,4,FALSE))","v":0}]
["１．購入したい車だった",null,"２．値段が手ごろだったから",null,"３．ディーラーですすめられた"]
["４．燃費がいいから",null,"５．家族にすすめられたから",null,"６．その他"]
["４．ご購入した車は満足いただけましたでしょうか？",null,null,null,"回答欄",{"$f":"IF($F$3=\"\",\"\",VLOOKUP($F$3,差し込み用!$A$2:$L$26,5,FALSE))","v":0}]
["１．大変満足","２．まあまあ満足",null,"３． どちらかといえば不満足",null,"４．たいへん不満"]
["５．よろしければ、お客様について、お教えください。"]
["5.①","フリガナ","回答欄",{"$f":"IF($F$3=\"\",\"\",VLOOKUP($F$3,差し込み用!$A$2:$L$26,6,FALSE))","v":0}]
["5.②","氏名","回答欄",{"$f":"IF($F$3=\"\",\"\",VLOOKUP($F$3,差し込み用!$A$2:$L$26,7,FALSE))","v":""}]
["5.③","性別","１．男性","2.女性","回答欄",{"$f":"IF($F$3=\"\",\"\",VLOOKUP($F$3,差し込み用!$A$2:$L$26,8,FALSE))","v":""}]
["5.④","年齢",null,null,"回答欄",{"$f":"IF($F$3=\"\",\"\",VLOOKUP($F$3,差し込み用!$A$2:$L$26,9,FALSE))","v":0}]
[null,null,"1.10代","2.20代","3.30代","4.40代"]
[null,null,"5.50代","6.60代","7.70歳以上"]
["5.⑤","職業",null,null,"回答欄",{"$f":"IF($F$3=\"\",\"\",VLOOKUP($F$3,差し込み用!$A$2:$L$26,10,FALSE))","v":0}]
[null,null,"1.公務員","2.団体職員","3.短・専門・大学生","4.管理職"]
[null,null,"5.事務職","6.専門・技術職","7.販売・サービス業","8.建設業"]
[null,null,"9.工場勤務","10.主婦・主夫","11.無職","12.その他"]
["5.⑥","電話番号","回答欄",{"$f":"IF($F$3=\"\",\"\",VLOOKUP($F$3,差し込み用!$A$2:$L$26,11,FALSE))","v":0}]
["5.⑦","メールアドレス","回答欄",{"$f":"IF($F$3=\"\",\"\",VLOOKUP($F$3,差し込み用!$A$2:$L$26,12,FALSE))","v":0}]

{"sheet":"差し込み用","index":4,"n_rows":26,"n_cols":10,"rows_kept":26,"cut":false,"hidden":true,"merged":[]}
["No","①","②","③","④","⑤","⑥","⑦","⑧","⑨"]
[1,{"$f":"入力フォーム合計!B2","v":""},{"$f":"入力フォーム合計!C2","v":""},{"$f":"入力フォーム合計!D2","v":0},{"$f":"入力フォーム合計!E2","v":0},{"$f":"入力フォーム合計!F2","v":0},{"$f":"入力フォーム合計!G2","v":""},{"$f":"入力フォーム合計!H2","v":""},{"$f":"入力フォーム合計!I2","v":0},{"$f":"入力フォーム合計!J2","v":0}]
[2,{"$f":"入力フォーム合計!B3","v":""},{"$f":"入力フォーム合計!C3","v":""},{"$f":"入力フォーム合計!D3","v":0},{"$f":"入力フォーム合計!E3","v":0},{"$f":"入力フォーム合計!F3","v":0},{"$f":"入力フォーム合計!G3","v":""},{"$f":"入力フォーム合計!H3","v":""},{"$f":"入力フォーム合計!I3","v":0},{"$f":"入力フォーム合計!J3","v":0}]
[3,{"$f":"入力フォーム合計!B4","v":""},{"$f":"入力フォーム合計!C4","v":""},{"$f":"入力フォーム合計!D4","v":0},{"$f":"入力フォーム合計!E4","v":0},{"$f":"入力フォーム合計!F4","v":0},{"$f":"入力フォーム合計!G4","v":""},{"$f":"入力フォーム合計!H4","v":""},{"$f":"入力フォーム合計!I4","v":0},{"$f":"入力フォーム合計!J4","v":0}]
[4,{"$f":"入力フォーム合計!B5","v":""},{"$f":"入力フォーム合計!C5","v":""},{"$f":"入力フォーム合計!D5","v":0},{"$f":"入力フォーム合計!E5","v":0},{"$f":"入力フォーム合計!F5","v":0},{"$f":"入力フォーム合計!G5","v":""},{"$f":"入力フォーム合計!H5","v":""},{"$f":"入力フォーム合計!I5","v":0},{"$f":"入力フォーム合計!J5","v":0}]
[5,{"$f":"入力フォーム合計!B6","v":""},{"$f":"入力フォーム合計!C6","v":""},{"$f":"入力フォーム合計!D6","v":0},{"$f":"入力フォーム合計!E6","v":0},{"$f":"入力フォーム合計!F6","v":0},{"$f":"入力フォーム合計!G6","v":""},{"$f":"入力フォーム合計!H6","v":""},{"$f":"入力フォーム合計!I6","v":0},{"$f":"入力フォーム合計!J6","v":0}]
[6,{"$f":"入力フォーム合計!B7","v":""},{"$f":"入力フォーム合計!C7","v":""},{"$f":"入力フォーム合計!D7","v":0},{"$f":"入力フォーム合計!E7","v":0},{"$f":"入力フォーム合計!F7","v":0},{"$f":"入力フォーム合計!G7","v":""},{"$f":"入力フォーム合計!H7","v":""},{"$f":"入力フォーム合計!I7","v":0},{"$f":"入力フォーム合計!J7","v":0}]
[7,{"$f":"入力フォーム合計!B8","v":""},{"$f":"入力フォーム合計!C8","v":""},{"$f":"入力フォーム合計!D8","v":0},{"$f":"入力フォーム合計!E8","v":0},{"$f":"入力フォーム合計!F8","v":0},{"$f":"入力フォーム合計!G8","v":""},{"$f":"入力フォーム合計!H8","v":""},{"$f":"入力フォーム合計!I8","v":0},{"$f":"入力フォーム合計!J8","v":0}]
[8,{"$f":"入力フォーム合計!B9","v":""},{"$f":"入力フォーム合計!C9","v":""},{"$f":"入力フォーム合計!D9","v":0},{"$f":"入力フォーム合計!E9","v":0},{"$f":"入力フォーム合計!F9","v":0},{"$f":"入力フォーム合計!G9","v":""},{"$f":"入力フォーム合計!H9","v":""},{"$f":"入力フォーム合計!I9","v":0},{"$f":"入力フォーム合計!J9","v":0}]
[9,{"$f":"入力フォーム合計!B10","v":""},{"$f":"入力フォーム合計!C10","v":""},{"$f":"入力フォーム合計!D10","v":0},{"$f":"入力フォーム合計!E10","v":0},{"$f":"入力フォーム合計!F10","v":0},{"$f":"入力フォーム合計!G10","v":""},{"$f":"入力フォーム合計!H10","v":""},{"$f":"入力フォーム合計!I10","v":0},{"$f":"入力フォーム合計!J10","v":0}]
[10,{"$f":"入力フォーム合計!B11","v":""},{"$f":"入力フォーム合計!C11","v":""},{"$f":"入力フォーム合計!D11","v":0},{"$f":"入力フォーム合計!E11","v":0},{"$f":"入力フォーム合計!F11","v":0},{"$f":"入力フォーム合計!G11","v":""},{"$f":"入力フォーム合計!H11","v":""},{"$f":"入力フォーム合計!I11","v":0},{"$f":"入力フォーム合計!J11","v":0}]
[11,{"$f":"入力フォーム合計!B12","v":""},{"$f":"入力フォーム合計!C12","v":""},{"$f":"入力フォーム合計!D12","v":0},{"$f":"入力フォーム合計!E12","v":0},{"$f":"入力フォーム合計!F12","v":0},{"$f":"入力フォーム合計!G12","v":""},{"$f":"入力フォーム合計!H12","v":""},{"$f":"入力フォーム合計!I12","v":0},{"$f":"入力フォーム合計!J12","v":0}]
[12,{"$f":"入力フォーム合計!B13","v":""},{"$f":"入力フォーム合計!C13","v":""},{"$f":"入力フォーム合計!D13","v":0},{"$f":"入力フォーム合計!E13","v":0},{"$f":"入力フォーム合計!F13","v":0},{"$f":"入力フォーム合計!G13","v":""},{"$f":"入力フォーム合計!H13","v":""},{"$f":"入力フォーム合計!I13","v":0},{"$f":"入力フォーム合計!J13","v":0}]
[13,{"$f":"入力フォーム合計!B14","v":""},{"$f":"入力フォーム合計!C14","v":""},{"$f":"入力フォーム合計!D14","v":0},{"$f":"入力フォーム合計!E14","v":0},{"$f":"入力フォーム合計!F14","v":0},{"$f":"入力フォーム合計!G14","v":""},{"$f":"入力フォーム合計!H14","v":""},{"$f":"入力フォーム合計!I14","v":0},{"$f":"入力フォーム合計!J14","v":0}]
[14,{"$f":"入力フォーム合計!B15","v":""},{"$f":"入力フォーム合計!C15","v":""},{"$f":"入力フォーム合計!D15","v":0},{"$f":"入力フォーム合計!E15","v":0},{"$f":"入力フォーム合計!F15","v":0},{"$f":"入力フォーム合計!G15","v":""},{"$f":"入力フォーム合計!H15","v":""},{"$f":"入力フォーム合計!I15","v":0},{"$f":"入力フォーム合計!J15","v":0}]
[15,{"$f":"入力フォーム合計!B16","v":""},{"$f":"入力フォーム合計!C16","v":""},{"$f":"入力フォーム合計!D16","v":0},{"$f":"入力フォーム合計!E16","v":0},{"$f":"入力フォーム合計!F16","v":0},{"$f":"入力フォーム合計!G16","v":""},{"$f":"入力フォーム合計!H16","v":""},{"$f":"入力フォーム合計!I16","v":0},{"$f":"入力フォーム合計!J16","v":0}]
[16,{"$f":"入力フォーム合計!B17","v":""},{"$f":"入力フォーム合計!C17","v":""},{"$f":"入力フォーム合計!D17","v":0},{"$f":"入力フォーム合計!E17","v":0},{"$f":"入力フォーム合計!F17","v":0},{"$f":"入力フォーム合計!G17","v":""},{"$f":"入力フォーム合計!H17","v":""},{"$f":"入力フォーム合計!I17","v":0},{"$f":"入力フォーム合計!J17","v":0}]
[17,{"$f":"入力フォーム合計!B18","v":""},{"$f":"入力フォーム合計!C18","v":""},{"$f":"入力フォーム合計!D18","v":0},{"$f":"入力フォーム合計!E18","v":0},{"$f":"入力フォーム合計!F18","v":0},{"$f":"入力フォーム合計!G18","v":""},{"$f":"入力フォーム合計!H18","v":""},{"$f":"入力フォーム合計!I18","v":0},{"$f":"入力フォーム合計!J18","v":0}]
[18,{"$f":"入力フォーム合計!B19","v":""},{"$f":"入力フォーム合計!C19","v":""},{"$f":"入力フォーム合計!D19","v":0},{"$f":"入力フォーム合計!E19","v":0},{"$f":"入力フォーム合計!F19","v":0},{"$f":"入力フォーム合計!G19","v":""},{"$f":"入力フォーム合計!H19","v":""},{"$f":"入力フォーム合計!I19","v":0},{"$f":"入力フォーム合計!J19","v":0}]
[19,{"$f":"入力フォーム合計!B20","v":""},{"$f":"入力フォーム合計!C20","v":""},{"$f":"入力フォーム合計!D20","v":0},{"$f":"入力フォーム合計!E20","v":0},{"$f":"入力フォーム合計!F20","v":0},{"$f":"入力フォーム合計!G20","v":""},{"$f":"入力フォーム合計!H20","v":""},{"$f":"入力フォーム合計!I20","v":0},{"$f":"入力フォーム合計!J20","v":0}]
[20,{"$f":"入力フォーム合計!B21","v":""},{"$f":"入力フォーム合計!C21","v":""},{"$f":"入力フォーム合計!D21","v":0},{"$f":"入力フォーム合計!E21","v":0},{"$f":"入力フォーム合計!F21","v":0},{"$f":"入力フォーム合計!G21","v":""},{"$f":"入力フォーム合計!H21","v":""},{"$f":"入力フォーム合計!I21","v":0},{"$f":"入力フォーム合計!J21","v":0}]
[21,{"$f":"入力フォーム合計!B22","v":""},{"$f":"入力フォーム合計!C22","v":""},{"$f":"入力フォーム合計!D22","v":0},{"$f":"入力フォーム合計!E22","v":0},{"$f":"入力フォーム合計!F22","v":0},{"$f":"入力フォーム合計!G22","v":""},{"$f":"入力フォーム合計!H22","v":""},{"$f":"入力フォーム合計!I22","v":0},{"$f":"入力フォーム合計!J22","v":0}]
[22,{"$f":"入力フォーム合計!B23","v":""},{"$f":"入力フォーム合計!C23","v":""},{"$f":"入力フォーム合計!D23","v":0},{"$f":"入力フォーム合計!E23","v":0},{"$f":"入力フォーム合計!F23","v":0},{"$f":"入力フォーム合計!G23","v":""},{"$f":"入力フォーム合計!H23","v":""},{"$f":"入力フォーム合計!I23","v":0},{"$f":"入力フォーム合計!J23","v":0}]
[23,{"$f":"入力フォーム合計!B24","v":""},{"$f":"入力フォーム合計!C24","v":""},{"$f":"入力フォーム合計!D24","v":0},{"$f":"入力フォーム合計!E24","v":0},{"$f":"入力フォーム合計!F24","v":0},{"$f":"入力フォーム合計!G24","v":""},{"$f":"入力フォーム合計!H24","v":""},{"$f":"入力フォーム合計!I24","v":0},{"$f":"入力フォーム合計!J24","v":0}]
[24,{"$f":"入力フォーム合計!B25","v":""},{"$f":"入力フォーム合計!C25","v":""},{"$f":"入力フォーム合計!D25","v":0},{"$f":"入力フォーム合計!E25","v":0},{"$f":"入力フォーム合計!F25","v":0},{"$f":"入力フォーム合計!G25","v":""},{"$f":"入力フォーム合計!H25","v":""},{"$f":"入力フォーム合計!I25","v":0},{"$f":"入力フォーム合計!J25","v":0}]
[25,{"$f":"入力フォーム合計!B26","v":""},{"$f":"入力フォーム合計!C26","v":""},{"$f":"入力フォーム合計!D26","v":0},{"$f":"入力フォーム合計!E26","v":0},{"$f":"入力フォーム合計!F26","v":0},{"$f":"入力フォーム合計!G26","v":""},{"$f":"入力フォーム合計!H26","v":""},{"$f":"入力フォーム合計!I26","v":0},{"$f":"入力フォーム合計!J26","v":0}]

{"sheet":"回答参考","index":5,"n_rows":70,"n_cols":8,"rows_kept":70,"cut":false,"hidden":true,"merged":[[7,1,7,2],[8,1,8,2],[9,1,9,3],[10,1,10,3],[11,1,11,3],[6,1,6,3],[1,1,1,3],[2,1,2,3],[3,1,3,3],[4,1,4,3],[5,1,5,3]]}
["項目","回答",null,null,null,null,null,"非表示列"]
["①1",null,null,null,"▼プルダウンメニュー",null,null,{"$f":"VLOOKUP(B2,$B$14:$C$23,2,0)","v":{"$error":"#N/A"}}]
["②1",null,null,null,"▼プルダウンメニュー",null,null,{"$f":"VLOOKUP(B3,$B$25:$C$34,2,0)","v":{"$error":"#N/A"}}]
["③1",null,null,null,"▼プルダウンメニュー",null,null,{"$f":"VLOOKUP(B4,$B$36:$C$41,2,0)","v":{"$error":"#N/A"}}]
["④1",null,null,null,"▼プルダウンメニュー",null,null,{"$f":"VLOOKUP(B5,$B$43:$C$46,2,0)","v":{"$error":"#N/A"}}]
["⑤1"]
["⑤2"]
["⑤3",null,null,null,"▼プルダウンメニュー",null,null,{"$f":"VLOOKUP(B8,$B$48:$C$49,2,0)","v":{"$error":"#N/A"}}]
["⑤4",null,null,null,"▼プルダウンメニュー",null,null,{"$f":"VLOOKUP(B9,$B$51:$C$57,2,0)","v":{"$error":"#N/A"}}]
["⑤5",null,null,null,"▼プルダウンメニュー",null,null,{"$f":"VLOOKUP(B10,$B$59:$C$70,2,0)","v":{"$error":"#N/A"}}]
["⑤6"]
["⑤7"]
[]
["①1","1.テレビ",1,"非表示行"]
[null,"2.冷蔵庫",2]
[null,"3.洗濯機",3]
[null,"4.電子レンジ",4]
[null,"5.掃除機",5]
[null,"6.扇風機",6]
[null,"7.エアコン",7]
[null,"8.炊飯器",8]
[null,"9.オーブン",9]
[null,"10.ゲーム機",10]
[]
["②1","1.新聞",1]
[null,"2.テレビ",2]
[null,"3.ラジオ",3]
[null,"4.雑誌",4]
[null,"5.その他情報誌",5]
[null,"6.折込広告",6]
[null,"7.車内広告",7]
[null,"8.Ｗｅｂ",8]
[null,"9.その他広告",9]
[null,"10.ご家族、ご友人",10]
[]
["③1","1.使っているものが古くなったから",1]
[null,"2.値段が手ごろだったから",2]
[null,"3.友人が使っていたから",3]
[null,"4.商品が気に入ったから",4]
[null,"5.家族にすすめられたから",5]
[null,"6.その他",6]
[]
["④1","1.大変満足",1]
[null,"2.まあまあ満足",2]
[null,"3.どちらかといえば不満足",3]
[null,"4.たいへん不満",4]
[]
["⑤3","1.男性",1]
[null,"2.女性",2]
[]
["⑤4","1.10代",1]
[null,"2.20代",2]
[null,"3.30代",3]
[null,"4.40代",4]
[null,"5.50代",5]
[null,"6.60代",6]
[null,"7.70歳以上",7]
[]
["⑤5","1.小学生",1]
[null,"2.中高生",2]
[null,"3.短・専門・大学生",3]
[null,"4.管理職",4]
[null,"5.事務職",5]
[null,"6.専門・技術職",6]
[null,"7.販売・サービス業",7]
[null,"8.建設業",8]
[null,"9.工場勤務",9]
[null,"10.主婦・主夫",10]
[null,"11.無職",11]
[null,"12.その他",12]

{"sheet":"入力フォーム合計","index":6,"n_rows":26,"n_cols":10,"rows_kept":26,"cut":false,"hidden":true,"merged":[]}
["No","①","②","③","④","⑤","⑥","⑦","⑧","⑨"]
[1,{"$f":"IFERROR(INDIRECT(ROW($A1)&\"!$H$2\"),\"\")","v":""},{"$f":"IFERROR(INDIRECT(ROW($A1)&\"!$H$3\"),\"\")","v":""},{"$f":"IFERROR(INDIRECT(ROW($A1)&\"!$H$4\"),\"\")","v":0},{"$f":"IFERROR(INDIRECT(ROW($A1)&\"!$H$5\"),\"\")","v":0},{"$f":"IFERROR(INDIRECT(ROW($A1)&\"!$H$6\"),\"\")","v":0},{"$f":"IFERROR(INDIRECT(ROW($A1)&\"!$H$7\"),\"\")","v":""},{"$f":"IFERROR(INDIRECT(ROW($A1)&\"!$H$8\"),\"\")","v":""},{"$f":"IFERROR(INDIRECT(ROW($A1)&\"!$H$9\"),\"\")","v":0},{"$f":"IFERROR(INDIRECT(ROW($A1)&\"!$H$10\"),\"\")","v":0}]
[2,{"$f":"IFERROR(INDIRECT(ROW($A2)&\"!$H$2\"),\"\")","v":""},{"$f":"IFERROR(INDIRECT(ROW($A2)&\"!$H$3\"),\"\")","v":""},{"$f":"IFERROR(INDIRECT(ROW($A2)&\"!$H$4\"),\"\")","v":0},{"$f":"IFERROR(INDIRECT(ROW($A2)&\"!$H$5\"),\"\")","v":0},{"$f":"IFERROR(INDIRECT(ROW($A2)&\"!$H$6\"),\"\")","v":0},{"$f":"IFERROR(INDIRECT(ROW($A2)&\"!$H$7\"),\"\")","v":""},{"$f":"IFERROR(INDIRECT(ROW($A2)&\"!$H$8\"),\"\")","v":""},{"$f":"IFERROR(INDIRECT(ROW($A2)&\"!$H$9\"),\"\")","v":0},{"$f":"IFERROR(INDIRECT(ROW($A2)&\"!$H$10\"),\"\")","v":0}]
[3,"","",0,0,0,"","",0,0]
[4,"","",0,0,0,"","",0,0]
[5,"","",0,0,0,"","",0,0]
[6,"","",0,0,0,"","",0,0]
[7,"","",0,0,0,"","",0,0]
[8,"","",0,0,0,"","",0,0]
[9,"","",0,0,0,"","",0,0]
[10,"","",0,0,0,"","",0,0]
[11,"","",0,0,0,"","",0,0]
[12,"","",0,0,0,"","",0,0]
[13,"","",0,0,0,"","",0,0]
[14,"","",0,0,0,"","",0,0]
[15,"","",0,0,0,"","",0,0]
[16,"","",0,0,0,"","",0,0]
[17,"","",0,0,0,"","",0,0]
[18,"","",0,0,0,"","",0,0]
[19,"","",0,0,0,"","",0,0]
[20,"","",0,0,0,"","",0,0]
[21,"","",0,0,0,"","",0,0]
[22,"","",0,0,0,"","",0,0]
[23,"","",0,0,0,"","",0,0]
[24,"","",0,0,0,"","",0,0]
[25,"","",0,0,0,"","",0,0]

{"sheet":"採点","index":7,"n_rows":29,"n_cols":24,"rows_kept":29,"cut":false,"hidden":true,"merged":[]}
["No","①","②","③","④","⑤","⑥","⑦","⑧","⑨",null,null,"結果","①","②","③","④","⑤","⑥","⑦","⑧","⑨","合計","採点"]
[1,{"$f":"Word回答取込!B2","v":8},{"$f":"Word回答取込!C2","v":2},{"$f":"Word回答取込!D2","v":"サービスが良かった。"},{"$f":"Word回答取込!E2","v":"カワタ　ハヤテ"},{"$f":"Word回答取込!F2","v":"河田　颯"},{"$f":"Word回答取込!G2","v":4},{"$f":"Word回答取込!H2","v":3},{"$f":"Word回答取込!I2","v":"06-426-0393"},{"$f":"Word回答取込!J2","v":"fcake@kochi.jp"},null,null,null,{"$f":"IF(入力フォーム合計!B2=採点!B2,\"〇\",\"\")","v":""},{"$f":"IF(入力フォーム合計!C2=採点!C2,\"〇\",\"\")","v":""},{"$f":"IF(入力フォーム合計!D2=採点!D2,\"〇\",\"\")","v":""},{"$f":"IF(入力フォーム合計!E2=採点!E2,\"〇\",\"\")","v":""},{"$f":"IF(入力フォーム合計!F2=採点!F2,\"〇\",\"\")","v":""},{"$f":"IF(入力フォーム合計!G2=採点!G2,\"〇\",\"\")","v":""},{"$f":"IF(入力フォーム合計!H2=採点!H2,\"〇\",\"\")","v":""},{"$f":"IF(入力フォーム合計!I2=採点!I2,\"〇\",\"\")","v":""},{"$f":"IF(入力フォーム合計!J2=採点!J2,\"〇\",\"\")","v":""},{"$f":"COUNTIF(N2:V2,\"〇\")","v":0},{"$f":"IF(W2=COUNTA($N$1:$V$1),\"〇\",\"×\")","v":"×"}]
[2,{"$f":"Word回答取込!B3","v":6},{"$f":"Word回答取込!C3","v":3},{"$f":"Word回答取込!D3","v":"楽しかった。"},{"$f":"Word回答取込!E3","v":"オオサキ　アラタ"},{"$f":"Word回答取込!F3","v":"大崎　新"},{"$f":"Word回答取込!G3","v":3},{"$f":"Word回答取込!H3","v":8},{"$f":"Word回答取込!I3","v":"06-532-1941"},{"$f":"Word回答取込!J3","v":"food@butsuryu.co.jp"},null,null,null,{"$f":"IF(入力フォーム合計!B3=採点!B3,\"〇\",\"\")","v":""},{"$f":"IF(入力フォーム合計!C3=採点!C3,\"〇\",\"\")","v":""},{"$f":"IF(入力フォーム合計!D3=採点!D3,\"〇\",\"\")","v":""},{"$f":"IF(入力フォーム合計!E3=採点!E3,\"〇\",\"\")","v":""},{"$f":"IF(入力フォーム合計!F3=採点!F3,\"〇\",\"\")","v":""},{"$f":"IF(入力フォーム合計!G3=採点!G3,\"〇\",\"\")","v":""},{"$f":"IF(入力フォーム合計!H3=採点!H3,\"〇\",\"\")","v":""},{"$f":"IF(入力フォーム合計!I3=採点!I3,\"〇\",\"\")","v":""},{"$f":"IF(入力フォーム合計!J3=採点!J3,\"〇\",\"\")","v":""},{"$f":"COUNTIF(N3:V3,\"〇\")","v":0},{"$f":"IF(W3=COUNTA($N$1:$V$1),\"〇\",\"×\")","v":"×"}]
[3,{"$f":"Word回答取込!B4","v":6},{"$f":"Word回答取込!C4","v":7},{"$f":"Word回答取込!D4","v":"また来たい。"},{"$f":"Word回答取込!E4","v":"ミタニ　スズ"},{"$f":"Word回答取込!F4","v":"深谷　すず"},{"$f":"Word回答取込!G4","v":2},{"$f":"Word回答取込!H4","v":2},{"$f":"Word回答取込!I4","v":"06-451-6330"},{"$f":"Word回答取込!J4","v":"bmux@argo21.co.jp"},null,null,null,{"$f":"IF(入力フォーム合計!B4=採点!B4,\"〇\",\"\")","v":""},{"$f":"IF(入力フォーム合計!C4=採点!C4,\"〇\",\"\")","v":""},{"$f":"IF(入力フォーム合計!D4=採点!D4,\"〇\",\"\")","v":""},{"$f":"IF(入力フォーム合計!E4=採点!E4,\"〇\",\"\")","v":""},{"$f":"IF(入力フォーム合計!F4=採点!F4,\"〇\",\"\")","v":""},{"$f":"IF(入力フォーム合計!G4=採点!G4,\"〇\",\"\")","v":""},{"$f":"IF(入力フォーム合計!H4=採点!H4,\"〇\",\"\")","v":""},{"$f":"IF(入力フォーム合計!I4=採点!I4,\"〇\",\"\")","v":""},{"$f":"IF(入力フォーム合計!J4=採点!J4,\"〇\",\"\")","v":""},0,"×"]
[4,{"$f":"Word回答取込!B5","v":8},{"$f":"Word回答取込!C5","v":1},{"$f":"Word回答取込!D5","v":"おいしかった。"},{"$f":"Word回答取込!E5","v":"クリヤマ　シュリ"},{"$f":"Word回答取込!F5","v":"栗山　朱莉"},{"$f":"Word回答取込!G5","v":1},{"$f":"Word回答取込!H5","v":2},{"$f":"Word回答取込!I5","v":"06-542-7609"},{"$f":"Word回答取込!J5","v":"neck@kyu.co.jp"},null,null,null,{"$f":"IF(入力フォーム合計!B5=採点!B5,\"〇\",\"\")","v":""},{"$f":"IF(入力フォーム合計!C5=採点!C5,\"〇\",\"\")","v":""},{"$f":"IF(入力フォーム合計!D5=採点!D5,\"〇\",\"\")","v":""},{"$f":"IF(入力フォーム合計!E5=採点!E5,\"〇\",\"\")","v":""},{"$f":"IF(入力フォーム合計!F5=採点!F5,\"〇\",\"\")","v":""},{"$f":"IF(入力フォーム合計!G5=採点!G5,\"〇\",\"\")","v":""},{"$f":"IF(入力フォーム合計!H5=採点!H5,\"〇\",\"\")","v":""},{"$f":"IF(入力フォーム合計!I5=採点!I5,\"〇\",\"\")","v":""},{"$f":"IF(入力フォーム合計!J5=採点!J5,\"〇\",\"\")","v":""},0,"×"]
[5,{"$f":"Word回答取込!B6","v":1},{"$f":"Word回答取込!C6","v":4},{"$f":"Word回答取込!D6","v":"段差がある。"},{"$f":"Word回答取込!E6","v":"サタケ　アヤト"},{"$f":"Word回答取込!F6","v":"佐竹　絢斗"},{"$f":"Word回答取込!G6","v":7},{"$f":"Word回答取込!H6","v":7},{"$f":"Word回答取込!I6","v":"06-390-2277"},{"$f":"Word回答取込!J6","v":"nanack@amano.co.jp"},null,null,null,{"$f":"IF(入力フォーム合計!B6=採点!B6,\"〇\",\"\")","v":""},{"$f":"IF(入力フォーム合計!C6=採点!C6,\"〇\",\"\")","v":""},{"$f":"IF(入力フォーム合計!D6=採点!D6,\"〇\",\"\")","v":""},{"$f":"IF(入力フォーム合計!E6=採点!E6,\"〇\",\"\")","v":""},{"$f":"IF(入力フォーム合計!F6=採点!F6,\"〇\",\"\")","v":""},{"$f":"IF(入力フォーム合計!G6=採点!G6,\"〇\",\"\")","v":""},{"$f":"IF(入力フォーム合計!H6=採点!H6,\"〇\",\"\")","v":""},{"$f":"IF(入力フォーム合計!I6=採点!I6,\"〇\",\"\")","v":""},{"$f":"IF(入力フォーム合計!J6=採点!J6,\"〇\",\"\")","v":""},0,"×"]
[6,{"$f":"Word回答取込!B7","v":4},{"$f":"Word回答取込!C7","v":2},{"$f":"Word回答取込!D7","v":"笑顔が素敵。"},{"$f":"Word回答取込!E7","v":"ミタニ　ヤマト"},{"$f":"Word回答取込!F7","v":"三谷　大和"},{"$f":"Word回答取込!G7","v":4},{"$f":"Word回答取込!H7","v":5},{"$f":"Word回答取込!I7","v":"06-371-2777"},{"$f":"Word回答取込!J7","v":"qzle@toshiba.co.jp"},null,null,null,{"$f":"IF(入力フォーム合計!B7=採点!B7,\"〇\",\"\")","v":""},{"$f":"IF(入力フォーム合計!C7=採点!C7,\"〇\",\"\")","v":""},{"$f":"IF(入力フォーム合計!D7=採点!D7,\"〇\",\"\")","v":""},{"$f":"IF(入力フォーム合計!E7=採点!E7,\"〇\",\"\")","v":""},{"$f":"IF(入力フォーム合計!F7=採点!F7,\"〇\",\"\")","v":""},{"$f":"IF(入力フォーム合計!G7=採点!G7,\"〇\",\"\")","v":""},{"$f":"IF(入力フォーム合計!H7=採点!H7,\"〇\",\"\")","v":""},{"$f":"IF(入力フォーム合計!I7=採点!I7,\"〇\",\"\")","v":""},{"$f":"IF(入力フォーム合計!J7=採点!J7,\"〇\",\"\")","v":""},0,"×"]
[7,{"$f":"Word回答取込!B8","v":10},{"$f":"Word回答取込!C8","v":3},{"$f":"Word回答取込!D8","v":"サービスが良かった。"},{"$f":"Word回答取込!E8","v":"エトウ　ハナ"},{"$f":"Word回答取込!F8","v":"江藤　はな"},{"$f":"Word回答取込!G8","v":5},{"$f":"Word回答取込!H8","v":7},{"$f":"Word回答取込!I8","v":"06-651-5598"},{"$f":"Word回答取込!J8","v":"mgvh@e-gov.go.jp"},null,null,null,{"$f":"IF(入力フォーム合計!B8=採点!B8,\"〇\",\"\")","v":""},{"$f":"IF(入力フォーム合計!C8=採点!C8,\"〇\",\"\")","v":""},{"$f":"IF(入力フォーム合計!D8=採点!D8,\"〇\",\"\")","v":""},{"$f":"IF(入力フォーム合計!E8=採点!E8,\"〇\",\"\")","v":""},{"$f":"IF(入力フォーム合計!F8=採点!F8,\"〇\",\"\")","v":""},{"$f":"IF(入力フォーム合計!G8=採点!G8,\"〇\",\"\")","v":""},{"$f":"IF(入力フォーム合計!H8=採点!H8,\"〇\",\"\")","v":""},{"$f":"IF(入力フォーム合計!I8=採点!I8,\"〇\",\"\")","v":""},{"$f":"IF(入力フォーム合計!J8=採点!J8,\"〇\",\"\")","v":""},0,"×"]
[8,{"$f":"Word回答取込!B9","v":9},{"$f":"Word回答取込!C9","v":7},{"$f":"Word回答取込!D9","v":"また来たい。"},{"$f":"Word回答取込!E9","v":"ナス　ツバサ"},{"$f":"Word回答取込!F9","v":"那須　翼"},{"$f":"Word回答取込!G9","v":4},{"$f":"Word回答取込!H9","v":7},{"$f":"Word回答取込!I9","v":"06-340-5980"},{"$f":"Word回答取込!J9","v":"rrx@hyogo.jp"},null,null,null,{"$f":"IF(入力フォーム合計!B9=採点!B9,\"〇\",\"\")","v":""},{"$f":"IF(入力フォーム合計!C9=採点!C9,\"〇\",\"\")","v":""},{"$f":"IF(入力フォーム合計!D9=採点!D9,\"〇\",\"\")","v":""},{"$f":"IF(入力フォーム合計!E9=採点!E9,\"〇\",\"\")","v":""},{"$f":"IF(入力フォーム合計!F9=採点!F9,\"〇\",\"\")","v":""},{"$f":"IF(入力フォーム合計!G9=採点!G9,\"〇\",\"\")","v":""},{"$f":"IF(入力フォーム合計!H9=採点!H9,\"〇\",\"\")","v":""},{"$f":"IF(入力フォーム合計!I9=採点!I9,\"〇\",\"\")","v":""},{"$f":"IF(入力フォーム合計!J9=採点!J9,\"〇\",\"\")","v":""},0,"×"]
[9,{"$f":"Word回答取込!B10","v":5},{"$f":"Word回答取込!C10","v":4},{"$f":"Word回答取込!D10","v":"楽しかった。"},{"$f":"Word回答取込!E10","v":"オオエ　ヒマリ"},{"$f":"Word回答取込!F10","v":"大江　ひまり"},{"$f":"Word回答取込!G10","v":3},{"$f":"Word回答取込!H10","v":4},{"$f":"Word回答取込!I10","v":"06-884-7762"},{"$f":"Word回答取込!J10","v":"psater@nisse.co.jp"},null,null,null,{"$f":"IF(入力フォーム合計!B10=採点!B10,\"〇\",\"\")","v":""},{"$f":"IF(入力フォーム合計!C10=採点!C10,\"〇\",\"\")","v":""},{"$f":"IF(入力フォーム合計!D10=採点!D10,\"〇\",\"\")","v":""},{"$f":"IF(入力フォーム合計!E10=採点!E10,\"〇\",\"\")","v":""},{"$f":"IF(入力フォーム合計!F10=採点!F10,\"〇\",\"\")","v":""},{"$f":"IF(入力フォーム合計!G10=採点!G10,\"〇\",\"\")","v":""},{"$f":"IF(入力フォーム合計!H10=採点!H10,\"〇\",\"\")","v":""},{"$f":"IF(入力フォーム合計!I10=採点!I10,\"〇\",\"\")","v":""},{"$f":"IF(入力フォーム合計!J10=採点!J10,\"〇\",\"\")","v":""},0,"×"]
[10,{"$f":"Word回答取込!B11","v":3},{"$f":"Word回答取込!C11","v":6},{"$f":"Word回答取込!D11","v":"コーヒーがいい。"},{"$f":"Word回答取込!E11","v":"ホサカ　コトハ"},{"$f":"Word回答取込!F11","v":"保坂　琴葉"},{"$f":"Word回答取込!G11","v":2},{"$f":"Word回答取込!H11","v":3},{"$f":"Word回答取込!I11","v":"06-917-2617"},{"$f":"Word回答取込!J11","v":"lsbex@gov.go.jp"},null,null,null,{"$f":"IF(入力フォーム合計!B11=採点!B11,\"〇\",\"\")","v":""},{"$f":"IF(入力フォーム合計!C11=採点!C11,\"〇\",\"\")","v":""},{"$f":"IF(入力フォーム合計!D11=採点!D11,\"〇\",\"\")","v":""},{"$f":"IF(入力フォーム合計!E11=採点!E11,\"〇\",\"\")","v":""},{"$f":"IF(入力フォーム合計!F11=採点!F11,\"〇\",\"\")","v":""},{"$f":"IF(入力フォーム合計!G11=採点!G11,\"〇\",\"\")","v":""},{"$f":"IF(入力フォーム合計!H11=採点!H11,\"〇\",\"\")","v":""},{"$f":"IF(入力フォーム合計!I11=採点!I11,\"〇\",\"\")","v":""},{"$f":"IF(入力フォーム合計!J11=採点!J11,\"〇\",\"\")","v":""},0,"×"]
[11,{"$f":"Word回答取込!B12","v":7},{"$f":"Word回答取込!C12","v":5},{"$f":"Word回答取込!D12","v":"アイスがおいしい。"},{"$f":"Word回答取込!E12","v":"フルヤ　ナギ"},{"$f":"Word回答取込!F12","v":"古屋　凪"},{"$f":"Word回答取込!G12","v":2},{"$f":"Word回答取込!H12","v":2},{"$f":"Word回答取込!I12","v":"06-427-3247"},{"$f":"Word回答取込!J12","v":"anvne@tokai-u.ac.jp"},null,null,null,{"$f":"IF(入力フォーム合計!B12=採点!B12,\"〇\",\"\")","v":""},{"$f":"IF(入力フォーム合計!C12=採点!C12,\"〇\",\"\")","v":""},{"$f":"IF(入力フォーム合計!D12=採点!D12,\"〇\",\"\")","v":""},{"$f":"IF(入力フォーム合計!E12=採点!E12,\"〇\",\"\")","v":""},{"$f":"IF(入力フォーム合計!F12=採点!F12,\"〇\",\"\")","v":""},{"$f":"IF(入力フォーム合計!G12=採点!G12,\"〇\",\"\")","v":""},{"$f":"IF(入力フォーム合計!H12=採点!H12,\"〇\",\"\")","v":""},{"$f":"IF(入力フォーム合計!I12=採点!I12,\"〇\",\"\")","v":""},{"$f":"IF(入力フォーム合計!J12=採点!J12,\"〇\",\"\")","v":""},0,"×"]
[12,{"$f":"Word回答取込!B13","v":9},{"$f":"Word回答取込!C13","v":7},{"$f":"Word回答取込!D13","v":"おいしかった。"},{"$f":"Word回答取込!E13","v":"シモヤマ　アヤノ"},{"$f":"Word回答取込!F13","v":"下山　綾乃"},{"$f":"Word回答取込!G13","v":7},{"$f":"Word回答取込!H13","v":8},{"$f":"Word回答取込!I13","v":"06-790-4293"},{"$f":"Word回答取込!J13","v":"gh@mf.go.jp"},null,null,null,{"$f":"IF(入力フォーム合計!B13=採点!B13,\"〇\",\"\")","v":""},{"$f":"IF(入力フォーム合計!C13=採点!C13,\"〇\",\"\")","v":""},{"$f":"IF(入力フォーム合計!D13=採点!D13,\"〇\",\"\")","v":""},{"$f":"IF(入力フォーム合計!E13=採点!E13,\"〇\",\"\")","v":""},{"$f":"IF(入力フォーム合計!F13=採点!F13,\"〇\",\"\")","v":""},{"$f":"IF(入力フォーム合計!G13=採点!G13,\"〇\",\"\")","v":""},{"$f":"IF(入力フォーム合計!H13=採点!H13,\"〇\",\"\")","v":""},{"$f":"IF(入力フォーム合計!I13=採点!I13,\"〇\",\"\")","v":""},{"$f":"IF(入力フォーム合計!J13=採点!J13,\"〇\",\"\")","v":""},0,"×"]
[13,{"$f":"Word回答取込!B14","v":5},{"$f":"Word回答取込!C14","v":6},{"$f":"Word回答取込!D14","v":"また来たい。"},{"$f":"Word回答取込!E14","v":"モウリ　リオ"},{"$f":"Word回答取込!F14","v":"毛利　莉央"},{"$f":"Word回答取込!G14","v":6},{"$f":"Word回答取込!H14","v":6},{"$f":"Word回答取込!I14","v":"06-191-5303"},{"$f":"Word回答取込!J14","v":"mqqke@nexcorp.com"},null,null,null,{"$f":"IF(入力フォーム合計!B14=採点!B14,\"〇\",\"\")","v":""},{"$f":"IF(入力フォーム合計!C14=採点!C14,\"〇\",\"\")","v":""},{"$f":"IF(入力フォーム合計!D14=採点!D14,\"〇\",\"\")","v":""},{"$f":"IF(入力フォーム合計!E14=採点!E14,\"〇\",\"\")","v":""},{"$f":"IF(入力フォーム合計!F14=採点!F14,\"〇\",\"\")","v":""},{"$f":"IF(入力フォーム合計!G14=採点!G14,\"〇\",\"\")","v":""},{"$f":"IF(入力フォーム合計!H14=採点!H14,\"〇\",\"\")","v":""},{"$f":"IF(入力フォーム合計!I14=採点!I14,\"〇\",\"\")","v":""},{"$f":"IF(入力フォーム合計!J14=採点!J14,\"〇\",\"\")","v":""},0,"×"]
[14,{"$f":"Word回答取込!B15","v":2},{"$f":"Word回答取込!C15","v":6},{"$f":"Word回答取込!D15","v":"涼しくしてほしい。"},{"$f":"Word回答取込!E15","v":"ハマグチ　ユウマ"},{"$f":"Word回答取込!F15","v":"浜口　悠真"},{"$f":"Word回答取込!G15","v":5},{"$f":"Word回答取込!H15","v":8},{"$f":"Word回答取込!I15","v":"06-631-7979"},{"$f":"Word回答取込!J15","v":"rj@tochigibank.co.jp"},null,null,null,{"$f":"IF(入力フォーム合計!B15=採点!B15,\"〇\",\"\")","v":""},{"$f":"IF(入力フォーム合計!C15=採点!C15,\"〇\",\"\")","v":""},{"$f":"IF(入力フォーム合計!D15=採点!D15,\"〇\",\"\")","v":""},{"$f":"IF(入力フォーム合計!E15=採点!E15,\"〇\",\"\")","v":""},{"$f":"IF(入力フォーム合計!F15=採点!F15,\"〇\",\"\")","v":""},{"$f":"IF(入力フォーム合計!G15=採点!G15,\"〇\",\"\")","v":""},{"$f":"IF(入力フォーム合計!H15=採点!H15,\"〇\",\"\")","v":""},{"$f":"IF(入力フォーム合計!I15=採点!I15,\"〇\",\"\")","v":""},{"$f":"IF(入力フォーム合計!J15=採点!J15,\"〇\",\"\")","v":""},0,"×"]
[15,{"$f":"Word回答取込!B16","v":3},{"$f":"Word回答取込!C16","v":7},{"$f":"Word回答取込!D16","v":"笑顔がいい。"},{"$f":"Word回答取込!E16","v":"イシワタリ　カイト"},{"$f":"Word回答取込!F16","v":"石渡　海斗"},{"$f":"Word回答取込!G16","v":4},{"$f":"Word回答取込!H16","v":4},{"$f":"Word回答取込!I16","v":"06-392-4006"},{"$f":"Word回答取込!J16","v":"tena@ishikawa.co.jp"},null,null,null,{"$f":"IF(入力フォーム合計!B16=採点!B16,\"〇\",\"\")","v":""},{"$f":"IF(入力フォーム合計!C16=採点!C16,\"〇\",\"\")","v":""},{"$f":"IF(入力フォーム合計!D16=採点!D16,\"〇\",\"\")","v":""},{"$f":"IF(入力フォーム合計!E16=採点!E16,\"〇\",\"\")","v":""},{"$f":"IF(入力フォーム合計!F16=採点!F16,\"〇\",\"\")","v":""},{"$f":"IF(入力フォーム合計!G16=採点!G16,\"〇\",\"\")","v":""},{"$f":"IF(入力フォーム合計!H16=採点!H16,\"〇\",\"\")","v":""},{"$f":"IF(入力フォーム合計!I16=採点!I16,\"〇\",\"\")","v":""},{"$f":"IF(入力フォーム合計!J16=採点!J16,\"〇\",\"\")","v":""},0,"×"]
[16,{"$f":"Word回答取込!B17","v":2},{"$f":"Word回答取込!C17","v":7},{"$f":"Word回答取込!D17","v":"水がぬるい。"},{"$f":"Word回答取込!E17","v":"ハンダ　ヨウダイ"},{"$f":"Word回答取込!F17","v":"半田　陽大"},{"$f":"Word回答取込!G17","v":3},{"$f":"Word回答取込!H17","v":5},{"$f":"Word回答取込!I17","v":"06-287-5572"},{"$f":"Word回答取込!J17","v":"tdack@uoriki.co.jp"},null,null,null,{"$f":"IF(入力フォーム合計!B17=採点!B17,\"〇\",\"\")","v":""},{"$f":"IF(入力フォーム合計!C17=採点!C17,\"〇\",\"\")","v":""},{"$f":"IF(入力フォーム合計!D17=採点!D17,\"〇\",\"\")","v":""},{"$f":"IF(入力フォーム合計!E17=採点!E17,\"〇\",\"\")","v":""},{"$f":"IF(入力フォーム合計!F17=採点!F17,\"〇\",\"\")","v":""},{"$f":"IF(入力フォーム合計!G17=採点!G17,\"〇\",\"\")","v":""},{"$f":"IF(入力フォーム合計!H17=採点!H17,\"〇\",\"\")","v":""},{"$f":"IF(入力フォーム合計!I17=採点!I17,\"〇\",\"\")","v":""},{"$f":"IF(入力フォーム合計!J17=採点!J17,\"〇\",\"\")","v":""},0,"×"]
[17,{"$f":"Word回答取込!B18","v":7},{"$f":"Word回答取込!C18","v":7},{"$f":"Word回答取込!D18","v":"部屋が狭い。"},{"$f":"Word回答取込!E18","v":"カワイ　カエデ"},{"$f":"Word回答取込!F18","v":"川合　楓"},{"$f":"Word回答取込!G18","v":2},{"$f":"Word回答取込!H18","v":4},{"$f":"Word回答取込!I18","v":"06-700-4176"},{"$f":"Word回答取込!J18","v":"deek@jimos.co.jp"},null,null,null,{"$f":"IF(入力フォーム合計!B18=採点!B18,\"〇\",\"\")","v":""},{"$f":"IF(入力フォーム合計!C18=採点!C18,\"〇\",\"\")","v":""},{"$f":"IF(入力フォーム合計!D18=採点!D18,\"〇\",\"\")","v":""},{"$f":"IF(入力フォーム合計!E18=採点!E18,\"〇\",\"\")","v":""},{"$f":"IF(入力フォーム合計!F18=採点!F18,\"〇\",\"\")","v":""},{"$f":"IF(入力フォーム合計!G18=採点!G18,\"〇\",\"\")","v":""},{"$f":"IF(入力フォーム合計!H18=採点!H18,\"〇\",\"\")","v":""},{"$f":"IF(入力フォーム合計!I18=採点!I18,\"〇\",\"\")","v":""},{"$f":"IF(入力フォーム合計!J18=採点!J18,\"〇\",\"\")","v":""},0,"×"]
[18,{"$f":"Word回答取込!B19","v":3},{"$f":"Word回答取込!C19","v":6},{"$f":"Word回答取込!D19","v":"おいしかった。"},{"$f":"Word回答取込!E19","v":"トオヤマ　メイ"},{"$f":"Word回答取込!F19","v":"遠山　芽依"},{"$f":"Word回答取込!G19","v":1},{"$f":"Word回答取込!H19","v":1},{"$f":"Word回答取込!I19","v":"06-330-3714"},{"$f":"Word回答取込!J19","v":"ydc@saga.jp"},null,null,null,{"$f":"IF(入力フォーム合計!B19=採点!B19,\"〇\",\"\")","v":""},{"$f":"IF(入力フォーム合計!C19=採点!C19,\"〇\",\"\")","v":""},{"$f":"IF(入力フォーム合計!D19=採点!D19,\"〇\",\"\")","v":""},{"$f":"IF(入力フォーム合計!E19=採点!E19,\"〇\",\"\")","v":""},{"$f":"IF(入力フォーム合計!F19=採点!F19,\"〇\",\"\")","v":""},{"$f":"IF(入力フォーム合計!G19=採点!G19,\"〇\",\"\")","v":""},{"$f":"IF(入力フォーム合計!H19=採点!H19,\"〇\",\"\")","v":""},{"$f":"IF(入力フォーム合計!I19=採点!I19,\"〇\",\"\")","v":""},{"$f":"IF(入力フォーム合計!J19=採点!J19,\"〇\",\"\")","v":""},0,"×"]
[19,{"$f":"Word回答取込!B20","v":5},{"$f":"Word回答取込!C20","v":5},{"$f":"Word回答取込!D20","v":"よくなかった。"},{"$f":"Word回答取込!E20","v":"ナミキ　ソウマ"},{"$f":"Word回答取込!F20","v":"並木　壮真"},{"$f":"Word回答取込!G20","v":7},{"$f":"Word回答取込!H20","v":5},{"$f":"Word回答取込!I20","v":"06-695-0414"},{"$f":"Word回答取込!J20","v":"twqia@ohuu.ac.jp"},null,null,null,{"$f":"IF(入力フォーム合計!B20=採点!B20,\"〇\",\"\")","v":""},{"$f":"IF(入力フォーム合計!C20=採点!C20,\"〇\",\"\")","v":""},{"$f":"IF(入力フォーム合計!D20=採点!D20,\"〇\",\"\")","v":""},{"$f":"IF(入力フォーム合計!E20=採点!E20,\"〇\",\"\")","v":""},{"$f":"IF(入力フォーム合計!F20=採点!F20,\"〇\",\"\")","v":""},{"$f":"IF(入力フォーム合計!G20=採点!G20,\"〇\",\"\")","v":""},{"$f":"IF(入力フォーム合計!H20=採点!H20,\"〇\",\"\")","v":""},{"$f":"IF(入力フォーム合計!I20=採点!I20,\"〇\",\"\")","v":""},{"$f":"IF(入力フォーム合計!J20=採点!J20,\"〇\",\"\")","v":""},0,"×"]
[20,{"$f":"Word回答取込!B21","v":8},{"$f":"Word回答取込!C21","v":4},{"$f":"Word回答取込!D21","v":"もう来たくない。"},{"$f":"Word回答取込!E21","v":"シマムラ　アオイ"},{"$f":"Word回答取込!F21","v":"島村　葵"},{"$f":"Word回答取込!G21","v":6},{"$f":"Word回答取込!H21","v":7},{"$f":"Word回答取込!I21","v":"06-613-3264"},{"$f":"Word回答取込!J21","v":"gvex@uss.co.jp"},null,null,null,{"$f":"IF(入力フォーム合計!B21=採点!B21,\"〇\",\"\")","v":""},{"$f":"IF(入力フォーム合計!C21=採点!C21,\"〇\",\"\")","v":""},{"$f":"IF(入力フォーム合計!D21=採点!D21,\"〇\",\"\")","v":""},{"$f":"IF(入力フォーム合計!E21=採点!E21,\"〇\",\"\")","v":""},{"$f":"IF(入力フォーム合計!F21=採点!F21,\"〇\",\"\")","v":""},{"$f":"IF(入力フォーム合計!G21=採点!G21,\"〇\",\"\")","v":""},{"$f":"IF(入力フォーム合計!H21=採点!H21,\"〇\",\"\")","v":""},{"$f":"IF(入力フォーム合計!I21=採点!I21,\"〇\",\"\")","v":""},{"$f":"IF(入力フォーム合計!J21=採点!J21,\"〇\",\"\")","v":""},0,"×"]
[21,{"$f":"Word回答取込!B22","v":9},{"$f":"Word回答取込!C22","v":7},{"$f":"Word回答取込!D22","v":"サービスが良かった。"},{"$f":"Word回答取込!E22","v":"ハシグチ　レイ"},{"$f":"Word回答取込!F22","v":"橋口　怜"},{"$f":"Word回答取込!G22","v":5},{"$f":"Word回答取込!H22","v":3},{"$f":"Word回答取込!I22","v":"06-342-2252"},{"$f":"Word回答取込!J22","v":"sklee@tocos.co.jp"},null,null,null,{"$f":"IF(入力フォーム合計!B22=採点!B22,\"〇\",\"\")","v":""},{"$f":"IF(入力フォーム合計!C22=採点!C22,\"〇\",\"\")","v":""},{"$f":"IF(入力フォーム合計!D22=採点!D22,\"〇\",\"\")","v":""},{"$f":"IF(入力フォーム合計!E22=採点!E22,\"〇\",\"\")","v":""},{"$f":"IF(入力フォーム合計!F22=採点!F22,\"〇\",\"\")","v":""},{"$f":"IF(入力フォーム合計!G22=採点!G22,\"〇\",\"\")","v":""},{"$f":"IF(入力フォーム合計!H22=採点!H22,\"〇\",\"\")","v":""},{"$f":"IF(入力フォーム合計!I22=採点!I22,\"〇\",\"\")","v":""},{"$f":"IF(入力フォーム合計!J22=採点!J22,\"〇\",\"\")","v":""},0,"×"]
[22,{"$f":"Word回答取込!B23","v":9},{"$f":"Word回答取込!C23","v":7},{"$f":"Word回答取込!D23","v":"楽しかった。"},{"$f":"Word回答取込!E23","v":"タカハラ　ルイ"},{"$f":"Word回答取込!F23","v":"高原　類"},{"$f":"Word回答取込!G23","v":4},{"$f":"Word回答取込!H23","v":4},{"$f":"Word回答取込!I23","v":"06-330-1929"},{"$f":"Word回答取込!J23","v":"pool@kochi.jp"},null,null,null,{"$f":"IF(入力フォーム合計!B23=採点!B23,\"〇\",\"\")","v":""},{"$f":"IF(入力フォーム合計!C23=採点!C23,\"〇\",\"\")","v":""},{"$f":"IF(入力フォーム合計!D23=採点!D23,\"〇\",\"\")","v":""},{"$f":"IF(入力フォーム合計!E23=採点!E23,\"〇\",\"\")","v":""},{"$f":"IF(入力フォーム合計!F23=採点!F23,\"〇\",\"\")","v":""},{"$f":"IF(入力フォーム合計!G23=採点!G23,\"〇\",\"\")","v":""},{"$f":"IF(入力フォーム合計!H23=採点!H23,\"〇\",\"\")","v":""},{"$f":"IF(入力フォーム合計!I23=採点!I23,\"〇\",\"\")","v":""},{"$f":"IF(入力フォーム合計!J23=採点!J23,\"〇\",\"\")","v":""},0,"×"]
[23,{"$f":"Word回答取込!B24","v":2},{"$f":"Word回答取込!C24","v":4},{"$f":"Word回答取込!D24","v":"また来たい。"},{"$f":"Word回答取込!E24","v":"タテイシ　サエ"},{"$f":"Word回答取込!F24","v":"立石　紗英"},{"$f":"Word回答取込!G24","v":3},{"$f":"Word回答取込!H24","v":3},{"$f":"Word回答取込!I24","v":"06-400-0509"},{"$f":"Word回答取込!J24","v":"dzbd@maff.go.jp"},null,null,null,{"$f":"IF(入力フォーム合計!B24=採点!B24,\"〇\",\"\")","v":""},{"$f":"IF(入力フォーム合計!C24=採点!C24,\"〇\",\"\")","v":""},{"$f":"IF(入力フォーム合計!D24=採点!D24,\"〇\",\"\")","v":""},{"$f":"IF(入力フォーム合計!E24=採点!E24,\"〇\",\"\")","v":""},{"$f":"IF(入力フォーム合計!F24=採点!F24,\"〇\",\"\")","v":""},{"$f":"IF(入力フォーム合計!G24=採点!G24,\"〇\",\"\")","v":""},{"$f":"IF(入力フォーム合計!H24=採点!H24,\"〇\",\"\")","v":""},{"$f":"IF(入力フォーム合計!I24=採点!I24,\"〇\",\"\")","v":""},{"$f":"IF(入力フォーム合計!J24=採点!J24,\"〇\",\"\")","v":""},0,"×"]
[24,{"$f":"Word回答取込!B25","v":9},{"$f":"Word回答取込!C25","v":4},{"$f":"Word回答取込!D25","v":"おいしかった。"},{"$f":"Word回答取込!E25","v":"ウチノ　リクト"},{"$f":"Word回答取込!F25","v":"内野　陸斗"},{"$f":"Word回答取込!G25","v":2},{"$f":"Word回答取込!H25","v":2},{"$f":"Word回答取込!I25","v":"06-755-0340"},{"$f":"Word回答取込!J25","v":"zeed@meiji.ac.jp"},null,null,null,{"$f":"IF(入力フォーム合計!B25=採点!B25,\"〇\",\"\")","v":""},{"$f":"IF(入力フォーム合計!C25=採点!C25,\"〇\",\"\")","v":""},{"$f":"IF(入力フォーム合計!D25=採点!D25,\"〇\",\"\")","v":""},{"$f":"IF(入力フォーム合計!E25=採点!E25,\"〇\",\"\")","v":""},{"$f":"IF(入力フォーム合計!F25=採点!F25,\"〇\",\"\")","v":""},{"$f":"IF(入力フォーム合計!G25=採点!G25,\"〇\",\"\")","v":""},{"$f":"IF(入力フォーム合計!H25=採点!H25,\"〇\",\"\")","v":""},{"$f":"IF(入力フォーム合計!I25=採点!I25,\"〇\",\"\")","v":""},{"$f":"IF(入力フォーム合計!J25=採点!J25,\"〇\",\"\")","v":""},0,"×"]
[25,{"$f":"Word回答取込!B26","v":3},{"$f":"Word回答取込!C26","v":7},{"$f":"Word回答取込!D26","v":"もう来たくない。"},{"$f":"Word回答取込!E26","v":"タカヤナギ　アカリ"},{"$f":"Word回答取込!F26","v":"高柳　あかり"},{"$f":"Word回答取込!G26","v":1},{"$f":"Word回答取込!H26","v":2},{"$f":"Word回答取込!I26","v":"06-921-4427"},{"$f":"Word回答取込!J26","v":"qflxky@kurita.co.jp"},null,null,null,{"$f":"IF(入力フォーム合計!B26=採点!B26,\"〇\",\"\")","v":""},{"$f":"IF(入力フォーム合計!C26=採点!C26,\"〇\",\"\")","v":""},{"$f":"IF(入力フォーム合計!D26=採点!D26,\"〇\",\"\")","v":""},{"$f":"IF(入力フォーム合計!E26=採点!E26,\"〇\",\"\")","v":""},{"$f":"IF(入力フォーム合計!F26=採点!F26,\"〇\",\"\")","v":""},{"$f":"IF(入力フォーム合計!G26=採点!G26,\"〇\",\"\")","v":""},{"$f":"IF(入力フォーム合計!H26=採点!H26,\"〇\",\"\")","v":""},{"$f":"IF(入力フォーム合計!I26=採点!I26,\"〇\",\"\")","v":""},{"$f":"IF(入力フォーム合計!J26=採点!J26,\"〇\",\"\")","v":""},0,"×"]
[null,null,null,null,null,null,null,null,null,null,null,null,null,null,null,null,null,null,null,null,null,null,"正解枚数",{"$f":"COUNTIF($X$2:$X$26,\"〇\")","v":0}]
[null,null,null,null,null,null,null,null,null,null,null,null,null,null,null,null,null,null,null,null,null,null,"合計点数",{"$f":"COUNTIF($X$2:$X$26,\"〇\")*W29","v":0}]
[null,null,null,null,null,null,null,null,null,null,null,null,null,null,null,null,null,null,null,null,null,null,4,"点"]

{"sheet":"Word回答取込","index":8,"n_rows":26,"n_cols":15,"rows_kept":26,"cut":false,"hidden":true,"merged":[]}
["No","①","②","③","④","⑤","⑥","⑦","⑧","⑨",null,null,null,"ファイル名","課題１【アンケート用紙】差込済1-25（セクション区切り削除）.doc"]
[1,8,2,"サービスが良かった。","カワタ　ハヤテ","河田　颯",4,3,"06-426-0393","fcake@kochi.jp",null,null,null,"全正解枚数",{"$f":"採点!X27","v":0}]
[2,6,3,"楽しかった。","オオサキ　アラタ","大崎　新",3,8,"06-532-1941","food@butsuryu.co.jp",null,null,null,"点数",{"$f":"採点!X28","v":0}]
[3,6,7,"また来たい。","ミタニ　スズ","深谷　すず",2,2,"06-451-6330","bmux@argo21.co.jp"]
[4,8,1,"おいしかった。","クリヤマ　シュリ","栗山　朱莉",1,2,"06-542-7609","neck@kyu.co.jp"]
[5,1,4,"段差がある。","サタケ　アヤト","佐竹　絢斗",7,7,"06-390-2277","nanack@amano.co.jp"]
[6,4,2,"笑顔が素敵。","ミタニ　ヤマト","三谷　大和",4,5,"06-371-2777","qzle@toshiba.co.jp"]
[7,10,3,"サービスが良かった。","エトウ　ハナ","江藤　はな",5,7,"06-651-5598","mgvh@e-gov.go.jp"]
[8,9,7,"また来たい。","ナス　ツバサ","那須　翼",4,7,"06-340-5980","rrx@hyogo.jp"]
[9,5,4,"楽しかった。","オオエ　ヒマリ","大江　ひまり",3,4,"06-884-7762","psater@nisse.co.jp"]
[10,3,6,"コーヒーがいい。","ホサカ　コトハ","保坂　琴葉",2,3,"06-917-2617","lsbex@gov.go.jp"]
[11,7,5,"アイスがおいしい。","フルヤ　ナギ","古屋　凪",2,2,"06-427-3247","anvne@tokai-u.ac.jp"]
[12,9,7,"おいしかった。","シモヤマ　アヤノ","下山　綾乃",7,8,"06-790-4293","gh@mf.go.jp"]
[13,5,6,"また来たい。","モウリ　リオ","毛利　莉央",6,6,"06-191-5303","mqqke@nexcorp.com"]
[14,2,6,"涼しくしてほしい。","ハマグチ　ユウマ","浜口　悠真",5,8,"06-631-7979","rj@tochigibank.co.jp"]
[15,3,7,"笑顔がいい。","イシワタリ　カイト","石渡　海斗",4,4,"06-392-4006","tena@ishikawa.co.jp"]
[16,2,7,"水がぬるい。","ハンダ　ヨウダイ","半田　陽大",3,5,"06-287-5572","tdack@uoriki.co.jp"]
[17,7,7,"部屋が狭い。","カワイ　カエデ","川合　楓",2,4,"06-700-4176","deek@jimos.co.jp"]
[18,3,6,"おいしかった。","トオヤマ　メイ","遠山　芽依",1,1,"06-330-3714","ydc@saga.jp"]
[19,5,5,"よくなかった。","ナミキ　ソウマ","並木　壮真",7,5,"06-695-0414","twqia@ohuu.ac.jp"]
[20,8,4,"もう来たくない。","シマムラ　アオイ","島村　葵",6,7,"06-613-3264","gvex@uss.co.jp"]
[21,9,7,"サービスが良かった。","ハシグチ　レイ","橋口　怜",5,3,"06-342-2252","sklee@tocos.co.jp"]
[22,9,7,"楽しかった。","タカハラ　ルイ","高原　類",4,4,"06-330-1929","pool@kochi.jp"]
[23,2,4,"また来たい。","タテイシ　サエ","立石　紗英",3,3,"06-400-0509","dzbd@maff.go.jp"]
[24,9,4,"おいしかった。","ウチノ　リクト","内野　陸斗",2,2,"06-755-0340","zeed@meiji.ac.jp"]
[25,3,7,"もう来たくない。","タカヤナギ　アカリ","高柳　あかり",1,2,"06-921-4427","qflxky@kurita.co.jp"]

{"sheet":"採点例","index":9,"n_rows":152,"n_cols":28,"rows_kept":152,"cut":false,"hidden":true,"merged":[]}
["No",1,2,3,4,"5①","5②","5③","5④","5⑤","5⑥","5⑦",null,null,"結果",1,2,3,4,"5①","5②","5③","5④","5⑤","5⑥","5⑦","合計","採点"]
[1,2,2,2,2,"イワサワ　トシアキ","岩沢　敏明",1,1,2,"0893-45-6330","opwer@kawamoto-sangyo.co.jp",null,null,null,{"$f":"IF(入力フォーム合計!B2=採点例!B2,\"〇\",\"\")","v":""},{"$f":"IF(入力フォーム合計!C2=採点例!C2,\"〇\",\"\")","v":""},{"$f":"IF(入力フォーム合計!D2=採点例!D2,\"〇\",\"\")","v":""},{"$f":"IF(入力フォーム合計!E2=採点例!E2,\"〇\",\"\")","v":""},{"$f":"IF(入力フォーム合計!F2=採点例!F2,\"〇\",\"\")","v":""},{"$f":"IF(入力フォーム合計!G2=採点例!G2,\"〇\",\"\")","v":""},{"$f":"IF(入力フォーム合計!H2=採点例!H2,\"〇\",\"\")","v":""},{"$f":"IF(入力フォーム合計!I2=採点例!I2,\"〇\",\"\")","v":""},{"$f":"IF(入力フォーム合計!J2=採点例!J2,\"〇\",\"\")","v":""},{"$f":"IF(入力フォーム合計!K2=採点例!K2,\"〇\",\"\")","v":""},{"$f":"IF(入力フォーム合計!L2=採点例!L2,\"〇\",\"\")","v":""},{"$f":"COUNTIF(P2:Z2,\"〇\")","v":0},{"$f":"IF(AA2=COUNTA($P$1:$Z$1),\"〇\",\"×\")","v":"×"}]
[2,9,10,5,1,"ヤザワ　リュウジ","矢沢　隆司",1,5,4,"0547-57-5839","lrtfrjprvf@tochigibank.co.jp",null,null,null,{"$f":"IF(入力フォーム合計!B3=採点例!B3,\"〇\",\"\")","v":""},{"$f":"IF(入力フォーム合計!C3=採点例!C3,\"〇\",\"\")","v":""},{"$f":"IF(入力フォーム合計!D3=採点例!D3,\"〇\",\"\")","v":""},{"$f":"IF(入力フォーム合計!E3=採点例!E3,\"〇\",\"\")","v":""},{"$f":"IF(入力フォーム合計!F3=採点例!F3,\"〇\",\"\")","v":""},{"$f":"IF(入力フォーム合計!G3=採点例!G3,\"〇\",\"\")","v":""},{"$f":"IF(入力フォーム合計!H3=採点例!H3,\"〇\",\"\")","v":""},{"$f":"IF(入力フォーム合計!I3=採点例!I3,\"〇\",\"\")","v":""},{"$f":"IF(入力フォーム合計!J3=採点例!J3,\"〇\",\"\")","v":""},{"$f":"IF(入力フォーム合計!K3=採点例!K3,\"〇\",\"\")","v":""},{"$f":"IF(入力フォーム合計!L3=採点例!L3,\"〇\",\"\")","v":""},0,"×"]
[3,8,3,4,3,"カミド　リナ","神戸　里奈",2,3,6,"0880-21-6777","oghwcyszic@mof.go.jp",null,null,null,{"$f":"IF(入力フォーム合計!B4=採点例!B4,\"〇\",\"\")","v":""},{"$f":"IF(入力フォーム合計!C4=採点例!C4,\"〇\",\"\")","v":""},{"$f":"IF(入力フォーム合計!D4=採点例!D4,\"〇\",\"\")","v":""},{"$f":"IF(入力フォーム合計!E4=採点例!E4,\"〇\",\"\")","v":""},{"$f":"IF(入力フォーム合計!F4=採点例!F4,\"〇\",\"\")","v":""},{"$f":"IF(入力フォーム合計!G4=採点例!G4,\"〇\",\"\")","v":""},{"$f":"IF(入力フォーム合計!H4=採点例!H4,\"〇\",\"\")","v":""},{"$f":"IF(入力フォーム合計!I4=採点例!I4,\"〇\",\"\")","v":""},{"$f":"IF(入力フォーム合計!J4=採点例!J4,\"〇\",\"\")","v":""},{"$f":"IF(入力フォーム合計!K4=採点例!K4,\"〇\",\"\")","v":""},{"$f":"IF(入力フォーム合計!L4=採点例!L4,\"〇\",\"\")","v":""},0,"×"]
[4,7,4,4,2,"ヤブ　マサアキ","薮　正明",1,4,9,"0575-69-6585","dtjzf@ishiifood.co.jp",null,null,null,{"$f":"IF(入力フォーム合計!B5=採点例!B5,\"〇\",\"\")","v":""},{"$f":"IF(入力フォーム合計!C5=採点例!C5,\"〇\",\"\")","v":""},{"$f":"IF(入力フォーム合計!D5=採点例!D5,\"〇\",\"\")","v":""},{"$f":"IF(入力フォーム合計!E5=採点例!E5,\"〇\",\"\")","v":""},{"$f":"IF(入力フォーム合計!F5=採点例!F5,\"〇\",\"\")","v":""},{"$f":"IF(入力フォーム合計!G5=採点例!G5,\"〇\",\"\")","v":""},{"$f":"IF(入力フォーム合計!H5=採点例!H5,\"〇\",\"\")","v":""},{"$f":"IF(入力フォーム合計!I5=採点例!I5,\"〇\",\"\")","v":""},{"$f":"IF(入力フォーム合計!J5=採点例!J5,\"〇\",\"\")","v":""},{"$f":"IF(入力フォーム合計!K5=採点例!K5,\"〇\",\"\")","v":""},{"$f":"IF(入力フォーム合計!L5=採点例!L5,\"〇\",\"\")","v":""},0,"×"]
[5,5,6,5,2,"トドロキ　マサヨシ","轟　正義",1,6,4,"09913-1-5250","hzfti@lifort.co.jp",null,null,null,{"$f":"IF(入力フォーム合計!B6=採点例!B6,\"〇\",\"\")","v":""},{"$f":"IF(入力フォーム合計!C6=採点例!C6,\"〇\",\"\")","v":""},{"$f":"IF(入力フォーム合計!D6=採点例!D6,\"〇\",\"\")","v":""},{"$f":"IF(入力フォーム合計!E6=採点例!E6,\"〇\",\"\")","v":""},{"$f":"IF(入力フォーム合計!F6=採点例!F6,\"〇\",\"\")","v":""},{"$f":"IF(入力フォーム合計!G6=採点例!G6,\"〇\",\"\")","v":""},{"$f":"IF(入力フォーム合計!H6=採点例!H6,\"〇\",\"\")","v":""},{"$f":"IF(入力フォーム合計!I6=採点例!I6,\"〇\",\"\")","v":""},{"$f":"IF(入力フォーム合計!J6=採点例!J6,\"〇\",\"\")","v":""},{"$f":"IF(入力フォーム合計!K6=採点例!K6,\"〇\",\"\")","v":""},{"$f":"IF(入力フォーム合計!L6=採点例!L6,\"〇\",\"\")","v":""},0,"×"]
[6,6,5,5,1,"アサハラ　ユキコ","浅原　幸子",2,4,5,"0293-97-4789","mlnaamgvhx@ksfg.co.jp",null,null,null,{"$f":"IF(入力フォーム合計!B7=採点例!B7,\"〇\",\"\")","v":""},{"$f":"IF(入力フォーム合計!C7=採点例!C7,\"〇\",\"\")","v":""},{"$f":"IF(入力フォーム合計!D7=採点例!D7,\"〇\",\"\")","v":""},{"$f":"IF(入力フォーム合計!E7=採点例!E7,\"〇\",\"\")","v":""},{"$f":"IF(入力フォーム合計!F7=採点例!F7,\"〇\",\"\")","v":""},{"$f":"IF(入力フォーム合計!G7=採点例!G7,\"〇\",\"\")","v":""},{"$f":"IF(入力フォーム合計!H7=採点例!H7,\"〇\",\"\")","v":""},{"$f":"IF(入力フォーム合計!I7=採点例!I7,\"〇\",\"\")","v":""},{"$f":"IF(入力フォーム合計!J7=採点例!J7,\"〇\",\"\")","v":""},{"$f":"IF(入力フォーム合計!K7=採点例!K7,\"〇\",\"\")","v":""},{"$f":"IF(入力フォーム合計!L7=採点例!L7,\"〇\",\"\")","v":""},0,"×"]
[7,4,3,6,1,"ヒロナカ　ミチコ","弘中　満智子",2,4,7,"072-647-5745","ybtdt@ishiss.co.jp",null,null,null,{"$f":"IF(入力フォーム合計!B8=採点例!B8,\"〇\",\"\")","v":""},{"$f":"IF(入力フォーム合計!C8=採点例!C8,\"〇\",\"\")","v":""},{"$f":"IF(入力フォーム合計!D8=採点例!D8,\"〇\",\"\")","v":""},{"$f":"IF(入力フォーム合計!E8=採点例!E8,\"〇\",\"\")","v":""},{"$f":"IF(入力フォーム合計!F8=採点例!F8,\"〇\",\"\")","v":""},{"$f":"IF(入力フォーム合計!G8=採点例!G8,\"〇\",\"\")","v":""},{"$f":"IF(入力フォーム合計!H8=採点例!H8,\"〇\",\"\")","v":""},{"$f":"IF(入力フォーム合計!I8=採点例!I8,\"〇\",\"\")","v":""},{"$f":"IF(入力フォーム合計!J8=採点例!J8,\"〇\",\"\")","v":""},{"$f":"IF(入力フォーム合計!K8=採点例!K8,\"〇\",\"\")","v":""},{"$f":"IF(入力フォーム合計!L8=採点例!L8,\"〇\",\"\")","v":""},0,"×"]
[8,9,7,3,3,"カルベ　ケンジ","軽部　健二",1,3,11,"0778-74-3714","whekvbdxmw@tocos-j.co.jp",null,null,null,{"$f":"IF(入力フォーム合計!B9=採点例!B9,\"〇\",\"\")","v":""},{"$f":"IF(入力フォーム合計!C9=採点例!C9,\"〇\",\"\")","v":""},{"$f":"IF(入力フォーム合計!D9=採点例!D9,\"〇\",\"\")","v":""},{"$f":"IF(入力フォーム合計!E9=採点例!E9,\"〇\",\"\")","v":""},{"$f":"IF(入力フォーム合計!F9=採点例!F9,\"〇\",\"\")","v":""},{"$f":"IF(入力フォーム合計!G9=採点例!G9,\"〇\",\"\")","v":""},{"$f":"IF(入力フォーム合計!H9=採点例!H9,\"〇\",\"\")","v":""},{"$f":"IF(入力フォーム合計!I9=採点例!I9,\"〇\",\"\")","v":""},{"$f":"IF(入力フォーム合計!J9=採点例!J9,\"〇\",\"\")","v":""},{"$f":"IF(入力フォーム合計!K9=採点例!K9,\"〇\",\"\")","v":""},{"$f":"IF(入力フォーム合計!L9=採点例!L9,\"〇\",\"\")","v":""},0,"×"]
[9,6,2,2,2,"アナイ　マサオ","穴井　正男",1,5,10,"0977-23-8888","skwwr@alinco.co.jp",null,null,null,{"$f":"IF(入力フォーム合計!B10=採点例!B10,\"〇\",\"\")","v":""},{"$f":"IF(入力フォーム合計!C10=採点例!C10,\"〇\",\"\")","v":""},{"$f":"IF(入力フォーム合計!D10=採点例!D10,\"〇\",\"\")","v":""},{"$f":"IF(入力フォーム合計!E10=採点例!E10,\"〇\",\"\")","v":""},{"$f":"IF(入力フォーム合計!F10=採点例!F10,\"〇\",\"\")","v":""},{"$f":"IF(入力フォーム合計!G10=採点例!G10,\"〇\",\"\")","v":""},{"$f":"IF(入力フォーム合計!H10=採点例!H10,\"〇\",\"\")","v":""},{"$f":"IF(入力フォーム合計!I10=採点例!I10,\"〇\",\"\")","v":""},{"$f":"IF(入力フォーム合計!J10=採点例!J10,\"〇\",\"\")","v":""},{"$f":"IF(入力フォーム合計!K10=採点例!K10,\"〇\",\"\")","v":""},{"$f":"IF(入力フォーム合計!L10=採点例!L10,\"〇\",\"\")","v":""},0,"×"]
[10,4,1,1,1,"ウエモト　エイイチ","上本　英一",1,6,11,"072-511-4745","rterxgcyfg@hyogo.jp",null,null,null,{"$f":"IF(入力フォーム合計!B11=採点例!B11,\"〇\",\"\")","v":""},{"$f":"IF(入力フォーム合計!C11=採点例!C11,\"〇\",\"\")","v":""},{"$f":"IF(入力フォーム合計!D11=採点例!D11,\"〇\",\"\")","v":""},{"$f":"IF(入力フォーム合計!E11=採点例!E11,\"〇\",\"\")","v":""},{"$f":"IF(入力フォーム合計!F11=採点例!F11,\"〇\",\"\")","v":""},{"$f":"IF(入力フォーム合計!G11=採点例!G11,\"〇\",\"\")","v":""},{"$f":"IF(入力フォーム合計!H11=採点例!H11,\"〇\",\"\")","v":""},{"$f":"IF(入力フォーム合計!I11=採点例!I11,\"〇\",\"\")","v":""},{"$f":"IF(入力フォーム合計!J11=採点例!J11,\"〇\",\"\")","v":""},{"$f":"IF(入力フォーム合計!K11=採点例!K11,\"〇\",\"\")","v":""},{"$f":"IF(入力フォーム合計!L11=採点例!L11,\"〇\",\"\")","v":""},0,"×"]
[11,9,1,1,1,"イクイ　トモカ","生井　友香",2,2,5,"098-623-1929","fizhh@hikkoshi-sakai.co.jp",null,null,null,{"$f":"IF(入力フォーム合計!B12=採点例!B12,\"〇\",\"\")","v":""},{"$f":"IF(入力フォーム合計!C12=採点例!C12,\"〇\",\"\")","v":""},{"$f":"IF(入力フォーム合計!D12=採点例!D12,\"〇\",\"\")","v":""},{"$f":"IF(入力フォーム合計!E12=採点例!E12,\"〇\",\"\")","v":""},{"$f":"IF(入力フォーム合計!F12=採点例!F12,\"〇\",\"\")","v":""},{"$f":"IF(入力フォーム合計!G12=採点例!G12,\"〇\",\"\")","v":""},{"$f":"IF(入力フォーム合計!H12=採点例!H12,\"〇\",\"\")","v":""},{"$f":"IF(入力フォーム合計!I12=採点例!I12,\"〇\",\"\")","v":""},{"$f":"IF(入力フォーム合計!J12=採点例!J12,\"〇\",\"\")","v":""},{"$f":"IF(入力フォーム合計!K12=採点例!K12,\"〇\",\"\")","v":""},{"$f":"IF(入力フォーム合計!L12=採点例!L12,\"〇\",\"\")","v":""},0,"×"]
[12,8,2,2,2,"ナカマ　クニオ","仲間　邦夫",1,3,11,"0574-88-3828","mhfrsyihyw@nabco-door.co.jp",null,null,null,{"$f":"IF(入力フォーム合計!B13=採点例!B13,\"〇\",\"\")","v":""},{"$f":"IF(入力フォーム合計!C13=採点例!C13,\"〇\",\"\")","v":""},{"$f":"IF(入力フォーム合計!D13=採点例!D13,\"〇\",\"\")","v":""},{"$f":"IF(入力フォーム合計!E13=採点例!E13,\"〇\",\"\")","v":""},{"$f":"IF(入力フォーム合計!F13=採点例!F13,\"〇\",\"\")","v":""},{"$f":"IF(入力フォーム合計!G13=採点例!G13,\"〇\",\"\")","v":""},{"$f":"IF(入力フォーム合計!H13=採点例!H13,\"〇\",\"\")","v":""},{"$f":"IF(入力フォーム合計!I13=採点例!I13,\"〇\",\"\")","v":""},{"$f":"IF(入力フォーム合計!J13=採点例!J13,\"〇\",\"\")","v":""},{"$f":"IF(入力フォーム合計!K13=採点例!K13,\"〇\",\"\")","v":""},{"$f":"IF(入力フォーム合計!L13=採点例!L13,\"〇\",\"\")","v":""},0,"×"]
[13,3,1,1,1,"サムカワ　シゲル","寒川　繁",1,2,3,"0563-92-7226","gdvex@ussnet.co.jp",null,null,null,{"$f":"IF(入力フォーム合計!B14=採点例!B14,\"〇\",\"\")","v":""},{"$f":"IF(入力フォーム合計!C14=採点例!C14,\"〇\",\"\")","v":""},{"$f":"IF(入力フォーム合計!D14=採点例!D14,\"〇\",\"\")","v":""},{"$f":"IF(入力フォーム合計!E14=採点例!E14,\"〇\",\"\")","v":""},{"$f":"IF(入力フォーム合計!F14=採点例!F14,\"〇\",\"\")","v":""},{"$f":"IF(入力フォーム合計!G14=採点例!G14,\"〇\",\"\")","v":""},{"$f":"IF(入力フォーム合計!H14=採点例!H14,\"〇\",\"\")","v":""},{"$f":"IF(入力フォーム合計!I14=採点例!I14,\"〇\",\"\")","v":""},{"$f":"IF(入力フォーム合計!J14=採点例!J14,\"〇\",\"\")","v":""},{"$f":"IF(入力フォーム合計!K14=採点例!K14,\"〇\",\"\")","v":""},{"$f":"IF(入力フォーム合計!L14=採点例!L14,\"〇\",\"\")","v":""},0,"×"]
[14,2,3,3,2,"シブサワ　ケイコ","渋沢　恵子",2,4,5,"0987-69-4176","htooc@zypro.co.jp",null,null,null,{"$f":"IF(入力フォーム合計!B15=採点例!B15,\"〇\",\"\")","v":""},{"$f":"IF(入力フォーム合計!C15=採点例!C15,\"〇\",\"\")","v":""},{"$f":"IF(入力フォーム合計!D15=採点例!D15,\"〇\",\"\")","v":""},{"$f":"IF(入力フォーム合計!E15=採点例!E15,\"〇\",\"\")","v":""},{"$f":"IF(入力フォーム合計!F15=採点例!F15,\"〇\",\"\")","v":""},{"$f":"IF(入力フォーム合計!G15=採点例!G15,\"〇\",\"\")","v":""},{"$f":"IF(入力フォーム合計!H15=採点例!H15,\"〇\",\"\")","v":""},{"$f":"IF(入力フォーム合計!I15=採点例!I15,\"〇\",\"\")","v":""},{"$f":"IF(入力フォーム合計!J15=採点例!J15,\"〇\",\"\")","v":""},{"$f":"IF(入力フォーム合計!K15=採点例!K15,\"〇\",\"\")","v":""},{"$f":"IF(入力フォーム合計!L15=採点例!L15,\"〇\",\"\")","v":""},0,"×"]
[15,4,4,4,1,"フクタニ　シュンイチ","福谷　俊一",1,3,12,"043-241-4252","yqgnhfgyxw@toyogakuen-u.ac.jp",null,null,null,{"$f":"IF(入力フォーム合計!B16=採点例!B16,\"〇\",\"\")","v":""},{"$f":"IF(入力フォーム合計!C16=採点例!C16,\"〇\",\"\")","v":""},{"$f":"IF(入力フォーム合計!D16=採点例!D16,\"〇\",\"\")","v":""},{"$f":"IF(入力フォーム合計!E16=採点例!E16,\"〇\",\"\")","v":""},{"$f":"IF(入力フォーム合計!F16=採点例!F16,\"〇\",\"\")","v":""},{"$f":"IF(入力フォーム合計!G16=採点例!G16,\"〇\",\"\")","v":""},{"$f":"IF(入力フォーム合計!H16=採点例!H16,\"〇\",\"\")","v":""},{"$f":"IF(入力フォーム合計!I16=採点例!I16,\"〇\",\"\")","v":""},{"$f":"IF(入力フォーム合計!J16=採点例!J16,\"〇\",\"\")","v":""},{"$f":"IF(入力フォーム合計!K16=採点例!K16,\"〇\",\"\")","v":""},{"$f":"IF(入力フォーム合計!L16=採点例!L16,\"〇\",\"\")","v":""},0,"×"]
[16,3,5,5,4,"イワハラ　カズヒコ","岩原　和彦",1,3,10,"07464-3-2277","ytjdc@nichiha.co.jp",null,null,null,{"$f":"IF(入力フォーム合計!B17=採点例!B17,\"〇\",\"\")","v":""},{"$f":"IF(入力フォーム合計!C17=採点例!C17,\"〇\",\"\")","v":""},{"$f":"IF(入力フォーム合計!D17=採点例!D17,\"〇\",\"\")","v":""},{"$f":"IF(入力フォーム合計!E17=採点例!E17,\"〇\",\"\")","v":""},{"$f":"IF(入力フォーム合計!F17=採点例!F17,\"〇\",\"\")","v":""},{"$f":"IF(入力フォーム合計!G17=採点例!G17,\"〇\",\"\")","v":""},{"$f":"IF(入力フォーム合計!H17=採点例!H17,\"〇\",\"\")","v":""},{"$f":"IF(入力フォーム合計!I17=採点例!I17,\"〇\",\"\")","v":""},{"$f":"IF(入力フォーム合計!J17=採点例!J17,\"〇\",\"\")","v":""},{"$f":"IF(入力フォーム合計!K17=採点例!K17,\"〇\",\"\")","v":""},{"$f":"IF(入力フォーム合計!L17=採点例!L17,\"〇\",\"\")","v":""},0,"×"]
[17,9,2,3,1,"コバリ　トシオ","小針　敏雄",1,4,6,"0776-40-6241","ldlfr@sennennomori.co.jp",null,null,null,{"$f":"IF(入力フォーム合計!B18=採点例!B18,\"〇\",\"\")","v":""},{"$f":"IF(入力フォーム合計!C18=採点例!C18,\"〇\",\"\")","v":""},{"$f":"IF(入力フォーム合計!D18=採点例!D18,\"〇\",\"\")","v":""},{"$f":"IF(入力フォーム合計!E18=採点例!E18,\"〇\",\"\")","v":""},{"$f":"IF(入力フォーム合計!F18=採点例!F18,\"〇\",\"\")","v":""},{"$f":"IF(入力フォーム合計!G18=採点例!G18,\"〇\",\"\")","v":""},{"$f":"IF(入力フォーム合計!H18=採点例!H18,\"〇\",\"\")","v":""},{"$f":"IF(入力フォーム合計!I18=採点例!I18,\"〇\",\"\")","v":""},{"$f":"IF(入力フォーム合計!J18=採点例!J18,\"〇\",\"\")","v":""},{"$f":"IF(入力フォーム合計!K18=採点例!K18,\"〇\",\"\")","v":""},{"$f":"IF(入力フォーム合計!L18=採点例!L18,\"〇\",\"\")","v":""},0,"×"]
[18,8,2,5,2,"イソヤ　クニコ","磯谷　邦子",2,3,7,"0277-14-4818","xkvknpcccx@fujikurarubber.com",null,null,null,{"$f":"IF(入力フォーム合計!B19=採点例!B19,\"〇\",\"\")","v":""},{"$f":"IF(入力フォーム合計!C19=採点例!C19,\"〇\",\"\")","v":""},{"$f":"IF(入力フォーム合計!D19=採点例!D19,\"〇\",\"\")","v":""},{"$f":"IF(入力フォーム合計!E19=採点例!E19,\"〇\",\"\")","v":""},{"$f":"IF(入力フォーム合計!F19=採点例!F19,\"〇\",\"\")","v":""},{"$f":"IF(入力フォーム合計!G19=採点例!G19,\"〇\",\"\")","v":""},{"$f":"IF(入力フォーム合計!H19=採点例!H19,\"〇\",\"\")","v":""},{"$f":"IF(入力フォーム合計!I19=採点例!I19,\"〇\",\"\")","v":""},{"$f":"IF(入力フォーム合計!J19=採点例!J19,\"〇\",\"\")","v":""},{"$f":"IF(入力フォーム合計!K19=採点例!K19,\"〇\",\"\")","v":""},{"$f":"IF(入力フォーム合計!L19=採点例!L19,\"〇\",\"\")","v":""},0,"×"]
[19,7,2,2,2,"ミナミタニ　ケイジ","南谷　啓二",1,2,4,"0545-68-3918","fwapctlaie@anritsu.co.jp",null,null,null,{"$f":"IF(入力フォーム合計!B20=採点例!B20,\"〇\",\"\")","v":""},{"$f":"IF(入力フォーム合計!C20=採点例!C20,\"〇\",\"\")","v":""},{"$f":"IF(入力フォーム合計!D20=採点例!D20,\"〇\",\"\")","v":""},{"$f":"IF(入力フォーム合計!E20=採点例!E20,\"〇\",\"\")","v":""},{"$f":"IF(入力フォーム合計!F20=採点例!F20,\"〇\",\"\")","v":""},{"$f":"IF(入力フォーム合計!G20=採点例!G20,\"〇\",\"\")","v":""},{"$f":"IF(入力フォーム合計!H20=採点例!H20,\"〇\",\"\")","v":""},{"$f":"IF(入力フォーム合計!I20=採点例!I20,\"〇\",\"\")","v":""},{"$f":"IF(入力フォーム合計!J20=採点例!J20,\"〇\",\"\")","v":""},{"$f":"IF(入力フォーム合計!K20=採点例!K20,\"〇\",\"\")","v":""},{"$f":"IF(入力フォーム合計!L20=採点例!L20,\"〇\",\"\")","v":""},0,"×"]
[20,6,3,3,1,"ウヤマ　タツオ","宇山　達男",1,5,8,"0761-18-4632","tenla@ishikawa.jp",null,null,null,{"$f":"IF(入力フォーム合計!B21=採点例!B21,\"〇\",\"\")","v":""},{"$f":"IF(入力フォーム合計!C21=採点例!C21,\"〇\",\"\")","v":""},{"$f":"IF(入力フォーム合計!D21=採点例!D21,\"〇\",\"\")","v":""},{"$f":"IF(入力フォーム合計!E21=採点例!E21,\"〇\",\"\")","v":""},{"$f":"IF(入力フォーム合計!F21=採点例!F21,\"〇\",\"\")","v":""},{"$f":"IF(入力フォーム合計!G21=採点例!G21,\"〇\",\"\")","v":""},{"$f":"IF(入力フォーム合計!H21=採点例!H21,\"〇\",\"\")","v":""},{"$f":"IF(入力フォーム合計!I21=採点例!I21,\"〇\",\"\")","v":""},{"$f":"IF(入力フォーム合計!J21=採点例!J21,\"〇\",\"\")","v":""},{"$f":"IF(入力フォーム合計!K21=採点例!K21,\"〇\",\"\")","v":""},{"$f":"IF(入力フォーム合計!L21=採点例!L21,\"〇\",\"\")","v":""},0,"×"]
[21,4,2,2,2,"ミナムラ　トヨヒコ","水村　豊彦",1,5,4,"0553-23-4463","ggctrxuoku@supertool.co.jp",null,null,null,{"$f":"IF(入力フォーム合計!B22=採点例!B22,\"〇\",\"\")","v":""},{"$f":"IF(入力フォーム合計!C22=採点例!C22,\"〇\",\"\")","v":""},{"$f":"IF(入力フォーム合計!D22=採点例!D22,\"〇\",\"\")","v":""},{"$f":"IF(入力フォーム合計!E22=採点例!E22,\"〇\",\"\")","v":""},{"$f":"IF(入力フォーム合計!F22=採点例!F22,\"〇\",\"\")","v":""},{"$f":"IF(入力フォーム合計!G22=採点例!G22,\"〇\",\"\")","v":""},{"$f":"IF(入力フォーム合計!H22=採点例!H22,\"〇\",\"\")","v":""},{"$f":"IF(入力フォーム合計!I22=採点例!I22,\"〇\",\"\")","v":""},{"$f":"IF(入力フォーム合計!J22=採点例!J22,\"〇\",\"\")","v":""},{"$f":"IF(入力フォーム合計!K22=採点例!K22,\"〇\",\"\")","v":""},{"$f":"IF(入力フォーム合計!L22=採点例!L22,\"〇\",\"\")","v":""},0,"×"]
[22,8,1,1,3,"ヨシザキ　ミワ","吉崎　美和",2,2,5,"0894-46-5714","kdgcd@newtech.co.jp",null,null,null,{"$f":"IF(入力フォーム合計!B23=採点例!B23,\"〇\",\"\")","v":""},{"$f":"IF(入力フォーム合計!C23=採点例!C23,\"〇\",\"\")","v":""},{"$f":"IF(入力フォーム合計!D23=採点例!D23,\"〇\",\"\")","v":""},{"$f":"IF(入力フォーム合計!E23=採点例!E23,\"〇\",\"\")","v":""},{"$f":"IF(入力フォーム合計!F23=採点例!F23,\"〇\",\"\")","v":""},{"$f":"IF(入力フォーム合計!G23=採点例!G23,\"〇\",\"\")","v":""},{"$f":"IF(入力フォーム合計!H23=採点例!H23,\"〇\",\"\")","v":""},{"$f":"IF(入力フォーム合計!I23=採点例!I23,\"〇\",\"\")","v":""},{"$f":"IF(入力フォーム合計!J23=採点例!J23,\"〇\",\"\")","v":""},{"$f":"IF(入力フォーム合計!K23=採点例!K23,\"〇\",\"\")","v":""},{"$f":"IF(入力フォーム合計!L23=採点例!L23,\"〇\",\"\")","v":""},0,"×"]
[23,5,1,1,1,"イザワ　サトシ","井沢　覚",1,6,10,"0955-78-8708","yncfscltdc@saga.jp",null,null,null,{"$f":"IF(入力フォーム合計!B24=採点例!B24,\"〇\",\"\")","v":""},{"$f":"IF(入力フォーム合計!C24=採点例!C24,\"〇\",\"\")","v":""},{"$f":"IF(入力フォーム合計!D24=採点例!D24,\"〇\",\"\")","v":""},{"$f":"IF(入力フォーム合計!E24=採点例!E24,\"〇\",\"\")","v":""},{"$f":"IF(入力フォーム合計!F24=採点例!F24,\"〇\",\"\")","v":""},{"$f":"IF(入力フォーム合計!G24=採点例!G24,\"〇\",\"\")","v":""},{"$f":"IF(入力フォーム合計!H24=採点例!H24,\"〇\",\"\")","v":""},{"$f":"IF(入力フォーム合計!I24=採点例!I24,\"〇\",\"\")","v":""},{"$f":"IF(入力フォーム合計!J24=採点例!J24,\"〇\",\"\")","v":""},{"$f":"IF(入力フォーム合計!K24=採点例!K24,\"〇\",\"\")","v":""},{"$f":"IF(入力フォーム合計!L24=採点例!L24,\"〇\",\"\")","v":""},0,"×"]
[24,1,1,1,3,"キヨミヤ　チュウイチ","清宮　忠一",1,1,2,"088-830-0509","hssxu@meti.go.jp",null,null,null,{"$f":"IF(入力フォーム合計!B25=採点例!B25,\"〇\",\"\")","v":""},{"$f":"IF(入力フォーム合計!C25=採点例!C25,\"〇\",\"\")","v":""},{"$f":"IF(入力フォーム合計!D25=採点例!D25,\"〇\",\"\")","v":""},{"$f":"IF(入力フォーム合計!E25=採点例!E25,\"〇\",\"\")","v":""},{"$f":"IF(入力フォーム合計!F25=採点例!F25,\"〇\",\"\")","v":""},{"$f":"IF(入力フォーム合計!G25=採点例!G25,\"〇\",\"\")","v":""},{"$f":"IF(入力フォーム合計!H25=採点例!H25,\"〇\",\"\")","v":""},{"$f":"IF(入力フォーム合計!I25=採点例!I25,\"〇\",\"\")","v":""},{"$f":"IF(入力フォーム合計!J25=採点例!J25,\"〇\",\"\")","v":""},{"$f":"IF(入力フォーム合計!K25=採点例!K25,\"〇\",\"\")","v":""},{"$f":"IF(入力フォーム合計!L25=採点例!L25,\"〇\",\"\")","v":""},0,"×"]
[25,4,3,3,1,"シイノ　タケオ","椎野　健夫",1,2,3,"0581-62-3427","ujrianvnco@tokaijoshi-u.ac.jp",null,null,null,{"$f":"IF(入力フォーム合計!B26=採点例!B26,\"〇\",\"\")","v":""},{"$f":"IF(入力フォーム合計!C26=採点例!C26,\"〇\",\"\")","v":""},{"$f":"IF(入力フォーム合計!D26=採点例!D26,\"〇\",\"\")","v":""},{"$f":"IF(入力フォーム合計!E26=採点例!E26,\"〇\",\"\")","v":""},{"$f":"IF(入力フォーム合計!F26=採点例!F26,\"〇\",\"\")","v":""},{"$f":"IF(入力フォーム合計!G26=採点例!G26,\"〇\",\"\")","v":""},{"$f":"IF(入力フォーム合計!H26=採点例!H26,\"〇\",\"\")","v":""},{"$f":"IF(入力フォーム合計!I26=採点例!I26,\"〇\",\"\")","v":""},{"$f":"IF(入力フォーム合計!J26=採点例!J26,\"〇\",\"\")","v":""},{"$f":"IF(入力フォーム合計!K26=採点例!K26,\"〇\",\"\")","v":""},{"$f":"IF(入力フォーム合計!L26=採点例!L26,\"〇\",\"\")","v":""},0,"×"]
[26,3,4,4,2,"ヨコカワ　エミ","横川　恵美",2,3,5,"048-373-2735","ffgiyolmjg@jem-net.co.jp",null,null,null,{"$f":"IF(入力フォーム合計!#REF!=採点例!B27,\"〇\",\"\")","v":{"$error":"#REF!"}},{"$f":"IF(入力フォーム合計!#REF!=採点例!C27,\"〇\",\"\")","v":{"$error":"#REF!"}},{"$f":"IF(入力フォーム合計!#REF!=採点例!D27,\"〇\",\"\")","v":{"$error":"#REF!"}},{"$f":"IF(入力フォーム合計!#REF!=採点例!E27,\"〇\",\"\")","v":{"$error":"#REF!"}},{"$f":"IF(入力フォーム合計!#REF!=採点例!F27,\"〇\",\"\")","v":{"$error":"#REF!"}},{"$f":"IF(入力フォーム合計!#REF!=採点例!G27,\"〇\",\"\")","v":{"$error":"#REF!"}},{"$f":"IF(入力フォーム合計!#REF!=採点例!H27,\"〇\",\"\")","v":{"$error":"#REF!"}},{"$f":"IF(入力フォーム合計!#REF!=採点例!I27,\"〇\",\"\")","v":{"$error":"#REF!"}},{"$f":"IF(入力フォーム合計!#REF!=採点例!J27,\"〇\",\"\")","v":{"$error":"#REF!"}},{"$f":"IF(入力フォーム合計!#REF!=採点例!K27,\"〇\",\"\")","v":{"$error":"#REF!"}},{"$f":"IF(入力フォーム合計!#REF!=採点例!L27,\"〇\",\"\")","v":{"$error":"#REF!"}},0,"×"]
[27,2,5,5,2,"ウラノ　アサミ","浦野　麻美",2,4,9,"084-956-1941","jiozp@amano.co.jp",null,null,null,{"$f":"IF(入力フォーム合計!#REF!=採点例!B28,\"〇\",\"\")","v":{"$error":"#REF!"}},{"$f":"IF(入力フォーム合計!#REF!=採点例!C28,\"〇\",\"\")","v":{"$error":"#REF!"}},{"$f":"IF(入力フォーム合計!#REF!=採点例!D28,\"〇\",\"\")","v":{"$error":"#REF!"}},{"$f":"IF(入力フォーム合計!#REF!=採点例!E28,\"〇\",\"\")","v":{"$error":"#REF!"}},{"$f":"IF(入力フォーム合計!#REF!=採点例!F28,\"〇\",\"\")","v":{"$error":"#REF!"}},{"$f":"IF(入力フォーム合計!#REF!=採点例!G28,\"〇\",\"\")","v":{"$error":"#REF!"}},{"$f":"IF(入力フォーム合計!#REF!=採点例!H28,\"〇\",\"\")","v":{"$error":"#REF!"}},{"$f":"IF(入力フォーム合計!#REF!=採点例!I28,\"〇\",\"\")","v":{"$error":"#REF!"}},{"$f":"IF(入力フォーム合計!#REF!=採点例!J28,\"〇\",\"\")","v":{"$error":"#REF!"}},{"$f":"IF(入力フォーム合計!#REF!=採点例!K28,\"〇\",\"\")","v":{"$error":"#REF!"}},{"$f":"IF(入力フォーム合計!#REF!=採点例!L28,\"〇\",\"\")","v":{"$error":"#REF!"}},0,"×"]
[28,5,2,5,2,"タカミザワ　キミコ","高見沢　公子",2,3,9,"0967-65-0374","rqmbblgvey@31ice.co.jp",null,null,null,{"$f":"IF(入力フォーム合計!#REF!=採点例!B29,\"〇\",\"\")","v":{"$error":"#REF!"}},{"$f":"IF(入力フォーム合計!#REF!=採点例!C29,\"〇\",\"\")","v":{"$error":"#REF!"}},{"$f":"IF(入力フォーム合計!#REF!=採点例!D29,\"〇\",\"\")","v":{"$error":"#REF!"}},{"$f":"IF(入力フォーム合計!#REF!=採点例!E29,\"〇\",\"\")","v":{"$error":"#REF!"}},{"$f":"IF(入力フォーム合計!#REF!=採点例!F29,\"〇\",\"\")","v":{"$error":"#REF!"}},{"$f":"IF(入力フォーム合計!#REF!=採点例!G29,\"〇\",\"\")","v":{"$error":"#REF!"}},{"$f":"IF(入力フォーム合計!#REF!=採点例!H29,\"〇\",\"\")","v":{"$error":"#REF!"}},{"$f":"IF(入力フォーム合計!#REF!=採点例!I29,\"〇\",\"\")","v":{"$error":"#REF!"}},{"$f":"IF(入力フォーム合計!#REF!=採点例!J29,\"〇\",\"\")","v":{"$error":"#REF!"}},{"$f":"IF(入力フォーム合計!#REF!=採点例!K29,\"〇\",\"\")","v":{"$error":"#REF!"}},{"$f":"IF(入力フォーム合計!#REF!=採点例!L29,\"〇\",\"\")","v":{"$error":"#REF!"}},0,"×"]
[29,6,3,5,1,"マルモト　ミキ","丸本　美紀",2,4,7,"0597-34-5980","vixza@toyota.co.jp",null,null,null,{"$f":"IF(入力フォーム合計!#REF!=採点例!B30,\"〇\",\"\")","v":{"$error":"#REF!"}},{"$f":"IF(入力フォーム合計!#REF!=採点例!C30,\"〇\",\"\")","v":{"$error":"#REF!"}},{"$f":"IF(入力フォーム合計!#REF!=採点例!D30,\"〇\",\"\")","v":{"$error":"#REF!"}},{"$f":"IF(入力フォーム合計!#REF!=採点例!E30,\"〇\",\"\")","v":{"$error":"#REF!"}},{"$f":"IF(入力フォーム合計!#REF!=採点例!F30,\"〇\",\"\")","v":{"$error":"#REF!"}},{"$f":"IF(入力フォーム合計!#REF!=採点例!G30,\"〇\",\"\")","v":{"$error":"#REF!"}},{"$f":"IF(入力フォーム合計!#REF!=採点例!H30,\"〇\",\"\")","v":{"$error":"#REF!"}},{"$f":"IF(入力フォーム合計!#REF!=採点例!I30,\"〇\",\"\")","v":{"$error":"#REF!"}},{"$f":"IF(入力フォーム合計!#REF!=採点例!J30,\"〇\",\"\")","v":{"$error":"#REF!"}},{"$f":"IF(入力フォーム合計!#REF!=採点例!K30,\"〇\",\"\")","v":{"$error":"#REF!"}},{"$f":"IF(入力フォーム合計!#REF!=採点例!L30,\"〇\",\"\")","v":{"$error":"#REF!"}},0,"×"]
[30,7,2,2,3,"アブライ　ミサコ","油井　美紗子",2,4,5,"0551-91-6346","vxlvi@ibjl.co.jp",null,null,null,{"$f":"IF(入力フォーム合計!#REF!=採点例!B31,\"〇\",\"\")","v":{"$error":"#REF!"}},{"$f":"IF(入力フォーム合計!#REF!=採点例!C31,\"〇\",\"\")","v":{"$error":"#REF!"}},{"$f":"IF(入力フォーム合計!#REF!=採点例!D31,\"〇\",\"\")","v":{"$error":"#REF!"}},{"$f":"IF(入力フォーム合計!#REF!=採点例!E31,\"〇\",\"\")","v":{"$error":"#REF!"}},{"$f":"IF(入力フォーム合計!#REF!=採点例!F31,\"〇\",\"\")","v":{"$error":"#REF!"}},{"$f":"IF(入力フォーム合計!#REF!=採点例!G31,\"〇\",\"\")","v":{"$error":"#REF!"}},{"$f":"IF(入力フォーム合計!#REF!=採点例!H31,\"〇\",\"\")","v":{"$error":"#REF!"}},{"$f":"IF(入力フォーム合計!#REF!=採点例!I31,\"〇\",\"\")","v":{"$error":"#REF!"}},{"$f":"IF(入力フォーム合計!#REF!=採点例!J31,\"〇\",\"\")","v":{"$error":"#REF!"}},{"$f":"IF(入力フォーム合計!#REF!=採点例!K31,\"〇\",\"\")","v":{"$error":"#REF!"}},{"$f":"IF(入力フォーム合計!#REF!=採点例!L31,\"〇\",\"\")","v":{"$error":"#REF!"}},0,"×"]
[31,8,1,1,2,"マスナガ　コウイチ","増永　紘一",1,3,5,"098-695-0414","cdpceqodyh@sankosangyo.co.jp",null,null,null,{"$f":"IF(入力フォーム合計!#REF!=採点例!B32,\"〇\",\"\")","v":{"$error":"#REF!"}},{"$f":"IF(入力フォーム合計!#REF!=採点例!C32,\"〇\",\"\")","v":{"$error":"#REF!"}},{"$f":"IF(入力フォーム合計!#REF!=採点例!D32,\"〇\",\"\")","v":{"$error":"#REF!"}},{"$f":"IF(入力フォーム合計!#REF!=採点例!E32,\"〇\",\"\")","v":{"$error":"#REF!"}},{"$f":"IF(入力フォーム合計!#REF!=採点例!F32,\"〇\",\"\")","v":{"$error":"#REF!"}},{"$f":"IF(入力フォーム合計!#REF!=採点例!G32,\"〇\",\"\")","v":{"$error":"#REF!"}},{"$f":"IF(入力フォーム合計!#REF!=採点例!H32,\"〇\",\"\")","v":{"$error":"#REF!"}},{"$f":"IF(入力フォーム合計!#REF!=採点例!I32,\"〇\",\"\")","v":{"$error":"#REF!"}},{"$f":"IF(入力フォーム合計!#REF!=採点例!J32,\"〇\",\"\")","v":{"$error":"#REF!"}},{"$f":"IF(入力フォーム合計!#REF!=採点例!K32,\"〇\",\"\")","v":{"$error":"#REF!"}},{"$f":"IF(入力フォーム合計!#REF!=採点例!L32,\"〇\",\"\")","v":{"$error":"#REF!"}},0,"×"]
[32,2,1,1,2,"セキタ　コウキチ","関田　幸吉",1,2,8,"0880-94-9472","ccmsf@kochi.jp",null,null,null,{"$f":"IF(入力フォーム合計!#REF!=採点例!B33,\"〇\",\"\")","v":{"$error":"#REF!"}},{"$f":"IF(入力フォーム合計!#REF!=採点例!C33,\"〇\",\"\")","v":{"$error":"#REF!"}},{"$f":"IF(入力フォーム合計!#REF!=採点例!D33,\"〇\",\"\")","v":{"$error":"#REF!"}},{"$f":"IF(入力フォーム合計!#REF!=採点例!E33,\"〇\",\"\")","v":{"$error":"#REF!"}},{"$f":"IF(入力フォーム合計!#REF!=採点例!F33,\"〇\",\"\")","v":{"$error":"#REF!"}},{"$f":"IF(入力フォーム合計!#REF!=採点例!G33,\"〇\",\"\")","v":{"$error":"#REF!"}},{"$f":"IF(入力フォーム合計!#REF!=採点例!H33,\"〇\",\"\")","v":{"$error":"#REF!"}},{"$f":"IF(入力フォーム合計!#REF!=採点例!I33,\"〇\",\"\")","v":{"$error":"#REF!"}},{"$f":"IF(入力フォーム合計!#REF!=採点例!J33,\"〇\",\"\")","v":{"$error":"#REF!"}},{"$f":"IF(入力フォーム合計!#REF!=採点例!K33,\"〇\",\"\")","v":{"$error":"#REF!"}},{"$f":"IF(入力フォーム合計!#REF!=採点例!L33,\"〇\",\"\")","v":{"$error":"#REF!"}},0,"×"]
[33,3,1,1,1,"ナカツカ　ミカ","中塚　美香",2,2,11,"0952-62-4186","zwifrckqyw@senshukai.co.jp",null,null,null,{"$f":"IF(入力フォーム合計!#REF!=採点例!B34,\"〇\",\"\")","v":{"$error":"#REF!"}},{"$f":"IF(入力フォーム合計!#REF!=採点例!C34,\"〇\",\"\")","v":{"$error":"#REF!"}},{"$f":"IF(入力フォーム合計!#REF!=採点例!D34,\"〇\",\"\")","v":{"$error":"#REF!"}},{"$f":"IF(入力フォーム合計!#REF!=採点例!E34,\"〇\",\"\")","v":{"$error":"#REF!"}},{"$f":"IF(入力フォーム合計!#REF!=採点例!F34,\"〇\",\"\")","v":{"$error":"#REF!"}},{"$f":"IF(入力フォーム合計!#REF!=採点例!G34,\"〇\",\"\")","v":{"$error":"#REF!"}},{"$f":"IF(入力フォーム合計!#REF!=採点例!H34,\"〇\",\"\")","v":{"$error":"#REF!"}},{"$f":"IF(入力フォーム合計!#REF!=採点例!I34,\"〇\",\"\")","v":{"$error":"#REF!"}},{"$f":"IF(入力フォーム合計!#REF!=採点例!J34,\"〇\",\"\")","v":{"$error":"#REF!"}},{"$f":"IF(入力フォーム合計!#REF!=採点例!K34,\"〇\",\"\")","v":{"$error":"#REF!"}},{"$f":"IF(入力フォーム合計!#REF!=採点例!L34,\"〇\",\"\")","v":{"$error":"#REF!"}},{"$f":"COUNTIF(P34:Z34,\"〇\")","v":0},{"$f":"IF(AA34=COUNTA($P$1:$Z$1),\"〇\",\"×\")","v":"×"}]
[34,4,1,1,2,"カツタ　ヨシカズ","勝田　義一",1,3,5,"0964-39-0898","qzlzc@toshibatec.co.jp",null,null,null,{"$f":"IF(入力フォーム合計!#REF!=採点例!B35,\"〇\",\"\")","v":{"$error":"#REF!"}},{"$f":"IF(入力フォーム合計!#REF!=採点例!C35,\"〇\",\"\")","v":{"$error":"#REF!"}},{"$f":"IF(入力フォーム合計!#REF!=採点例!D35,\"〇\",\"\")","v":{"$error":"#REF!"}},{"$f":"IF(入力フォーム合計!#REF!=採点例!E35,\"〇\",\"\")","v":{"$error":"#REF!"}},{"$f":"IF(入力フォーム合計!#REF!=採点例!F35,\"〇\",\"\")","v":{"$error":"#REF!"}},{"$f":"IF(入力フォーム合計!#REF!=採点例!G35,\"〇\",\"\")","v":{"$error":"#REF!"}},{"$f":"IF(入力フォーム合計!#REF!=採点例!H35,\"〇\",\"\")","v":{"$error":"#REF!"}},{"$f":"IF(入力フォーム合計!#REF!=採点例!I35,\"〇\",\"\")","v":{"$error":"#REF!"}},{"$f":"IF(入力フォーム合計!#REF!=採点例!J35,\"〇\",\"\")","v":{"$error":"#REF!"}},{"$f":"IF(入力フォーム合計!#REF!=採点例!K35,\"〇\",\"\")","v":{"$error":"#REF!"}},{"$f":"IF(入力フォーム合計!#REF!=採点例!L35,\"〇\",\"\")","v":{"$error":"#REF!"}},0,"×"]
[35,5,3,3,1,"ヤナガワ　マミ","柳川　真美",2,4,8,"0265-61-5598","rwboucldzd@maff.go.jp",null,null,null,{"$f":"IF(入力フォーム合計!#REF!=採点例!B36,\"〇\",\"\")","v":{"$error":"#REF!"}},{"$f":"IF(入力フォーム合計!#REF!=採点例!C36,\"〇\",\"\")","v":{"$error":"#REF!"}},{"$f":"IF(入力フォーム合計!#REF!=採点例!D36,\"〇\",\"\")","v":{"$error":"#REF!"}},{"$f":"IF(入力フォーム合計!#REF!=採点例!E36,\"〇\",\"\")","v":{"$error":"#REF!"}},{"$f":"IF(入力フォーム合計!#REF!=採点例!F36,\"〇\",\"\")","v":{"$error":"#REF!"}},{"$f":"IF(入力フォーム合計!#REF!=採点例!G36,\"〇\",\"\")","v":{"$error":"#REF!"}},{"$f":"IF(入力フォーム合計!#REF!=採点例!H36,\"〇\",\"\")","v":{"$error":"#REF!"}},{"$f":"IF(入力フォーム合計!#REF!=採点例!I36,\"〇\",\"\")","v":{"$error":"#REF!"}},{"$f":"IF(入力フォーム合計!#REF!=採点例!J36,\"〇\",\"\")","v":{"$error":"#REF!"}},{"$f":"IF(入力フォーム合計!#REF!=採点例!K36,\"〇\",\"\")","v":{"$error":"#REF!"}},{"$f":"IF(入力フォーム合計!#REF!=採点例!L36,\"〇\",\"\")","v":{"$error":"#REF!"}},0,"×"]
[36,3,4,4,2,"タニムラ　アキヒコ","谷村　明彦",1,3,5,"097-318-4773","sklee@tocos-j.co.jp",null,null,null,{"$f":"IF(入力フォーム合計!#REF!=採点例!B37,\"〇\",\"\")","v":{"$error":"#REF!"}},{"$f":"IF(入力フォーム合計!#REF!=採点例!C37,\"〇\",\"\")","v":{"$error":"#REF!"}},{"$f":"IF(入力フォーム合計!#REF!=採点例!D37,\"〇\",\"\")","v":{"$error":"#REF!"}},{"$f":"IF(入力フォーム合計!#REF!=採点例!E37,\"〇\",\"\")","v":{"$error":"#REF!"}},{"$f":"IF(入力フォーム合計!#REF!=採点例!F37,\"〇\",\"\")","v":{"$error":"#REF!"}},{"$f":"IF(入力フォーム合計!#REF!=採点例!G37,\"〇\",\"\")","v":{"$error":"#REF!"}},{"$f":"IF(入力フォーム合計!#REF!=採点例!H37,\"〇\",\"\")","v":{"$error":"#REF!"}},{"$f":"IF(入力フォーム合計!#REF!=採点例!I37,\"〇\",\"\")","v":{"$error":"#REF!"}},{"$f":"IF(入力フォーム合計!#REF!=採点例!J37,\"〇\",\"\")","v":{"$error":"#REF!"}},{"$f":"IF(入力フォーム合計!#REF!=採点例!K37,\"〇\",\"\")","v":{"$error":"#REF!"}},{"$f":"IF(入力フォーム合計!#REF!=採点例!L37,\"〇\",\"\")","v":{"$error":"#REF!"}},0,"×"]
[37,2,5,5,2,"カスガ　カズエ","春日　和江",2,5,11,"0972-52-0382","sqwcsmtije@hitachi.co.jp",null,null,null,{"$f":"IF(入力フォーム合計!#REF!=採点例!B38,\"〇\",\"\")","v":{"$error":"#REF!"}},{"$f":"IF(入力フォーム合計!#REF!=採点例!C38,\"〇\",\"\")","v":{"$error":"#REF!"}},{"$f":"IF(入力フォーム合計!#REF!=採点例!D38,\"〇\",\"\")","v":{"$error":"#REF!"}},{"$f":"IF(入力フォーム合計!#REF!=採点例!E38,\"〇\",\"\")","v":{"$error":"#REF!"}},{"$f":"IF(入力フォーム合計!#REF!=採点例!F38,\"〇\",\"\")","v":{"$error":"#REF!"}},{"$f":"IF(入力フォーム合計!#REF!=採点例!G38,\"〇\",\"\")","v":{"$error":"#REF!"}},{"$f":"IF(入力フォーム合計!#REF!=採点例!H38,\"〇\",\"\")","v":{"$error":"#REF!"}},{"$f":"IF(入力フォーム合計!#REF!=採点例!I38,\"〇\",\"\")","v":{"$error":"#REF!"}},{"$f":"IF(入力フォーム合計!#REF!=採点例!J38,\"〇\",\"\")","v":{"$error":"#REF!"}},{"$f":"IF(入力フォーム合計!#REF!=採点例!K38,\"〇\",\"\")","v":{"$error":"#REF!"}},{"$f":"IF(入力フォーム合計!#REF!=採点例!L38,\"〇\",\"\")","v":{"$error":"#REF!"}},0,"×"]
[38,1,1,1,2,"シマブクロ　キミカズ","島袋　公一",1,6,10,"0224-77-7883","kjzaj@amsc.co.jp",null,null,null,{"$f":"IF(入力フォーム合計!#REF!=採点例!B39,\"〇\",\"\")","v":{"$error":"#REF!"}},{"$f":"IF(入力フォーム合計!#REF!=採点例!C39,\"〇\",\"\")","v":{"$error":"#REF!"}},{"$f":"IF(入力フォーム合計!#REF!=採点例!D39,\"〇\",\"\")","v":{"$error":"#REF!"}},{"$f":"IF(入力フォーム合計!#REF!=採点例!E39,\"〇\",\"\")","v":{"$error":"#REF!"}},{"$f":"IF(入力フォーム合計!#REF!=採点例!F39,\"〇\",\"\")","v":{"$error":"#REF!"}},{"$f":"IF(入力フォーム合計!#REF!=採点例!G39,\"〇\",\"\")","v":{"$error":"#REF!"}},{"$f":"IF(入力フォーム合計!#REF!=採点例!H39,\"〇\",\"\")","v":{"$error":"#REF!"}},{"$f":"IF(入力フォーム合計!#REF!=採点例!I39,\"〇\",\"\")","v":{"$error":"#REF!"}},{"$f":"IF(入力フォーム合計!#REF!=採点例!J39,\"〇\",\"\")","v":{"$error":"#REF!"}},{"$f":"IF(入力フォーム合計!#REF!=採点例!K39,\"〇\",\"\")","v":{"$error":"#REF!"}},{"$f":"IF(入力フォーム合計!#REF!=採点例!L39,\"〇\",\"\")","v":{"$error":"#REF!"}},0,"×"]
[39,1,1,1,1,"モリナガ　カエデ","森永　楓",2,5,8,"0944-12-2442","ndkzb@skymark.co.jp",null,null,null,{"$f":"IF(入力フォーム合計!#REF!=採点例!B40,\"〇\",\"\")","v":{"$error":"#REF!"}},{"$f":"IF(入力フォーム合計!#REF!=採点例!C40,\"〇\",\"\")","v":{"$error":"#REF!"}},{"$f":"IF(入力フォーム合計!#REF!=採点例!D40,\"〇\",\"\")","v":{"$error":"#REF!"}},{"$f":"IF(入力フォーム合計!#REF!=採点例!E40,\"〇\",\"\")","v":{"$error":"#REF!"}},{"$f":"IF(入力フォーム合計!#REF!=採点例!F40,\"〇\",\"\")","v":{"$error":"#REF!"}},{"$f":"IF(入力フォーム合計!#REF!=採点例!G40,\"〇\",\"\")","v":{"$error":"#REF!"}},{"$f":"IF(入力フォーム合計!#REF!=採点例!H40,\"〇\",\"\")","v":{"$error":"#REF!"}},{"$f":"IF(入力フォーム合計!#REF!=採点例!I40,\"〇\",\"\")","v":{"$error":"#REF!"}},{"$f":"IF(入力フォーム合計!#REF!=採点例!J40,\"〇\",\"\")","v":{"$error":"#REF!"}},{"$f":"IF(入力フォーム合計!#REF!=採点例!K40,\"〇\",\"\")","v":{"$error":"#REF!"}},{"$f":"IF(入力フォーム合計!#REF!=採点例!L40,\"〇\",\"\")","v":{"$error":"#REF!"}},0,"×"]
[40,2,2,2,3,"ソガ　ワタル","曽我　亘",1,3,10,"075-500-9738","zsrotmqqke@nextechcorp.com",null,null,null,{"$f":"IF(入力フォーム合計!#REF!=採点例!B41,\"〇\",\"\")","v":{"$error":"#REF!"}},{"$f":"IF(入力フォーム合計!#REF!=採点例!C41,\"〇\",\"\")","v":{"$error":"#REF!"}},{"$f":"IF(入力フォーム合計!#REF!=採点例!D41,\"〇\",\"\")","v":{"$error":"#REF!"}},{"$f":"IF(入力フォーム合計!#REF!=採点例!E41,\"〇\",\"\")","v":{"$error":"#REF!"}},{"$f":"IF(入力フォーム合計!#REF!=採点例!F41,\"〇\",\"\")","v":{"$error":"#REF!"}},{"$f":"IF(入力フォーム合計!#REF!=採点例!G41,\"〇\",\"\")","v":{"$error":"#REF!"}},{"$f":"IF(入力フォーム合計!#REF!=採点例!H41,\"〇\",\"\")","v":{"$error":"#REF!"}},{"$f":"IF(入力フォーム合計!#REF!=採点例!I41,\"〇\",\"\")","v":{"$error":"#REF!"}},{"$f":"IF(入力フォーム合計!#REF!=採点例!J41,\"〇\",\"\")","v":{"$error":"#REF!"}},{"$f":"IF(入力フォーム合計!#REF!=採点例!K41,\"〇\",\"\")","v":{"$error":"#REF!"}},{"$f":"IF(入力フォーム合計!#REF!=採点例!L41,\"〇\",\"\")","v":{"$error":"#REF!"}},0,"×"]
[41,3,2,2,2,"アサヌマ　ヨシト","浅沼　義人",1,2,3,"0241-24-8079","tmzvhawqia@ohu-u.ac.jp",null,null,null,{"$f":"IF(入力フォーム合計!#REF!=採点例!B42,\"〇\",\"\")","v":{"$error":"#REF!"}},{"$f":"IF(入力フォーム合計!#REF!=採点例!C42,\"〇\",\"\")","v":{"$error":"#REF!"}},{"$f":"IF(入力フォーム合計!#REF!=採点例!D42,\"〇\",\"\")","v":{"$error":"#REF!"}},{"$f":"IF(入力フォーム合計!#REF!=採点例!E42,\"〇\",\"\")","v":{"$error":"#REF!"}},{"$f":"IF(入力フォーム合計!#REF!=採点例!F42,\"〇\",\"\")","v":{"$error":"#REF!"}},{"$f":"IF(入力フォーム合計!#REF!=採点例!G42,\"〇\",\"\")","v":{"$error":"#REF!"}},{"$f":"IF(入力フォーム合計!#REF!=採点例!H42,\"〇\",\"\")","v":{"$error":"#REF!"}},{"$f":"IF(入力フォーム合計!#REF!=採点例!I42,\"〇\",\"\")","v":{"$error":"#REF!"}},{"$f":"IF(入力フォーム合計!#REF!=採点例!J42,\"〇\",\"\")","v":{"$error":"#REF!"}},{"$f":"IF(入力フォーム合計!#REF!=採点例!K42,\"〇\",\"\")","v":{"$error":"#REF!"}},{"$f":"IF(入力フォーム合計!#REF!=採点例!L42,\"〇\",\"\")","v":{"$error":"#REF!"}},0,"×"]
[42,2,3,3,2,"シラキ　サヤ","白木　沙耶",2,5,10,"0966-87-0003","alsvh@kumamoto-u.ac.jp",null,null,null,{"$f":"IF(入力フォーム合計!#REF!=採点例!B43,\"〇\",\"\")","v":{"$error":"#REF!"}},{"$f":"IF(入力フォーム合計!#REF!=採点例!C43,\"〇\",\"\")","v":{"$error":"#REF!"}},{"$f":"IF(入力フォーム合計!#REF!=採点例!D43,\"〇\",\"\")","v":{"$error":"#REF!"}},{"$f":"IF(入力フォーム合計!#REF!=採点例!E43,\"〇\",\"\")","v":{"$error":"#REF!"}},{"$f":"IF(入力フォーム合計!#REF!=採点例!F43,\"〇\",\"\")","v":{"$error":"#REF!"}},{"$f":"IF(入力フォーム合計!#REF!=採点例!G43,\"〇\",\"\")","v":{"$error":"#REF!"}},{"$f":"IF(入力フォーム合計!#REF!=採点例!H43,\"〇\",\"\")","v":{"$error":"#REF!"}},{"$f":"IF(入力フォーム合計!#REF!=採点例!I43,\"〇\",\"\")","v":{"$error":"#REF!"}},{"$f":"IF(入力フォーム合計!#REF!=採点例!J43,\"〇\",\"\")","v":{"$error":"#REF!"}},{"$f":"IF(入力フォーム合計!#REF!=採点例!K43,\"〇\",\"\")","v":{"$error":"#REF!"}},{"$f":"IF(入力フォーム合計!#REF!=採点例!L43,\"〇\",\"\")","v":{"$error":"#REF!"}},0,"×"]
[43,2,1,1,2,"ヒララ　カズマ","平良　一真",1,2,6,"0244-85-0835","uqwgzcvqma@kakoki.co.jp",null,null,null,{"$f":"IF(入力フォーム合計!#REF!=採点例!B44,\"〇\",\"\")","v":{"$error":"#REF!"}},{"$f":"IF(入力フォーム合計!#REF!=採点例!C44,\"〇\",\"\")","v":{"$error":"#REF!"}},{"$f":"IF(入力フォーム合計!#REF!=採点例!D44,\"〇\",\"\")","v":{"$error":"#REF!"}},{"$f":"IF(入力フォーム合計!#REF!=採点例!E44,\"〇\",\"\")","v":{"$error":"#REF!"}},{"$f":"IF(入力フォーム合計!#REF!=採点例!F44,\"〇\",\"\")","v":{"$error":"#REF!"}},{"$f":"IF(入力フォーム合計!#REF!=採点例!G44,\"〇\",\"\")","v":{"$error":"#REF!"}},{"$f":"IF(入力フォーム合計!#REF!=採点例!H44,\"〇\",\"\")","v":{"$error":"#REF!"}},{"$f":"IF(入力フォーム合計!#REF!=採点例!I44,\"〇\",\"\")","v":{"$error":"#REF!"}},{"$f":"IF(入力フォーム合計!#REF!=採点例!J44,\"〇\",\"\")","v":{"$error":"#REF!"}},{"$f":"IF(入力フォーム合計!#REF!=採点例!K44,\"〇\",\"\")","v":{"$error":"#REF!"}},{"$f":"IF(入力フォーム合計!#REF!=採点例!L44,\"〇\",\"\")","v":{"$error":"#REF!"}},0,"×"]
[44,4,1,1,1,"ユゲ　トモエ","弓削　朋絵",2,3,7,"0595-44-5407","bxwzv@chiyoda-i.co.jp",null,null,null,{"$f":"IF(入力フォーム合計!#REF!=採点例!B45,\"〇\",\"\")","v":{"$error":"#REF!"}},{"$f":"IF(入力フォーム合計!#REF!=採点例!C45,\"〇\",\"\")","v":{"$error":"#REF!"}},{"$f":"IF(入力フォーム合計!#REF!=採点例!D45,\"〇\",\"\")","v":{"$error":"#REF!"}},{"$f":"IF(入力フォーム合計!#REF!=採点例!E45,\"〇\",\"\")","v":{"$error":"#REF!"}},{"$f":"IF(入力フォーム合計!#REF!=採点例!F45,\"〇\",\"\")","v":{"$error":"#REF!"}},{"$f":"IF(入力フォーム合計!#REF!=採点例!G45,\"〇\",\"\")","v":{"$error":"#REF!"}},{"$f":"IF(入力フォーム合計!#REF!=採点例!H45,\"〇\",\"\")","v":{"$error":"#REF!"}},{"$f":"IF(入力フォーム合計!#REF!=採点例!I45,\"〇\",\"\")","v":{"$error":"#REF!"}},{"$f":"IF(入力フォーム合計!#REF!=採点例!J45,\"〇\",\"\")","v":{"$error":"#REF!"}},{"$f":"IF(入力フォーム合計!#REF!=採点例!K45,\"〇\",\"\")","v":{"$error":"#REF!"}},{"$f":"IF(入力フォーム合計!#REF!=採点例!L45,\"〇\",\"\")","v":{"$error":"#REF!"}},0,"×"]
[45,5,2,2,2,"イシクラ　タツオ","石倉　辰夫",1,4,5,"0248-66-1551","ydngornqit@toho-titanium.co.jp",null,null,null,{"$f":"IF(入力フォーム合計!#REF!=採点例!B46,\"〇\",\"\")","v":{"$error":"#REF!"}},{"$f":"IF(入力フォーム合計!#REF!=採点例!C46,\"〇\",\"\")","v":{"$error":"#REF!"}},{"$f":"IF(入力フォーム合計!#REF!=採点例!D46,\"〇\",\"\")","v":{"$error":"#REF!"}},{"$f":"IF(入力フォーム合計!#REF!=採点例!E46,\"〇\",\"\")","v":{"$error":"#REF!"}},{"$f":"IF(入力フォーム合計!#REF!=採点例!F46,\"〇\",\"\")","v":{"$error":"#REF!"}},{"$f":"IF(入力フォーム合計!#REF!=採点例!G46,\"〇\",\"\")","v":{"$error":"#REF!"}},{"$f":"IF(入力フォーム合計!#REF!=採点例!H46,\"〇\",\"\")","v":{"$error":"#REF!"}},{"$f":"IF(入力フォーム合計!#REF!=採点例!I46,\"〇\",\"\")","v":{"$error":"#REF!"}},{"$f":"IF(入力フォーム合計!#REF!=採点例!J46,\"〇\",\"\")","v":{"$error":"#REF!"}},{"$f":"IF(入力フォーム合計!#REF!=採点例!K46,\"〇\",\"\")","v":{"$error":"#REF!"}},{"$f":"IF(入力フォーム合計!#REF!=採点例!L46,\"〇\",\"\")","v":{"$error":"#REF!"}},0,"×"]
[46,4,3,3,3,"オリカサ　イクエ","折笠　郁恵",2,6,4,"0229-38-8025","dkeor@tohoku.ac.jp",null,null,null,{"$f":"IF(入力フォーム合計!#REF!=採点例!B47,\"〇\",\"\")","v":{"$error":"#REF!"}},{"$f":"IF(入力フォーム合計!#REF!=採点例!C47,\"〇\",\"\")","v":{"$error":"#REF!"}},{"$f":"IF(入力フォーム合計!#REF!=採点例!D47,\"〇\",\"\")","v":{"$error":"#REF!"}},{"$f":"IF(入力フォーム合計!#REF!=採点例!E47,\"〇\",\"\")","v":{"$error":"#REF!"}},{"$f":"IF(入力フォーム合計!#REF!=採点例!F47,\"〇\",\"\")","v":{"$error":"#REF!"}},{"$f":"IF(入力フォーム合計!#REF!=採点例!G47,\"〇\",\"\")","v":{"$error":"#REF!"}},{"$f":"IF(入力フォーム合計!#REF!=採点例!H47,\"〇\",\"\")","v":{"$error":"#REF!"}},{"$f":"IF(入力フォーム合計!#REF!=採点例!I47,\"〇\",\"\")","v":{"$error":"#REF!"}},{"$f":"IF(入力フォーム合計!#REF!=採点例!J47,\"〇\",\"\")","v":{"$error":"#REF!"}},{"$f":"IF(入力フォーム合計!#REF!=採点例!K47,\"〇\",\"\")","v":{"$error":"#REF!"}},{"$f":"IF(入力フォーム合計!#REF!=採点例!L47,\"〇\",\"\")","v":{"$error":"#REF!"}},0,"×"]
[47,3,2,2,2,"マエノ　ミオ","前野　澪",2,5,4,"0884-31-8134","hndwbhwjoi@hakuhodody-holdings.co.jp",null,null,null,{"$f":"IF(入力フォーム合計!#REF!=採点例!B48,\"〇\",\"\")","v":{"$error":"#REF!"}},{"$f":"IF(入力フォーム合計!#REF!=採点例!C48,\"〇\",\"\")","v":{"$error":"#REF!"}},{"$f":"IF(入力フォーム合計!#REF!=採点例!D48,\"〇\",\"\")","v":{"$error":"#REF!"}},{"$f":"IF(入力フォーム合計!#REF!=採点例!E48,\"〇\",\"\")","v":{"$error":"#REF!"}},{"$f":"IF(入力フォーム合計!#REF!=採点例!F48,\"〇\",\"\")","v":{"$error":"#REF!"}},{"$f":"IF(入力フォーム合計!#REF!=採点例!G48,\"〇\",\"\")","v":{"$error":"#REF!"}},{"$f":"IF(入力フォーム合計!#REF!=採点例!H48,\"〇\",\"\")","v":{"$error":"#REF!"}},{"$f":"IF(入力フォーム合計!#REF!=採点例!I48,\"〇\",\"\")","v":{"$error":"#REF!"}},{"$f":"IF(入力フォーム合計!#REF!=採点例!J48,\"〇\",\"\")","v":{"$error":"#REF!"}},{"$f":"IF(入力フォーム合計!#REF!=採点例!K48,\"〇\",\"\")","v":{"$error":"#REF!"}},{"$f":"IF(入力フォーム合計!#REF!=採点例!L48,\"〇\",\"\")","v":{"$error":"#REF!"}},0,"×"]
[48,2,2,2,2,"コスガ　アユミ","小菅　亜由美",2,5,12,"0993-16-0077","gkesr@alinco.co.jp",null,null,null,{"$f":"IF(入力フォーム合計!#REF!=採点例!B49,\"〇\",\"\")","v":{"$error":"#REF!"}},{"$f":"IF(入力フォーム合計!#REF!=採点例!C49,\"〇\",\"\")","v":{"$error":"#REF!"}},{"$f":"IF(入力フォーム合計!#REF!=採点例!D49,\"〇\",\"\")","v":{"$error":"#REF!"}},{"$f":"IF(入力フォーム合計!#REF!=採点例!E49,\"〇\",\"\")","v":{"$error":"#REF!"}},{"$f":"IF(入力フォーム合計!#REF!=採点例!F49,\"〇\",\"\")","v":{"$error":"#REF!"}},{"$f":"IF(入力フォーム合計!#REF!=採点例!G49,\"〇\",\"\")","v":{"$error":"#REF!"}},{"$f":"IF(入力フォーム合計!#REF!=採点例!H49,\"〇\",\"\")","v":{"$error":"#REF!"}},{"$f":"IF(入力フォーム合計!#REF!=採点例!I49,\"〇\",\"\")","v":{"$error":"#REF!"}},{"$f":"IF(入力フォーム合計!#REF!=採点例!J49,\"〇\",\"\")","v":{"$error":"#REF!"}},{"$f":"IF(入力フォーム合計!#REF!=採点例!K49,\"〇\",\"\")","v":{"$error":"#REF!"}},{"$f":"IF(入力フォーム合計!#REF!=採点例!L49,\"〇\",\"\")","v":{"$error":"#REF!"}},0,"×"]
[49,1,1,1,2,"タカハタ　ルミコ","高畑　留美子",2,6,8,"0954-24-6872","hrauzqwgvz@hikkoshi-sakai.co.jp",null,null,null,{"$f":"IF(入力フォーム合計!#REF!=採点例!B50,\"〇\",\"\")","v":{"$error":"#REF!"}},{"$f":"IF(入力フォーム合計!#REF!=採点例!C50,\"〇\",\"\")","v":{"$error":"#REF!"}},{"$f":"IF(入力フォーム合計!#REF!=採点例!D50,\"〇\",\"\")","v":{"$error":"#REF!"}},{"$f":"IF(入力フォーム合計!#REF!=採点例!E50,\"〇\",\"\")","v":{"$error":"#REF!"}},{"$f":"IF(入力フォーム合計!#REF!=採点例!F50,\"〇\",\"\")","v":{"$error":"#REF!"}},{"$f":"IF(入力フォーム合計!#REF!=採点例!G50,\"〇\",\"\")","v":{"$error":"#REF!"}},{"$f":"IF(入力フォーム合計!#REF!=採点例!H50,\"〇\",\"\")","v":{"$error":"#REF!"}},{"$f":"IF(入力フォーム合計!#REF!=採点例!I50,\"〇\",\"\")","v":{"$error":"#REF!"}},{"$f":"IF(入力フォーム合計!#REF!=採点例!J50,\"〇\",\"\")","v":{"$error":"#REF!"}},{"$f":"IF(入力フォーム合計!#REF!=採点例!K50,\"〇\",\"\")","v":{"$error":"#REF!"}},{"$f":"IF(入力フォーム合計!#REF!=採点例!L50,\"〇\",\"\")","v":{"$error":"#REF!"}},0,"×"]
[50,5,1,1,2,"イモト　チカ","井本　知香",2,7,8,"0192-11-7515","nofxm@nabco-door.co.jp",null,null,null,{"$f":"IF(入力フォーム合計!#REF!=採点例!B51,\"〇\",\"\")","v":{"$error":"#REF!"}},{"$f":"IF(入力フォーム合計!#REF!=採点例!C51,\"〇\",\"\")","v":{"$error":"#REF!"}},{"$f":"IF(入力フォーム合計!#REF!=採点例!D51,\"〇\",\"\")","v":{"$error":"#REF!"}},{"$f":"IF(入力フォーム合計!#REF!=採点例!E51,\"〇\",\"\")","v":{"$error":"#REF!"}},{"$f":"IF(入力フォーム合計!#REF!=採点例!F51,\"〇\",\"\")","v":{"$error":"#REF!"}},{"$f":"IF(入力フォーム合計!#REF!=採点例!G51,\"〇\",\"\")","v":{"$error":"#REF!"}},{"$f":"IF(入力フォーム合計!#REF!=採点例!H51,\"〇\",\"\")","v":{"$error":"#REF!"}},{"$f":"IF(入力フォーム合計!#REF!=採点例!I51,\"〇\",\"\")","v":{"$error":"#REF!"}},{"$f":"IF(入力フォーム合計!#REF!=採点例!J51,\"〇\",\"\")","v":{"$error":"#REF!"}},{"$f":"IF(入力フォーム合計!#REF!=採点例!K51,\"〇\",\"\")","v":{"$error":"#REF!"}},{"$f":"IF(入力フォーム合計!#REF!=採点例!L51,\"〇\",\"\")","v":{"$error":"#REF!"}},0,"×"]
[51,5,1,1,2,"ナガハマ　ケンジロウ","長浜　健次郎",1,6,11,"0564-92-0582","oscroggype@chubu.ac.jp",null,null,null,{"$f":"IF(入力フォーム合計!#REF!=採点例!B52,\"〇\",\"\")","v":{"$error":"#REF!"}},{"$f":"IF(入力フォーム合計!#REF!=採点例!C52,\"〇\",\"\")","v":{"$error":"#REF!"}},{"$f":"IF(入力フォーム合計!#REF!=採点例!D52,\"〇\",\"\")","v":{"$error":"#REF!"}},{"$f":"IF(入力フォーム合計!#REF!=採点例!E52,\"〇\",\"\")","v":{"$error":"#REF!"}},{"$f":"IF(入力フォーム合計!#REF!=採点例!F52,\"〇\",\"\")","v":{"$error":"#REF!"}},{"$f":"IF(入力フォーム合計!#REF!=採点例!G52,\"〇\",\"\")","v":{"$error":"#REF!"}},{"$f":"IF(入力フォーム合計!#REF!=採点例!H52,\"〇\",\"\")","v":{"$error":"#REF!"}},{"$f":"IF(入力フォーム合計!#REF!=採点例!I52,\"〇\",\"\")","v":{"$error":"#REF!"}},{"$f":"IF(入力フォーム合計!#REF!=採点例!J52,\"〇\",\"\")","v":{"$error":"#REF!"}},{"$f":"IF(入力フォーム合計!#REF!=採点例!K52,\"〇\",\"\")","v":{"$error":"#REF!"}},{"$f":"IF(入力フォーム合計!#REF!=採点例!L52,\"〇\",\"\")","v":{"$error":"#REF!"}},0,"×"]
[52,2,1,1,1,"カトウ　チカコ","加藤　千賀子",2,2,5,"047-256-3119","wgmsk@tokyoseitoku.ac.jp",null,null,null,{"$f":"IF(入力フォーム合計!#REF!=採点例!B53,\"〇\",\"\")","v":{"$error":"#REF!"}},{"$f":"IF(入力フォーム合計!#REF!=採点例!C53,\"〇\",\"\")","v":{"$error":"#REF!"}},{"$f":"IF(入力フォーム合計!#REF!=採点例!D53,\"〇\",\"\")","v":{"$error":"#REF!"}},{"$f":"IF(入力フォーム合計!#REF!=採点例!E53,\"〇\",\"\")","v":{"$error":"#REF!"}},{"$f":"IF(入力フォーム合計!#REF!=採点例!F53,\"〇\",\"\")","v":{"$error":"#REF!"}},{"$f":"IF(入力フォーム合計!#REF!=採点例!G53,\"〇\",\"\")","v":{"$error":"#REF!"}},{"$f":"IF(入力フォーム合計!#REF!=採点例!H53,\"〇\",\"\")","v":{"$error":"#REF!"}},{"$f":"IF(入力フォーム合計!#REF!=採点例!I53,\"〇\",\"\")","v":{"$error":"#REF!"}},{"$f":"IF(入力フォーム合計!#REF!=採点例!J53,\"〇\",\"\")","v":{"$error":"#REF!"}},{"$f":"IF(入力フォーム合計!#REF!=採点例!K53,\"〇\",\"\")","v":{"$error":"#REF!"}},{"$f":"IF(入力フォーム合計!#REF!=採点例!L53,\"〇\",\"\")","v":{"$error":"#REF!"}},0,"×"]
[53,6,1,1,2,"ツルオカ　ヨウジ","鶴岡　洋二",1,3,11,"0224-28-3205","bjyzyaweky@mgu.ac.jp",null,null,null,{"$f":"IF(入力フォーム合計!#REF!=採点例!B54,\"〇\",\"\")","v":{"$error":"#REF!"}},{"$f":"IF(入力フォーム合計!#REF!=採点例!C54,\"〇\",\"\")","v":{"$error":"#REF!"}},{"$f":"IF(入力フォーム合計!#REF!=採点例!D54,\"〇\",\"\")","v":{"$error":"#REF!"}},{"$f":"IF(入力フォーム合計!#REF!=採点例!E54,\"〇\",\"\")","v":{"$error":"#REF!"}},{"$f":"IF(入力フォーム合計!#REF!=採点例!F54,\"〇\",\"\")","v":{"$error":"#REF!"}},{"$f":"IF(入力フォーム合計!#REF!=採点例!G54,\"〇\",\"\")","v":{"$error":"#REF!"}},{"$f":"IF(入力フォーム合計!#REF!=採点例!H54,\"〇\",\"\")","v":{"$error":"#REF!"}},{"$f":"IF(入力フォーム合計!#REF!=採点例!I54,\"〇\",\"\")","v":{"$error":"#REF!"}},{"$f":"IF(入力フォーム合計!#REF!=採点例!J54,\"〇\",\"\")","v":{"$error":"#REF!"}},{"$f":"IF(入力フォーム合計!#REF!=採点例!K54,\"〇\",\"\")","v":{"$error":"#REF!"}},{"$f":"IF(入力フォーム合計!#REF!=採点例!L54,\"〇\",\"\")","v":{"$error":"#REF!"}},0,"×"]
[54,9,1,1,1,"モトヤマ　キサブロウ","本山　喜三郎",1,2,3,"0766-54-6400","mzhvp@ryoden.co.jp",null,null,null,{"$f":"IF(入力フォーム合計!#REF!=採点例!B55,\"〇\",\"\")","v":{"$error":"#REF!"}},{"$f":"IF(入力フォーム合計!#REF!=採点例!C55,\"〇\",\"\")","v":{"$error":"#REF!"}},{"$f":"IF(入力フォーム合計!#REF!=採点例!D55,\"〇\",\"\")","v":{"$error":"#REF!"}},{"$f":"IF(入力フォーム合計!#REF!=採点例!E55,\"〇\",\"\")","v":{"$error":"#REF!"}},{"$f":"IF(入力フォーム合計!#REF!=採点例!F55,\"〇\",\"\")","v":{"$error":"#REF!"}},{"$f":"IF(入力フォーム合計!#REF!=採点例!G55,\"〇\",\"\")","v":{"$error":"#REF!"}},{"$f":"IF(入力フォーム合計!#REF!=採点例!H55,\"〇\",\"\")","v":{"$error":"#REF!"}},{"$f":"IF(入力フォーム合計!#REF!=採点例!I55,\"〇\",\"\")","v":{"$error":"#REF!"}},{"$f":"IF(入力フォーム合計!#REF!=採点例!J55,\"〇\",\"\")","v":{"$error":"#REF!"}},{"$f":"IF(入力フォーム合計!#REF!=採点例!K55,\"〇\",\"\")","v":{"$error":"#REF!"}},{"$f":"IF(入力フォーム合計!#REF!=採点例!L55,\"〇\",\"\")","v":{"$error":"#REF!"}},0,"×"]
[55,8,2,4,2,"トビタ　カズミ","飛田　和美",2,4,5,"0572-42-3247","bmuxfrvulr@argo21.co.jp",null,null,null,{"$f":"IF(入力フォーム合計!#REF!=採点例!B56,\"〇\",\"\")","v":{"$error":"#REF!"}},{"$f":"IF(入力フォーム合計!#REF!=採点例!C56,\"〇\",\"\")","v":{"$error":"#REF!"}},{"$f":"IF(入力フォーム合計!#REF!=採点例!D56,\"〇\",\"\")","v":{"$error":"#REF!"}},{"$f":"IF(入力フォーム合計!#REF!=採点例!E56,\"〇\",\"\")","v":{"$error":"#REF!"}},{"$f":"IF(入力フォーム合計!#REF!=採点例!F56,\"〇\",\"\")","v":{"$error":"#REF!"}},{"$f":"IF(入力フォーム合計!#REF!=採点例!G56,\"〇\",\"\")","v":{"$error":"#REF!"}},{"$f":"IF(入力フォーム合計!#REF!=採点例!H56,\"〇\",\"\")","v":{"$error":"#REF!"}},{"$f":"IF(入力フォーム合計!#REF!=採点例!I56,\"〇\",\"\")","v":{"$error":"#REF!"}},{"$f":"IF(入力フォーム合計!#REF!=採点例!J56,\"〇\",\"\")","v":{"$error":"#REF!"}},{"$f":"IF(入力フォーム合計!#REF!=採点例!K56,\"〇\",\"\")","v":{"$error":"#REF!"}},{"$f":"IF(入力フォーム合計!#REF!=採点例!L56,\"〇\",\"\")","v":{"$error":"#REF!"}},0,"×"]
[56,9,4,3,2,"エハラ　サキ","江原　咲",2,3,12,"0950-92-4427","grozk@resona-hd.co.jp",null,null,null,{"$f":"IF(入力フォーム合計!#REF!=採点例!B57,\"〇\",\"\")","v":{"$error":"#REF!"}},{"$f":"IF(入力フォーム合計!#REF!=採点例!C57,\"〇\",\"\")","v":{"$error":"#REF!"}},{"$f":"IF(入力フォーム合計!#REF!=採点例!D57,\"〇\",\"\")","v":{"$error":"#REF!"}},{"$f":"IF(入力フォーム合計!#REF!=採点例!E57,\"〇\",\"\")","v":{"$error":"#REF!"}},{"$f":"IF(入力フォーム合計!#REF!=採点例!F57,\"〇\",\"\")","v":{"$error":"#REF!"}},{"$f":"IF(入力フォーム合計!#REF!=採点例!G57,\"〇\",\"\")","v":{"$error":"#REF!"}},{"$f":"IF(入力フォーム合計!#REF!=採点例!H57,\"〇\",\"\")","v":{"$error":"#REF!"}},{"$f":"IF(入力フォーム合計!#REF!=採点例!I57,\"〇\",\"\")","v":{"$error":"#REF!"}},{"$f":"IF(入力フォーム合計!#REF!=採点例!J57,\"〇\",\"\")","v":{"$error":"#REF!"}},{"$f":"IF(入力フォーム合計!#REF!=採点例!K57,\"〇\",\"\")","v":{"$error":"#REF!"}},{"$f":"IF(入力フォーム合計!#REF!=採点例!L57,\"〇\",\"\")","v":{"$error":"#REF!"}},0,"×"]
[57,8,2,2,2,"アビコ　シゲル","安孫子　滋",1,3,10,"0968-67-6789","zkzxftkuvv@risa-p.com",null,null,null,{"$f":"IF(入力フォーム合計!#REF!=採点例!B58,\"〇\",\"\")","v":{"$error":"#REF!"}},{"$f":"IF(入力フォーム合計!#REF!=採点例!C58,\"〇\",\"\")","v":{"$error":"#REF!"}},{"$f":"IF(入力フォーム合計!#REF!=採点例!D58,\"〇\",\"\")","v":{"$error":"#REF!"}},{"$f":"IF(入力フォーム合計!#REF!=採点例!E58,\"〇\",\"\")","v":{"$error":"#REF!"}},{"$f":"IF(入力フォーム合計!#REF!=採点例!F58,\"〇\",\"\")","v":{"$error":"#REF!"}},{"$f":"IF(入力フォーム合計!#REF!=採点例!G58,\"〇\",\"\")","v":{"$error":"#REF!"}},{"$f":"IF(入力フォーム合計!#REF!=採点例!H58,\"〇\",\"\")","v":{"$error":"#REF!"}},{"$f":"IF(入力フォーム合計!#REF!=採点例!I58,\"〇\",\"\")","v":{"$error":"#REF!"}},{"$f":"IF(入力フォーム合計!#REF!=採点例!J58,\"〇\",\"\")","v":{"$error":"#REF!"}},{"$f":"IF(入力フォーム合計!#REF!=採点例!K58,\"〇\",\"\")","v":{"$error":"#REF!"}},{"$f":"IF(入力フォーム合計!#REF!=採点例!L58,\"〇\",\"\")","v":{"$error":"#REF!"}},0,"×"]
[58,5,3,5,2,"ヤタベ　タダシ","谷田部　忠",1,4,6,"0268-91-5303","mjjyn@kyudenko.co.jp",null,null,null,{"$f":"IF(入力フォーム合計!#REF!=採点例!B59,\"〇\",\"\")","v":{"$error":"#REF!"}},{"$f":"IF(入力フォーム合計!#REF!=採点例!C59,\"〇\",\"\")","v":{"$error":"#REF!"}},{"$f":"IF(入力フォーム合計!#REF!=採点例!D59,\"〇\",\"\")","v":{"$error":"#REF!"}},{"$f":"IF(入力フォーム合計!#REF!=採点例!E59,\"〇\",\"\")","v":{"$error":"#REF!"}},{"$f":"IF(入力フォーム合計!#REF!=採点例!F59,\"〇\",\"\")","v":{"$error":"#REF!"}},{"$f":"IF(入力フォーム合計!#REF!=採点例!G59,\"〇\",\"\")","v":{"$error":"#REF!"}},{"$f":"IF(入力フォーム合計!#REF!=採点例!H59,\"〇\",\"\")","v":{"$error":"#REF!"}},{"$f":"IF(入力フォーム合計!#REF!=採点例!I59,\"〇\",\"\")","v":{"$error":"#REF!"}},{"$f":"IF(入力フォーム合計!#REF!=採点例!J59,\"〇\",\"\")","v":{"$error":"#REF!"}},{"$f":"IF(入力フォーム合計!#REF!=採点例!K59,\"〇\",\"\")","v":{"$error":"#REF!"}},{"$f":"IF(入力フォーム合計!#REF!=採点例!L59,\"〇\",\"\")","v":{"$error":"#REF!"}},0,"×"]
[59,6,4,5,2,"ウメムラ　アキオ","梅村　昭男",1,3,7,"0270-88-7762","mcvklhkdkk@gunma.jp",null,null,null,{"$f":"IF(入力フォーム合計!#REF!=採点例!B60,\"〇\",\"\")","v":{"$error":"#REF!"}},{"$f":"IF(入力フォーム合計!#REF!=採点例!C60,\"〇\",\"\")","v":{"$error":"#REF!"}},{"$f":"IF(入力フォーム合計!#REF!=採点例!D60,\"〇\",\"\")","v":{"$error":"#REF!"}},{"$f":"IF(入力フォーム合計!#REF!=採点例!E60,\"〇\",\"\")","v":{"$error":"#REF!"}},{"$f":"IF(入力フォーム合計!#REF!=採点例!F60,\"〇\",\"\")","v":{"$error":"#REF!"}},{"$f":"IF(入力フォーム合計!#REF!=採点例!G60,\"〇\",\"\")","v":{"$error":"#REF!"}},{"$f":"IF(入力フォーム合計!#REF!=採点例!H60,\"〇\",\"\")","v":{"$error":"#REF!"}},{"$f":"IF(入力フォーム合計!#REF!=採点例!I60,\"〇\",\"\")","v":{"$error":"#REF!"}},{"$f":"IF(入力フォーム合計!#REF!=採点例!J60,\"〇\",\"\")","v":{"$error":"#REF!"}},{"$f":"IF(入力フォーム合計!#REF!=採点例!K60,\"〇\",\"\")","v":{"$error":"#REF!"}},{"$f":"IF(入力フォーム合計!#REF!=採点例!L60,\"〇\",\"\")","v":{"$error":"#REF!"}},0,"×"]
[60,7,1,1,1,"ウチムラ　ショウイチ","内村　正一",1,2,4,"0944-97-2617","ksiwy@maff.go.jp",null,null,null,{"$f":"IF(入力フォーム合計!#REF!=採点例!B61,\"〇\",\"\")","v":{"$error":"#REF!"}},{"$f":"IF(入力フォーム合計!#REF!=採点例!C61,\"〇\",\"\")","v":{"$error":"#REF!"}},{"$f":"IF(入力フォーム合計!#REF!=採点例!D61,\"〇\",\"\")","v":{"$error":"#REF!"}},{"$f":"IF(入力フォーム合計!#REF!=採点例!E61,\"〇\",\"\")","v":{"$error":"#REF!"}},{"$f":"IF(入力フォーム合計!#REF!=採点例!F61,\"〇\",\"\")","v":{"$error":"#REF!"}},{"$f":"IF(入力フォーム合計!#REF!=採点例!G61,\"〇\",\"\")","v":{"$error":"#REF!"}},{"$f":"IF(入力フォーム合計!#REF!=採点例!H61,\"〇\",\"\")","v":{"$error":"#REF!"}},{"$f":"IF(入力フォーム合計!#REF!=採点例!I61,\"〇\",\"\")","v":{"$error":"#REF!"}},{"$f":"IF(入力フォーム合計!#REF!=採点例!J61,\"〇\",\"\")","v":{"$error":"#REF!"}},{"$f":"IF(入力フォーム合計!#REF!=採点例!K61,\"〇\",\"\")","v":{"$error":"#REF!"}},{"$f":"IF(入力フォーム合計!#REF!=採点例!L61,\"〇\",\"\")","v":{"$error":"#REF!"}},0,"×"]
[61,8,2,2,2,"マルタ　コウゾウ","丸田　幸三",1,5,8,"052-470-1666","iztwhtfnai@alpine.com",null,null,null,{"$f":"IF(入力フォーム合計!#REF!=採点例!B62,\"〇\",\"\")","v":{"$error":"#REF!"}},{"$f":"IF(入力フォーム合計!#REF!=採点例!C62,\"〇\",\"\")","v":{"$error":"#REF!"}},{"$f":"IF(入力フォーム合計!#REF!=採点例!D62,\"〇\",\"\")","v":{"$error":"#REF!"}},{"$f":"IF(入力フォーム合計!#REF!=採点例!E62,\"〇\",\"\")","v":{"$error":"#REF!"}},{"$f":"IF(入力フォーム合計!#REF!=採点例!F62,\"〇\",\"\")","v":{"$error":"#REF!"}},{"$f":"IF(入力フォーム合計!#REF!=採点例!G62,\"〇\",\"\")","v":{"$error":"#REF!"}},{"$f":"IF(入力フォーム合計!#REF!=採点例!H62,\"〇\",\"\")","v":{"$error":"#REF!"}},{"$f":"IF(入力フォーム合計!#REF!=採点例!I62,\"〇\",\"\")","v":{"$error":"#REF!"}},{"$f":"IF(入力フォーム合計!#REF!=採点例!J62,\"〇\",\"\")","v":{"$error":"#REF!"}},{"$f":"IF(入力フォーム合計!#REF!=採点例!K62,\"〇\",\"\")","v":{"$error":"#REF!"}},{"$f":"IF(入力フォーム合計!#REF!=採点例!L62,\"〇\",\"\")","v":{"$error":"#REF!"}},0,"×"]
[62,4,2,2,3,"フクチ　アスカ","福地　明日香",2,5,4,"0735-52-7609","xegri@wakayama.lg.jp",null,null,null,{"$f":"IF(入力フォーム合計!#REF!=採点例!B63,\"〇\",\"\")","v":{"$error":"#REF!"}},{"$f":"IF(入力フォーム合計!#REF!=採点例!C63,\"〇\",\"\")","v":{"$error":"#REF!"}},{"$f":"IF(入力フォーム合計!#REF!=採点例!D63,\"〇\",\"\")","v":{"$error":"#REF!"}},{"$f":"IF(入力フォーム合計!#REF!=採点例!E63,\"〇\",\"\")","v":{"$error":"#REF!"}},{"$f":"IF(入力フォーム合計!#REF!=採点例!F63,\"〇\",\"\")","v":{"$error":"#REF!"}},{"$f":"IF(入力フォーム合計!#REF!=採点例!G63,\"〇\",\"\")","v":{"$error":"#REF!"}},{"$f":"IF(入力フォーム合計!#REF!=採点例!H63,\"〇\",\"\")","v":{"$error":"#REF!"}},{"$f":"IF(入力フォーム合計!#REF!=採点例!I63,\"〇\",\"\")","v":{"$error":"#REF!"}},{"$f":"IF(入力フォーム合計!#REF!=採点例!J63,\"〇\",\"\")","v":{"$error":"#REF!"}},{"$f":"IF(入力フォーム合計!#REF!=採点例!K63,\"〇\",\"\")","v":{"$error":"#REF!"}},{"$f":"IF(入力フォーム合計!#REF!=採点例!L63,\"〇\",\"\")","v":{"$error":"#REF!"}},0,"×"]
[63,8,1,1,1,"ササハラ　ヨシハル","笹原　義治",1,2,5,"0470-79-8435","mndpzoveoa@wayo.ac.jp",null,null,null,{"$f":"IF(入力フォーム合計!#REF!=採点例!B64,\"〇\",\"\")","v":{"$error":"#REF!"}},{"$f":"IF(入力フォーム合計!#REF!=採点例!C64,\"〇\",\"\")","v":{"$error":"#REF!"}},{"$f":"IF(入力フォーム合計!#REF!=採点例!D64,\"〇\",\"\")","v":{"$error":"#REF!"}},{"$f":"IF(入力フォーム合計!#REF!=採点例!E64,\"〇\",\"\")","v":{"$error":"#REF!"}},{"$f":"IF(入力フォーム合計!#REF!=採点例!F64,\"〇\",\"\")","v":{"$error":"#REF!"}},{"$f":"IF(入力フォーム合計!#REF!=採点例!G64,\"〇\",\"\")","v":{"$error":"#REF!"}},{"$f":"IF(入力フォーム合計!#REF!=採点例!H64,\"〇\",\"\")","v":{"$error":"#REF!"}},{"$f":"IF(入力フォーム合計!#REF!=採点例!I64,\"〇\",\"\")","v":{"$error":"#REF!"}},{"$f":"IF(入力フォーム合計!#REF!=採点例!J64,\"〇\",\"\")","v":{"$error":"#REF!"}},{"$f":"IF(入力フォーム合計!#REF!=採点例!K64,\"〇\",\"\")","v":{"$error":"#REF!"}},{"$f":"IF(入力フォーム合計!#REF!=採点例!L64,\"〇\",\"\")","v":{"$error":"#REF!"}},0,"×"]
[64,5,1,1,2,"オンダ　ヨウコ","恩田　葉子",2,6,10,"0796-52-7526","jhzif@sansui-jpn.co.jp",null,null,null,{"$f":"IF(入力フォーム合計!#REF!=採点例!B65,\"〇\",\"\")","v":{"$error":"#REF!"}},{"$f":"IF(入力フォーム合計!#REF!=採点例!C65,\"〇\",\"\")","v":{"$error":"#REF!"}},{"$f":"IF(入力フォーム合計!#REF!=採点例!D65,\"〇\",\"\")","v":{"$error":"#REF!"}},{"$f":"IF(入力フォーム合計!#REF!=採点例!E65,\"〇\",\"\")","v":{"$error":"#REF!"}},{"$f":"IF(入力フォーム合計!#REF!=採点例!F65,\"〇\",\"\")","v":{"$error":"#REF!"}},{"$f":"IF(入力フォーム合計!#REF!=採点例!G65,\"〇\",\"\")","v":{"$error":"#REF!"}},{"$f":"IF(入力フォーム合計!#REF!=採点例!H65,\"〇\",\"\")","v":{"$error":"#REF!"}},{"$f":"IF(入力フォーム合計!#REF!=採点例!I65,\"〇\",\"\")","v":{"$error":"#REF!"}},{"$f":"IF(入力フォーム合計!#REF!=採点例!J65,\"〇\",\"\")","v":{"$error":"#REF!"}},{"$f":"IF(入力フォーム合計!#REF!=採点例!K65,\"〇\",\"\")","v":{"$error":"#REF!"}},{"$f":"IF(入力フォーム合計!#REF!=採点例!L65,\"〇\",\"\")","v":{"$error":"#REF!"}},0,"×"]
[65,5,1,1,1,"ヒラガ　ヤエコ","平賀　八重子",2,1,2,"03-6084-7615","ejsljbzjld@meiji.ac.jp",null,null,null,{"$f":"IF(入力フォーム合計!#REF!=採点例!B66,\"〇\",\"\")","v":{"$error":"#REF!"}},{"$f":"IF(入力フォーム合計!#REF!=採点例!C66,\"〇\",\"\")","v":{"$error":"#REF!"}},{"$f":"IF(入力フォーム合計!#REF!=採点例!D66,\"〇\",\"\")","v":{"$error":"#REF!"}},{"$f":"IF(入力フォーム合計!#REF!=採点例!E66,\"〇\",\"\")","v":{"$error":"#REF!"}},{"$f":"IF(入力フォーム合計!#REF!=採点例!F66,\"〇\",\"\")","v":{"$error":"#REF!"}},{"$f":"IF(入力フォーム合計!#REF!=採点例!G66,\"〇\",\"\")","v":{"$error":"#REF!"}},{"$f":"IF(入力フォーム合計!#REF!=採点例!H66,\"〇\",\"\")","v":{"$error":"#REF!"}},{"$f":"IF(入力フォーム合計!#REF!=採点例!I66,\"〇\",\"\")","v":{"$error":"#REF!"}},{"$f":"IF(入力フォーム合計!#REF!=採点例!J66,\"〇\",\"\")","v":{"$error":"#REF!"}},{"$f":"IF(入力フォーム合計!#REF!=採点例!K66,\"〇\",\"\")","v":{"$error":"#REF!"}},{"$f":"IF(入力フォーム合計!#REF!=採点例!L66,\"〇\",\"\")","v":{"$error":"#REF!"}},{"$f":"COUNTIF(P66:Z66,\"〇\")","v":0},{"$f":"IF(AA66=COUNTA($P$1:$Z$1),\"〇\",\"×\")","v":"×"}]
[66,4,3,3,3,"ヨネクラ　シュウゾウ","米倉　修三",1,2,3,"0982-88-6307","xhcfk@kawasaki-sk.co.jp",null,null,null,{"$f":"IF(入力フォーム合計!#REF!=採点例!B67,\"〇\",\"\")","v":{"$error":"#REF!"}},{"$f":"IF(入力フォーム合計!#REF!=採点例!C67,\"〇\",\"\")","v":{"$error":"#REF!"}},{"$f":"IF(入力フォーム合計!#REF!=採点例!D67,\"〇\",\"\")","v":{"$error":"#REF!"}},{"$f":"IF(入力フォーム合計!#REF!=採点例!E67,\"〇\",\"\")","v":{"$error":"#REF!"}},{"$f":"IF(入力フォーム合計!#REF!=採点例!F67,\"〇\",\"\")","v":{"$error":"#REF!"}},{"$f":"IF(入力フォーム合計!#REF!=採点例!G67,\"〇\",\"\")","v":{"$error":"#REF!"}},{"$f":"IF(入力フォーム合計!#REF!=採点例!H67,\"〇\",\"\")","v":{"$error":"#REF!"}},{"$f":"IF(入力フォーム合計!#REF!=採点例!I67,\"〇\",\"\")","v":{"$error":"#REF!"}},{"$f":"IF(入力フォーム合計!#REF!=採点例!J67,\"〇\",\"\")","v":{"$error":"#REF!"}},{"$f":"IF(入力フォーム合計!#REF!=採点例!K67,\"〇\",\"\")","v":{"$error":"#REF!"}},{"$f":"IF(入力フォーム合計!#REF!=採点例!L67,\"〇\",\"\")","v":{"$error":"#REF!"}},0,"×"]
[67,3,4,4,2,"モリシマ　ケン","森島　謙",1,3,5,"0987-61-3264","zphzqsunsv@jpo.go.jp",null,null,null,{"$f":"IF(入力フォーム合計!#REF!=採点例!B68,\"〇\",\"\")","v":{"$error":"#REF!"}},{"$f":"IF(入力フォーム合計!#REF!=採点例!C68,\"〇\",\"\")","v":{"$error":"#REF!"}},{"$f":"IF(入力フォーム合計!#REF!=採点例!D68,\"〇\",\"\")","v":{"$error":"#REF!"}},{"$f":"IF(入力フォーム合計!#REF!=採点例!E68,\"〇\",\"\")","v":{"$error":"#REF!"}},{"$f":"IF(入力フォーム合計!#REF!=採点例!F68,\"〇\",\"\")","v":{"$error":"#REF!"}},{"$f":"IF(入力フォーム合計!#REF!=採点例!G68,\"〇\",\"\")","v":{"$error":"#REF!"}},{"$f":"IF(入力フォーム合計!#REF!=採点例!H68,\"〇\",\"\")","v":{"$error":"#REF!"}},{"$f":"IF(入力フォーム合計!#REF!=採点例!I68,\"〇\",\"\")","v":{"$error":"#REF!"}},{"$f":"IF(入力フォーム合計!#REF!=採点例!J68,\"〇\",\"\")","v":{"$error":"#REF!"}},{"$f":"IF(入力フォーム合計!#REF!=採点例!K68,\"〇\",\"\")","v":{"$error":"#REF!"}},{"$f":"IF(入力フォーム合計!#REF!=採点例!L68,\"〇\",\"\")","v":{"$error":"#REF!"}},0,"×"]
[68,2,5,5,3,"マスイ　コウイチ","増井　光一",1,4,9,"028-342-2252","ljrhr@114bank.co.jp",null,null,null,{"$f":"IF(入力フォーム合計!#REF!=採点例!B69,\"〇\",\"\")","v":{"$error":"#REF!"}},{"$f":"IF(入力フォーム合計!#REF!=採点例!C69,\"〇\",\"\")","v":{"$error":"#REF!"}},{"$f":"IF(入力フォーム合計!#REF!=採点例!D69,\"〇\",\"\")","v":{"$error":"#REF!"}},{"$f":"IF(入力フォーム合計!#REF!=採点例!E69,\"〇\",\"\")","v":{"$error":"#REF!"}},{"$f":"IF(入力フォーム合計!#REF!=採点例!F69,\"〇\",\"\")","v":{"$error":"#REF!"}},{"$f":"IF(入力フォーム合計!#REF!=採点例!G69,\"〇\",\"\")","v":{"$error":"#REF!"}},{"$f":"IF(入力フォーム合計!#REF!=採点例!H69,\"〇\",\"\")","v":{"$error":"#REF!"}},{"$f":"IF(入力フォーム合計!#REF!=採点例!I69,\"〇\",\"\")","v":{"$error":"#REF!"}},{"$f":"IF(入力フォーム合計!#REF!=採点例!J69,\"〇\",\"\")","v":{"$error":"#REF!"}},{"$f":"IF(入力フォーム合計!#REF!=採点例!K69,\"〇\",\"\")","v":{"$error":"#REF!"}},{"$f":"IF(入力フォーム合計!#REF!=採点例!L69,\"〇\",\"\")","v":{"$error":"#REF!"}},0,"×"]
[69,5,2,5,2,"ムラキ　ヒデコ","村木　英子",2,3,9,"052-654-8299","sfkwhtnsiu@chukyo-u.ac.jp",null,null,null,{"$f":"IF(入力フォーム合計!#REF!=採点例!B70,\"〇\",\"\")","v":{"$error":"#REF!"}},{"$f":"IF(入力フォーム合計!#REF!=採点例!C70,\"〇\",\"\")","v":{"$error":"#REF!"}},{"$f":"IF(入力フォーム合計!#REF!=採点例!D70,\"〇\",\"\")","v":{"$error":"#REF!"}},{"$f":"IF(入力フォーム合計!#REF!=採点例!E70,\"〇\",\"\")","v":{"$error":"#REF!"}},{"$f":"IF(入力フォーム合計!#REF!=採点例!F70,\"〇\",\"\")","v":{"$error":"#REF!"}},{"$f":"IF(入力フォーム合計!#REF!=採点例!G70,\"〇\",\"\")","v":{"$error":"#REF!"}},{"$f":"IF(入力フォーム合計!#REF!=採点例!H70,\"〇\",\"\")","v":{"$error":"#REF!"}},{"$f":"IF(入力フォーム合計!#REF!=採点例!I70,\"〇\",\"\")","v":{"$error":"#REF!"}},{"$f":"IF(入力フォーム合計!#REF!=採点例!J70,\"〇\",\"\")","v":{"$error":"#REF!"}},{"$f":"IF(入力フォーム合計!#REF!=採点例!K70,\"〇\",\"\")","v":{"$error":"#REF!"}},{"$f":"IF(入力フォーム合計!#REF!=採点例!L70,\"〇\",\"\")","v":{"$error":"#REF!"}},0,"×"]
[70,6,3,5,1,"フクザワ　シゲオ","福沢　繁雄",1,4,7,"0772-15-9674","zmmnyemhff@sia.go.jp",null,null,null,{"$f":"IF(入力フォーム合計!#REF!=採点例!B71,\"〇\",\"\")","v":{"$error":"#REF!"}},{"$f":"IF(入力フォーム合計!#REF!=採点例!C71,\"〇\",\"\")","v":{"$error":"#REF!"}},{"$f":"IF(入力フォーム合計!#REF!=採点例!D71,\"〇\",\"\")","v":{"$error":"#REF!"}},{"$f":"IF(入力フォーム合計!#REF!=採点例!E71,\"〇\",\"\")","v":{"$error":"#REF!"}},{"$f":"IF(入力フォーム合計!#REF!=採点例!F71,\"〇\",\"\")","v":{"$error":"#REF!"}},{"$f":"IF(入力フォーム合計!#REF!=採点例!G71,\"〇\",\"\")","v":{"$error":"#REF!"}},{"$f":"IF(入力フォーム合計!#REF!=採点例!H71,\"〇\",\"\")","v":{"$error":"#REF!"}},{"$f":"IF(入力フォーム合計!#REF!=採点例!I71,\"〇\",\"\")","v":{"$error":"#REF!"}},{"$f":"IF(入力フォーム合計!#REF!=採点例!J71,\"〇\",\"\")","v":{"$error":"#REF!"}},{"$f":"IF(入力フォーム合計!#REF!=採点例!K71,\"〇\",\"\")","v":{"$error":"#REF!"}},{"$f":"IF(入力フォーム合計!#REF!=採点例!L71,\"〇\",\"\")","v":{"$error":"#REF!"}},0,"×"]
[71,7,2,2,2,"アタル　シュウイチロウ","中　修一郎",1,4,5,"048-741-7650","ydsou@saitama.lg.jp",null,null,null,{"$f":"IF(入力フォーム合計!#REF!=採点例!B72,\"〇\",\"\")","v":{"$error":"#REF!"}},{"$f":"IF(入力フォーム合計!#REF!=採点例!C72,\"〇\",\"\")","v":{"$error":"#REF!"}},{"$f":"IF(入力フォーム合計!#REF!=採点例!D72,\"〇\",\"\")","v":{"$error":"#REF!"}},{"$f":"IF(入力フォーム合計!#REF!=採点例!E72,\"〇\",\"\")","v":{"$error":"#REF!"}},{"$f":"IF(入力フォーム合計!#REF!=採点例!F72,\"〇\",\"\")","v":{"$error":"#REF!"}},{"$f":"IF(入力フォーム合計!#REF!=採点例!G72,\"〇\",\"\")","v":{"$error":"#REF!"}},{"$f":"IF(入力フォーム合計!#REF!=採点例!H72,\"〇\",\"\")","v":{"$error":"#REF!"}},{"$f":"IF(入力フォーム合計!#REF!=採点例!I72,\"〇\",\"\")","v":{"$error":"#REF!"}},{"$f":"IF(入力フォーム合計!#REF!=採点例!J72,\"〇\",\"\")","v":{"$error":"#REF!"}},{"$f":"IF(入力フォーム合計!#REF!=採点例!K72,\"〇\",\"\")","v":{"$error":"#REF!"}},{"$f":"IF(入力フォーム合計!#REF!=採点例!L72,\"〇\",\"\")","v":{"$error":"#REF!"}},0,"×"]
[72,8,1,1,1,"タネムラ　ハジメ","種村　肇",1,3,5,"0774-42-5880","vuzpaykobc@soumu.go.jp",null,null,null,{"$f":"IF(入力フォーム合計!#REF!=採点例!B73,\"〇\",\"\")","v":{"$error":"#REF!"}},{"$f":"IF(入力フォーム合計!#REF!=採点例!C73,\"〇\",\"\")","v":{"$error":"#REF!"}},{"$f":"IF(入力フォーム合計!#REF!=採点例!D73,\"〇\",\"\")","v":{"$error":"#REF!"}},{"$f":"IF(入力フォーム合計!#REF!=採点例!E73,\"〇\",\"\")","v":{"$error":"#REF!"}},{"$f":"IF(入力フォーム合計!#REF!=採点例!F73,\"〇\",\"\")","v":{"$error":"#REF!"}},{"$f":"IF(入力フォーム合計!#REF!=採点例!G73,\"〇\",\"\")","v":{"$error":"#REF!"}},{"$f":"IF(入力フォーム合計!#REF!=採点例!H73,\"〇\",\"\")","v":{"$error":"#REF!"}},{"$f":"IF(入力フォーム合計!#REF!=採点例!I73,\"〇\",\"\")","v":{"$error":"#REF!"}},{"$f":"IF(入力フォーム合計!#REF!=採点例!J73,\"〇\",\"\")","v":{"$error":"#REF!"}},{"$f":"IF(入力フォーム合計!#REF!=採点例!K73,\"〇\",\"\")","v":{"$error":"#REF!"}},{"$f":"IF(入力フォーム合計!#REF!=採点例!L73,\"〇\",\"\")","v":{"$error":"#REF!"}},0,"×"]
[73,2,1,1,2,"オオキタ　マサヒロ","大北　昌弘",1,2,8,"0996-70-4293","qeluy@smcon.co.jp",null,null,null,{"$f":"IF(入力フォーム合計!#REF!=採点例!B74,\"〇\",\"\")","v":{"$error":"#REF!"}},{"$f":"IF(入力フォーム合計!#REF!=採点例!C74,\"〇\",\"\")","v":{"$error":"#REF!"}},{"$f":"IF(入力フォーム合計!#REF!=採点例!D74,\"〇\",\"\")","v":{"$error":"#REF!"}},{"$f":"IF(入力フォーム合計!#REF!=採点例!E74,\"〇\",\"\")","v":{"$error":"#REF!"}},{"$f":"IF(入力フォーム合計!#REF!=採点例!F74,\"〇\",\"\")","v":{"$error":"#REF!"}},{"$f":"IF(入力フォーム合計!#REF!=採点例!G74,\"〇\",\"\")","v":{"$error":"#REF!"}},{"$f":"IF(入力フォーム合計!#REF!=採点例!H74,\"〇\",\"\")","v":{"$error":"#REF!"}},{"$f":"IF(入力フォーム合計!#REF!=採点例!I74,\"〇\",\"\")","v":{"$error":"#REF!"}},{"$f":"IF(入力フォーム合計!#REF!=採点例!J74,\"〇\",\"\")","v":{"$error":"#REF!"}},{"$f":"IF(入力フォーム合計!#REF!=採点例!K74,\"〇\",\"\")","v":{"$error":"#REF!"}},{"$f":"IF(入力フォーム合計!#REF!=採点例!L74,\"〇\",\"\")","v":{"$error":"#REF!"}},0,"×"]
[74,3,1,1,1,"カヤマ　ショウタロウ","香山　正太郎",1,2,11,"022-311-2491","omxmnbmzwq@mgu.ac.jp",null,null,null,{"$f":"IF(入力フォーム合計!#REF!=採点例!B75,\"〇\",\"\")","v":{"$error":"#REF!"}},{"$f":"IF(入力フォーム合計!#REF!=採点例!C75,\"〇\",\"\")","v":{"$error":"#REF!"}},{"$f":"IF(入力フォーム合計!#REF!=採点例!D75,\"〇\",\"\")","v":{"$error":"#REF!"}},{"$f":"IF(入力フォーム合計!#REF!=採点例!E75,\"〇\",\"\")","v":{"$error":"#REF!"}},{"$f":"IF(入力フォーム合計!#REF!=採点例!F75,\"〇\",\"\")","v":{"$error":"#REF!"}},{"$f":"IF(入力フォーム合計!#REF!=採点例!G75,\"〇\",\"\")","v":{"$error":"#REF!"}},{"$f":"IF(入力フォーム合計!#REF!=採点例!H75,\"〇\",\"\")","v":{"$error":"#REF!"}},{"$f":"IF(入力フォーム合計!#REF!=採点例!I75,\"〇\",\"\")","v":{"$error":"#REF!"}},{"$f":"IF(入力フォーム合計!#REF!=採点例!J75,\"〇\",\"\")","v":{"$error":"#REF!"}},{"$f":"IF(入力フォーム合計!#REF!=採点例!K75,\"〇\",\"\")","v":{"$error":"#REF!"}},{"$f":"IF(入力フォーム合計!#REF!=採点例!L75,\"〇\",\"\")","v":{"$error":"#REF!"}},0,"×"]
[75,4,1,1,1,"セタ　ショウジ","瀬田　昭治",1,3,5,"0968-32-4006","qkgao@kumamoto.jp",null,null,null,{"$f":"IF(入力フォーム合計!#REF!=採点例!B76,\"〇\",\"\")","v":{"$error":"#REF!"}},{"$f":"IF(入力フォーム合計!#REF!=採点例!C76,\"〇\",\"\")","v":{"$error":"#REF!"}},{"$f":"IF(入力フォーム合計!#REF!=採点例!D76,\"〇\",\"\")","v":{"$error":"#REF!"}},{"$f":"IF(入力フォーム合計!#REF!=採点例!E76,\"〇\",\"\")","v":{"$error":"#REF!"}},{"$f":"IF(入力フォーム合計!#REF!=採点例!F76,\"〇\",\"\")","v":{"$error":"#REF!"}},{"$f":"IF(入力フォーム合計!#REF!=採点例!G76,\"〇\",\"\")","v":{"$error":"#REF!"}},{"$f":"IF(入力フォーム合計!#REF!=採点例!H76,\"〇\",\"\")","v":{"$error":"#REF!"}},{"$f":"IF(入力フォーム合計!#REF!=採点例!I76,\"〇\",\"\")","v":{"$error":"#REF!"}},{"$f":"IF(入力フォーム合計!#REF!=採点例!J76,\"〇\",\"\")","v":{"$error":"#REF!"}},{"$f":"IF(入力フォーム合計!#REF!=採点例!K76,\"〇\",\"\")","v":{"$error":"#REF!"}},{"$f":"IF(入力フォーム合計!#REF!=採点例!L76,\"〇\",\"\")","v":{"$error":"#REF!"}},0,"×"]
[76,5,3,3,2,"ウダガワ　モエ","宇田川　萌",2,4,8,"0581-82-1817","xvyzskvmhp@gifu.lg.jp",null,null,null,{"$f":"IF(入力フォーム合計!#REF!=採点例!B77,\"〇\",\"\")","v":{"$error":"#REF!"}},{"$f":"IF(入力フォーム合計!#REF!=採点例!C77,\"〇\",\"\")","v":{"$error":"#REF!"}},{"$f":"IF(入力フォーム合計!#REF!=採点例!D77,\"〇\",\"\")","v":{"$error":"#REF!"}},{"$f":"IF(入力フォーム合計!#REF!=採点例!E77,\"〇\",\"\")","v":{"$error":"#REF!"}},{"$f":"IF(入力フォーム合計!#REF!=採点例!F77,\"〇\",\"\")","v":{"$error":"#REF!"}},{"$f":"IF(入力フォーム合計!#REF!=採点例!G77,\"〇\",\"\")","v":{"$error":"#REF!"}},{"$f":"IF(入力フォーム合計!#REF!=採点例!H77,\"〇\",\"\")","v":{"$error":"#REF!"}},{"$f":"IF(入力フォーム合計!#REF!=採点例!I77,\"〇\",\"\")","v":{"$error":"#REF!"}},{"$f":"IF(入力フォーム合計!#REF!=採点例!J77,\"〇\",\"\")","v":{"$error":"#REF!"}},{"$f":"IF(入力フォーム合計!#REF!=採点例!K77,\"〇\",\"\")","v":{"$error":"#REF!"}},{"$f":"IF(入力フォーム合計!#REF!=採点例!L77,\"〇\",\"\")","v":{"$error":"#REF!"}},0,"×"]
[77,3,4,4,2,"シバヤマ　ケイコ","柴山　敬子",2,3,5,"0855-80-3931","mxjup@shinagawasoko-t.co.jp",null,null,null,{"$f":"IF(入力フォーム合計!#REF!=採点例!B78,\"〇\",\"\")","v":{"$error":"#REF!"}},{"$f":"IF(入力フォーム合計!#REF!=採点例!C78,\"〇\",\"\")","v":{"$error":"#REF!"}},{"$f":"IF(入力フォーム合計!#REF!=採点例!D78,\"〇\",\"\")","v":{"$error":"#REF!"}},{"$f":"IF(入力フォーム合計!#REF!=採点例!E78,\"〇\",\"\")","v":{"$error":"#REF!"}},{"$f":"IF(入力フォーム合計!#REF!=採点例!F78,\"〇\",\"\")","v":{"$error":"#REF!"}},{"$f":"IF(入力フォーム合計!#REF!=採点例!G78,\"〇\",\"\")","v":{"$error":"#REF!"}},{"$f":"IF(入力フォーム合計!#REF!=採点例!H78,\"〇\",\"\")","v":{"$error":"#REF!"}},{"$f":"IF(入力フォーム合計!#REF!=採点例!I78,\"〇\",\"\")","v":{"$error":"#REF!"}},{"$f":"IF(入力フォーム合計!#REF!=採点例!J78,\"〇\",\"\")","v":{"$error":"#REF!"}},{"$f":"IF(入力フォーム合計!#REF!=採点例!K78,\"〇\",\"\")","v":{"$error":"#REF!"}},{"$f":"IF(入力フォーム合計!#REF!=採点例!L78,\"〇\",\"\")","v":{"$error":"#REF!"}},0,"×"]
[78,2,5,5,1,"シノミヤ　ケンジ","四宮　憲治",1,5,11,"0996-90-1799","aaolvaufdc@alpsbutsuryu.co.jp",null,null,null,{"$f":"IF(入力フォーム合計!#REF!=採点例!B79,\"〇\",\"\")","v":{"$error":"#REF!"}},{"$f":"IF(入力フォーム合計!#REF!=採点例!C79,\"〇\",\"\")","v":{"$error":"#REF!"}},{"$f":"IF(入力フォーム合計!#REF!=採点例!D79,\"〇\",\"\")","v":{"$error":"#REF!"}},{"$f":"IF(入力フォーム合計!#REF!=採点例!E79,\"〇\",\"\")","v":{"$error":"#REF!"}},{"$f":"IF(入力フォーム合計!#REF!=採点例!F79,\"〇\",\"\")","v":{"$error":"#REF!"}},{"$f":"IF(入力フォーム合計!#REF!=採点例!G79,\"〇\",\"\")","v":{"$error":"#REF!"}},{"$f":"IF(入力フォーム合計!#REF!=採点例!H79,\"〇\",\"\")","v":{"$error":"#REF!"}},{"$f":"IF(入力フォーム合計!#REF!=採点例!I79,\"〇\",\"\")","v":{"$error":"#REF!"}},{"$f":"IF(入力フォーム合計!#REF!=採点例!J79,\"〇\",\"\")","v":{"$error":"#REF!"}},{"$f":"IF(入力フォーム合計!#REF!=採点例!K79,\"〇\",\"\")","v":{"$error":"#REF!"}},{"$f":"IF(入力フォーム合計!#REF!=採点例!L79,\"〇\",\"\")","v":{"$error":"#REF!"}},0,"×"]
[79,1,1,1,2,"バンドウ　アラタ","坂東　新",1,6,10,"0178-72-7762","unpbk@jimos.co.jp",null,null,null,{"$f":"IF(入力フォーム合計!#REF!=採点例!B80,\"〇\",\"\")","v":{"$error":"#REF!"}},{"$f":"IF(入力フォーム合計!#REF!=採点例!C80,\"〇\",\"\")","v":{"$error":"#REF!"}},{"$f":"IF(入力フォーム合計!#REF!=採点例!D80,\"〇\",\"\")","v":{"$error":"#REF!"}},{"$f":"IF(入力フォーム合計!#REF!=採点例!E80,\"〇\",\"\")","v":{"$error":"#REF!"}},{"$f":"IF(入力フォーム合計!#REF!=採点例!F80,\"〇\",\"\")","v":{"$error":"#REF!"}},{"$f":"IF(入力フォーム合計!#REF!=採点例!G80,\"〇\",\"\")","v":{"$error":"#REF!"}},{"$f":"IF(入力フォーム合計!#REF!=採点例!H80,\"〇\",\"\")","v":{"$error":"#REF!"}},{"$f":"IF(入力フォーム合計!#REF!=採点例!I80,\"〇\",\"\")","v":{"$error":"#REF!"}},{"$f":"IF(入力フォーム合計!#REF!=採点例!J80,\"〇\",\"\")","v":{"$error":"#REF!"}},{"$f":"IF(入力フォーム合計!#REF!=採点例!K80,\"〇\",\"\")","v":{"$error":"#REF!"}},{"$f":"IF(入力フォーム合計!#REF!=採点例!L80,\"〇\",\"\")","v":{"$error":"#REF!"}},0,"×"]
[80,1,1,1,2,"ノジマ　ススム","野島　進",1,5,8,"0538-31-7979","ptdjmusabr@nissei-gtr.co.jp",null,null,null,{"$f":"IF(入力フォーム合計!#REF!=採点例!B81,\"〇\",\"\")","v":{"$error":"#REF!"}},{"$f":"IF(入力フォーム合計!#REF!=採点例!C81,\"〇\",\"\")","v":{"$error":"#REF!"}},{"$f":"IF(入力フォーム合計!#REF!=採点例!D81,\"〇\",\"\")","v":{"$error":"#REF!"}},{"$f":"IF(入力フォーム合計!#REF!=採点例!E81,\"〇\",\"\")","v":{"$error":"#REF!"}},{"$f":"IF(入力フォーム合計!#REF!=採点例!F81,\"〇\",\"\")","v":{"$error":"#REF!"}},{"$f":"IF(入力フォーム合計!#REF!=採点例!G81,\"〇\",\"\")","v":{"$error":"#REF!"}},{"$f":"IF(入力フォーム合計!#REF!=採点例!H81,\"〇\",\"\")","v":{"$error":"#REF!"}},{"$f":"IF(入力フォーム合計!#REF!=採点例!I81,\"〇\",\"\")","v":{"$error":"#REF!"}},{"$f":"IF(入力フォーム合計!#REF!=採点例!J81,\"〇\",\"\")","v":{"$error":"#REF!"}},{"$f":"IF(入力フォーム合計!#REF!=採点例!K81,\"〇\",\"\")","v":{"$error":"#REF!"}},{"$f":"IF(入力フォーム合計!#REF!=採点例!L81,\"〇\",\"\")","v":{"$error":"#REF!"}},0,"×"]
[81,2,2,2,1,"アリガ　ショウゴ","有賀　省吾",1,3,10,"0594-29-0818","iytkhwrnka@mof.go.jp",null,null,null,{"$f":"IF(入力フォーム合計!#REF!=採点例!B82,\"〇\",\"\")","v":{"$error":"#REF!"}},{"$f":"IF(入力フォーム合計!#REF!=採点例!C82,\"〇\",\"\")","v":{"$error":"#REF!"}},{"$f":"IF(入力フォーム合計!#REF!=採点例!D82,\"〇\",\"\")","v":{"$error":"#REF!"}},{"$f":"IF(入力フォーム合計!#REF!=採点例!E82,\"〇\",\"\")","v":{"$error":"#REF!"}},{"$f":"IF(入力フォーム合計!#REF!=採点例!F82,\"〇\",\"\")","v":{"$error":"#REF!"}},{"$f":"IF(入力フォーム合計!#REF!=採点例!G82,\"〇\",\"\")","v":{"$error":"#REF!"}},{"$f":"IF(入力フォーム合計!#REF!=採点例!H82,\"〇\",\"\")","v":{"$error":"#REF!"}},{"$f":"IF(入力フォーム合計!#REF!=採点例!I82,\"〇\",\"\")","v":{"$error":"#REF!"}},{"$f":"IF(入力フォーム合計!#REF!=採点例!J82,\"〇\",\"\")","v":{"$error":"#REF!"}},{"$f":"IF(入力フォーム合計!#REF!=採点例!K82,\"〇\",\"\")","v":{"$error":"#REF!"}},{"$f":"IF(入力フォーム合計!#REF!=採点例!L82,\"〇\",\"\")","v":{"$error":"#REF!"}},0,"×"]
[82,3,2,2,2,"クワタ　ミドリ","桑田　美登利",2,2,3,"0887-60-0693","tyrra@ishiifood.co.jp",null,null,null,{"$f":"IF(入力フォーム合計!#REF!=採点例!B83,\"〇\",\"\")","v":{"$error":"#REF!"}},{"$f":"IF(入力フォーム合計!#REF!=採点例!C83,\"〇\",\"\")","v":{"$error":"#REF!"}},{"$f":"IF(入力フォーム合計!#REF!=採点例!D83,\"〇\",\"\")","v":{"$error":"#REF!"}},{"$f":"IF(入力フォーム合計!#REF!=採点例!E83,\"〇\",\"\")","v":{"$error":"#REF!"}},{"$f":"IF(入力フォーム合計!#REF!=採点例!F83,\"〇\",\"\")","v":{"$error":"#REF!"}},{"$f":"IF(入力フォーム合計!#REF!=採点例!G83,\"〇\",\"\")","v":{"$error":"#REF!"}},{"$f":"IF(入力フォーム合計!#REF!=採点例!H83,\"〇\",\"\")","v":{"$error":"#REF!"}},{"$f":"IF(入力フォーム合計!#REF!=採点例!I83,\"〇\",\"\")","v":{"$error":"#REF!"}},{"$f":"IF(入力フォーム合計!#REF!=採点例!J83,\"〇\",\"\")","v":{"$error":"#REF!"}},{"$f":"IF(入力フォーム合計!#REF!=採点例!K83,\"〇\",\"\")","v":{"$error":"#REF!"}},{"$f":"IF(入力フォーム合計!#REF!=採点例!L83,\"〇\",\"\")","v":{"$error":"#REF!"}},0,"×"]
[83,2,3,3,3,"クスノキ　ツネオ","楠　常雄",1,5,10,"0968-37-0359","ngzdkslsbx@e-gov.go.jp",null,null,null,{"$f":"IF(入力フォーム合計!#REF!=採点例!B84,\"〇\",\"\")","v":{"$error":"#REF!"}},{"$f":"IF(入力フォーム合計!#REF!=採点例!C84,\"〇\",\"\")","v":{"$error":"#REF!"}},{"$f":"IF(入力フォーム合計!#REF!=採点例!D84,\"〇\",\"\")","v":{"$error":"#REF!"}},{"$f":"IF(入力フォーム合計!#REF!=採点例!E84,\"〇\",\"\")","v":{"$error":"#REF!"}},{"$f":"IF(入力フォーム合計!#REF!=採点例!F84,\"〇\",\"\")","v":{"$error":"#REF!"}},{"$f":"IF(入力フォーム合計!#REF!=採点例!G84,\"〇\",\"\")","v":{"$error":"#REF!"}},{"$f":"IF(入力フォーム合計!#REF!=採点例!H84,\"〇\",\"\")","v":{"$error":"#REF!"}},{"$f":"IF(入力フォーム合計!#REF!=採点例!I84,\"〇\",\"\")","v":{"$error":"#REF!"}},{"$f":"IF(入力フォーム合計!#REF!=採点例!J84,\"〇\",\"\")","v":{"$error":"#REF!"}},{"$f":"IF(入力フォーム合計!#REF!=採点例!K84,\"〇\",\"\")","v":{"$error":"#REF!"}},{"$f":"IF(入力フォーム合計!#REF!=採点例!L84,\"〇\",\"\")","v":{"$error":"#REF!"}},0,"×"]
[84,2,1,1,2,"カクタニ　タケシ","角谷　武司",1,2,6,"0985-65-5542","zjpfh@miyazaki-mu.ac.jp",null,null,null,{"$f":"IF(入力フォーム合計!#REF!=採点例!B85,\"〇\",\"\")","v":{"$error":"#REF!"}},{"$f":"IF(入力フォーム合計!#REF!=採点例!C85,\"〇\",\"\")","v":{"$error":"#REF!"}},{"$f":"IF(入力フォーム合計!#REF!=採点例!D85,\"〇\",\"\")","v":{"$error":"#REF!"}},{"$f":"IF(入力フォーム合計!#REF!=採点例!E85,\"〇\",\"\")","v":{"$error":"#REF!"}},{"$f":"IF(入力フォーム合計!#REF!=採点例!F85,\"〇\",\"\")","v":{"$error":"#REF!"}},{"$f":"IF(入力フォーム合計!#REF!=採点例!G85,\"〇\",\"\")","v":{"$error":"#REF!"}},{"$f":"IF(入力フォーム合計!#REF!=採点例!H85,\"〇\",\"\")","v":{"$error":"#REF!"}},{"$f":"IF(入力フォーム合計!#REF!=採点例!I85,\"〇\",\"\")","v":{"$error":"#REF!"}},{"$f":"IF(入力フォーム合計!#REF!=採点例!J85,\"〇\",\"\")","v":{"$error":"#REF!"}},{"$f":"IF(入力フォーム合計!#REF!=採点例!K85,\"〇\",\"\")","v":{"$error":"#REF!"}},{"$f":"IF(入力フォーム合計!#REF!=採点例!L85,\"〇\",\"\")","v":{"$error":"#REF!"}},0,"×"]
[85,4,1,1,3,"オバタ　ヒデキ","小畠　英樹",1,3,7,"0964-76-2509","plckw@kumamoto-u.ac.jp",null,null,null,{"$f":"IF(入力フォーム合計!#REF!=採点例!B86,\"〇\",\"\")","v":{"$error":"#REF!"}},{"$f":"IF(入力フォーム合計!#REF!=採点例!C86,\"〇\",\"\")","v":{"$error":"#REF!"}},{"$f":"IF(入力フォーム合計!#REF!=採点例!D86,\"〇\",\"\")","v":{"$error":"#REF!"}},{"$f":"IF(入力フォーム合計!#REF!=採点例!E86,\"〇\",\"\")","v":{"$error":"#REF!"}},{"$f":"IF(入力フォーム合計!#REF!=採点例!F86,\"〇\",\"\")","v":{"$error":"#REF!"}},{"$f":"IF(入力フォーム合計!#REF!=採点例!G86,\"〇\",\"\")","v":{"$error":"#REF!"}},{"$f":"IF(入力フォーム合計!#REF!=採点例!H86,\"〇\",\"\")","v":{"$error":"#REF!"}},{"$f":"IF(入力フォーム合計!#REF!=採点例!I86,\"〇\",\"\")","v":{"$error":"#REF!"}},{"$f":"IF(入力フォーム合計!#REF!=採点例!J86,\"〇\",\"\")","v":{"$error":"#REF!"}},{"$f":"IF(入力フォーム合計!#REF!=採点例!K86,\"〇\",\"\")","v":{"$error":"#REF!"}},{"$f":"IF(入力フォーム合計!#REF!=採点例!L86,\"〇\",\"\")","v":{"$error":"#REF!"}},0,"×"]
[86,5,2,2,2,"マキタ　ユウコ","蒔田　優子",2,4,5,"06-3815-9216","fkerviymvh@e-gov.go.jp",null,null,null,{"$f":"IF(入力フォーム合計!#REF!=採点例!B87,\"〇\",\"\")","v":{"$error":"#REF!"}},{"$f":"IF(入力フォーム合計!#REF!=採点例!C87,\"〇\",\"\")","v":{"$error":"#REF!"}},{"$f":"IF(入力フォーム合計!#REF!=採点例!D87,\"〇\",\"\")","v":{"$error":"#REF!"}},{"$f":"IF(入力フォーム合計!#REF!=採点例!E87,\"〇\",\"\")","v":{"$error":"#REF!"}},{"$f":"IF(入力フォーム合計!#REF!=採点例!F87,\"〇\",\"\")","v":{"$error":"#REF!"}},{"$f":"IF(入力フォーム合計!#REF!=採点例!G87,\"〇\",\"\")","v":{"$error":"#REF!"}},{"$f":"IF(入力フォーム合計!#REF!=採点例!H87,\"〇\",\"\")","v":{"$error":"#REF!"}},{"$f":"IF(入力フォーム合計!#REF!=採点例!I87,\"〇\",\"\")","v":{"$error":"#REF!"}},{"$f":"IF(入力フォーム合計!#REF!=採点例!J87,\"〇\",\"\")","v":{"$error":"#REF!"}},{"$f":"IF(入力フォーム合計!#REF!=採点例!K87,\"〇\",\"\")","v":{"$error":"#REF!"}},{"$f":"IF(入力フォーム合計!#REF!=採点例!L87,\"〇\",\"\")","v":{"$error":"#REF!"}},0,"×"]
[87,4,3,3,2,"タジリ　レナ","田尻　麗奈",2,6,4,"0770-95-0318","daggc@jem-net.co.jp",null,null,null,{"$f":"IF(入力フォーム合計!#REF!=採点例!B88,\"〇\",\"\")","v":{"$error":"#REF!"}},{"$f":"IF(入力フォーム合計!#REF!=採点例!C88,\"〇\",\"\")","v":{"$error":"#REF!"}},{"$f":"IF(入力フォーム合計!#REF!=採点例!D88,\"〇\",\"\")","v":{"$error":"#REF!"}},{"$f":"IF(入力フォーム合計!#REF!=採点例!E88,\"〇\",\"\")","v":{"$error":"#REF!"}},{"$f":"IF(入力フォーム合計!#REF!=採点例!F88,\"〇\",\"\")","v":{"$error":"#REF!"}},{"$f":"IF(入力フォーム合計!#REF!=採点例!G88,\"〇\",\"\")","v":{"$error":"#REF!"}},{"$f":"IF(入力フォーム合計!#REF!=採点例!H88,\"〇\",\"\")","v":{"$error":"#REF!"}},{"$f":"IF(入力フォーム合計!#REF!=採点例!I88,\"〇\",\"\")","v":{"$error":"#REF!"}},{"$f":"IF(入力フォーム合計!#REF!=採点例!J88,\"〇\",\"\")","v":{"$error":"#REF!"}},{"$f":"IF(入力フォーム合計!#REF!=採点例!K88,\"〇\",\"\")","v":{"$error":"#REF!"}},{"$f":"IF(入力フォーム合計!#REF!=採点例!L88,\"〇\",\"\")","v":{"$error":"#REF!"}},0,"×"]
[88,3,2,2,3,"カシムラ　ケンジ","樫村　謙二",1,5,4,"058-755-0340","sbobygnanc@amano.co.jp",null,null,null,{"$f":"IF(入力フォーム合計!#REF!=採点例!B89,\"〇\",\"\")","v":{"$error":"#REF!"}},{"$f":"IF(入力フォーム合計!#REF!=採点例!C89,\"〇\",\"\")","v":{"$error":"#REF!"}},{"$f":"IF(入力フォーム合計!#REF!=採点例!D89,\"〇\",\"\")","v":{"$error":"#REF!"}},{"$f":"IF(入力フォーム合計!#REF!=採点例!E89,\"〇\",\"\")","v":{"$error":"#REF!"}},{"$f":"IF(入力フォーム合計!#REF!=採点例!F89,\"〇\",\"\")","v":{"$error":"#REF!"}},{"$f":"IF(入力フォーム合計!#REF!=採点例!G89,\"〇\",\"\")","v":{"$error":"#REF!"}},{"$f":"IF(入力フォーム合計!#REF!=採点例!H89,\"〇\",\"\")","v":{"$error":"#REF!"}},{"$f":"IF(入力フォーム合計!#REF!=採点例!I89,\"〇\",\"\")","v":{"$error":"#REF!"}},{"$f":"IF(入力フォーム合計!#REF!=採点例!J89,\"〇\",\"\")","v":{"$error":"#REF!"}},{"$f":"IF(入力フォーム合計!#REF!=採点例!K89,\"〇\",\"\")","v":{"$error":"#REF!"}},{"$f":"IF(入力フォーム合計!#REF!=採点例!L89,\"〇\",\"\")","v":{"$error":"#REF!"}},0,"×"]
[89,2,2,2,3,"コバヤシ　シンタロウ","小林　新太郎",1,5,12,"0470-54-2109","glbdkwgucz@saikaya.co.jp",null,null,null,{"$f":"IF(入力フォーム合計!#REF!=採点例!B90,\"〇\",\"\")","v":{"$error":"#REF!"}},{"$f":"IF(入力フォーム合計!#REF!=採点例!C90,\"〇\",\"\")","v":{"$error":"#REF!"}},{"$f":"IF(入力フォーム合計!#REF!=採点例!D90,\"〇\",\"\")","v":{"$error":"#REF!"}},{"$f":"IF(入力フォーム合計!#REF!=採点例!E90,\"〇\",\"\")","v":{"$error":"#REF!"}},{"$f":"IF(入力フォーム合計!#REF!=採点例!F90,\"〇\",\"\")","v":{"$error":"#REF!"}},{"$f":"IF(入力フォーム合計!#REF!=採点例!G90,\"〇\",\"\")","v":{"$error":"#REF!"}},{"$f":"IF(入力フォーム合計!#REF!=採点例!H90,\"〇\",\"\")","v":{"$error":"#REF!"}},{"$f":"IF(入力フォーム合計!#REF!=採点例!I90,\"〇\",\"\")","v":{"$error":"#REF!"}},{"$f":"IF(入力フォーム合計!#REF!=採点例!J90,\"〇\",\"\")","v":{"$error":"#REF!"}},{"$f":"IF(入力フォーム合計!#REF!=採点例!K90,\"〇\",\"\")","v":{"$error":"#REF!"}},{"$f":"IF(入力フォーム合計!#REF!=採点例!L90,\"〇\",\"\")","v":{"$error":"#REF!"}},0,"×"]
[90,1,1,1,1,"シオザワ　ケイコ","塩沢　圭子",2,6,8,"06-4286-0393","pgeki@toyota-boshoku.co.jp",null,null,null,{"$f":"IF(入力フォーム合計!#REF!=採点例!B91,\"〇\",\"\")","v":{"$error":"#REF!"}},{"$f":"IF(入力フォーム合計!#REF!=採点例!C91,\"〇\",\"\")","v":{"$error":"#REF!"}},{"$f":"IF(入力フォーム合計!#REF!=採点例!D91,\"〇\",\"\")","v":{"$error":"#REF!"}},{"$f":"IF(入力フォーム合計!#REF!=採点例!E91,\"〇\",\"\")","v":{"$error":"#REF!"}},{"$f":"IF(入力フォーム合計!#REF!=採点例!F91,\"〇\",\"\")","v":{"$error":"#REF!"}},{"$f":"IF(入力フォーム合計!#REF!=採点例!G91,\"〇\",\"\")","v":{"$error":"#REF!"}},{"$f":"IF(入力フォーム合計!#REF!=採点例!H91,\"〇\",\"\")","v":{"$error":"#REF!"}},{"$f":"IF(入力フォーム合計!#REF!=採点例!I91,\"〇\",\"\")","v":{"$error":"#REF!"}},{"$f":"IF(入力フォーム合計!#REF!=採点例!J91,\"〇\",\"\")","v":{"$error":"#REF!"}},{"$f":"IF(入力フォーム合計!#REF!=採点例!K91,\"〇\",\"\")","v":{"$error":"#REF!"}},{"$f":"IF(入力フォーム合計!#REF!=採点例!L91,\"〇\",\"\")","v":{"$error":"#REF!"}},0,"×"]
[91,5,1,1,2,"タドコロ　ケイイチ","田所　恵一",1,7,8,"0266-81-7449","dhhhgjdnic@mex.ad.jp",null,null,null,{"$f":"IF(入力フォーム合計!#REF!=採点例!B92,\"〇\",\"\")","v":{"$error":"#REF!"}},{"$f":"IF(入力フォーム合計!#REF!=採点例!C92,\"〇\",\"\")","v":{"$error":"#REF!"}},{"$f":"IF(入力フォーム合計!#REF!=採点例!D92,\"〇\",\"\")","v":{"$error":"#REF!"}},{"$f":"IF(入力フォーム合計!#REF!=採点例!E92,\"〇\",\"\")","v":{"$error":"#REF!"}},{"$f":"IF(入力フォーム合計!#REF!=採点例!F92,\"〇\",\"\")","v":{"$error":"#REF!"}},{"$f":"IF(入力フォーム合計!#REF!=採点例!G92,\"〇\",\"\")","v":{"$error":"#REF!"}},{"$f":"IF(入力フォーム合計!#REF!=採点例!H92,\"〇\",\"\")","v":{"$error":"#REF!"}},{"$f":"IF(入力フォーム合計!#REF!=採点例!I92,\"〇\",\"\")","v":{"$error":"#REF!"}},{"$f":"IF(入力フォーム合計!#REF!=採点例!J92,\"〇\",\"\")","v":{"$error":"#REF!"}},{"$f":"IF(入力フォーム合計!#REF!=採点例!K92,\"〇\",\"\")","v":{"$error":"#REF!"}},{"$f":"IF(入力フォーム合計!#REF!=採点例!L92,\"〇\",\"\")","v":{"$error":"#REF!"}},0,"×"]
[92,9,2,2,1,"フルヤマ　ハルオ","古山　晴夫",1,1,2,"097-960-7259","hwinx@uoriki.co.jp",null,null,null,{"$f":"IF(入力フォーム合計!#REF!=採点例!B93,\"〇\",\"\")","v":{"$error":"#REF!"}},{"$f":"IF(入力フォーム合計!#REF!=採点例!C93,\"〇\",\"\")","v":{"$error":"#REF!"}},{"$f":"IF(入力フォーム合計!#REF!=採点例!D93,\"〇\",\"\")","v":{"$error":"#REF!"}},{"$f":"IF(入力フォーム合計!#REF!=採点例!E93,\"〇\",\"\")","v":{"$error":"#REF!"}},{"$f":"IF(入力フォーム合計!#REF!=採点例!F93,\"〇\",\"\")","v":{"$error":"#REF!"}},{"$f":"IF(入力フォーム合計!#REF!=採点例!G93,\"〇\",\"\")","v":{"$error":"#REF!"}},{"$f":"IF(入力フォーム合計!#REF!=採点例!H93,\"〇\",\"\")","v":{"$error":"#REF!"}},{"$f":"IF(入力フォーム合計!#REF!=採点例!I93,\"〇\",\"\")","v":{"$error":"#REF!"}},{"$f":"IF(入力フォーム合計!#REF!=採点例!J93,\"〇\",\"\")","v":{"$error":"#REF!"}},{"$f":"IF(入力フォーム合計!#REF!=採点例!K93,\"〇\",\"\")","v":{"$error":"#REF!"}},{"$f":"IF(入力フォーム合計!#REF!=採点例!L93,\"〇\",\"\")","v":{"$error":"#REF!"}},0,"×"]
[93,9,1,1,2,"イザワ　トモコ","伊沢　知子",2,5,4,"0889-23-1318","pkopl@kochi.jp",null,null,null,{"$f":"IF(入力フォーム合計!#REF!=採点例!B94,\"〇\",\"\")","v":{"$error":"#REF!"}},{"$f":"IF(入力フォーム合計!#REF!=採点例!C94,\"〇\",\"\")","v":{"$error":"#REF!"}},{"$f":"IF(入力フォーム合計!#REF!=採点例!D94,\"〇\",\"\")","v":{"$error":"#REF!"}},{"$f":"IF(入力フォーム合計!#REF!=採点例!E94,\"〇\",\"\")","v":{"$error":"#REF!"}},{"$f":"IF(入力フォーム合計!#REF!=採点例!F94,\"〇\",\"\")","v":{"$error":"#REF!"}},{"$f":"IF(入力フォーム合計!#REF!=採点例!G94,\"〇\",\"\")","v":{"$error":"#REF!"}},{"$f":"IF(入力フォーム合計!#REF!=採点例!H94,\"〇\",\"\")","v":{"$error":"#REF!"}},{"$f":"IF(入力フォーム合計!#REF!=採点例!I94,\"〇\",\"\")","v":{"$error":"#REF!"}},{"$f":"IF(入力フォーム合計!#REF!=採点例!J94,\"〇\",\"\")","v":{"$error":"#REF!"}},{"$f":"IF(入力フォーム合計!#REF!=採点例!K94,\"〇\",\"\")","v":{"$error":"#REF!"}},{"$f":"IF(入力フォーム合計!#REF!=採点例!L94,\"〇\",\"\")","v":{"$error":"#REF!"}},0,"×"]
[94,8,3,3,2,"ナンブ　イクミ","南部　郁美",2,3,6,"0238-85-5693","fzryrlfggy@cas.go.jp",null,null,null,{"$f":"IF(入力フォーム合計!#REF!=採点例!B95,\"〇\",\"\")","v":{"$error":"#REF!"}},{"$f":"IF(入力フォーム合計!#REF!=採点例!C95,\"〇\",\"\")","v":{"$error":"#REF!"}},{"$f":"IF(入力フォーム合計!#REF!=採点例!D95,\"〇\",\"\")","v":{"$error":"#REF!"}},{"$f":"IF(入力フォーム合計!#REF!=採点例!E95,\"〇\",\"\")","v":{"$error":"#REF!"}},{"$f":"IF(入力フォーム合計!#REF!=採点例!F95,\"〇\",\"\")","v":{"$error":"#REF!"}},{"$f":"IF(入力フォーム合計!#REF!=採点例!G95,\"〇\",\"\")","v":{"$error":"#REF!"}},{"$f":"IF(入力フォーム合計!#REF!=採点例!H95,\"〇\",\"\")","v":{"$error":"#REF!"}},{"$f":"IF(入力フォーム合計!#REF!=採点例!I95,\"〇\",\"\")","v":{"$error":"#REF!"}},{"$f":"IF(入力フォーム合計!#REF!=採点例!J95,\"〇\",\"\")","v":{"$error":"#REF!"}},{"$f":"IF(入力フォーム合計!#REF!=採点例!K95,\"〇\",\"\")","v":{"$error":"#REF!"}},{"$f":"IF(入力フォーム合計!#REF!=採点例!L95,\"〇\",\"\")","v":{"$error":"#REF!"}},0,"×"]
[95,7,4,4,3,"ヒロカワ　ツトム","広川　勤",1,4,9,"0243-28-5572","efyec@fujiya-peko.co.jp",null,null,null,{"$f":"IF(入力フォーム合計!#REF!=採点例!B96,\"〇\",\"\")","v":{"$error":"#REF!"}},{"$f":"IF(入力フォーム合計!#REF!=採点例!C96,\"〇\",\"\")","v":{"$error":"#REF!"}},{"$f":"IF(入力フォーム合計!#REF!=採点例!D96,\"〇\",\"\")","v":{"$error":"#REF!"}},{"$f":"IF(入力フォーム合計!#REF!=採点例!E96,\"〇\",\"\")","v":{"$error":"#REF!"}},{"$f":"IF(入力フォーム合計!#REF!=採点例!F96,\"〇\",\"\")","v":{"$error":"#REF!"}},{"$f":"IF(入力フォーム合計!#REF!=採点例!G96,\"〇\",\"\")","v":{"$error":"#REF!"}},{"$f":"IF(入力フォーム合計!#REF!=採点例!H96,\"〇\",\"\")","v":{"$error":"#REF!"}},{"$f":"IF(入力フォーム合計!#REF!=採点例!I96,\"〇\",\"\")","v":{"$error":"#REF!"}},{"$f":"IF(入力フォーム合計!#REF!=採点例!J96,\"〇\",\"\")","v":{"$error":"#REF!"}},{"$f":"IF(入力フォーム合計!#REF!=採点例!K96,\"〇\",\"\")","v":{"$error":"#REF!"}},{"$f":"IF(入力フォーム合計!#REF!=採点例!L96,\"〇\",\"\")","v":{"$error":"#REF!"}},0,"×"]
[96,5,5,5,2,"クマダ　チエコ","熊田　千恵子",2,6,4,"025-678-2712","uzzxqflxky@kurita.co.jp",null,null,null,{"$f":"IF(入力フォーム合計!#REF!=採点例!B97,\"〇\",\"\")","v":{"$error":"#REF!"}},{"$f":"IF(入力フォーム合計!#REF!=採点例!C97,\"〇\",\"\")","v":{"$error":"#REF!"}},{"$f":"IF(入力フォーム合計!#REF!=採点例!D97,\"〇\",\"\")","v":{"$error":"#REF!"}},{"$f":"IF(入力フォーム合計!#REF!=採点例!E97,\"〇\",\"\")","v":{"$error":"#REF!"}},{"$f":"IF(入力フォーム合計!#REF!=採点例!F97,\"〇\",\"\")","v":{"$error":"#REF!"}},{"$f":"IF(入力フォーム合計!#REF!=採点例!G97,\"〇\",\"\")","v":{"$error":"#REF!"}},{"$f":"IF(入力フォーム合計!#REF!=採点例!H97,\"〇\",\"\")","v":{"$error":"#REF!"}},{"$f":"IF(入力フォーム合計!#REF!=採点例!I97,\"〇\",\"\")","v":{"$error":"#REF!"}},{"$f":"IF(入力フォーム合計!#REF!=採点例!J97,\"〇\",\"\")","v":{"$error":"#REF!"}},{"$f":"IF(入力フォーム合計!#REF!=採点例!K97,\"〇\",\"\")","v":{"$error":"#REF!"}},{"$f":"IF(入力フォーム合計!#REF!=採点例!L97,\"〇\",\"\")","v":{"$error":"#REF!"}},0,"×"]
[97,6,5,5,2,"シゲマツ　シロウ","重松　史朗",1,4,5,"0983-71-2777","xfpjg@miyazaki-mu.ac.jp",null,null,null,{"$f":"IF(入力フォーム合計!#REF!=採点例!B98,\"〇\",\"\")","v":{"$error":"#REF!"}},{"$f":"IF(入力フォーム合計!#REF!=採点例!C98,\"〇\",\"\")","v":{"$error":"#REF!"}},{"$f":"IF(入力フォーム合計!#REF!=採点例!D98,\"〇\",\"\")","v":{"$error":"#REF!"}},{"$f":"IF(入力フォーム合計!#REF!=採点例!E98,\"〇\",\"\")","v":{"$error":"#REF!"}},{"$f":"IF(入力フォーム合計!#REF!=採点例!F98,\"〇\",\"\")","v":{"$error":"#REF!"}},{"$f":"IF(入力フォーム合計!#REF!=採点例!G98,\"〇\",\"\")","v":{"$error":"#REF!"}},{"$f":"IF(入力フォーム合計!#REF!=採点例!H98,\"〇\",\"\")","v":{"$error":"#REF!"}},{"$f":"IF(入力フォーム合計!#REF!=採点例!I98,\"〇\",\"\")","v":{"$error":"#REF!"}},{"$f":"IF(入力フォーム合計!#REF!=採点例!J98,\"〇\",\"\")","v":{"$error":"#REF!"}},{"$f":"IF(入力フォーム合計!#REF!=採点例!K98,\"〇\",\"\")","v":{"$error":"#REF!"}},{"$f":"IF(入力フォーム合計!#REF!=採点例!L98,\"〇\",\"\")","v":{"$error":"#REF!"}},{"$f":"COUNTIF(P98:Z98,\"〇\")","v":0},{"$f":"IF(AA98=COUNTA($P$1:$Z$1),\"〇\",\"×\")","v":"×"}]
[98,4,3,7,2,"サカグチ　ケイコ","阪口　慶子",2,4,7,"0225-73-2295","suyjouxdfd@mex.ad.jp",null,null,null,{"$f":"IF(入力フォーム合計!#REF!=採点例!B99,\"〇\",\"\")","v":{"$error":"#REF!"}},{"$f":"IF(入力フォーム合計!#REF!=採点例!C99,\"〇\",\"\")","v":{"$error":"#REF!"}},{"$f":"IF(入力フォーム合計!#REF!=採点例!D99,\"〇\",\"\")","v":{"$error":"#REF!"}},{"$f":"IF(入力フォーム合計!#REF!=採点例!E99,\"〇\",\"\")","v":{"$error":"#REF!"}},{"$f":"IF(入力フォーム合計!#REF!=採点例!F99,\"〇\",\"\")","v":{"$error":"#REF!"}},{"$f":"IF(入力フォーム合計!#REF!=採点例!G99,\"〇\",\"\")","v":{"$error":"#REF!"}},{"$f":"IF(入力フォーム合計!#REF!=採点例!H99,\"〇\",\"\")","v":{"$error":"#REF!"}},{"$f":"IF(入力フォーム合計!#REF!=採点例!I99,\"〇\",\"\")","v":{"$error":"#REF!"}},{"$f":"IF(入力フォーム合計!#REF!=採点例!J99,\"〇\",\"\")","v":{"$error":"#REF!"}},{"$f":"IF(入力フォーム合計!#REF!=採点例!K99,\"〇\",\"\")","v":{"$error":"#REF!"}},{"$f":"IF(入力フォーム合計!#REF!=採点例!L99,\"〇\",\"\")","v":{"$error":"#REF!"}},0,"×"]
[99,8,3,3,2,"ノロ　カナコ","野呂　加奈子",2,3,11,"0747-54-8571","cdfki@uoriki.co.jp",null,null,null,{"$f":"IF(入力フォーム合計!#REF!=採点例!B100,\"〇\",\"\")","v":{"$error":"#REF!"}},{"$f":"IF(入力フォーム合計!#REF!=採点例!C100,\"〇\",\"\")","v":{"$error":"#REF!"}},{"$f":"IF(入力フォーム合計!#REF!=採点例!D100,\"〇\",\"\")","v":{"$error":"#REF!"}},{"$f":"IF(入力フォーム合計!#REF!=採点例!E100,\"〇\",\"\")","v":{"$error":"#REF!"}},{"$f":"IF(入力フォーム合計!#REF!=採点例!F100,\"〇\",\"\")","v":{"$error":"#REF!"}},{"$f":"IF(入力フォーム合計!#REF!=採点例!G100,\"〇\",\"\")","v":{"$error":"#REF!"}},{"$f":"IF(入力フォーム合計!#REF!=採点例!H100,\"〇\",\"\")","v":{"$error":"#REF!"}},{"$f":"IF(入力フォーム合計!#REF!=採点例!I100,\"〇\",\"\")","v":{"$error":"#REF!"}},{"$f":"IF(入力フォーム合計!#REF!=採点例!J100,\"〇\",\"\")","v":{"$error":"#REF!"}},{"$f":"IF(入力フォーム合計!#REF!=採点例!K100,\"〇\",\"\")","v":{"$error":"#REF!"}},{"$f":"IF(入力フォーム合計!#REF!=採点例!L100,\"〇\",\"\")","v":{"$error":"#REF!"}},0,"×"]
[100,6,2,2,1,"オノセ　シン","小野瀬　伸",1,5,10,"078-454-9345","qqfaivtzvx@hyogo.jp",null,null,null,{"$f":"IF(入力フォーム合計!#REF!=採点例!B101,\"〇\",\"\")","v":{"$error":"#REF!"}},{"$f":"IF(入力フォーム合計!#REF!=採点例!C101,\"〇\",\"\")","v":{"$error":"#REF!"}},{"$f":"IF(入力フォーム合計!#REF!=採点例!D101,\"〇\",\"\")","v":{"$error":"#REF!"}},{"$f":"IF(入力フォーム合計!#REF!=採点例!E101,\"〇\",\"\")","v":{"$error":"#REF!"}},{"$f":"IF(入力フォーム合計!#REF!=採点例!F101,\"〇\",\"\")","v":{"$error":"#REF!"}},{"$f":"IF(入力フォーム合計!#REF!=採点例!G101,\"〇\",\"\")","v":{"$error":"#REF!"}},{"$f":"IF(入力フォーム合計!#REF!=採点例!H101,\"〇\",\"\")","v":{"$error":"#REF!"}},{"$f":"IF(入力フォーム合計!#REF!=採点例!I101,\"〇\",\"\")","v":{"$error":"#REF!"}},{"$f":"IF(入力フォーム合計!#REF!=採点例!J101,\"〇\",\"\")","v":{"$error":"#REF!"}},{"$f":"IF(入力フォーム合計!#REF!=採点例!K101,\"〇\",\"\")","v":{"$error":"#REF!"}},{"$f":"IF(入力フォーム合計!#REF!=採点例!L101,\"〇\",\"\")","v":{"$error":"#REF!"}},0,"×"]
[101,4,3,3,2,"トツカ　ケイ","戸塚　敬",1,2,3,"0791-78-8845","bvmfj@kobe-u.ac.jp",null,null,null,{"$f":"IF(入力フォーム合計!B27=採点例!B102,\"〇\",\"\")","v":""},{"$f":"IF(入力フォーム合計!C27=採点例!C102,\"〇\",\"\")","v":""},{"$f":"IF(入力フォーム合計!D27=採点例!D102,\"〇\",\"\")","v":""},{"$f":"IF(入力フォーム合計!E27=採点例!E102,\"〇\",\"\")","v":""},{"$f":"IF(入力フォーム合計!F27=採点例!F102,\"〇\",\"\")","v":""},{"$f":"IF(入力フォーム合計!G27=採点例!G102,\"〇\",\"\")","v":""},{"$f":"IF(入力フォーム合計!H27=採点例!H102,\"〇\",\"\")","v":""},{"$f":"IF(入力フォーム合計!I27=採点例!I102,\"〇\",\"\")","v":""},{"$f":"IF(入力フォーム合計!J27=採点例!J102,\"〇\",\"\")","v":""},{"$f":"IF(入力フォーム合計!K27=採点例!K102,\"〇\",\"\")","v":""},{"$f":"IF(入力フォーム合計!L27=採点例!L102,\"〇\",\"\")","v":""},0,"×"]
[102,3,4,4,2,"テラオカ　アキラ","寺岡　朗",2,3,5,"0583-29-8026","qvqloqgyny@gifu.lg.jp",null,null,null,{"$f":"IF(入力フォーム合計!B28=採点例!B103,\"〇\",\"\")","v":""},{"$f":"IF(入力フォーム合計!C28=採点例!C103,\"〇\",\"\")","v":""},{"$f":"IF(入力フォーム合計!D28=採点例!D103,\"〇\",\"\")","v":""},{"$f":"IF(入力フォーム合計!E28=採点例!E103,\"〇\",\"\")","v":""},{"$f":"IF(入力フォーム合計!F28=採点例!F103,\"〇\",\"\")","v":""},{"$f":"IF(入力フォーム合計!G28=採点例!G103,\"〇\",\"\")","v":""},{"$f":"IF(入力フォーム合計!H28=採点例!H103,\"〇\",\"\")","v":""},{"$f":"IF(入力フォーム合計!I28=採点例!I103,\"〇\",\"\")","v":""},{"$f":"IF(入力フォーム合計!J28=採点例!J103,\"〇\",\"\")","v":""},{"$f":"IF(入力フォーム合計!K28=採点例!K103,\"〇\",\"\")","v":""},{"$f":"IF(入力フォーム合計!L28=採点例!L103,\"〇\",\"\")","v":""},0,"×"]
[103,2,5,5,3,"スガイ　ユキコ","菅井　由紀子",2,4,9,"0966-28-4601","cknmp@kumamoto.jp",null,null,null,{"$f":"IF(入力フォーム合計!B29=採点例!B104,\"〇\",\"\")","v":""},{"$f":"IF(入力フォーム合計!C29=採点例!C104,\"〇\",\"\")","v":""},{"$f":"IF(入力フォーム合計!D29=採点例!D104,\"〇\",\"\")","v":""},{"$f":"IF(入力フォーム合計!E29=採点例!E104,\"〇\",\"\")","v":""},{"$f":"IF(入力フォーム合計!F29=採点例!F104,\"〇\",\"\")","v":""},{"$f":"IF(入力フォーム合計!G29=採点例!G104,\"〇\",\"\")","v":""},{"$f":"IF(入力フォーム合計!H29=採点例!H104,\"〇\",\"\")","v":""},{"$f":"IF(入力フォーム合計!I29=採点例!I104,\"〇\",\"\")","v":""},{"$f":"IF(入力フォーム合計!J29=採点例!J104,\"〇\",\"\")","v":""},{"$f":"IF(入力フォーム合計!K29=採点例!K104,\"〇\",\"\")","v":""},{"$f":"IF(入力フォーム合計!L29=採点例!L104,\"〇\",\"\")","v":""},0,"×"]
[104,5,2,7,2,"スエヨシ　タツロウ","末吉　達郎",1,3,9,"0794-14-6136","qvivzkckkn@ishiss.co.jp",null,null,null,{"$f":"IF(入力フォーム合計!B30=採点例!B105,\"〇\",\"\")","v":""},{"$f":"IF(入力フォーム合計!C30=採点例!C105,\"〇\",\"\")","v":""},{"$f":"IF(入力フォーム合計!D30=採点例!D105,\"〇\",\"\")","v":""},{"$f":"IF(入力フォーム合計!E30=採点例!E105,\"〇\",\"\")","v":""},{"$f":"IF(入力フォーム合計!F30=採点例!F105,\"〇\",\"\")","v":""},{"$f":"IF(入力フォーム合計!G30=採点例!G105,\"〇\",\"\")","v":""},{"$f":"IF(入力フォーム合計!H30=採点例!H105,\"〇\",\"\")","v":""},{"$f":"IF(入力フォーム合計!I30=採点例!I105,\"〇\",\"\")","v":""},{"$f":"IF(入力フォーム合計!J30=採点例!J105,\"〇\",\"\")","v":""},{"$f":"IF(入力フォーム合計!K30=採点例!K105,\"〇\",\"\")","v":""},{"$f":"IF(入力フォーム合計!L30=採点例!L105,\"〇\",\"\")","v":""},0,"×"]
[105,6,3,5,1,"キド　ヨシコ","城戸　佳子",2,4,7,"047-731-1499","jnpfs@seitoku.ac.jp",null,null,null,{"$f":"IF(入力フォーム合計!B31=採点例!B106,\"〇\",\"\")","v":""},{"$f":"IF(入力フォーム合計!C31=採点例!C106,\"〇\",\"\")","v":""},{"$f":"IF(入力フォーム合計!D31=採点例!D106,\"〇\",\"\")","v":""},{"$f":"IF(入力フォーム合計!E31=採点例!E106,\"〇\",\"\")","v":""},{"$f":"IF(入力フォーム合計!F31=採点例!F106,\"〇\",\"\")","v":""},{"$f":"IF(入力フォーム合計!G31=採点例!G106,\"〇\",\"\")","v":""},{"$f":"IF(入力フォーム合計!H31=採点例!H106,\"〇\",\"\")","v":""},{"$f":"IF(入力フォーム合計!I31=採点例!I106,\"〇\",\"\")","v":""},{"$f":"IF(入力フォーム合計!J31=採点例!J106,\"〇\",\"\")","v":""},{"$f":"IF(入力フォーム合計!K31=採点例!K106,\"〇\",\"\")","v":""},{"$f":"IF(入力フォーム合計!L31=採点例!L106,\"〇\",\"\")","v":""},0,"×"]
[106,7,2,2,2,"シオミ　リョウイチ","塩見　亮一",1,4,5,"0736-74-3599","aurmznrizx@ibjl.co.jp",null,null,null,{"$f":"IF(入力フォーム合計!B32=採点例!B107,\"〇\",\"\")","v":""},{"$f":"IF(入力フォーム合計!C32=採点例!C107,\"〇\",\"\")","v":""},{"$f":"IF(入力フォーム合計!D32=採点例!D107,\"〇\",\"\")","v":""},{"$f":"IF(入力フォーム合計!E32=採点例!E107,\"〇\",\"\")","v":""},{"$f":"IF(入力フォーム合計!F32=採点例!F107,\"〇\",\"\")","v":""},{"$f":"IF(入力フォーム合計!G32=採点例!G107,\"〇\",\"\")","v":""},{"$f":"IF(入力フォーム合計!H32=採点例!H107,\"〇\",\"\")","v":""},{"$f":"IF(入力フォーム合計!I32=採点例!I107,\"〇\",\"\")","v":""},{"$f":"IF(入力フォーム合計!J32=採点例!J107,\"〇\",\"\")","v":""},{"$f":"IF(入力フォーム合計!K32=採点例!K107,\"〇\",\"\")","v":""},{"$f":"IF(入力フォーム合計!L32=採点例!L107,\"〇\",\"\")","v":""},0,"×"]
[107,8,1,1,1,"キヅ　リョウジ","木津　良二",1,3,5,"045-130-3308","gqgii@sankosangyo.co.jp",null,null,null,{"$f":"IF(入力フォーム合計!B33=採点例!B108,\"〇\",\"\")","v":""},{"$f":"IF(入力フォーム合計!C33=採点例!C108,\"〇\",\"\")","v":""},{"$f":"IF(入力フォーム合計!D33=採点例!D108,\"〇\",\"\")","v":""},{"$f":"IF(入力フォーム合計!E33=採点例!E108,\"〇\",\"\")","v":""},{"$f":"IF(入力フォーム合計!F33=採点例!F108,\"〇\",\"\")","v":""},{"$f":"IF(入力フォーム合計!G33=採点例!G108,\"〇\",\"\")","v":""},{"$f":"IF(入力フォーム合計!H33=採点例!H108,\"〇\",\"\")","v":""},{"$f":"IF(入力フォーム合計!I33=採点例!I108,\"〇\",\"\")","v":""},{"$f":"IF(入力フォーム合計!J33=採点例!J108,\"〇\",\"\")","v":""},{"$f":"IF(入力フォーム合計!K33=採点例!K108,\"〇\",\"\")","v":""},{"$f":"IF(入力フォーム合計!L33=採点例!L108,\"〇\",\"\")","v":""},0,"×"]
[108,2,1,1,2,"イムラ　アキエ","井村　秋枝",2,2,8,"0178-21-0514","xjpwdhcqrz@aomori.jp",null,null,null,{"$f":"IF(入力フォーム合計!B34=採点例!B109,\"〇\",\"\")","v":""},{"$f":"IF(入力フォーム合計!C34=採点例!C109,\"〇\",\"\")","v":""},{"$f":"IF(入力フォーム合計!D34=採点例!D109,\"〇\",\"\")","v":""},{"$f":"IF(入力フォーム合計!E34=採点例!E109,\"〇\",\"\")","v":""},{"$f":"IF(入力フォーム合計!F34=採点例!F109,\"〇\",\"\")","v":""},{"$f":"IF(入力フォーム合計!G34=採点例!G109,\"〇\",\"\")","v":""},{"$f":"IF(入力フォーム合計!H34=採点例!H109,\"〇\",\"\")","v":""},{"$f":"IF(入力フォーム合計!I34=採点例!I109,\"〇\",\"\")","v":""},{"$f":"IF(入力フォーム合計!J34=採点例!J109,\"〇\",\"\")","v":""},{"$f":"IF(入力フォーム合計!K34=採点例!K109,\"〇\",\"\")","v":""},{"$f":"IF(入力フォーム合計!L34=採点例!L109,\"〇\",\"\")","v":""},0,"×"]
[109,3,1,1,2,"カシマ　ナミ","鹿島　奈美",2,2,11,"0768-88-1329","nypho@kanazawa-u.ac.jp",null,null,null,{"$f":"IF(入力フォーム合計!B35=採点例!B110,\"〇\",\"\")","v":""},{"$f":"IF(入力フォーム合計!C35=採点例!C110,\"〇\",\"\")","v":""},{"$f":"IF(入力フォーム合計!D35=採点例!D110,\"〇\",\"\")","v":""},{"$f":"IF(入力フォーム合計!E35=採点例!E110,\"〇\",\"\")","v":""},{"$f":"IF(入力フォーム合計!F35=採点例!F110,\"〇\",\"\")","v":""},{"$f":"IF(入力フォーム合計!G35=採点例!G110,\"〇\",\"\")","v":""},{"$f":"IF(入力フォーム合計!H35=採点例!H110,\"〇\",\"\")","v":""},{"$f":"IF(入力フォーム合計!I35=採点例!I110,\"〇\",\"\")","v":""},{"$f":"IF(入力フォーム合計!J35=採点例!J110,\"〇\",\"\")","v":""},{"$f":"IF(入力フォーム合計!K35=採点例!K110,\"〇\",\"\")","v":""},{"$f":"IF(入力フォーム合計!L35=採点例!L110,\"〇\",\"\")","v":""},0,"×"]
[110,4,1,1,1,"イワタニ　サクラ","岩谷　桜",2,3,5,"075-430-9082","kzahebsrqi@siix.co.jp",null,null,null,{"$f":"IF(入力フォーム合計!B36=採点例!B111,\"〇\",\"\")","v":""},{"$f":"IF(入力フォーム合計!C36=採点例!C111,\"〇\",\"\")","v":""},{"$f":"IF(入力フォーム合計!D36=採点例!D111,\"〇\",\"\")","v":""},{"$f":"IF(入力フォーム合計!E36=採点例!E111,\"〇\",\"\")","v":""},{"$f":"IF(入力フォーム合計!F36=採点例!F111,\"〇\",\"\")","v":""},{"$f":"IF(入力フォーム合計!G36=採点例!G111,\"〇\",\"\")","v":""},{"$f":"IF(入力フォーム合計!H36=採点例!H111,\"〇\",\"\")","v":""},{"$f":"IF(入力フォーム合計!I36=採点例!I111,\"〇\",\"\")","v":""},{"$f":"IF(入力フォーム合計!J36=採点例!J111,\"〇\",\"\")","v":""},{"$f":"IF(入力フォーム合計!K36=採点例!K111,\"〇\",\"\")","v":""},{"$f":"IF(入力フォーム合計!L36=採点例!L111,\"〇\",\"\")","v":""},0,"×"]
[111,5,3,3,2,"ホウジョウ　ミヅキ","北条　美月",2,4,8,"092-838-9775","uqzsm@nichizotech.co.jp",null,null,null,{"$f":"IF(入力フォーム合計!B37=採点例!B112,\"〇\",\"\")","v":""},{"$f":"IF(入力フォーム合計!C37=採点例!C112,\"〇\",\"\")","v":""},{"$f":"IF(入力フォーム合計!D37=採点例!D112,\"〇\",\"\")","v":""},{"$f":"IF(入力フォーム合計!E37=採点例!E112,\"〇\",\"\")","v":""},{"$f":"IF(入力フォーム合計!F37=採点例!F112,\"〇\",\"\")","v":""},{"$f":"IF(入力フォーム合計!G37=採点例!G112,\"〇\",\"\")","v":""},{"$f":"IF(入力フォーム合計!H37=採点例!H112,\"〇\",\"\")","v":""},{"$f":"IF(入力フォーム合計!I37=採点例!I112,\"〇\",\"\")","v":""},{"$f":"IF(入力フォーム合計!J37=採点例!J112,\"〇\",\"\")","v":""},{"$f":"IF(入力フォーム合計!K37=採点例!K112,\"〇\",\"\")","v":""},{"$f":"IF(入力フォーム合計!L37=採点例!L112,\"〇\",\"\")","v":""},0,"×"]
[112,3,4,4,3,"ホンジョウ　ヨウイチ","本城　洋一",1,3,5,"0774-39-8119","swvfc@nyc.co.jp",null,null,null,{"$f":"IF(入力フォーム合計!B38=採点例!B113,\"〇\",\"\")","v":""},{"$f":"IF(入力フォーム合計!C38=採点例!C113,\"〇\",\"\")","v":""},{"$f":"IF(入力フォーム合計!D38=採点例!D113,\"〇\",\"\")","v":""},{"$f":"IF(入力フォーム合計!E38=採点例!E113,\"〇\",\"\")","v":""},{"$f":"IF(入力フォーム合計!F38=採点例!F113,\"〇\",\"\")","v":""},{"$f":"IF(入力フォーム合計!G38=採点例!G113,\"〇\",\"\")","v":""},{"$f":"IF(入力フォーム合計!H38=採点例!H113,\"〇\",\"\")","v":""},{"$f":"IF(入力フォーム合計!I38=採点例!I113,\"〇\",\"\")","v":""},{"$f":"IF(入力フォーム合計!J38=採点例!J113,\"〇\",\"\")","v":""},{"$f":"IF(入力フォーム合計!K38=採点例!K113,\"〇\",\"\")","v":""},{"$f":"IF(入力フォーム合計!L38=採点例!L113,\"〇\",\"\")","v":""},0,"×"]
[113,2,5,5,2,"ナルカワ　カズオ","成川　和男",1,5,11,"0994-71-1850","olijeenklc@yamatointr.co.jp",null,null,null,{"$f":"IF(入力フォーム合計!B39=採点例!B114,\"〇\",\"\")","v":""},{"$f":"IF(入力フォーム合計!C39=採点例!C114,\"〇\",\"\")","v":""},{"$f":"IF(入力フォーム合計!D39=採点例!D114,\"〇\",\"\")","v":""},{"$f":"IF(入力フォーム合計!E39=採点例!E114,\"〇\",\"\")","v":""},{"$f":"IF(入力フォーム合計!F39=採点例!F114,\"〇\",\"\")","v":""},{"$f":"IF(入力フォーム合計!G39=採点例!G114,\"〇\",\"\")","v":""},{"$f":"IF(入力フォーム合計!H39=採点例!H114,\"〇\",\"\")","v":""},{"$f":"IF(入力フォーム合計!I39=採点例!I114,\"〇\",\"\")","v":""},{"$f":"IF(入力フォーム合計!J39=採点例!J114,\"〇\",\"\")","v":""},{"$f":"IF(入力フォーム合計!K39=採点例!K114,\"〇\",\"\")","v":""},{"$f":"IF(入力フォーム合計!L39=採点例!L114,\"〇\",\"\")","v":""},0,"×"]
[114,1,1,1,2,"オシカワ　セイイチ","押川　誠一",1,6,10,"077-404-0984","knwcs@senshukai.co.jp",null,null,null,{"$f":"IF(入力フォーム合計!B40=採点例!B115,\"〇\",\"\")","v":""},{"$f":"IF(入力フォーム合計!C40=採点例!C115,\"〇\",\"\")","v":""},{"$f":"IF(入力フォーム合計!D40=採点例!D115,\"〇\",\"\")","v":""},{"$f":"IF(入力フォーム合計!E40=採点例!E115,\"〇\",\"\")","v":""},{"$f":"IF(入力フォーム合計!F40=採点例!F115,\"〇\",\"\")","v":""},{"$f":"IF(入力フォーム合計!G40=採点例!G115,\"〇\",\"\")","v":""},{"$f":"IF(入力フォーム合計!H40=採点例!H115,\"〇\",\"\")","v":""},{"$f":"IF(入力フォーム合計!I40=採点例!I115,\"〇\",\"\")","v":""},{"$f":"IF(入力フォーム合計!J40=採点例!J115,\"〇\",\"\")","v":""},{"$f":"IF(入力フォーム合計!K40=採点例!K115,\"〇\",\"\")","v":""},{"$f":"IF(入力フォーム合計!L40=採点例!L115,\"〇\",\"\")","v":""},0,"×"]
[115,1,1,1,1,"タバタ　アサコ","田端　麻子",2,5,8,"03-8529-9293","aqroqspnmf@seisen-u.ac.jp",null,null,null,{"$f":"IF(入力フォーム合計!B41=採点例!B116,\"〇\",\"\")","v":""},{"$f":"IF(入力フォーム合計!C41=採点例!C116,\"〇\",\"\")","v":""},{"$f":"IF(入力フォーム合計!D41=採点例!D116,\"〇\",\"\")","v":""},{"$f":"IF(入力フォーム合計!E41=採点例!E116,\"〇\",\"\")","v":""},{"$f":"IF(入力フォーム合計!F41=採点例!F116,\"〇\",\"\")","v":""},{"$f":"IF(入力フォーム合計!G41=採点例!G116,\"〇\",\"\")","v":""},{"$f":"IF(入力フォーム合計!H41=採点例!H116,\"〇\",\"\")","v":""},{"$f":"IF(入力フォーム合計!I41=採点例!I116,\"〇\",\"\")","v":""},{"$f":"IF(入力フォーム合計!J41=採点例!J116,\"〇\",\"\")","v":""},{"$f":"IF(入力フォーム合計!K41=採点例!K116,\"〇\",\"\")","v":""},{"$f":"IF(入力フォーム合計!L41=採点例!L116,\"〇\",\"\")","v":""},0,"×"]
[116,2,2,2,2,"シダ　ケンゾウ","志田　謙三",1,3,10,"092-892-1564","vzjqj@toshibatec.co.jp",null,null,null,{"$f":"IF(入力フォーム合計!B42=採点例!B117,\"〇\",\"\")","v":""},{"$f":"IF(入力フォーム合計!C42=採点例!C117,\"〇\",\"\")","v":""},{"$f":"IF(入力フォーム合計!D42=採点例!D117,\"〇\",\"\")","v":""},{"$f":"IF(入力フォーム合計!E42=採点例!E117,\"〇\",\"\")","v":""},{"$f":"IF(入力フォーム合計!F42=採点例!F117,\"〇\",\"\")","v":""},{"$f":"IF(入力フォーム合計!G42=採点例!G117,\"〇\",\"\")","v":""},{"$f":"IF(入力フォーム合計!H42=採点例!H117,\"〇\",\"\")","v":""},{"$f":"IF(入力フォーム合計!I42=採点例!I117,\"〇\",\"\")","v":""},{"$f":"IF(入力フォーム合計!J42=採点例!J117,\"〇\",\"\")","v":""},{"$f":"IF(入力フォーム合計!K42=採点例!K117,\"〇\",\"\")","v":""},{"$f":"IF(入力フォーム合計!L42=採点例!L117,\"〇\",\"\")","v":""},0,"×"]
[117,3,2,2,2,"アサカ　マモル","浅香　守",1,2,3,"079-166-3150","nthtpdibls@kobe-u.ac.jp",null,null,null,{"$f":"IF(入力フォーム合計!B43=採点例!B118,\"〇\",\"\")","v":""},{"$f":"IF(入力フォーム合計!C43=採点例!C118,\"〇\",\"\")","v":""},{"$f":"IF(入力フォーム合計!D43=採点例!D118,\"〇\",\"\")","v":""},{"$f":"IF(入力フォーム合計!E43=採点例!E118,\"〇\",\"\")","v":""},{"$f":"IF(入力フォーム合計!F43=採点例!F118,\"〇\",\"\")","v":""},{"$f":"IF(入力フォーム合計!G43=採点例!G118,\"〇\",\"\")","v":""},{"$f":"IF(入力フォーム合計!H43=採点例!H118,\"〇\",\"\")","v":""},{"$f":"IF(入力フォーム合計!I43=採点例!I118,\"〇\",\"\")","v":""},{"$f":"IF(入力フォーム合計!J43=採点例!J118,\"〇\",\"\")","v":""},{"$f":"IF(入力フォーム合計!K43=採点例!K118,\"〇\",\"\")","v":""},{"$f":"IF(入力フォーム合計!L43=採点例!L118,\"〇\",\"\")","v":""},0,"×"]
[118,2,3,3,2,"アナザワ　ミツオ","穴沢　光雄",1,5,10,"0852-98-1779","awmcc@kytec.co.jp",null,null,null,{"$f":"IF(入力フォーム合計!B44=採点例!B119,\"〇\",\"\")","v":""},{"$f":"IF(入力フォーム合計!C44=採点例!C119,\"〇\",\"\")","v":""},{"$f":"IF(入力フォーム合計!D44=採点例!D119,\"〇\",\"\")","v":""},{"$f":"IF(入力フォーム合計!E44=採点例!E119,\"〇\",\"\")","v":""},{"$f":"IF(入力フォーム合計!F44=採点例!F119,\"〇\",\"\")","v":""},{"$f":"IF(入力フォーム合計!G44=採点例!G119,\"〇\",\"\")","v":""},{"$f":"IF(入力フォーム合計!H44=採点例!H119,\"〇\",\"\")","v":""},{"$f":"IF(入力フォーム合計!I44=採点例!I119,\"〇\",\"\")","v":""},{"$f":"IF(入力フォーム合計!J44=採点例!J119,\"〇\",\"\")","v":""},{"$f":"IF(入力フォーム合計!K44=採点例!K119,\"〇\",\"\")","v":""},{"$f":"IF(入力フォーム合計!L44=採点例!L119,\"〇\",\"\")","v":""},0,"×"]
[119,2,1,1,1,"ツナシマ　シンイチ","綱島　信一",1,2,6,"0959-33-6213","ejpvkzvgdv@smcon.co.jp",null,null,null,{"$f":"IF(入力フォーム合計!B45=採点例!B120,\"〇\",\"\")","v":""},{"$f":"IF(入力フォーム合計!C45=採点例!C120,\"〇\",\"\")","v":""},{"$f":"IF(入力フォーム合計!D45=採点例!D120,\"〇\",\"\")","v":""},{"$f":"IF(入力フォーム合計!E45=採点例!E120,\"〇\",\"\")","v":""},{"$f":"IF(入力フォーム合計!F45=採点例!F120,\"〇\",\"\")","v":""},{"$f":"IF(入力フォーム合計!G45=採点例!G120,\"〇\",\"\")","v":""},{"$f":"IF(入力フォーム合計!H45=採点例!H120,\"〇\",\"\")","v":""},{"$f":"IF(入力フォーム合計!I45=採点例!I120,\"〇\",\"\")","v":""},{"$f":"IF(入力フォーム合計!J45=採点例!J120,\"〇\",\"\")","v":""},{"$f":"IF(入力フォーム合計!K45=採点例!K120,\"〇\",\"\")","v":""},{"$f":"IF(入力フォーム合計!L45=採点例!L120,\"〇\",\"\")","v":""},0,"×"]
[120,4,1,1,2,"アイダ　ユウカ","会田　裕香",2,3,7,"055-913-1242","pvcei@shizuoka.jp",null,null,null,{"$f":"IF(入力フォーム合計!B46=採点例!B121,\"〇\",\"\")","v":""},{"$f":"IF(入力フォーム合計!C46=採点例!C121,\"〇\",\"\")","v":""},{"$f":"IF(入力フォーム合計!D46=採点例!D121,\"〇\",\"\")","v":""},{"$f":"IF(入力フォーム合計!E46=採点例!E121,\"〇\",\"\")","v":""},{"$f":"IF(入力フォーム合計!F46=採点例!F121,\"〇\",\"\")","v":""},{"$f":"IF(入力フォーム合計!G46=採点例!G121,\"〇\",\"\")","v":""},{"$f":"IF(入力フォーム合計!H46=採点例!H121,\"〇\",\"\")","v":""},{"$f":"IF(入力フォーム合計!I46=採点例!I121,\"〇\",\"\")","v":""},{"$f":"IF(入力フォーム合計!J46=採点例!J121,\"〇\",\"\")","v":""},{"$f":"IF(入力フォーム合計!K46=採点例!K121,\"〇\",\"\")","v":""},{"$f":"IF(入力フォーム合計!L46=採点例!L121,\"〇\",\"\")","v":""},0,"×"]
[121,5,2,2,2,"クマザワ　マキコ","熊沢　麻希子",2,4,5,"0247-58-8785","tnmcjexonr@fukushima.jp",null,null,null,{"$f":"IF(入力フォーム合計!B47=採点例!B122,\"〇\",\"\")","v":""},{"$f":"IF(入力フォーム合計!C47=採点例!C122,\"〇\",\"\")","v":""},{"$f":"IF(入力フォーム合計!D47=採点例!D122,\"〇\",\"\")","v":""},{"$f":"IF(入力フォーム合計!E47=採点例!E122,\"〇\",\"\")","v":""},{"$f":"IF(入力フォーム合計!F47=採点例!F122,\"〇\",\"\")","v":""},{"$f":"IF(入力フォーム合計!G47=採点例!G122,\"〇\",\"\")","v":""},{"$f":"IF(入力フォーム合計!H47=採点例!H122,\"〇\",\"\")","v":""},{"$f":"IF(入力フォーム合計!I47=採点例!I122,\"〇\",\"\")","v":""},{"$f":"IF(入力フォーム合計!J47=採点例!J122,\"〇\",\"\")","v":""},{"$f":"IF(入力フォーム合計!K47=採点例!K122,\"〇\",\"\")","v":""},{"$f":"IF(入力フォーム合計!L47=採点例!L122,\"〇\",\"\")","v":""},0,"×"]
[122,4,3,3,2,"オカヤマ　マサミ","岡山　昌美",2,6,4,"0261-92-1825","znadm@31ice.co.jp",null,null,null,{"$f":"IF(入力フォーム合計!B48=採点例!B123,\"〇\",\"\")","v":""},{"$f":"IF(入力フォーム合計!C48=採点例!C123,\"〇\",\"\")","v":""},{"$f":"IF(入力フォーム合計!D48=採点例!D123,\"〇\",\"\")","v":""},{"$f":"IF(入力フォーム合計!E48=採点例!E123,\"〇\",\"\")","v":""},{"$f":"IF(入力フォーム合計!F48=採点例!F123,\"〇\",\"\")","v":""},{"$f":"IF(入力フォーム合計!G48=採点例!G123,\"〇\",\"\")","v":""},{"$f":"IF(入力フォーム合計!H48=採点例!H123,\"〇\",\"\")","v":""},{"$f":"IF(入力フォーム合計!I48=採点例!I123,\"〇\",\"\")","v":""},{"$f":"IF(入力フォーム合計!J48=採点例!J123,\"〇\",\"\")","v":""},{"$f":"IF(入力フォーム合計!K48=採点例!K123,\"〇\",\"\")","v":""},{"$f":"IF(入力フォーム合計!L48=採点例!L123,\"〇\",\"\")","v":""},0,"×"]
[123,3,2,2,3,"キタタニ　マサオ","北谷　政男",1,5,4,"0558-51-3742","zmagf@shizuoka.jp",null,null,null,{"$f":"IF(入力フォーム合計!B49=採点例!B124,\"〇\",\"\")","v":""},{"$f":"IF(入力フォーム合計!C49=採点例!C124,\"〇\",\"\")","v":""},{"$f":"IF(入力フォーム合計!D49=採点例!D124,\"〇\",\"\")","v":""},{"$f":"IF(入力フォーム合計!E49=採点例!E124,\"〇\",\"\")","v":""},{"$f":"IF(入力フォーム合計!F49=採点例!F124,\"〇\",\"\")","v":""},{"$f":"IF(入力フォーム合計!G49=採点例!G124,\"〇\",\"\")","v":""},{"$f":"IF(入力フォーム合計!H49=採点例!H124,\"〇\",\"\")","v":""},{"$f":"IF(入力フォーム合計!I49=採点例!I124,\"〇\",\"\")","v":""},{"$f":"IF(入力フォーム合計!J49=採点例!J124,\"〇\",\"\")","v":""},{"$f":"IF(入力フォーム合計!K49=採点例!K124,\"〇\",\"\")","v":""},{"$f":"IF(入力フォーム合計!L49=採点例!L124,\"〇\",\"\")","v":""},0,"×"]
[124,2,2,2,2,"ナガツカ　セツコ","長塚　節子",2,5,12,"0256-89-1159","kybihgmeqx@ussnet.co.jp",null,null,null,{"$f":"IF(入力フォーム合計!B50=採点例!B125,\"〇\",\"\")","v":""},{"$f":"IF(入力フォーム合計!C50=採点例!C125,\"〇\",\"\")","v":""},{"$f":"IF(入力フォーム合計!D50=採点例!D125,\"〇\",\"\")","v":""},{"$f":"IF(入力フォーム合計!E50=採点例!E125,\"〇\",\"\")","v":""},{"$f":"IF(入力フォーム合計!F50=採点例!F125,\"〇\",\"\")","v":""},{"$f":"IF(入力フォーム合計!G50=採点例!G125,\"〇\",\"\")","v":""},{"$f":"IF(入力フォーム合計!H50=採点例!H125,\"〇\",\"\")","v":""},{"$f":"IF(入力フォーム合計!I50=採点例!I125,\"〇\",\"\")","v":""},{"$f":"IF(入力フォーム合計!J50=採点例!J125,\"〇\",\"\")","v":""},{"$f":"IF(入力フォーム合計!K50=採点例!K125,\"〇\",\"\")","v":""},{"$f":"IF(入力フォーム合計!L50=採点例!L125,\"〇\",\"\")","v":""},0,"×"]
[125,1,1,1,1,"クロサキ　アンナ","黒崎　杏奈",2,6,8,"0463-19-9312","ghcfrpuuyw@unico-corp.co.jp",null,null,null,{"$f":"IF(入力フォーム合計!B51=採点例!B126,\"〇\",\"\")","v":""},{"$f":"IF(入力フォーム合計!C51=採点例!C126,\"〇\",\"\")","v":""},{"$f":"IF(入力フォーム合計!D51=採点例!D126,\"〇\",\"\")","v":""},{"$f":"IF(入力フォーム合計!E51=採点例!E126,\"〇\",\"\")","v":""},{"$f":"IF(入力フォーム合計!F51=採点例!F126,\"〇\",\"\")","v":""},{"$f":"IF(入力フォーム合計!G51=採点例!G126,\"〇\",\"\")","v":""},{"$f":"IF(入力フォーム合計!H51=採点例!H126,\"〇\",\"\")","v":""},{"$f":"IF(入力フォーム合計!I51=採点例!I126,\"〇\",\"\")","v":""},{"$f":"IF(入力フォーム合計!J51=採点例!J126,\"〇\",\"\")","v":""},{"$f":"IF(入力フォーム合計!K51=採点例!K126,\"〇\",\"\")","v":""},{"$f":"IF(入力フォーム合計!L51=採点例!L126,\"〇\",\"\")","v":""},0,"×"]
[126,5,1,1,1,"コガタ　カズオ","小形　和雄",1,7,8,"0268-75-0834","qzavp@fsa.go.jp",null,null,null,{"$f":"IF(入力フォーム合計!B52=採点例!B127,\"〇\",\"\")","v":""},{"$f":"IF(入力フォーム合計!C52=採点例!C127,\"〇\",\"\")","v":""},{"$f":"IF(入力フォーム合計!D52=採点例!D127,\"〇\",\"\")","v":""},{"$f":"IF(入力フォーム合計!E52=採点例!E127,\"〇\",\"\")","v":""},{"$f":"IF(入力フォーム合計!F52=採点例!F127,\"〇\",\"\")","v":""},{"$f":"IF(入力フォーム合計!G52=採点例!G127,\"〇\",\"\")","v":""},{"$f":"IF(入力フォーム合計!H52=採点例!H127,\"〇\",\"\")","v":""},{"$f":"IF(入力フォーム合計!I52=採点例!I127,\"〇\",\"\")","v":""},{"$f":"IF(入力フォーム合計!J52=採点例!J127,\"〇\",\"\")","v":""},{"$f":"IF(入力フォーム合計!K52=採点例!K127,\"〇\",\"\")","v":""},{"$f":"IF(入力フォーム合計!L52=採点例!L127,\"〇\",\"\")","v":""},0,"×"]
[127,6,2,2,2,"トミカワ　ミツル","富川　満",1,1,2,"075-164-3634","punsrdlmve@sangiin.go.jp",null,null,null,{"$f":"IF(入力フォーム合計!B53=採点例!B128,\"〇\",\"\")","v":""},{"$f":"IF(入力フォーム合計!C53=採点例!C128,\"〇\",\"\")","v":""},{"$f":"IF(入力フォーム合計!D53=採点例!D128,\"〇\",\"\")","v":""},{"$f":"IF(入力フォーム合計!E53=採点例!E128,\"〇\",\"\")","v":""},{"$f":"IF(入力フォーム合計!F53=採点例!F128,\"〇\",\"\")","v":""},{"$f":"IF(入力フォーム合計!G53=採点例!G128,\"〇\",\"\")","v":""},{"$f":"IF(入力フォーム合計!H53=採点例!H128,\"〇\",\"\")","v":""},{"$f":"IF(入力フォーム合計!I53=採点例!I128,\"〇\",\"\")","v":""},{"$f":"IF(入力フォーム合計!J53=採点例!J128,\"〇\",\"\")","v":""},{"$f":"IF(入力フォーム合計!K53=採点例!K128,\"〇\",\"\")","v":""},{"$f":"IF(入力フォーム合計!L53=採点例!L128,\"〇\",\"\")","v":""},0,"×"]
[128,9,1,1,2,"オニザワ　ユタカ","鬼沢　裕",1,5,4,"024-981-5273","nslom@fukushima.jp",null,null,null,{"$f":"IF(入力フォーム合計!B54=採点例!B129,\"〇\",\"\")","v":""},{"$f":"IF(入力フォーム合計!C54=採点例!C129,\"〇\",\"\")","v":""},{"$f":"IF(入力フォーム合計!D54=採点例!D129,\"〇\",\"\")","v":""},{"$f":"IF(入力フォーム合計!E54=採点例!E129,\"〇\",\"\")","v":""},{"$f":"IF(入力フォーム合計!F54=採点例!F129,\"〇\",\"\")","v":""},{"$f":"IF(入力フォーム合計!G54=採点例!G129,\"〇\",\"\")","v":""},{"$f":"IF(入力フォーム合計!H54=採点例!H129,\"〇\",\"\")","v":""},{"$f":"IF(入力フォーム合計!I54=採点例!I129,\"〇\",\"\")","v":""},{"$f":"IF(入力フォーム合計!J54=採点例!J129,\"〇\",\"\")","v":""},{"$f":"IF(入力フォーム合計!K54=採点例!K129,\"〇\",\"\")","v":""},{"$f":"IF(入力フォーム合計!L54=採点例!L129,\"〇\",\"\")","v":""},0,"×"]
[129,8,3,3,3,"タカサワ　マナミ","高沢　真奈美",2,3,6,"0845-76-1868","hmhnumbmxw@hitachi.co.jp",null,null,null,{"$f":"IF(入力フォーム合計!B55=採点例!B130,\"〇\",\"\")","v":""},{"$f":"IF(入力フォーム合計!C55=採点例!C130,\"〇\",\"\")","v":""},{"$f":"IF(入力フォーム合計!D55=採点例!D130,\"〇\",\"\")","v":""},{"$f":"IF(入力フォーム合計!E55=採点例!E130,\"〇\",\"\")","v":""},{"$f":"IF(入力フォーム合計!F55=採点例!F130,\"〇\",\"\")","v":""},{"$f":"IF(入力フォーム合計!G55=採点例!G130,\"〇\",\"\")","v":""},{"$f":"IF(入力フォーム合計!H55=採点例!H130,\"〇\",\"\")","v":""},{"$f":"IF(入力フォーム合計!I55=採点例!I130,\"〇\",\"\")","v":""},{"$f":"IF(入力フォーム合計!J55=採点例!J130,\"〇\",\"\")","v":""},{"$f":"IF(入力フォーム合計!K55=採点例!K130,\"〇\",\"\")","v":""},{"$f":"IF(入力フォーム合計!L55=採点例!L130,\"〇\",\"\")","v":""},{"$f":"COUNTIF(P130:Z130,\"〇\")","v":0},{"$f":"IF(AA130=COUNTA($P$1:$Z$1),\"〇\",\"×\")","v":"×"}]
[130,7,4,4,2,"オオウラ　トシユキ","大浦　敏行",1,4,9,"0879-10-2286","kqvgy@amsc.co.jp",null,null,null,{"$f":"IF(入力フォーム合計!B56=採点例!B131,\"〇\",\"\")","v":""},{"$f":"IF(入力フォーム合計!C56=採点例!C131,\"〇\",\"\")","v":""},{"$f":"IF(入力フォーム合計!D56=採点例!D131,\"〇\",\"\")","v":""},{"$f":"IF(入力フォーム合計!E56=採点例!E131,\"〇\",\"\")","v":""},{"$f":"IF(入力フォーム合計!F56=採点例!F131,\"〇\",\"\")","v":""},{"$f":"IF(入力フォーム合計!G56=採点例!G131,\"〇\",\"\")","v":""},{"$f":"IF(入力フォーム合計!H56=採点例!H131,\"〇\",\"\")","v":""},{"$f":"IF(入力フォーム合計!I56=採点例!I131,\"〇\",\"\")","v":""},{"$f":"IF(入力フォーム合計!J56=採点例!J131,\"〇\",\"\")","v":""},{"$f":"IF(入力フォーム合計!K56=採点例!K131,\"〇\",\"\")","v":""},{"$f":"IF(入力フォーム合計!L56=採点例!L131,\"〇\",\"\")","v":""},0,"×"]
[131,5,5,5,3,"シマモト　エイジ","島本　栄治",1,6,4,"0959-77-8297","lmjjvkswmk@saikaya.co.jp",null,null,null,{"$f":"IF(入力フォーム合計!B57=採点例!B132,\"〇\",\"\")","v":""},{"$f":"IF(入力フォーム合計!C57=採点例!C132,\"〇\",\"\")","v":""},{"$f":"IF(入力フォーム合計!D57=採点例!D132,\"〇\",\"\")","v":""},{"$f":"IF(入力フォーム合計!E57=採点例!E132,\"〇\",\"\")","v":""},{"$f":"IF(入力フォーム合計!F57=採点例!F132,\"〇\",\"\")","v":""},{"$f":"IF(入力フォーム合計!G57=採点例!G132,\"〇\",\"\")","v":""},{"$f":"IF(入力フォーム合計!H57=採点例!H132,\"〇\",\"\")","v":""},{"$f":"IF(入力フォーム合計!I57=採点例!I132,\"〇\",\"\")","v":""},{"$f":"IF(入力フォーム合計!J57=採点例!J132,\"〇\",\"\")","v":""},{"$f":"IF(入力フォーム合計!K57=採点例!K132,\"〇\",\"\")","v":""},{"$f":"IF(入力フォーム合計!L57=採点例!L132,\"〇\",\"\")","v":""},0,"×"]
[132,6,5,5,2,"タマキ　ヨシヒロ","玉木　義弘",1,4,5,"0993-29-3743","qxdwz@toyota-boshoku.co.jp",null,null,null,{"$f":"IF(入力フォーム合計!B58=採点例!B133,\"〇\",\"\")","v":""},{"$f":"IF(入力フォーム合計!C58=採点例!C133,\"〇\",\"\")","v":""},{"$f":"IF(入力フォーム合計!D58=採点例!D133,\"〇\",\"\")","v":""},{"$f":"IF(入力フォーム合計!E58=採点例!E133,\"〇\",\"\")","v":""},{"$f":"IF(入力フォーム合計!F58=採点例!F133,\"〇\",\"\")","v":""},{"$f":"IF(入力フォーム合計!G58=採点例!G133,\"〇\",\"\")","v":""},{"$f":"IF(入力フォーム合計!H58=採点例!H133,\"〇\",\"\")","v":""},{"$f":"IF(入力フォーム合計!I58=採点例!I133,\"〇\",\"\")","v":""},{"$f":"IF(入力フォーム合計!J58=採点例!J133,\"〇\",\"\")","v":""},{"$f":"IF(入力フォーム合計!K58=採点例!K133,\"〇\",\"\")","v":""},{"$f":"IF(入力フォーム合計!L58=採点例!L133,\"〇\",\"\")","v":""},0,"×"]
[133,4,3,6,3,"タカタニ　キミエ","高谷　喜美恵",2,4,7,"0269-62-6124","hzjkuzwfhm@yushin.com",null,null,null,{"$f":"IF(入力フォーム合計!B59=採点例!B134,\"〇\",\"\")","v":""},{"$f":"IF(入力フォーム合計!C59=採点例!C134,\"〇\",\"\")","v":""},{"$f":"IF(入力フォーム合計!D59=採点例!D134,\"〇\",\"\")","v":""},{"$f":"IF(入力フォーム合計!E59=採点例!E134,\"〇\",\"\")","v":""},{"$f":"IF(入力フォーム合計!F59=採点例!F134,\"〇\",\"\")","v":""},{"$f":"IF(入力フォーム合計!G59=採点例!G134,\"〇\",\"\")","v":""},{"$f":"IF(入力フォーム合計!H59=採点例!H134,\"〇\",\"\")","v":""},{"$f":"IF(入力フォーム合計!I59=採点例!I134,\"〇\",\"\")","v":""},{"$f":"IF(入力フォーム合計!J59=採点例!J134,\"〇\",\"\")","v":""},{"$f":"IF(入力フォーム合計!K59=採点例!K134,\"〇\",\"\")","v":""},{"$f":"IF(入力フォーム合計!L59=採点例!L134,\"〇\",\"\")","v":""},0,"×"]
[134,10,3,3,2,"オキタ　ヤスオ","沖田　康男",1,3,11,"0948-29-5065","rswtw@eazima.co.jp",null,null,null,{"$f":"IF(入力フォーム合計!B60=採点例!B135,\"〇\",\"\")","v":""},{"$f":"IF(入力フォーム合計!C60=採点例!C135,\"〇\",\"\")","v":""},{"$f":"IF(入力フォーム合計!D60=採点例!D135,\"〇\",\"\")","v":""},{"$f":"IF(入力フォーム合計!E60=採点例!E135,\"〇\",\"\")","v":""},{"$f":"IF(入力フォーム合計!F60=採点例!F135,\"〇\",\"\")","v":""},{"$f":"IF(入力フォーム合計!G60=採点例!G135,\"〇\",\"\")","v":""},{"$f":"IF(入力フォーム合計!H60=採点例!H135,\"〇\",\"\")","v":""},{"$f":"IF(入力フォーム合計!I60=採点例!I135,\"〇\",\"\")","v":""},{"$f":"IF(入力フォーム合計!J60=採点例!J135,\"〇\",\"\")","v":""},{"$f":"IF(入力フォーム合計!K60=採点例!K135,\"〇\",\"\")","v":""},{"$f":"IF(入力フォーム合計!L60=採点例!L135,\"〇\",\"\")","v":""},0,"×"]
[135,6,2,2,1,"クラモト　マサトシ","倉本　正俊",1,5,10,"0974-81-3121","maesvoaizx@kakoki.co.jp",null,null,null,{"$f":"IF(入力フォーム合計!B61=採点例!B136,\"〇\",\"\")","v":""},{"$f":"IF(入力フォーム合計!C61=採点例!C136,\"〇\",\"\")","v":""},{"$f":"IF(入力フォーム合計!D61=採点例!D136,\"〇\",\"\")","v":""},{"$f":"IF(入力フォーム合計!E61=採点例!E136,\"〇\",\"\")","v":""},{"$f":"IF(入力フォーム合計!F61=採点例!F136,\"〇\",\"\")","v":""},{"$f":"IF(入力フォーム合計!G61=採点例!G136,\"〇\",\"\")","v":""},{"$f":"IF(入力フォーム合計!H61=採点例!H136,\"〇\",\"\")","v":""},{"$f":"IF(入力フォーム合計!I61=採点例!I136,\"〇\",\"\")","v":""},{"$f":"IF(入力フォーム合計!J61=採点例!J136,\"〇\",\"\")","v":""},{"$f":"IF(入力フォーム合計!K61=採点例!K136,\"〇\",\"\")","v":""},{"$f":"IF(入力フォーム合計!L61=採点例!L136,\"〇\",\"\")","v":""},0,"×"]
[136,4,1,1,2,"ハタナカ　ヒトミ","畠中　仁美",2,6,11,"0954-34-3565","pxljw@chiyoda-i.co.jp",null,null,null,{"$f":"IF(入力フォーム合計!B62=採点例!B137,\"〇\",\"\")","v":""},{"$f":"IF(入力フォーム合計!C62=採点例!C137,\"〇\",\"\")","v":""},{"$f":"IF(入力フォーム合計!D62=採点例!D137,\"〇\",\"\")","v":""},{"$f":"IF(入力フォーム合計!E62=採点例!E137,\"〇\",\"\")","v":""},{"$f":"IF(入力フォーム合計!F62=採点例!F137,\"〇\",\"\")","v":""},{"$f":"IF(入力フォーム合計!G62=採点例!G137,\"〇\",\"\")","v":""},{"$f":"IF(入力フォーム合計!H62=採点例!H137,\"〇\",\"\")","v":""},{"$f":"IF(入力フォーム合計!I62=採点例!I137,\"〇\",\"\")","v":""},{"$f":"IF(入力フォーム合計!J62=採点例!J137,\"〇\",\"\")","v":""},{"$f":"IF(入力フォーム合計!K62=採点例!K137,\"〇\",\"\")","v":""},{"$f":"IF(入力フォーム合計!L62=採点例!L137,\"〇\",\"\")","v":""},0,"×"]
[137,9,1,1,1,"イケタニ　リュウゾウ","池谷　隆三",1,2,5,"098-697-7484","eimvmzoznq@okinawa.jp",null,null,null,{"$f":"IF(入力フォーム合計!B63=採点例!B138,\"〇\",\"\")","v":""},{"$f":"IF(入力フォーム合計!C63=採点例!C138,\"〇\",\"\")","v":""},{"$f":"IF(入力フォーム合計!D63=採点例!D138,\"〇\",\"\")","v":""},{"$f":"IF(入力フォーム合計!E63=採点例!E138,\"〇\",\"\")","v":""},{"$f":"IF(入力フォーム合計!F63=採点例!F138,\"〇\",\"\")","v":""},{"$f":"IF(入力フォーム合計!G63=採点例!G138,\"〇\",\"\")","v":""},{"$f":"IF(入力フォーム合計!H63=採点例!H138,\"〇\",\"\")","v":""},{"$f":"IF(入力フォーム合計!I63=採点例!I138,\"〇\",\"\")","v":""},{"$f":"IF(入力フォーム合計!J63=採点例!J138,\"〇\",\"\")","v":""},{"$f":"IF(入力フォーム合計!K63=採点例!K138,\"〇\",\"\")","v":""},{"$f":"IF(入力フォーム合計!L63=採点例!L138,\"〇\",\"\")","v":""},0,"×"]
[138,8,2,2,2,"オオタカ　トシアキ","大高　俊明",1,3,11,"0466-82-4294","wmwmc@toho-titanium.co.jp",null,null,null,{"$f":"IF(入力フォーム合計!B64=採点例!B139,\"〇\",\"\")","v":""},{"$f":"IF(入力フォーム合計!C64=採点例!C139,\"〇\",\"\")","v":""},{"$f":"IF(入力フォーム合計!D64=採点例!D139,\"〇\",\"\")","v":""},{"$f":"IF(入力フォーム合計!E64=採点例!E139,\"〇\",\"\")","v":""},{"$f":"IF(入力フォーム合計!F64=採点例!F139,\"〇\",\"\")","v":""},{"$f":"IF(入力フォーム合計!G64=採点例!G139,\"〇\",\"\")","v":""},{"$f":"IF(入力フォーム合計!H64=採点例!H139,\"〇\",\"\")","v":""},{"$f":"IF(入力フォーム合計!I64=採点例!I139,\"〇\",\"\")","v":""},{"$f":"IF(入力フォーム合計!J64=採点例!J139,\"〇\",\"\")","v":""},{"$f":"IF(入力フォーム合計!K64=採点例!K139,\"〇\",\"\")","v":""},{"$f":"IF(入力フォーム合計!L64=採点例!L139,\"〇\",\"\")","v":""},0,"×"]
[139,3,1,1,2,"マスダ　トミオ","益田　富夫",1,2,3,"0536-78-6353","xtwetarkjs@hakuhodody-holdings.co.jp",null,null,null,{"$f":"IF(入力フォーム合計!B65=採点例!B140,\"〇\",\"\")","v":""},{"$f":"IF(入力フォーム合計!C65=採点例!C140,\"〇\",\"\")","v":""},{"$f":"IF(入力フォーム合計!D65=採点例!D140,\"〇\",\"\")","v":""},{"$f":"IF(入力フォーム合計!E65=採点例!E140,\"〇\",\"\")","v":""},{"$f":"IF(入力フォーム合計!F65=採点例!F140,\"〇\",\"\")","v":""},{"$f":"IF(入力フォーム合計!G65=採点例!G140,\"〇\",\"\")","v":""},{"$f":"IF(入力フォーム合計!H65=採点例!H140,\"〇\",\"\")","v":""},{"$f":"IF(入力フォーム合計!I65=採点例!I140,\"〇\",\"\")","v":""},{"$f":"IF(入力フォーム合計!J65=採点例!J140,\"〇\",\"\")","v":""},{"$f":"IF(入力フォーム合計!K65=採点例!K140,\"〇\",\"\")","v":""},{"$f":"IF(入力フォーム合計!L65=採点例!L140,\"〇\",\"\")","v":""},0,"×"]
[140,2,3,3,1,"サワムラ　チヨ","沢村　千代",2,4,5,"0282-88-3752","zecrigpocq@arata-gr.jp",null,null,null,{"$f":"IF(入力フォーム合計!B66=採点例!B141,\"〇\",\"\")","v":""},{"$f":"IF(入力フォーム合計!C66=採点例!C141,\"〇\",\"\")","v":""},{"$f":"IF(入力フォーム合計!D66=採点例!D141,\"〇\",\"\")","v":""},{"$f":"IF(入力フォーム合計!E66=採点例!E141,\"〇\",\"\")","v":""},{"$f":"IF(入力フォーム合計!F66=採点例!F141,\"〇\",\"\")","v":""},{"$f":"IF(入力フォーム合計!G66=採点例!G141,\"〇\",\"\")","v":""},{"$f":"IF(入力フォーム合計!H66=採点例!H141,\"〇\",\"\")","v":""},{"$f":"IF(入力フォーム合計!I66=採点例!I141,\"〇\",\"\")","v":""},{"$f":"IF(入力フォーム合計!J66=採点例!J141,\"〇\",\"\")","v":""},{"$f":"IF(入力フォーム合計!K66=採点例!K141,\"〇\",\"\")","v":""},{"$f":"IF(入力フォーム合計!L66=採点例!L141,\"〇\",\"\")","v":""},0,"×"]
[141,4,4,4,2,"アンザイ　カオル","安斎　薫",2,3,12,"0138-87-9065","uusty@hokusei.ac.jp",null,null,null,{"$f":"IF(入力フォーム合計!B67=採点例!B142,\"〇\",\"\")","v":""},{"$f":"IF(入力フォーム合計!C67=採点例!C142,\"〇\",\"\")","v":""},{"$f":"IF(入力フォーム合計!D67=採点例!D142,\"〇\",\"\")","v":""},{"$f":"IF(入力フォーム合計!E67=採点例!E142,\"〇\",\"\")","v":""},{"$f":"IF(入力フォーム合計!F67=採点例!F142,\"〇\",\"\")","v":""},{"$f":"IF(入力フォーム合計!G67=採点例!G142,\"〇\",\"\")","v":""},{"$f":"IF(入力フォーム合計!H67=採点例!H142,\"〇\",\"\")","v":""},{"$f":"IF(入力フォーム合計!I67=採点例!I142,\"〇\",\"\")","v":""},{"$f":"IF(入力フォーム合計!J67=採点例!J142,\"〇\",\"\")","v":""},{"$f":"IF(入力フォーム合計!K67=採点例!K142,\"〇\",\"\")","v":""},{"$f":"IF(入力フォーム合計!L67=採点例!L142,\"〇\",\"\")","v":""},0,"×"]
[142,3,5,5,2,"ハナオカ　タカユキ","花岡　孝之",1,3,10,"0237-98-2403","oqmxpxmaxp@cybernet.co.jp",null,null,null,{"$f":"IF(入力フォーム合計!B68=採点例!B143,\"〇\",\"\")","v":""},{"$f":"IF(入力フォーム合計!C68=採点例!C143,\"〇\",\"\")","v":""},{"$f":"IF(入力フォーム合計!D68=採点例!D143,\"〇\",\"\")","v":""},{"$f":"IF(入力フォーム合計!E68=採点例!E143,\"〇\",\"\")","v":""},{"$f":"IF(入力フォーム合計!F68=採点例!F143,\"〇\",\"\")","v":""},{"$f":"IF(入力フォーム合計!G68=採点例!G143,\"〇\",\"\")","v":""},{"$f":"IF(入力フォーム合計!H68=採点例!H143,\"〇\",\"\")","v":""},{"$f":"IF(入力フォーム合計!I68=採点例!I143,\"〇\",\"\")","v":""},{"$f":"IF(入力フォーム合計!J68=採点例!J143,\"〇\",\"\")","v":""},{"$f":"IF(入力フォーム合計!K68=採点例!K143,\"〇\",\"\")","v":""},{"$f":"IF(入力フォーム合計!L68=採点例!L143,\"〇\",\"\")","v":""},0,"×"]
[143,9,2,6,2,"ササガワ　イツミ","笹川　逸美",2,4,6,"0157-53-1016","udfox@hokudai.ac.jp",null,null,null,{"$f":"IF(入力フォーム合計!B69=採点例!B144,\"〇\",\"\")","v":""},{"$f":"IF(入力フォーム合計!C69=採点例!C144,\"〇\",\"\")","v":""},{"$f":"IF(入力フォーム合計!D69=採点例!D144,\"〇\",\"\")","v":""},{"$f":"IF(入力フォーム合計!E69=採点例!E144,\"〇\",\"\")","v":""},{"$f":"IF(入力フォーム合計!F69=採点例!F144,\"〇\",\"\")","v":""},{"$f":"IF(入力フォーム合計!G69=採点例!G144,\"〇\",\"\")","v":""},{"$f":"IF(入力フォーム合計!H69=採点例!H144,\"〇\",\"\")","v":""},{"$f":"IF(入力フォーム合計!I69=採点例!I144,\"〇\",\"\")","v":""},{"$f":"IF(入力フォーム合計!J69=採点例!J144,\"〇\",\"\")","v":""},{"$f":"IF(入力フォーム合計!K69=採点例!K144,\"〇\",\"\")","v":""},{"$f":"IF(入力フォーム合計!L69=採点例!L144,\"〇\",\"\")","v":""},0,"×"]
[144,8,2,7,1,"ヒビノ　フサコ","日比野　房子",2,3,7,"053-469-5793","fhbsxzhcpb@arata-gr.jp",null,null,null,{"$f":"IF(入力フォーム合計!B70=採点例!B145,\"〇\",\"\")","v":""},{"$f":"IF(入力フォーム合計!C70=採点例!C145,\"〇\",\"\")","v":""},{"$f":"IF(入力フォーム合計!D70=採点例!D145,\"〇\",\"\")","v":""},{"$f":"IF(入力フォーム合計!E70=採点例!E145,\"〇\",\"\")","v":""},{"$f":"IF(入力フォーム合計!F70=採点例!F145,\"〇\",\"\")","v":""},{"$f":"IF(入力フォーム合計!G70=採点例!G145,\"〇\",\"\")","v":""},{"$f":"IF(入力フォーム合計!H70=採点例!H145,\"〇\",\"\")","v":""},{"$f":"IF(入力フォーム合計!I70=採点例!I145,\"〇\",\"\")","v":""},{"$f":"IF(入力フォーム合計!J70=採点例!J145,\"〇\",\"\")","v":""},{"$f":"IF(入力フォーム合計!K70=採点例!K145,\"〇\",\"\")","v":""},{"$f":"IF(入力フォーム合計!L70=採点例!L145,\"〇\",\"\")","v":""},0,"×"]
[145,7,2,2,4,"スナガワ　ヒロミチ","砂川　弘道",1,2,4,"0729-81-8960","cisbn@cybernet.co.jp",null,null,null,{"$f":"IF(入力フォーム合計!B71=採点例!B146,\"〇\",\"\")","v":""},{"$f":"IF(入力フォーム合計!C71=採点例!C146,\"〇\",\"\")","v":""},{"$f":"IF(入力フォーム合計!D71=採点例!D146,\"〇\",\"\")","v":""},{"$f":"IF(入力フォーム合計!E71=採点例!E146,\"〇\",\"\")","v":""},{"$f":"IF(入力フォーム合計!F71=採点例!F146,\"〇\",\"\")","v":""},{"$f":"IF(入力フォーム合計!G71=採点例!G146,\"〇\",\"\")","v":""},{"$f":"IF(入力フォーム合計!H71=採点例!H146,\"〇\",\"\")","v":""},{"$f":"IF(入力フォーム合計!I71=採点例!I146,\"〇\",\"\")","v":""},{"$f":"IF(入力フォーム合計!J71=採点例!J146,\"〇\",\"\")","v":""},{"$f":"IF(入力フォーム合計!K71=採点例!K146,\"〇\",\"\")","v":""},{"$f":"IF(入力フォーム合計!L71=採点例!L146,\"〇\",\"\")","v":""},0,"×"]
[146,6,3,3,3,"ネゴロ　トシユキ","根来　敏之",1,5,8,"0858-74-1903","pkqhikeecf@nyc.co.jp",null,null,null,{"$f":"IF(入力フォーム合計!B72=採点例!B147,\"〇\",\"\")","v":""},{"$f":"IF(入力フォーム合計!C72=採点例!C147,\"〇\",\"\")","v":""},{"$f":"IF(入力フォーム合計!D72=採点例!D147,\"〇\",\"\")","v":""},{"$f":"IF(入力フォーム合計!E72=採点例!E147,\"〇\",\"\")","v":""},{"$f":"IF(入力フォーム合計!F72=採点例!F147,\"〇\",\"\")","v":""},{"$f":"IF(入力フォーム合計!G72=採点例!G147,\"〇\",\"\")","v":""},{"$f":"IF(入力フォーム合計!H72=採点例!H147,\"〇\",\"\")","v":""},{"$f":"IF(入力フォーム合計!I72=採点例!I147,\"〇\",\"\")","v":""},{"$f":"IF(入力フォーム合計!J72=採点例!J147,\"〇\",\"\")","v":""},{"$f":"IF(入力フォーム合計!K72=採点例!K147,\"〇\",\"\")","v":""},{"$f":"IF(入力フォーム合計!L72=採点例!L147,\"〇\",\"\")","v":""},0,"×"]
[147,4,2,2,4,"ハラヤマ　ヒロコ","原山　紘子",2,5,4,"088-653-6885","ppiao@yamatointr.co.jp",null,null,null,{"$f":"IF(入力フォーム合計!B73=採点例!B148,\"〇\",\"\")","v":""},{"$f":"IF(入力フォーム合計!C73=採点例!C148,\"〇\",\"\")","v":""},{"$f":"IF(入力フォーム合計!D73=採点例!D148,\"〇\",\"\")","v":""},{"$f":"IF(入力フォーム合計!E73=採点例!E148,\"〇\",\"\")","v":""},{"$f":"IF(入力フォーム合計!F73=採点例!F148,\"〇\",\"\")","v":""},{"$f":"IF(入力フォーム合計!G73=採点例!G148,\"〇\",\"\")","v":""},{"$f":"IF(入力フォーム合計!H73=採点例!H148,\"〇\",\"\")","v":""},{"$f":"IF(入力フォーム合計!I73=採点例!I148,\"〇\",\"\")","v":""},{"$f":"IF(入力フォーム合計!J73=採点例!J148,\"〇\",\"\")","v":""},{"$f":"IF(入力フォーム合計!K73=採点例!K148,\"〇\",\"\")","v":""},{"$f":"IF(入力フォーム合計!L73=採点例!L148,\"〇\",\"\")","v":""},0,"×"]
[148,8,1,1,2,"ナガミ　ハルキ","永見　春樹",1,2,5,"0837-50-9760","xzpbeznnzq@kytec.co.jp",null,null,null,{"$f":"IF(入力フォーム合計!B74=採点例!B149,\"〇\",\"\")","v":""},{"$f":"IF(入力フォーム合計!C74=採点例!C149,\"〇\",\"\")","v":""},{"$f":"IF(入力フォーム合計!D74=採点例!D149,\"〇\",\"\")","v":""},{"$f":"IF(入力フォーム合計!E74=採点例!E149,\"〇\",\"\")","v":""},{"$f":"IF(入力フォーム合計!F74=採点例!F149,\"〇\",\"\")","v":""},{"$f":"IF(入力フォーム合計!G74=採点例!G149,\"〇\",\"\")","v":""},{"$f":"IF(入力フォーム合計!H74=採点例!H149,\"〇\",\"\")","v":""},{"$f":"IF(入力フォーム合計!I74=採点例!I149,\"〇\",\"\")","v":""},{"$f":"IF(入力フォーム合計!J74=採点例!J149,\"〇\",\"\")","v":""},{"$f":"IF(入力フォーム合計!K74=採点例!K149,\"〇\",\"\")","v":""},{"$f":"IF(入力フォーム合計!L74=採点例!L149,\"〇\",\"\")","v":""},0,"×"]
[149,5,1,1,2,"ヤクシジ　ヤスオ","薬師寺　保男",1,6,10,"077-226-8150","uhhbyatqxk@yushin.com",null,null,null,{"$f":"IF(入力フォーム合計!B75=採点例!B150,\"〇\",\"\")","v":""},{"$f":"IF(入力フォーム合計!C75=採点例!C150,\"〇\",\"\")","v":""},{"$f":"IF(入力フォーム合計!D75=採点例!D150,\"〇\",\"\")","v":""},{"$f":"IF(入力フォーム合計!E75=採点例!E150,\"〇\",\"\")","v":""},{"$f":"IF(入力フォーム合計!F75=採点例!F150,\"〇\",\"\")","v":""},{"$f":"IF(入力フォーム合計!G75=採点例!G150,\"〇\",\"\")","v":""},{"$f":"IF(入力フォーム合計!H75=採点例!H150,\"〇\",\"\")","v":""},{"$f":"IF(入力フォーム合計!I75=採点例!I150,\"〇\",\"\")","v":""},{"$f":"IF(入力フォーム合計!J75=採点例!J150,\"〇\",\"\")","v":""},{"$f":"IF(入力フォーム合計!K75=採点例!K150,\"〇\",\"\")","v":""},{"$f":"IF(入力フォーム合計!L75=採点例!L150,\"〇\",\"\")","v":""},0,"×"]
[150,5,1,1,2,"フジヨシ　マサミ","藤吉　正己",1,1,2,"073-293-1957","bynzl@eazima.co.jp",null,null,null,{"$f":"IF(入力フォーム合計!B76=採点例!B151,\"〇\",\"\")","v":""},{"$f":"IF(入力フォーム合計!C76=採点例!C151,\"〇\",\"\")","v":""},{"$f":"IF(入力フォーム合計!D76=採点例!D151,\"〇\",\"\")","v":""},{"$f":"IF(入力フォーム合計!E76=採点例!E151,\"〇\",\"\")","v":""},{"$f":"IF(入力フォーム合計!F76=採点例!F151,\"〇\",\"\")","v":""},{"$f":"IF(入力フォーム合計!G76=採点例!G151,\"〇\",\"\")","v":""},{"$f":"IF(入力フォーム合計!H76=採点例!H151,\"〇\",\"\")","v":""},{"$f":"IF(入力フォーム合計!I76=採点例!I151,\"〇\",\"\")","v":""},{"$f":"IF(入力フォーム合計!J76=採点例!J151,\"〇\",\"\")","v":""},{"$f":"IF(入力フォーム合計!K76=採点例!K151,\"〇\",\"\")","v":""},{"$f":"IF(入力フォーム合計!L76=採点例!L151,\"〇\",\"\")","v":""},0,"×"]
[null,null,null,null,null,null,null,null,null,null,null,null,null,null,null,null,null,null,null,null,null,null,null,null,null,null,{"$f":"COUNTIF(P152:Z152,\"〇\")","v":0},"×"]

{"sheet":"1","index":10,"n_rows":71,"n_cols":9,"rows_kept":71,"cut":false,"hidden":false,"merged":[[1,1,1,3],[2,1,2,3],[4,1,4,3],[9,1,9,3],[3,1,3,3],[5,1,5,3],[6,1,6,3],[7,1,7,3],[8,1,8,3]]}
["項目","回答"]
["①",null,null,null,null,null,null,{"$f":"VLOOKUP(B2,$B$14:$C$23,2,0)","v":{"$error":"#N/A"}},{"$f":"IF(B2=\"\",\"NG\",IF(H2=INDIRECT(\"Word回答取込!\"&CHAR(66+ROW(A1)-1)&(RIGHT(CELL(\"filename\",$A$1),LEN(CELL(\"filename\",$A$1))-FIND(\"]\",CELL(\"filename\",$A$1)))+1)),\"OK\",\"NG\"))","v":"NG"}]
["②",null,null,null,null,null,null,{"$f":"VLOOKUP(B3,$B$25:$C$31,2,0)","v":{"$error":"#N/A"}},{"$f":"IF(B3=\"\",\"NG\",IF(H3=INDIRECT(\"Word回答取込!\"&CHAR(66+ROW(A2)-1)&(RIGHT(CELL(\"filename\",$A$1),LEN(CELL(\"filename\",$A$1))-FIND(\"]\",CELL(\"filename\",$A$1)))+1)),\"OK\",\"NG\"))","v":"NG"}]
["③",null,null,null,null,null,null,{"$f":"B4","v":0},"NG"]
["④",null,null,null,null,null,null,{"$f":"B5","v":0},"NG"]
["⑤",null,null,null,null,null,null,{"$f":"B6","v":0},"NG"]
["⑥",null,null,null,null,null,null,{"$f":"VLOOKUP(B7,$B$33:$C$39,2,0)","v":{"$error":"#N/A"}},"NG"]
["⑦",null,null,null,null,null,null,{"$f":"VLOOKUP(B8,$B$41:$C$48,2,0)","v":{"$error":"#N/A"}},"NG"]
["⑧",null,null,null,null,null,null,{"$f":"B9","v":0},"NG"]
["⑨",null,null,null,null,null,null,{"$f":"B10","v":0},"NG"]
[null,null,null,null,null,null,null,null,"NG"]
[null,null,null,null,null,null,null,null,"NG"]
[null,null,null,null,null,null,null,null,{"$f":"IF(H13=INDIRECT(\"Word回答!B\"&(RIGHT(CELL(\"filename\",$A$1),LEN(CELL(\"filename\",$A$1))-FIND(\"]\",CELL(\"filename\",$A$1)))+1)),\"OK\",\"NG\")","v":{"$error":"#REF!"}}]
["①","1. ほぼ毎日",1,null,null,null,null,null,{"$error":"#REF!"}]
[null,"2. 週4～5回",2,null,null,null,null,null,{"$error":"#REF!"}]
[null,"3. 週2～3回",3,null,null,null,null,null,{"$error":"#REF!"}]
[null,"4. 週1回",4,null,null,null,null,null,{"$error":"#REF!"}]
[null,"5. 月2～3回",5,null,null,null,null,null,{"$error":"#REF!"}]
[null,"6. 月1回程度",6,null,null,null,null,null,{"$error":"#REF!"}]
[null,"7. 半年に2～3回",7,null,null,null,null,null,{"$error":"#REF!"}]
[null,"8. 半年に1回",8,null,null,null,null,null,{"$error":"#REF!"}]
[null,"9. 年1回程度",9,null,null,null,null,null,{"$error":"#REF!"}]
[null,"10. 今回が初めて",10,null,null,null,null,null,{"$error":"#REF!"}]
[null,null,null,null,null,null,null,null,{"$error":"#REF!"}]
["②","1. 1人",1,null,null,null,null,null,{"$error":"#REF!"}]
[null,"2. 子供連れ家族",2,null,null,null,null,null,{"$error":"#REF!"}]
[null,"3. 夫婦",3,null,null,null,null,null,{"$error":"#REF!"}]
[null,"4. 友人",4,null,null,null,null,null,{"$error":"#REF!"}]
[null,"5. 仕事関係者",5,null,null,null,null,null,{"$error":"#REF!"}]
[null,"6. 恋人",6,null,null,null,null,null,{"$error":"#REF!"}]
[null,"7. その他",7,null,null,null,null,null,{"$error":"#REF!"}]
[null,null,null,null,null,null,null,null,{"$error":"#REF!"}]
["⑥","1. 10代",1,null,null,null,null,null,{"$error":"#REF!"}]
[null,"2. 20代",2,null,null,null,null,null,{"$error":"#REF!"}]
[null,"3. 30代",3,null,null,null,null,null,{"$error":"#REF!"}]
[null,"4. 40代",4,null,null,null,null,null,{"$error":"#REF!"}]
[null,"5. 50代",5,null,null,null,null,null,{"$error":"#REF!"}]
[null,"6. 60代",6,null,null,null,null,null,{"$error":"#REF!"}]
[null,"7. 70歳以上",7,null,null,null,null,null,{"$error":"#REF!"}]
[null,null,null,null,null,null,null,null,{"$error":"#REF!"}]
["⑦","1. 中高生",1,null,null,null,null,null,{"$error":"#REF!"}]
[null,"2. 短・専・大",2,null,null,null,null,null,{"$error":"#REF!"}]
[null,"3. 事務職",3,null,null,null,null,null,{"$error":"#REF!"}]
[null,"4. 販売・サービス業",4,null,null,null,null,null,{"$error":"#REF!"}]
[null,"5. 建設業",5,null,null,null,null,null,{"$error":"#REF!"}]
[null,"6. 主婦・主夫",6,null,null,null,null,null,{"$error":"#REF!"}]
[null,"7. 無職",7,null,null,null,null,null,{"$error":"#REF!"}]
[null,"8. その他",8,null,null,null,null,null,{"$error":"#REF!"}]
[null,null,null,null,null,null,null,null,{"$error":"#REF!"}]
[null,null,null,null,null,null,null,null,{"$error":"#REF!"}]
[null,null,null,null,null,null,null,null,{"$error":"#REF!"}]
[null,null,null,null,null,null,null,null,{"$error":"#REF!"}]
[null,null,null,null,null,null,null,null,{"$error":"#REF!"}]
[null,null,null,null,null,null,null,null,{"$error":"#REF!"}]
[null,null,null,null,null,null,null,null,{"$error":"#REF!"}]
[null,null,null,null,null,null,null,null,{"$error":"#REF!"}]
[null,null,null,null,null,null,null,null,{"$error":"#REF!"}]
[null,null,null,null,null,null,null,null,{"$error":"#REF!"}]
[null,null,null,null,null,null,null,null,{"$error":"#REF!"}]
[null,null,null,null,null,null,null,null,{"$error":"#REF!"}]
[null,null,null,null,null,null,null,null,{"$error":"#REF!"}]
[null,null,null,null,null,null,null,null,{"$error":"#REF!"}]
[null,null,null,null,null,null,null,null,{"$error":"#REF!"}]
[null,null,null,null,null,null,null,null,{"$error":"#REF!"}]
[null,null,null,null,null,null,null,null,{"$error":"#REF!"}]
[null,null,null,null,null,null,null,null,{"$error":"#REF!"}]
[null,null,null,null,null,null,null,null,{"$f":"IF(H67=INDIRECT(\"Word回答!B\"&(RIGHT(CELL(\"filename\",$A$1),LEN(CELL(\"filename\",$A$1))-FIND(\"]\",CELL(\"filename\",$A$1)))+1)),\"OK\",\"NG\")","v":{"$error":"#REF!"}}]
[null,null,null,null,null,null,null,null,{"$f":"IF(H68=INDIRECT(\"Word回答!B\"&(RIGHT(CELL(\"filename\",$A$1),LEN(CELL(\"filename\",$A$1))-FIND(\"]\",CELL(\"filename\",$A$1)))+1)),\"OK\",\"NG\")","v":{"$error":"#REF!"}}]
[null,null,null,null,null,null,null,null,{"$f":"IF(H69=INDIRECT(\"Word回答!B\"&(RIGHT(CELL(\"filename\",$A$1),LEN(CELL(\"filename\",$A$1))-FIND(\"]\",CELL(\"filename\",$A$1)))+1)),\"OK\",\"NG\")","v":{"$error":"#REF!"}}]
[null,null,null,null,null,null,null,null,{"$f":"IF(H70=INDIRECT(\"Word回答!B\"&(RIGHT(CELL(\"filename\",$A$1),LEN(CELL(\"filename\",$A$1))-FIND(\"]\",CELL(\"filename\",$A$1)))+1)),\"OK\",\"NG\")","v":{"$error":"#REF!"}}]
[null,null,null,null,null,null,null,null,{"$f":"IF(COUNTIF($I$2:$I$12,\"OK\")=11,1,0)","v":0}]

{"sheet":"2","index":11,"n_rows":71,"n_cols":9,"rows_kept":71,"cut":false,"hidden":false,"merged":[[7,1,7,3],[8,1,8,3],[9,1,9,3],[1,1,1,3],[2,1,2,3],[3,1,3,3],[4,1,4,3],[5,1,5,3],[6,1,6,3]]}
["項目","回答"]
["①",null,null,null,null,null,null,{"$f":"VLOOKUP(B2,$B$14:$C$23,2,0)","v":{"$error":"#N/A"}},{"$f":"IF(B2=\"\",\"NG\",IF(H2=INDIRECT(\"Word回答取込!\"&CHAR(66+ROW(A1)-1)&(RIGHT(CELL(\"filename\",$A$1),LEN(CELL(\"filename\",$A$1))-FIND(\"]\",CELL(\"filename\",$A$1)))+1)),\"OK\",\"NG\"))","v":"NG"}]
["②",null,null,null,null,null,null,{"$f":"VLOOKUP(B3,$B$25:$C$31,2,0)","v":{"$error":"#N/A"}},{"$f":"IF(B3=\"\",\"NG\",IF(H3=INDIRECT(\"Word回答取込!\"&CHAR(66+ROW(A2)-1)&(RIGHT(CELL(\"filename\",$A$1),LEN(CELL(\"filename\",$A$1))-FIND(\"]\",CELL(\"filename\",$A$1)))+1)),\"OK\",\"NG\"))","v":"NG"}]
["③",null,null,null,null,null,null,{"$f":"B4","v":0},"NG"]
["④",null,null,null,null,null,null,{"$f":"B5","v":0},"NG"]
["⑤",null,null,null,null,null,null,{"$f":"B6","v":0},"NG"]
["⑥",null,null,null,null,null,null,{"$f":"VLOOKUP(B7,$B$33:$C$39,2,0)","v":{"$error":"#N/A"}},"NG"]
["⑦",null,null,null,null,null,null,{"$f":"VLOOKUP(B8,$B$41:$C$48,2,0)","v":{"$error":"#N/A"}},"NG"]
["⑧",null,null,null,null,null,null,{"$f":"B9","v":0},"NG"]
["⑨",null,null,null,null,null,null,{"$f":"B10","v":0},"NG"]
[null,null,null,null,null,null,null,null,"NG"]
[null,null,null,null,null,null,null,null,"NG"]
[null,null,null,null,null,null,null,null,{"$f":"IF(H13=INDIRECT(\"Word回答!B\"&(RIGHT(CELL(\"filename\",$A$1),LEN(CELL(\"filename\",$A$1))-FIND(\"]\",CELL(\"filename\",$A$1)))+1)),\"OK\",\"NG\")","v":{"$error":"#REF!"}}]
["①","1. ほぼ毎日",1,null,null,null,null,null,{"$error":"#REF!"}]
[null,"2. 週4～5回",2,null,null,null,null,null,{"$error":"#REF!"}]
[null,"3. 週2～3回",3,null,null,null,null,null,{"$error":"#REF!"}]
[null,"4. 週1回",4,null,null,null,null,null,{"$error":"#REF!"}]
[null,"5. 月2～3回",5,null,null,null,null,null,{"$error":"#REF!"}]
[null,"6. 月1回程度",6,null,null,null,null,null,{"$error":"#REF!"}]
[null,"7. 半年に2～3回",7,null,null,null,null,null,{"$error":"#REF!"}]
[null,"8. 半年に1回",8,null,null,null,null,null,{"$error":"#REF!"}]
[null,"9. 年1回程度",9,null,null,null,null,null,{"$error":"#REF!"}]
[null,"10. 今回が初めて",10,null,null,null,null,null,{"$error":"#REF!"}]
[null,null,null,null,null,null,null,null,{"$error":"#REF!"}]
["②","1. 1人",1,null,null,null,null,null,{"$error":"#REF!"}]
[null,"2. 子供連れ家族",2,null,null,null,null,null,{"$error":"#REF!"}]
[null,"3. 夫婦",3,null,null,null,null,null,{"$error":"#REF!"}]
[null,"4. 友人",4,null,null,null,null,null,{"$error":"#REF!"}]
[null,"5. 仕事関係者",5,null,null,null,null,null,{"$error":"#REF!"}]
[null,"6. 恋人",6,null,null,null,null,null,{"$error":"#REF!"}]
[null,"7. その他",7,null,null,null,null,null,{"$error":"#REF!"}]
[null,null,null,null,null,null,null,null,{"$error":"#REF!"}]
["⑥","1. 10代",1,null,null,null,null,null,{"$error":"#REF!"}]
[null,"2. 20代",2,null,null,null,null,null,{"$error":"#REF!"}]
[null,"3. 30代",3,null,null,null,null,null,{"$error":"#REF!"}]
[null,"4. 40代",4,null,null,null,null,null,{"$error":"#REF!"}]
[null,"5. 50代",5,null,null,null,null,null,{"$error":"#REF!"}]
[null,"6. 60代",6,null,null,null,null,null,{"$error":"#REF!"}]
[null,"7. 70歳以上",7,null,null,null,null,null,{"$error":"#REF!"}]
[null,null,null,null,null,null,null,null,{"$error":"#REF!"}]
["⑦","1. 中高生",1,null,null,null,null,null,{"$error":"#REF!"}]
[null,"2. 短・専・大",2,null,null,null,null,null,{"$error":"#REF!"}]
[null,"3. 事務職",3,null,null,null,null,null,{"$error":"#REF!"}]
[null,"4. 販売・サービス業",4,null,null,null,null,null,{"$error":"#REF!"}]
[null,"5. 建設業",5,null,null,null,null,null,{"$error":"#REF!"}]
[null,"6. 主婦・主夫",6,null,null,null,null,null,{"$error":"#REF!"}]
[null,"7. 無職",7,null,null,null,null,null,{"$error":"#REF!"}]
[null,"8. その他",8,null,null,null,null,null,{"$error":"#REF!"}]
[null,null,null,null,null,null,null,null,{"$error":"#REF!"}]
[null,null,null,null,null,null,null,null,{"$error":"#REF!"}]
[null,null,null,null,null,null,null,null,{"$error":"#REF!"}]
[null,null,null,null,null,null,null,null,{"$error":"#REF!"}]
[null,null,null,null,null,null,null,null,{"$error":"#REF!"}]
[null,null,null,null,null,null,null,null,{"$error":"#REF!"}]
[null,null,null,null,null,null,null,null,{"$error":"#REF!"}]
[null,null,null,null,null,null,null,null,{"$error":"#REF!"}]
[null,null,null,null,null,null,null,null,{"$error":"#REF!"}]
[null,null,null,null,null,null,null,null,{"$error":"#REF!"}]
[null,null,null,null,null,null,null,null,{"$error":"#REF!"}]
[null,null,null,null,null,null,null,null,{"$error":"#REF!"}]
[null,null,null,null,null,null,null,null,{"$error":"#REF!"}]
[null,null,null,null,null,null,null,null,{"$error":"#REF!"}]
[null,null,null,null,null,null,null,null,{"$error":"#REF!"}]
[null,null,null,null,null,null,null,null,{"$error":"#REF!"}]
[null,null,null,null,null,null,null,null,{"$error":"#REF!"}]
[null,null,null,null,null,null,null,null,{"$error":"#REF!"}]
[null,null,null,null,null,null,null,null,{"$f":"IF(H67=INDIRECT(\"Word回答!B\"&(RIGHT(CELL(\"filename\",$A$1),LEN(CELL(\"filename\",$A$1))-FIND(\"]\",CELL(\"filename\",$A$1)))+1)),\"OK\",\"NG\")","v":{"$error":"#REF!"}}]
[null,null,null,null,null,null,null,null,{"$f":"IF(H68=INDIRECT(\"Word回答!B\"&(RIGHT(CELL(\"filename\",$A$1),LEN(CELL(\"filename\",$A$1))-FIND(\"]\",CELL(\"filename\",$A$1)))+1)),\"OK\",\"NG\")","v":{"$error":"#REF!"}}]
[null,null,null,null,null,null,null,null,{"$f":"IF(H69=INDIRECT(\"Word回答!B\"&(RIGHT(CELL(\"filename\",$A$1),LEN(CELL(\"filename\",$A$1))-FIND(\"]\",CELL(\"filename\",$A$1)))+1)),\"OK\",\"NG\")","v":{"$error":"#REF!"}}]
[null,null,null,null,null,null,null,null,{"$f":"IF(H70=INDIRECT(\"Word回答!B\"&(RIGHT(CELL(\"filename\",$A$1),LEN(CELL(\"filename\",$A$1))-FIND(\"]\",CELL(\"filename\",$A$1)))+1)),\"OK\",\"NG\")","v":{"$error":"#REF!"}}]
[null,null,null,null,null,null,null,null,{"$f":"IF(COUNTIF($I$2:$I$12,\"OK\")=11,1,0)","v":0}]

{"sheet":"3","index":12,"n_rows":71,"n_cols":9,"rows_kept":71,"cut":false,"hidden":false,"merged":[[7,1,7,3],[8,1,8,3],[9,1,9,3],[1,1,1,3],[2,1,2,3],[3,1,3,3],[4,1,4,3],[5,1,5,3],[6,1,6,3]]}
["項目","回答"]
["①",null,null,null,null,null,null,{"$f":"VLOOKUP(B2,$B$14:$C$23,2,0)","v":{"$error":"#N/A"}},{"$f":"IF(B2=\"\",\"NG\",IF(H2=INDIRECT(\"Word回答取込!\"&CHAR(66+ROW(A1)-1)&(RIGHT(CELL(\"filename\",$A$1),LEN(CELL(\"filename\",$A$1))-FIND(\"]\",CELL(\"filename\",$A$1)))+1)),\"OK\",\"NG\"))","v":"NG"}]
["②",null,null,null,null,null,null,{"$f":"VLOOKUP(B3,$B$25:$C$31,2,0)","v":{"$error":"#N/A"}},{"$f":"IF(B3=\"\",\"NG\",IF(H3=INDIRECT(\"Word回答取込!\"&CHAR(66+ROW(A2)-1)&(RIGHT(CELL(\"filename\",$A$1),LEN(CELL(\"filename\",$A$1))-FIND(\"]\",CELL(\"filename\",$A$1)))+1)),\"OK\",\"NG\"))","v":"NG"}]
["③",null,null,null,null,null,null,{"$f":"B4","v":0},"NG"]
["④",null,null,null,null,null,null,{"$f":"B5","v":0},"NG"]
["⑤",null,null,null,null,null,null,{"$f":"B6","v":0},"NG"]
["⑥",null,null,null,null,null,null,{"$f":"VLOOKUP(B7,$B$33:$C$39,2,0)","v":{"$error":"#N/A"}},"NG"]
["⑦",null,null,null,null,null,null,{"$f":"VLOOKUP(B8,$B$41:$C$48,2,0)","v":{"$error":"#N/A"}},"NG"]
["⑧",null,null,null,null,null,null,{"$f":"B9","v":0},"NG"]
["⑨",null,null,null,null,null,null,{"$f":"B10","v":0},"NG"]
[null,null,null,null,null,null,null,null,"NG"]
[null,null,null,null,null,null,null,null,"NG"]
[null,null,null,null,null,null,null,null,{"$f":"IF(H13=INDIRECT(\"Word回答!B\"&(RIGHT(CELL(\"filename\",$A$1),LEN(CELL(\"filename\",$A$1))-FIND(\"]\",CELL(\"filename\",$A$1)))+1)),\"OK\",\"NG\")","v":{"$error":"#REF!"}}]
["①","1. ほぼ毎日",1,null,null,null,null,null,{"$error":"#REF!"}]
[null,"2. 週4～5回",2,null,null,null,null,null,{"$error":"#REF!"}]
[null,"3. 週2～3回",3,null,null,null,null,null,{"$error":"#REF!"}]
[null,"4. 週1回",4,null,null,null,null,null,{"$error":"#REF!"}]
[null,"5. 月2～3回",5,null,null,null,null,null,{"$error":"#REF!"}]
[null,"6. 月1回程度",6,null,null,null,null,null,{"$error":"#REF!"}]
[null,"7. 半年に2～3回",7,null,null,null,null,null,{"$error":"#REF!"}]
[null,"8. 半年に1回",8,null,null,null,null,null,{"$error":"#REF!"}]
[null,"9. 年1回程度",9,null,null,null,null,null,{"$error":"#REF!"}]
[null,"10. 今回が初めて",10,null,null,null,null,null,{"$error":"#REF!"}]
[null,null,null,null,null,null,null,null,{"$error":"#REF!"}]
["②","1. 1人",1,null,null,null,null,null,{"$error":"#REF!"}]
[null,"2. 子供連れ家族",2,null,null,null,null,null,{"$error":"#REF!"}]
[null,"3. 夫婦",3,null,null,null,null,null,{"$error":"#REF!"}]
[null,"4. 友人",4,null,null,null,null,null,{"$error":"#REF!"}]
[null,"5. 仕事関係者",5,null,null,null,null,null,{"$error":"#REF!"}]
[null,"6. 恋人",6,null,null,null,null,null,{"$error":"#REF!"}]
[null,"7. その他",7,null,null,null,null,null,{"$error":"#REF!"}]
[null,null,null,null,null,null,null,null,{"$error":"#REF!"}]
["⑥","1. 10代",1,null,null,null,null,null,{"$error":"#REF!"}]
[null,"2. 20代",2,null,null,null,null,null,{"$error":"#REF!"}]
[null,"3. 30代",3,null,null,null,null,null,{"$error":"#REF!"}]
[null,"4. 40代",4,null,null,null,null,null,{"$error":"#REF!"}]
[null,"5. 50代",5,null,null,null,null,null,{"$error":"#REF!"}]
[null,"6. 60代",6,null,null,null,null,null,{"$error":"#REF!"}]
[null,"7. 70歳以上",7,null,null,null,null,null,{"$error":"#REF!"}]
[null,null,null,null,null,null,null,null,{"$error":"#REF!"}]
["⑦","1. 中高生",1,null,null,null,null,null,{"$error":"#REF!"}]
[null,"2. 短・専・大",2,null,null,null,null,null,{"$error":"#REF!"}]
[null,"3. 事務職",3,null,null,null,null,null,{"$error":"#REF!"}]
[null,"4. 販売・サービス業",4,null,null,null,null,null,{"$error":"#REF!"}]
[null,"5. 建設業",5,null,null,null,null,null,{"$error":"#REF!"}]
[null,"6. 主婦・主夫",6,null,null,null,null,null,{"$error":"#REF!"}]
[null,"7. 無職",7,null,null,null,null,null,{"$error":"#REF!"}]
[null,"8. その他",8,null,null,null,null,null,{"$error":"#REF!"}]
[null,null,null,null,null,null,null,null,{"$error":"#REF!"}]
[null,null,null,null,null,null,null,null,{"$error":"#REF!"}]
[null,null,null,null,null,null,null,null,{"$error":"#REF!"}]
[null,null,null,null,null,null,null,null,{"$error":"#REF!"}]
[null,null,null,null,null,null,null,null,{"$error":"#REF!"}]
[null,null,null,null,null,null,null,null,{"$error":"#REF!"}]
[null,null,null,null,null,null,null,null,{"$error":"#REF!"}]
[null,null,null,null,null,null,null,null,{"$error":"#REF!"}]
[null,null,null,null,null,null,null,null,{"$error":"#REF!"}]
[null,null,null,null,null,null,null,null,{"$error":"#REF!"}]
[null,null,null,null,null,null,null,null,{"$error":"#REF!"}]
[null,null,null,null,null,null,null,null,{"$error":"#REF!"}]
[null,null,null,null,null,null,null,null,{"$error":"#REF!"}]
[null,null,null,null,null,null,null,null,{"$error":"#REF!"}]
[null,null,null,null,null,null,null,null,{"$error":"#REF!"}]
[null,null,null,null,null,null,null,null,{"$error":"#REF!"}]
[null,null,null,null,null,null,null,null,{"$error":"#REF!"}]
[null,null,null,null,null,null,null,null,{"$error":"#REF!"}]
[null,null,null,null,null,null,null,null,{"$f":"IF(H67=INDIRECT(\"Word回答!B\"&(RIGHT(CELL(\"filename\",$A$1),LEN(CELL(\"filename\",$A$1))-FIND(\"]\",CELL(\"filename\",$A$1)))+1)),\"OK\",\"NG\")","v":{"$error":"#REF!"}}]
[null,null,null,null,null,null,null,null,{"$f":"IF(H68=INDIRECT(\"Word回答!B\"&(RIGHT(CELL(\"filename\",$A$1),LEN(CELL(\"filename\",$A$1))-FIND(\"]\",CELL(\"filename\",$A$1)))+1)),\"OK\",\"NG\")","v":{"$error":"#REF!"}}]
[null,null,null,null,null,null,null,null,{"$f":"IF(H69=INDIRECT(\"Word回答!B\"&(RIGHT(CELL(\"filename\",$A$1),LEN(CELL(\"filename\",$A$1))-FIND(\"]\",CELL(\"filename\",$A$1)))+1)),\"OK\",\"NG\")","v":{"$error":"#REF!"}}]
[null,null,null,null,null,null,null,null,{"$f":"IF(H70=INDIRECT(\"Word回答!B\"&(RIGHT(CELL(\"filename\",$A$1),LEN(CELL(\"filename\",$A$1))-FIND(\"]\",CELL(\"filename\",$A$1)))+1)),\"OK\",\"NG\")","v":{"$error":"#REF!"}}]
[null,null,null,null,null,null,null,null,{"$f":"IF(COUNTIF($I$2:$I$12,\"OK\")=11,1,0)","v":0}]

{"sheet":"4","index":13,"n_rows":71,"n_cols":9,"rows_kept":71,"cut":false,"hidden":false,"merged":[[7,1,7,3],[8,1,8,3],[9,1,9,3],[1,1,1,3],[2,1,2,3],[3,1,3,3],[4,1,4,3],[5,1,5,3],[6,1,6,3]]}
["項目","回答"]
["①",null,null,null,null,null,null,{"$f":"VLOOKUP(B2,$B$14:$C$23,2,0)","v":{"$error":"#N/A"}},{"$f":"IF(B2=\"\",\"NG\",IF(H2=INDIRECT(\"Word回答取込!\"&CHAR(66+ROW(A1)-1)&(RIGHT(CELL(\"filename\",$A$1),LEN(CELL(\"filename\",$A$1))-FIND(\"]\",CELL(\"filename\",$A$1)))+1)),\"OK\",\"NG\"))","v":"NG"}]
["②",null,null,null,null,null,null,{"$f":"VLOOKUP(B3,$B$25:$C$31,2,0)","v":{"$error":"#N/A"}},{"$f":"IF(B3=\"\",\"NG\",IF(H3=INDIRECT(\"Word回答取込!\"&CHAR(66+ROW(A2)-1)&(RIGHT(CELL(\"filename\",$A$1),LEN(CELL(\"filename\",$A$1))-FIND(\"]\",CELL(\"filename\",$A$1)))+1)),\"OK\",\"NG\"))","v":"NG"}]
["③",null,null,null,null,null,null,{"$f":"B4","v":0},"NG"]
["④",null,null,null,null,null,null,{"$f":"B5","v":0},"NG"]
["⑤",null,null,null,null,null,null,{"$f":"B6","v":0},"NG"]
["⑥",null,null,null,null,null,null,{"$f":"VLOOKUP(B7,$B$33:$C$39,2,0)","v":{"$error":"#N/A"}},"NG"]
["⑦",null,null,null,null,null,null,{"$f":"VLOOKUP(B8,$B$41:$C$48,2,0)","v":{"$error":"#N/A"}},"NG"]
["⑧",null,null,null,null,null,null,{"$f":"B9","v":0},"NG"]
["⑨",null,null,null,null,null,null,{"$f":"B10","v":0},"NG"]
[null,null,null,null,null,null,null,null,"NG"]
[null,null,null,null,null,null,null,null,"NG"]
[null,null,null,null,null,null,null,null,{"$f":"IF(H13=INDIRECT(\"Word回答!B\"&(RIGHT(CELL(\"filename\",$A$1),LEN(CELL(\"filename\",$A$1))-FIND(\"]\",CELL(\"filename\",$A$1)))+1)),\"OK\",\"NG\")","v":{"$error":"#REF!"}}]
["①","1. ほぼ毎日",1,null,null,null,null,null,{"$error":"#REF!"}]
[null,"2. 週4～5回",2,null,null,null,null,null,{"$error":"#REF!"}]
[null,"3. 週2～3回",3,null,null,null,null,null,{"$error":"#REF!"}]
[null,"4. 週1回",4,null,null,null,null,null,{"$error":"#REF!"}]
[null,"5. 月2～3回",5,null,null,null,null,null,{"$error":"#REF!"}]
[null,"6. 月1回程度",6,null,null,null,null,null,{"$error":"#REF!"}]
[null,"7. 半年に2～3回",7,null,null,null,null,null,{"$error":"#REF!"}]
[null,"8. 半年に1回",8,null,null,null,null,null,{"$error":"#REF!"}]
[null,"9. 年1回程度",9,null,null,null,null,null,{"$error":"#REF!"}]
[null,"10. 今回が初めて",10,null,null,null,null,null,{"$error":"#REF!"}]
[null,null,null,null,null,null,null,null,{"$error":"#REF!"}]
["②","1. 1人",1,null,null,null,null,null,{"$error":"#REF!"}]
[null,"2. 子供連れ家族",2,null,null,null,null,null,{"$error":"#REF!"}]
[null,"3. 夫婦",3,null,null,null,null,null,{"$error":"#REF!"}]
[null,"4. 友人",4,null,null,null,null,null,{"$error":"#REF!"}]
[null,"5. 仕事関係者",5,null,null,null,null,null,{"$error":"#REF!"}]
[null,"6. 恋人",6,null,null,null,null,null,{"$error":"#REF!"}]
[null,"7. その他",7,null,null,null,null,null,{"$error":"#REF!"}]
[null,null,null,null,null,null,null,null,{"$error":"#REF!"}]
["⑥","1. 10代",1,null,null,null,null,null,{"$error":"#REF!"}]
[null,"2. 20代",2,null,null,null,null,null,{"$error":"#REF!"}]
[null,"3. 30代",3,null,null,null,null,null,{"$error":"#REF!"}]
[null,"4. 40代",4,null,null,null,null,null,{"$error":"#REF!"}]
[null,"5. 50代",5,null,null,null,null,null,{"$error":"#REF!"}]
[null,"6. 60代",6,null,null,null,null,null,{"$error":"#REF!"}]
[null,"7. 70歳以上",7,null,null,null,null,null,{"$error":"#REF!"}]
[null,null,null,null,null,null,null,null,{"$error":"#REF!"}]
["⑦","1. 中高生",1,null,null,null,null,null,{"$error":"#REF!"}]
[null,"2. 短・専・大",2,null,null,null,null,null,{"$error":"#REF!"}]
[null,"3. 事務職",3,null,null,null,null,null,{"$error":"#REF!"}]
[null,"4. 販売・サービス業",4,null,null,null,null,null,{"$error":"#REF!"}]
[null,"5. 建設業",5,null,null,null,null,null,{"$error":"#REF!"}]
[null,"6. 主婦・主夫",6,null,null,null,null,null,{"$error":"#REF!"}]
[null,"7. 無職",7,null,null,null,null,null,{"$error":"#REF!"}]
[null,"8. その他",8,null,null,null,null,null,{"$error":"#REF!"}]
[null,null,null,null,null,null,null,null,{"$error":"#REF!"}]
[null,null,null,null,null,null,null,null,{"$error":"#REF!"}]
[null,null,null,null,null,null,null,null,{"$error":"#REF!"}]
[null,null,null,null,null,null,null,null,{"$error":"#REF!"}]
[null,null,null,null,null,null,null,null,{"$error":"#REF!"}]
[null,null,null,null,null,null,null,null,{"$error":"#REF!"}]
[null,null,null,null,null,null,null,null,{"$error":"#REF!"}]
[null,null,null,null,null,null,null,null,{"$error":"#REF!"}]
[null,null,null,null,null,null,null,null,{"$error":"#REF!"}]
[null,null,null,null,null,null,null,null,{"$error":"#REF!"}]
[null,null,null,null,null,null,null,null,{"$error":"#REF!"}]
[null,null,null,null,null,null,null,null,{"$error":"#REF!"}]
[null,null,null,null,null,null,null,null,{"$error":"#REF!"}]
[null,null,null,null,null,null,null,null,{"$error":"#REF!"}]
[null,null,null,null,null,null,null,null,{"$error":"#REF!"}]
[null,null,null,null,null,null,null,null,{"$error":"#REF!"}]
[null,null,null,null,null,null,null,null,{"$error":"#REF!"}]
[null,null,null,null,null,null,null,null,{"$error":"#REF!"}]
[null,null,null,null,null,null,null,null,{"$f":"IF(H67=INDIRECT(\"Word回答!B\"&(RIGHT(CELL(\"filename\",$A$1),LEN(CELL(\"filename\",$A$1))-FIND(\"]\",CELL(\"filename\",$A$1)))+1)),\"OK\",\"NG\")","v":{"$error":"#REF!"}}]
[null,null,null,null,null,null,null,null,{"$f":"IF(H68=INDIRECT(\"Word回答!B\"&(RIGHT(CELL(\"filename\",$A$1),LEN(CELL(\"filename\",$A$1))-FIND(\"]\",CELL(\"filename\",$A$1)))+1)),\"OK\",\"NG\")","v":{"$error":"#REF!"}}]
[null,null,null,null,null,null,null,null,{"$f":"IF(H69=INDIRECT(\"Word回答!B\"&(RIGHT(CELL(\"filename\",$A$1),LEN(CELL(\"filename\",$A$1))-FIND(\"]\",CELL(\"filename\",$A$1)))+1)),\"OK\",\"NG\")","v":{"$error":"#REF!"}}]
[null,null,null,null,null,null,null,null,{"$f":"IF(H70=INDIRECT(\"Word回答!B\"&(RIGHT(CELL(\"filename\",$A$1),LEN(CELL(\"filename\",$A$1))-FIND(\"]\",CELL(\"filename\",$A$1)))+1)),\"OK\",\"NG\")","v":{"$error":"#REF!"}}]
[null,null,null,null,null,null,null,null,{"$f":"IF(COUNTIF($I$2:$I$12,\"OK\")=11,1,0)","v":0}]

{"sheet":"5","index":14,"n_rows":71,"n_cols":9,"rows_kept":71,"cut":false,"hidden":false,"merged":[[7,1,7,3],[8,1,8,3],[9,1,9,3],[1,1,1,3],[2,1,2,3],[3,1,3,3],[4,1,4,3],[5,1,5,3],[6,1,6,3]]}
["項目","回答"]
["①",null,null,null,null,null,null,{"$f":"VLOOKUP(B2,$B$14:$C$23,2,0)","v":{"$error":"#N/A"}},{"$f":"IF(B2=\"\",\"NG\",IF(H2=INDIRECT(\"Word回答取込!\"&CHAR(66+ROW(A1)-1)&(RIGHT(CELL(\"filename\",$A$1),LEN(CELL(\"filename\",$A$1))-FIND(\"]\",CELL(\"filename\",$A$1)))+1)),\"OK\",\"NG\"))","v":"NG"}]
["②",null,null,null,null,null,null,{"$f":"VLOOKUP(B3,$B$25:$C$31,2,0)","v":{"$error":"#N/A"}},{"$f":"IF(B3=\"\",\"NG\",IF(H3=INDIRECT(\"Word回答取込!\"&CHAR(66+ROW(A2)-1)&(RIGHT(CELL(\"filename\",$A$1),LEN(CELL(\"filename\",$A$1))-FIND(\"]\",CELL(\"filename\",$A$1)))+1)),\"OK\",\"NG\"))","v":"NG"}]
["③",null,null,null,null,null,null,{"$f":"B4","v":0},"NG"]
["④",null,null,null,null,null,null,{"$f":"B5","v":0},"NG"]
["⑤",null,null,null,null,null,null,{"$f":"B6","v":0},"NG"]
["⑥",null,null,null,null,null,null,{"$f":"VLOOKUP(B7,$B$33:$C$39,2,0)","v":{"$error":"#N/A"}},"NG"]
["⑦",null,null,null,null,null,null,{"$f":"VLOOKUP(B8,$B$41:$C$48,2,0)","v":{"$error":"#N/A"}},"NG"]
["⑧",null,null,null,null,null,null,{"$f":"B9","v":0},"NG"]
["⑨",null,null,null,null,null,null,{"$f":"B10","v":0},"NG"]
[null,null,null,null,null,null,null,null,"NG"]
[null,null,null,null,null,null,null,null,"NG"]
[null,null,null,null,null,null,null,null,{"$f":"IF(H13=INDIRECT(\"Word回答!B\"&(RIGHT(CELL(\"filename\",$A$1),LEN(CELL(\"filename\",$A$1))-FIND(\"]\",CELL(\"filename\",$A$1)))+1)),\"OK\",\"NG\")","v":{"$error":"#REF!"}}]
["①","1. ほぼ毎日",1,null,null,null,null,null,{"$error":"#REF!"}]
[null,"2. 週4～5回",2,null,null,null,null,null,{"$error":"#REF!"}]
[null,"3. 週2～3回",3,null,null,null,null,null,{"$error":"#REF!"}]
[null,"4. 週1回",4,null,null,null,null,null,{"$error":"#REF!"}]
[null,"5. 月2～3回",5,null,null,null,null,null,{"$error":"#REF!"}]
[null,"6. 月1回程度",6,null,null,null,null,null,{"$error":"#REF!"}]
[null,"7. 半年に2～3回",7,null,null,null,null,null,{"$error":"#REF!"}]
[null,"8. 半年に1回",8,null,null,null,null,null,{"$error":"#REF!"}]
[null,"9. 年1回程度",9,null,null,null,null,null,{"$error":"#REF!"}]
[null,"10. 今回が初めて",10,null,null,null,null,null,{"$error":"#REF!"}]
[null,null,null,null,null,null,null,null,{"$error":"#REF!"}]
["②","1. 1人",1,null,null,null,null,null,{"$error":"#REF!"}]
[null,"2. 子供連れ家族",2,null,null,null,null,null,{"$error":"#REF!"}]
[null,"3. 夫婦",3,null,null,null,null,null,{"$error":"#REF!"}]
[null,"4. 友人",4,null,null,null,null,null,{"$error":"#REF!"}]
[null,"5. 仕事関係者",5,null,null,null,null,null,{"$error":"#REF!"}]
[null,"6. 恋人",6,null,null,null,null,null,{"$error":"#REF!"}]
[null,"7. その他",7,null,null,null,null,null,{"$error":"#REF!"}]
[null,null,null,null,null,null,null,null,{"$error":"#REF!"}]
["⑥","1. 10代",1,null,null,null,null,null,{"$error":"#REF!"}]
[null,"2. 20代",2,null,null,null,null,null,{"$error":"#REF!"}]
[null,"3. 30代",3,null,null,null,null,null,{"$error":"#REF!"}]
[null,"4. 40代",4,null,null,null,null,null,{"$error":"#REF!"}]
[null,"5. 50代",5,null,null,null,null,null,{"$error":"#REF!"}]
[null,"6. 60代",6,null,null,null,null,null,{"$error":"#REF!"}]
[null,"7. 70歳以上",7,null,null,null,null,null,{"$error":"#REF!"}]
[null,null,null,null,null,null,null,null,{"$error":"#REF!"}]
["⑦","1. 中高生",1,null,null,null,null,null,{"$error":"#REF!"}]
[null,"2. 短・専・大",2,null,null,null,null,null,{"$error":"#REF!"}]
[null,"3. 事務職",3,null,null,null,null,null,{"$error":"#REF!"}]
[null,"4. 販売・サービス業",4,null,null,null,null,null,{"$error":"#REF!"}]
[null,"5. 建設業",5,null,null,null,null,null,{"$error":"#REF!"}]
[null,"6. 主婦・主夫",6,null,null,null,null,null,{"$error":"#REF!"}]
[null,"7. 無職",7,null,null,null,null,null,{"$error":"#REF!"}]
[null,"8. その他",8,null,null,null,null,null,{"$error":"#REF!"}]
[null,null,null,null,null,null,null,null,{"$error":"#REF!"}]
[null,null,null,null,null,null,null,null,{"$error":"#REF!"}]
[null,null,null,null,null,null,null,null,{"$error":"#REF!"}]
[null,null,null,null,null,null,null,null,{"$error":"#REF!"}]
[null,null,null,null,null,null,null,null,{"$error":"#REF!"}]
[null,null,null,null,null,null,null,null,{"$error":"#REF!"}]
[null,null,null,null,null,null,null,null,{"$error":"#REF!"}]
[null,null,null,null,null,null,null,null,{"$error":"#REF!"}]
[null,null,null,null,null,null,null,null,{"$error":"#REF!"}]
[null,null,null,null,null,null,null,null,{"$error":"#REF!"}]
[null,null,null,null,null,null,null,null,{"$error":"#REF!"}]
[null,null,null,null,null,null,null,null,{"$error":"#REF!"}]
[null,null,null,null,null,null,null,null,{"$error":"#REF!"}]
[null,null,null,null,null,null,null,null,{"$error":"#REF!"}]
[null,null,null,null,null,null,null,null,{"$error":"#REF!"}]
[null,null,null,null,null,null,null,null,{"$error":"#REF!"}]
[null,null,null,null,null,null,null,null,{"$error":"#REF!"}]
[null,null,null,null,null,null,null,null,{"$error":"#REF!"}]
[null,null,null,null,null,null,null,null,{"$f":"IF(H67=INDIRECT(\"Word回答!B\"&(RIGHT(CELL(\"filename\",$A$1),LEN(CELL(\"filename\",$A$1))-FIND(\"]\",CELL(\"filename\",$A$1)))+1)),\"OK\",\"NG\")","v":{"$error":"#REF!"}}]
[null,null,null,null,null,null,null,null,{"$f":"IF(H68=INDIRECT(\"Word回答!B\"&(RIGHT(CELL(\"filename\",$A$1),LEN(CELL(\"filename\",$A$1))-FIND(\"]\",CELL(\"filename\",$A$1)))+1)),\"OK\",\"NG\")","v":{"$error":"#REF!"}}]
[null,null,null,null,null,null,null,null,{"$f":"IF(H69=INDIRECT(\"Word回答!B\"&(RIGHT(CELL(\"filename\",$A$1),LEN(CELL(\"filename\",$A$1))-FIND(\"]\",CELL(\"filename\",$A$1)))+1)),\"OK\",\"NG\")","v":{"$error":"#REF!"}}]
[null,null,null,null,null,null,null,null,{"$f":"IF(H70=INDIRECT(\"Word回答!B\"&(RIGHT(CELL(\"filename\",$A$1),LEN(CELL(\"filename\",$A$1))-FIND(\"]\",CELL(\"filename\",$A$1)))+1)),\"OK\",\"NG\")","v":{"$error":"#REF!"}}]
[null,null,null,null,null,null,null,null,{"$f":"IF(COUNTIF($I$2:$I$12,\"OK\")=11,1,0)","v":0}]

{"sheet":"6","index":15,"n_rows":71,"n_cols":9,"rows_kept":71,"cut":false,"hidden":false,"merged":[[7,1,7,3],[8,1,8,3],[9,1,9,3],[1,1,1,3],[2,1,2,3],[3,1,3,3],[4,1,4,3],[5,1,5,3],[6,1,6,3]]}
["項目","回答"]
["①",null,null,null,null,null,null,{"$f":"VLOOKUP(B2,$B$14:$C$23,2,0)","v":{"$error":"#N/A"}},{"$f":"IF(B2=\"\",\"NG\",IF(H2=INDIRECT(\"Word回答取込!\"&CHAR(66+ROW(A1)-1)&(RIGHT(CELL(\"filename\",$A$1),LEN(CELL(\"filename\",$A$1))-FIND(\"]\",CELL(\"filename\",$A$1)))+1)),\"OK\",\"NG\"))","v":"NG"}]
["②",null,null,null,null,null,null,{"$f":"VLOOKUP(B3,$B$25:$C$31,2,0)","v":{"$error":"#N/A"}},{"$f":"IF(B3=\"\",\"NG\",IF(H3=INDIRECT(\"Word回答取込!\"&CHAR(66+ROW(A2)-1)&(RIGHT(CELL(\"filename\",$A$1),LEN(CELL(\"filename\",$A$1))-FIND(\"]\",CELL(\"filename\",$A$1)))+1)),\"OK\",\"NG\"))","v":"NG"}]
["③",null,null,null,null,null,null,{"$f":"B4","v":0},"NG"]
["④",null,null,null,null,null,null,{"$f":"B5","v":0},"NG"]
["⑤",null,null,null,null,null,null,{"$f":"B6","v":0},"NG"]
["⑥",null,null,null,null,null,null,{"$f":"VLOOKUP(B7,$B$33:$C$39,2,0)","v":{"$error":"#N/A"}},"NG"]
["⑦",null,null,null,null,null,null,{"$f":"VLOOKUP(B8,$B$41:$C$48,2,0)","v":{"$error":"#N/A"}},"NG"]
["⑧",null,null,null,null,null,null,{"$f":"B9","v":0},"NG"]
["⑨",null,null,null,null,null,null,{"$f":"B10","v":0},"NG"]
[null,null,null,null,null,null,null,null,"NG"]
[null,null,null,null,null,null,null,null,"NG"]
[null,null,null,null,null,null,null,null,{"$f":"IF(H13=INDIRECT(\"Word回答!B\"&(RIGHT(CELL(\"filename\",$A$1),LEN(CELL(\"filename\",$A$1))-FIND(\"]\",CELL(\"filename\",$A$1)))+1)),\"OK\",\"NG\")","v":{"$error":"#REF!"}}]
["①","1. ほぼ毎日",1,null,null,null,null,null,{"$error":"#REF!"}]
[null,"2. 週4～5回",2,null,null,null,null,null,{"$error":"#REF!"}]
[null,"3. 週2～3回",3,null,null,null,null,null,{"$error":"#REF!"}]
[null,"4. 週1回",4,null,null,null,null,null,{"$error":"#REF!"}]
[null,"5. 月2～3回",5,null,null,null,null,null,{"$error":"#REF!"}]
[null,"6. 月1回程度",6,null,null,null,null,null,{"$error":"#REF!"}]
[null,"7. 半年に2～3回",7,null,null,null,null,null,{"$error":"#REF!"}]
[null,"8. 半年に1回",8,null,null,null,null,null,{"$error":"#REF!"}]
[null,"9. 年1回程度",9,null,null,null,null,null,{"$error":"#REF!"}]
[null,"10. 今回が初めて",10,null,null,null,null,null,{"$error":"#REF!"}]
[null,null,null,null,null,null,null,null,{"$error":"#REF!"}]
["②","1. 1人",1,null,null,null,null,null,{"$error":"#REF!"}]
[null,"2. 子供連れ家族",2,null,null,null,null,null,{"$error":"#REF!"}]
[null,"3. 夫婦",3,null,null,null,null,null,{"$error":"#REF!"}]
[null,"4. 友人",4,null,null,null,null,null,{"$error":"#REF!"}]
[null,"5. 仕事関係者",5,null,null,null,null,null,{"$error":"#REF!"}]
[null,"6. 恋人",6,null,null,null,null,null,{"$error":"#REF!"}]
[null,"7. その他",7,null,null,null,null,null,{"$error":"#REF!"}]
[null,null,null,null,null,null,null,null,{"$error":"#REF!"}]
["⑥","1. 10代",1,null,null,null,null,null,{"$error":"#REF!"}]
[null,"2. 20代",2,null,null,null,null,null,{"$error":"#REF!"}]
[null,"3. 30代",3,null,null,null,null,null,{"$error":"#REF!"}]
[null,"4. 40代",4,null,null,null,null,null,{"$error":"#REF!"}]
[null,"5. 50代",5,null,null,null,null,null,{"$error":"#REF!"}]
[null,"6. 60代",6,null,null,null,null,null,{"$error":"#REF!"}]
[null,"7. 70歳以上",7,null,null,null,null,null,{"$error":"#REF!"}]
[null,null,null,null,null,null,null,null,{"$error":"#REF!"}]
["⑦","1. 中高生",1,null,null,null,null,null,{"$error":"#REF!"}]
[null,"2. 短・専・大",2,null,null,null,null,null,{"$error":"#REF!"}]
[null,"3. 事務職",3,null,null,null,null,null,{"$error":"#REF!"}]
[null,"4. 販売・サービス業",4,null,null,null,null,null,{"$error":"#REF!"}]
[null,"5. 建設業",5,null,null,null,null,null,{"$error":"#REF!"}]
[null,"6. 主婦・主夫",6,null,null,null,null,null,{"$error":"#REF!"}]
[null,"7. 無職",7,null,null,null,null,null,{"$error":"#REF!"}]
[null,"8. その他",8,null,null,null,null,null,{"$error":"#REF!"}]
[null,null,null,null,null,null,null,null,{"$error":"#REF!"}]
[null,null,null,null,null,null,null,null,{"$error":"#REF!"}]
[null,null,null,null,null,null,null,null,{"$error":"#REF!"}]
[null,null,null,null,null,null,null,null,{"$error":"#REF!"}]
[null,null,null,null,null,null,null,null,{"$error":"#REF!"}]
[null,null,null,null,null,null,null,null,{"$error":"#REF!"}]
[null,null,null,null,null,null,null,null,{"$error":"#REF!"}]
[null,null,null,null,null,null,null,null,{"$error":"#REF!"}]
[null,null,null,null,null,null,null,null,{"$error":"#REF!"}]
[null,null,null,null,null,null,null,null,{"$error":"#REF!"}]
[null,null,null,null,null,null,null,null,{"$error":"#REF!"}]
[null,null,null,null,null,null,null,null,{"$error":"#REF!"}]
[null,null,null,null,null,null,null,null,{"$error":"#REF!"}]
[null,null,null,null,null,null,null,null,{"$error":"#REF!"}]
[null,null,null,null,null,null,null,null,{"$error":"#REF!"}]
[null,null,null,null,null,null,null,null,{"$error":"#REF!"}]
[null,null,null,null,null,null,null,null,{"$error":"#REF!"}]
[null,null,null,null,null,null,null,null,{"$error":"#REF!"}]
[null,null,null,null,null,null,null,null,{"$f":"IF(H67=INDIRECT(\"Word回答!B\"&(RIGHT(CELL(\"filename\",$A$1),LEN(CELL(\"filename\",$A$1))-FIND(\"]\",CELL(\"filename\",$A$1)))+1)),\"OK\",\"NG\")","v":{"$error":"#REF!"}}]
[null,null,null,null,null,null,null,null,{"$f":"IF(H68=INDIRECT(\"Word回答!B\"&(RIGHT(CELL(\"filename\",$A$1),LEN(CELL(\"filename\",$A$1))-FIND(\"]\",CELL(\"filename\",$A$1)))+1)),\"OK\",\"NG\")","v":{"$error":"#REF!"}}]
[null,null,null,null,null,null,null,null,{"$f":"IF(H69=INDIRECT(\"Word回答!B\"&(RIGHT(CELL(\"filename\",$A$1),LEN(CELL(\"filename\",$A$1))-FIND(\"]\",CELL(\"filename\",$A$1)))+1)),\"OK\",\"NG\")","v":{"$error":"#REF!"}}]
[null,null,null,null,null,null,null,null,{"$f":"IF(H70=INDIRECT(\"Word回答!B\"&(RIGHT(CELL(\"filename\",$A$1),LEN(CELL(\"filename\",$A$1))-FIND(\"]\",CELL(\"filename\",$A$1)))+1)),\"OK\",\"NG\")","v":{"$error":"#REF!"}}]
[null,null,null,null,null,null,null,null,{"$f":"IF(COUNTIF($I$2:$I$12,\"OK\")=11,1,0)","v":0}]

{"sheet":"7","index":16,"n_rows":71,"n_cols":9,"rows_kept":71,"cut":false,"hidden":false,"merged":[[7,1,7,3],[8,1,8,3],[9,1,9,3],[1,1,1,3],[2,1,2,3],[3,1,3,3],[4,1,4,3],[5,1,5,3],[6,1,6,3]]}
["項目","回答"]
["①",null,null,null,null,null,null,{"$f":"VLOOKUP(B2,$B$14:$C$23,2,0)","v":{"$error":"#N/A"}},{"$f":"IF(B2=\"\",\"NG\",IF(H2=INDIRECT(\"Word回答取込!\"&CHAR(66+ROW(A1)-1)&(RIGHT(CELL(\"filename\",$A$1),LEN(CELL(\"filename\",$A$1))-FIND(\"]\",CELL(\"filename\",$A$1)))+1)),\"OK\",\"NG\"))","v":"NG"}]
["②",null,null,null,null,null,null,{"$f":"VLOOKUP(B3,$B$25:$C$31,2,0)","v":{"$error":"#N/A"}},{"$f":"IF(B3=\"\",\"NG\",IF(H3=INDIRECT(\"Word回答取込!\"&CHAR(66+ROW(A2)-1)&(RIGHT(CELL(\"filename\",$A$1),LEN(CELL(\"filename\",$A$1))-FIND(\"]\",CELL(\"filename\",$A$1)))+1)),\"OK\",\"NG\"))","v":"NG"}]
["③",null,null,null,null,null,null,{"$f":"B4","v":0},"NG"]
["④",null,null,null,null,null,null,{"$f":"B5","v":0},"NG"]
["⑤",null,null,null,null,null,null,{"$f":"B6","v":0},"NG"]
["⑥",null,null,null,null,null,null,{"$f":"VLOOKUP(B7,$B$33:$C$39,2,0)","v":{"$error":"#N/A"}},"NG"]
["⑦",null,null,null,null,null,null,{"$f":"VLOOKUP(B8,$B$41:$C$48,2,0)","v":{"$error":"#N/A"}},"NG"]
["⑧",null,null,null,null,null,null,{"$f":"B9","v":0},"NG"]
["⑨",null,null,null,null,null,null,{"$f":"B10","v":0},"NG"]
[null,null,null,null,null,null,null,null,"NG"]
[null,null,null,null,null,null,null,null,"NG"]
[null,null,null,null,null,null,null,null,{"$f":"IF(H13=INDIRECT(\"Word回答!B\"&(RIGHT(CELL(\"filename\",$A$1),LEN(CELL(\"filename\",$A$1))-FIND(\"]\",CELL(\"filename\",$A$1)))+1)),\"OK\",\"NG\")","v":{"$error":"#REF!"}}]
["①","1. ほぼ毎日",1,null,null,null,null,null,{"$error":"#REF!"}]
[null,"2. 週4～5回",2,null,null,null,null,null,{"$error":"#REF!"}]
[null,"3. 週2～3回",3,null,null,null,null,null,{"$error":"#REF!"}]
[null,"4. 週1回",4,null,null,null,null,null,{"$error":"#REF!"}]
[null,"5. 月2～3回",5,null,null,null,null,null,{"$error":"#REF!"}]
[null,"6. 月1回程度",6,null,null,null,null,null,{"$error":"#REF!"}]
[null,"7. 半年に2～3回",7,null,null,null,null,null,{"$error":"#REF!"}]
[null,"8. 半年に1回",8,null,null,null,null,null,{"$error":"#REF!"}]
[null,"9. 年1回程度",9,null,null,null,null,null,{"$error":"#REF!"}]
[null,"10. 今回が初めて",10,null,null,null,null,null,{"$error":"#REF!"}]
[null,null,null,null,null,null,null,null,{"$error":"#REF!"}]
["②","1. 1人",1,null,null,null,null,null,{"$error":"#REF!"}]
[null,"2. 子供連れ家族",2,null,null,null,null,null,{"$error":"#REF!"}]
[null,"3. 夫婦",3,null,null,null,null,null,{"$error":"#REF!"}]
[null,"4. 友人",4,null,null,null,null,null,{"$error":"#REF!"}]
[null,"5. 仕事関係者",5,null,null,null,null,null,{"$error":"#REF!"}]
[null,"6. 恋人",6,null,null,null,null,null,{"$error":"#REF!"}]
[null,"7. その他",7,null,null,null,null,null,{"$error":"#REF!"}]
[null,null,null,null,null,null,null,null,{"$error":"#REF!"}]
["⑥","1. 10代",1,null,null,null,null,null,{"$error":"#REF!"}]
[null,"2. 20代",2,null,null,null,null,null,{"$error":"#REF!"}]
[null,"3. 30代",3,null,null,null,null,null,{"$error":"#REF!"}]
[null,"4. 40代",4,null,null,null,null,null,{"$error":"#REF!"}]
[null,"5. 50代",5,null,null,null,null,null,{"$error":"#REF!"}]
[null,"6. 60代",6,null,null,null,null,null,{"$error":"#REF!"}]
[null,"7. 70歳以上",7,null,null,null,null,null,{"$error":"#REF!"}]
[null,null,null,null,null,null,null,null,{"$error":"#REF!"}]
["⑦","1. 中高生",1,null,null,null,null,null,{"$error":"#REF!"}]
[null,"2. 短・専・大",2,null,null,null,null,null,{"$error":"#REF!"}]
[null,"3. 事務職",3,null,null,null,null,null,{"$error":"#REF!"}]
[null,"4. 販売・サービス業",4,null,null,null,null,null,{"$error":"#REF!"}]
[null,"5. 建設業",5,null,null,null,null,null,{"$error":"#REF!"}]
[null,"6. 主婦・主夫",6,null,null,null,null,null,{"$error":"#REF!"}]
[null,"7. 無職",7,null,null,null,null,null,{"$error":"#REF!"}]
[null,"8. その他",8,null,null,null,null,null,{"$error":"#REF!"}]
[null,null,null,null,null,null,null,null,{"$error":"#REF!"}]
[null,null,null,null,null,null,null,null,{"$error":"#REF!"}]
[null,null,null,null,null,null,null,null,{"$error":"#REF!"}]
[null,null,null,null,null,null,null,null,{"$error":"#REF!"}]
[null,null,null,null,null,null,null,null,{"$error":"#REF!"}]
[null,null,null,null,null,null,null,null,{"$error":"#REF!"}]
[null,null,null,null,null,null,null,null,{"$error":"#REF!"}]
[null,null,null,null,null,null,null,null,{"$error":"#REF!"}]
[null,null,null,null,null,null,null,null,{"$error":"#REF!"}]
[null,null,null,null,null,null,null,null,{"$error":"#REF!"}]
[null,null,null,null,null,null,null,null,{"$error":"#REF!"}]
[null,null,null,null,null,null,null,null,{"$error":"#REF!"}]
[null,null,null,null,null,null,null,null,{"$error":"#REF!"}]
[null,null,null,null,null,null,null,null,{"$error":"#REF!"}]
[null,null,null,null,null,null,null,null,{"$error":"#REF!"}]
[null,null,null,null,null,null,null,null,{"$error":"#REF!"}]
[null,null,null,null,null,null,null,null,{"$error":"#REF!"}]
[null,null,null,null,null,null,null,null,{"$error":"#REF!"}]
[null,null,null,null,null,null,null,null,{"$f":"IF(H67=INDIRECT(\"Word回答!B\"&(RIGHT(CELL(\"filename\",$A$1),LEN(CELL(\"filename\",$A$1))-FIND(\"]\",CELL(\"filename\",$A$1)))+1)),\"OK\",\"NG\")","v":{"$error":"#REF!"}}]
[null,null,null,null,null,null,null,null,{"$f":"IF(H68=INDIRECT(\"Word回答!B\"&(RIGHT(CELL(\"filename\",$A$1),LEN(CELL(\"filename\",$A$1))-FIND(\"]\",CELL(\"filename\",$A$1)))+1)),\"OK\",\"NG\")","v":{"$error":"#REF!"}}]
[null,null,null,null,null,null,null,null,{"$f":"IF(H69=INDIRECT(\"Word回答!B\"&(RIGHT(CELL(\"filename\",$A$1),LEN(CELL(\"filename\",$A$1))-FIND(\"]\",CELL(\"filename\",$A$1)))+1)),\"OK\",\"NG\")","v":{"$error":"#REF!"}}]
[null,null,null,null,null,null,null,null,{"$f":"IF(H70=INDIRECT(\"Word回答!B\"&(RIGHT(CELL(\"filename\",$A$1),LEN(CELL(\"filename\",$A$1))-FIND(\"]\",CELL(\"filename\",$A$1)))+1)),\"OK\",\"NG\")","v":{"$error":"#REF!"}}]
[null,null,null,null,null,null,null,null,{"$f":"IF(COUNTIF($I$2:$I$12,\"OK\")=11,1,0)","v":0}]

{"sheet":"8","index":17,"n_rows":71,"n_cols":9,"rows_kept":71,"cut":false,"hidden":false,"merged":[[7,1,7,3],[8,1,8,3],[9,1,9,3],[1,1,1,3],[2,1,2,3],[3,1,3,3],[4,1,4,3],[5,1,5,3],[6,1,6,3]]}
["項目","回答"]
["①",null,null,null,null,null,null,{"$f":"VLOOKUP(B2,$B$14:$C$23,2,0)","v":{"$error":"#N/A"}},{"$f":"IF(B2=\"\",\"NG\",IF(H2=INDIRECT(\"Word回答取込!\"&CHAR(66+ROW(A1)-1)&(RIGHT(CELL(\"filename\",$A$1),LEN(CELL(\"filename\",$A$1))-FIND(\"]\",CELL(\"filename\",$A$1)))+1)),\"OK\",\"NG\"))","v":"NG"}]
["②",null,null,null,null,null,null,{"$f":"VLOOKUP(B3,$B$25:$C$31,2,0)","v":{"$error":"#N/A"}},{"$f":"IF(B3=\"\",\"NG\",IF(H3=INDIRECT(\"Word回答取込!\"&CHAR(66+ROW(A2)-1)&(RIGHT(CELL(\"filename\",$A$1),LEN(CELL(\"filename\",$A$1))-FIND(\"]\",CELL(\"filename\",$A$1)))+1)),\"OK\",\"NG\"))","v":"NG"}]
["③",null,null,null,null,null,null,{"$f":"B4","v":0},"NG"]
["④",null,null,null,null,null,null,{"$f":"B5","v":0},"NG"]
["⑤",null,null,null,null,null,null,{"$f":"B6","v":0},"NG"]
["⑥",null,null,null,null,null,null,{"$f":"VLOOKUP(B7,$B$33:$C$39,2,0)","v":{"$error":"#N/A"}},"NG"]
["⑦",null,null,null,null,null,null,{"$f":"VLOOKUP(B8,$B$41:$C$48,2,0)","v":{"$error":"#N/A"}},"NG"]
["⑧",null,null,null,null,null,null,{"$f":"B9","v":0},"NG"]
["⑨",null,null,null,null,null,null,{"$f":"B10","v":0},"NG"]
[null,null,null,null,null,null,null,null,"NG"]
[null,null,null,null,null,null,null,null,"NG"]
[null,null,null,null,null,null,null,null,{"$f":"IF(H13=INDIRECT(\"Word回答!B\"&(RIGHT(CELL(\"filename\",$A$1),LEN(CELL(\"filename\",$A$1))-FIND(\"]\",CELL(\"filename\",$A$1)))+1)),\"OK\",\"NG\")","v":{"$error":"#REF!"}}]
["①","1. ほぼ毎日",1,null,null,null,null,null,{"$error":"#REF!"}]
[null,"2. 週4～5回",2,null,null,null,null,null,{"$error":"#REF!"}]
[null,"3. 週2～3回",3,null,null,null,null,null,{"$error":"#REF!"}]
[null,"4. 週1回",4,null,null,null,null,null,{"$error":"#REF!"}]
[null,"5. 月2～3回",5,null,null,null,null,null,{"$error":"#REF!"}]
[null,"6. 月1回程度",6,null,null,null,null,null,{"$error":"#REF!"}]
[null,"7. 半年に2～3回",7,null,null,null,null,null,{"$error":"#REF!"}]
[null,"8. 半年に1回",8,null,null,null,null,null,{"$error":"#REF!"}]
[null,"9. 年1回程度",9,null,null,null,null,null,{"$error":"#REF!"}]
[null,"10. 今回が初めて",10,null,null,null,null,null,{"$error":"#REF!"}]
[null,null,null,null,null,null,null,null,{"$error":"#REF!"}]
["②","1. 1人",1,null,null,null,null,null,{"$error":"#REF!"}]
[null,"2. 子供連れ家族",2,null,null,null,null,null,{"$error":"#REF!"}]
[null,"3. 夫婦",3,null,null,null,null,null,{"$error":"#REF!"}]
[null,"4. 友人",4,null,null,null,null,null,{"$error":"#REF!"}]
[null,"5. 仕事関係者",5,null,null,null,null,null,{"$error":"#REF!"}]
[null,"6. 恋人",6,null,null,null,null,null,{"$error":"#REF!"}]
[null,"7. その他",7,null,null,null,null,null,{"$error":"#REF!"}]
[null,null,null,null,null,null,null,null,{"$error":"#REF!"}]
["⑥","1. 10代",1,null,null,null,null,null,{"$error":"#REF!"}]
[null,"2. 20代",2,null,null,null,null,null,{"$error":"#REF!"}]
[null,"3. 30代",3,null,null,null,null,null,{"$error":"#REF!"}]
[null,"4. 40代",4,null,null,null,null,null,{"$error":"#REF!"}]
[null,"5. 50代",5,null,null,null,null,null,{"$error":"#REF!"}]
[null,"6. 60代",6,null,null,null,null,null,{"$error":"#REF!"}]
[null,"7. 70歳以上",7,null,null,null,null,null,{"$error":"#REF!"}]
[null,null,null,null,null,null,null,null,{"$error":"#REF!"}]
["⑦","1. 中高生",1,null,null,null,null,null,{"$error":"#REF!"}]
[null,"2. 短・専・大",2,null,null,null,null,null,{"$error":"#REF!"}]
[null,"3. 事務職",3,null,null,null,null,null,{"$error":"#REF!"}]
[null,"4. 販売・サービス業",4,null,null,null,null,null,{"$error":"#REF!"}]
[null,"5. 建設業",5,null,null,null,null,null,{"$error":"#REF!"}]
[null,"6. 主婦・主夫",6,null,null,null,null,null,{"$error":"#REF!"}]
[null,"7. 無職",7,null,null,null,null,null,{"$error":"#REF!"}]
[null,"8. その他",8,null,null,null,null,null,{"$error":"#REF!"}]
[null,null,null,null,null,null,null,null,{"$error":"#REF!"}]
[null,null,null,null,null,null,null,null,{"$error":"#REF!"}]
[null,null,null,null,null,null,null,null,{"$error":"#REF!"}]
[null,null,null,null,null,null,null,null,{"$error":"#REF!"}]
[null,null,null,null,null,null,null,null,{"$error":"#REF!"}]
[null,null,null,null,null,null,null,null,{"$error":"#REF!"}]
[null,null,null,null,null,null,null,null,{"$error":"#REF!"}]
[null,null,null,null,null,null,null,null,{"$error":"#REF!"}]
[null,null,null,null,null,null,null,null,{"$error":"#REF!"}]
[null,null,null,null,null,null,null,null,{"$error":"#REF!"}]
[null,null,null,null,null,null,null,null,{"$error":"#REF!"}]
[null,null,null,null,null,null,null,null,{"$error":"#REF!"}]
[null,null,null,null,null,null,null,null,{"$error":"#REF!"}]
[null,null,null,null,null,null,null,null,{"$error":"#REF!"}]
[null,null,null,null,null,null,null,null,{"$error":"#REF!"}]
[null,null,null,null,null,null,null,null,{"$error":"#REF!"}]
[null,null,null,null,null,null,null,null,{"$error":"#REF!"}]
[null,null,null,null,null,null,null,null,{"$error":"#REF!"}]
[null,null,null,null,null,null,null,null,{"$f":"IF(H67=INDIRECT(\"Word回答!B\"&(RIGHT(CELL(\"filename\",$A$1),LEN(CELL(\"filename\",$A$1))-FIND(\"]\",CELL(\"filename\",$A$1)))+1)),\"OK\",\"NG\")","v":{"$error":"#REF!"}}]
[null,null,null,null,null,null,null,null,{"$f":"IF(H68=INDIRECT(\"Word回答!B\"&(RIGHT(CELL(\"filename\",$A$1),LEN(CELL(\"filename\",$A$1))-FIND(\"]\",CELL(\"filename\",$A$1)))+1)),\"OK\",\"NG\")","v":{"$error":"#REF!"}}]
[null,null,null,null,null,null,null,null,{"$f":"IF(H69=INDIRECT(\"Word回答!B\"&(RIGHT(CELL(\"filename\",$A$1),LEN(CELL(\"filename\",$A$1))-FIND(\"]\",CELL(\"filename\",$A$1)))+1)),\"OK\",\"NG\")","v":{"$error":"#REF!"}}]
[null,null,null,null,null,null,null,null,{"$f":"IF(H70=INDIRECT(\"Word回答!B\"&(RIGHT(CELL(\"filename\",$A$1),LEN(CELL(\"filename\",$A$1))-FIND(\"]\",CELL(\"filename\",$A$1)))+1)),\"OK\",\"NG\")","v":{"$error":"#REF!"}}]
[null,null,null,null,null,null,null,null,{"$f":"IF(COUNTIF($I$2:$I$12,\"OK\")=11,1,0)","v":0}]

{"sheet":"9","index":18,"n_rows":71,"n_cols":9,"rows_kept":71,"cut":false,"hidden":false,"merged":[[7,1,7,3],[8,1,8,3],[9,1,9,3],[1,1,1,3],[2,1,2,3],[3,1,3,3],[4,1,4,3],[5,1,5,3],[6,1,6,3]]}
["項目","回答"]
["①",null,null,null,null,null,null,{"$f":"VLOOKUP(B2,$B$14:$C$23,2,0)","v":{"$error":"#N/A"}},{"$f":"IF(B2=\"\",\"NG\",IF(H2=INDIRECT(\"Word回答取込!\"&CHAR(66+ROW(A1)-1)&(RIGHT(CELL(\"filename\",$A$1),LEN(CELL(\"filename\",$A$1))-FIND(\"]\",CELL(\"filename\",$A$1)))+1)),\"OK\",\"NG\"))","v":"NG"}]
["②",null,null,null,null,null,null,{"$f":"VLOOKUP(B3,$B$25:$C$31,2,0)","v":{"$error":"#N/A"}},{"$f":"IF(B3=\"\",\"NG\",IF(H3=INDIRECT(\"Word回答取込!\"&CHAR(66+ROW(A2)-1)&(RIGHT(CELL(\"filename\",$A$1),LEN(CELL(\"filename\",$A$1))-FIND(\"]\",CELL(\"filename\",$A$1)))+1)),\"OK\",\"NG\"))","v":"NG"}]
["③",null,null,null,null,null,null,{"$f":"B4","v":0},"NG"]
["④",null,null,null,null,null,null,{"$f":"B5","v":0},"NG"]
["⑤",null,null,null,null,null,null,{"$f":"B6","v":0},"NG"]
["⑥",null,null,null,null,null,null,{"$f":"VLOOKUP(B7,$B$33:$C$39,2,0)","v":{"$error":"#N/A"}},"NG"]
["⑦",null,null,null,null,null,null,{"$f":"VLOOKUP(B8,$B$41:$C$48,2,0)","v":{"$error":"#N/A"}},"NG"]
["⑧",null,null,null,null,null,null,{"$f":"B9","v":0},"NG"]
["⑨",null,null,null,null,null,null,{"$f":"B10","v":0},"NG"]
[null,null,null,null,null,null,null,null,"NG"]
[null,null,null,null,null,null,null,null,"NG"]
[null,null,null,null,null,null,null,null,{"$f":"IF(H13=INDIRECT(\"Word回答!B\"&(RIGHT(CELL(\"filename\",$A$1),LEN(CELL(\"filename\",$A$1))-FIND(\"]\",CELL(\"filename\",$A$1)))+1)),\"OK\",\"NG\")","v":{"$error":"#REF!"}}]
["①","1. ほぼ毎日",1,null,null,null,null,null,{"$error":"#REF!"}]
[null,"2. 週4～5回",2,null,null,null,null,null,{"$error":"#REF!"}]
[null,"3. 週2～3回",3,null,null,null,null,null,{"$error":"#REF!"}]
[null,"4. 週1回",4,null,null,null,null,null,{"$error":"#REF!"}]
[null,"5. 月2～3回",5,null,null,null,null,null,{"$error":"#REF!"}]
[null,"6. 月1回程度",6,null,null,null,null,null,{"$error":"#REF!"}]
[null,"7. 半年に2～3回",7,null,null,null,null,null,{"$error":"#REF!"}]
[null,"8. 半年に1回",8,null,null,null,null,null,{"$error":"#REF!"}]
[null,"9. 年1回程度",9,null,null,null,null,null,{"$error":"#REF!"}]
[null,"10. 今回が初めて",10,null,null,null,null,null,{"$error":"#REF!"}]
[null,null,null,null,null,null,null,null,{"$error":"#REF!"}]
["②","1. 1人",1,null,null,null,null,null,{"$error":"#REF!"}]
[null,"2. 子供連れ家族",2,null,null,null,null,null,{"$error":"#REF!"}]
[null,"3. 夫婦",3,null,null,null,null,null,{"$error":"#REF!"}]
[null,"4. 友人",4,null,null,null,null,null,{"$error":"#REF!"}]
[null,"5. 仕事関係者",5,null,null,null,null,null,{"$error":"#REF!"}]
[null,"6. 恋人",6,null,null,null,null,null,{"$error":"#REF!"}]
[null,"7. その他",7,null,null,null,null,null,{"$error":"#REF!"}]
[null,null,null,null,null,null,null,null,{"$error":"#REF!"}]
["⑥","1. 10代",1,null,null,null,null,null,{"$error":"#REF!"}]
[null,"2. 20代",2,null,null,null,null,null,{"$error":"#REF!"}]
[null,"3. 30代",3,null,null,null,null,null,{"$error":"#REF!"}]
[null,"4. 40代",4,null,null,null,null,null,{"$error":"#REF!"}]
[null,"5. 50代",5,null,null,null,null,null,{"$error":"#REF!"}]
[null,"6. 60代",6,null,null,null,null,null,{"$error":"#REF!"}]
[null,"7. 70歳以上",7,null,null,null,null,null,{"$error":"#REF!"}]
[null,null,null,null,null,null,null,null,{"$error":"#REF!"}]
["⑦","1. 中高生",1,null,null,null,null,null,{"$error":"#REF!"}]
[null,"2. 短・専・大",2,null,null,null,null,null,{"$error":"#REF!"}]
[null,"3. 事務職",3,null,null,null,null,null,{"$error":"#REF!"}]
[null,"4. 販売・サービス業",4,null,null,null,null,null,{"$error":"#REF!"}]
[null,"5. 建設業",5,null,null,null,null,null,{"$error":"#REF!"}]
[null,"6. 主婦・主夫",6,null,null,null,null,null,{"$error":"#REF!"}]
[null,"7. 無職",7,null,null,null,null,null,{"$error":"#REF!"}]
[null,"8. その他",8,null,null,null,null,null,{"$error":"#REF!"}]
[null,null,null,null,null,null,null,null,{"$error":"#REF!"}]
[null,null,null,null,null,null,null,null,{"$error":"#REF!"}]
[null,null,null,null,null,null,null,null,{"$error":"#REF!"}]
[null,null,null,null,null,null,null,null,{"$error":"#REF!"}]
[null,null,null,null,null,null,null,null,{"$error":"#REF!"}]
[null,null,null,null,null,null,null,null,{"$error":"#REF!"}]
[null,null,null,null,null,null,null,null,{"$error":"#REF!"}]
[null,null,null,null,null,null,null,null,{"$error":"#REF!"}]
[null,null,null,null,null,null,null,null,{"$error":"#REF!"}]
[null,null,null,null,null,null,null,null,{"$error":"#REF!"}]
[null,null,null,null,null,null,null,null,{"$error":"#REF!"}]
[null,null,null,null,null,null,null,null,{"$error":"#REF!"}]
[null,null,null,null,null,null,null,null,{"$error":"#REF!"}]
[null,null,null,null,null,null,null,null,{"$error":"#REF!"}]
[null,null,null,null,null,null,null,null,{"$error":"#REF!"}]
[null,null,null,null,null,null,null,null,{"$error":"#REF!"}]
[null,null,null,null,null,null,null,null,{"$error":"#REF!"}]
[null,null,null,null,null,null,null,null,{"$error":"#REF!"}]
[null,null,null,null,null,null,null,null,{"$f":"IF(H67=INDIRECT(\"Word回答!B\"&(RIGHT(CELL(\"filename\",$A$1),LEN(CELL(\"filename\",$A$1))-FIND(\"]\",CELL(\"filename\",$A$1)))+1)),\"OK\",\"NG\")","v":{"$error":"#REF!"}}]
[null,null,null,null,null,null,null,null,{"$f":"IF(H68=INDIRECT(\"Word回答!B\"&(RIGHT(CELL(\"filename\",$A$1),LEN(CELL(\"filename\",$A$1))-FIND(\"]\",CELL(\"filename\",$A$1)))+1)),\"OK\",\"NG\")","v":{"$error":"#REF!"}}]
[null,null,null,null,null,null,null,null,{"$f":"IF(H69=INDIRECT(\"Word回答!B\"&(RIGHT(CELL(\"filename\",$A$1),LEN(CELL(\"filename\",$A$1))-FIND(\"]\",CELL(\"filename\",$A$1)))+1)),\"OK\",\"NG\")","v":{"$error":"#REF!"}}]
[null,null,null,null,null,null,null,null,{"$f":"IF(H70=INDIRECT(\"Word回答!B\"&(RIGHT(CELL(\"filename\",$A$1),LEN(CELL(\"filename\",$A$1))-FIND(\"]\",CELL(\"filename\",$A$1)))+1)),\"OK\",\"NG\")","v":{"$error":"#REF!"}}]
[null,null,null,null,null,null,null,null,{"$f":"IF(COUNTIF($I$2:$I$12,\"OK\")=11,1,0)","v":0}]

{"sheet":"10","index":19,"n_rows":71,"n_cols":9,"rows_kept":71,"cut":false,"hidden":false,"merged":[[7,1,7,3],[8,1,8,3],[9,1,9,3],[1,1,1,3],[2,1,2,3],[3,1,3,3],[4,1,4,3],[5,1,5,3],[6,1,6,3]]}
["項目","回答"]
["①",null,null,null,null,null,null,{"$f":"VLOOKUP(B2,$B$14:$C$23,2,0)","v":{"$error":"#N/A"}},{"$f":"IF(B2=\"\",\"NG\",IF(H2=INDIRECT(\"Word回答取込!\"&CHAR(66+ROW(A1)-1)&(RIGHT(CELL(\"filename\",$A$1),LEN(CELL(\"filename\",$A$1))-FIND(\"]\",CELL(\"filename\",$A$1)))+1)),\"OK\",\"NG\"))","v":"NG"}]
["②",null,null,null,null,null,null,{"$f":"VLOOKUP(B3,$B$25:$C$31,2,0)","v":{"$error":"#N/A"}},{"$f":"IF(B3=\"\",\"NG\",IF(H3=INDIRECT(\"Word回答取込!\"&CHAR(66+ROW(A2)-1)&(RIGHT(CELL(\"filename\",$A$1),LEN(CELL(\"filename\",$A$1))-FIND(\"]\",CELL(\"filename\",$A$1)))+1)),\"OK\",\"NG\"))","v":"NG"}]
["③",null,null,null,null,null,null,{"$f":"B4","v":0},"NG"]
["④",null,null,null,null,null,null,{"$f":"B5","v":0},"NG"]
["⑤",null,null,null,null,null,null,{"$f":"B6","v":0},"NG"]
["⑥",null,null,null,null,null,null,{"$f":"VLOOKUP(B7,$B$33:$C$39,2,0)","v":{"$error":"#N/A"}},"NG"]
["⑦",null,null,null,null,null,null,{"$f":"VLOOKUP(B8,$B$41:$C$48,2,0)","v":{"$error":"#N/A"}},"NG"]
["⑧",null,null,null,null,null,null,{"$f":"B9","v":0},"NG"]
["⑨",null,null,null,null,null,null,{"$f":"B10","v":0},"NG"]
[null,null,null,null,null,null,null,null,"NG"]
[null,null,null,null,null,null,null,null,"NG"]
[null,null,null,null,null,null,null,null,{"$f":"IF(H13=INDIRECT(\"Word回答!B\"&(RIGHT(CELL(\"filename\",$A$1),LEN(CELL(\"filename\",$A$1))-FIND(\"]\",CELL(\"filename\",$A$1)))+1)),\"OK\",\"NG\")","v":{"$error":"#REF!"}}]
["①","1. ほぼ毎日",1,null,null,null,null,null,{"$error":"#REF!"}]
[null,"2. 週4～5回",2,null,null,null,null,null,{"$error":"#REF!"}]
[null,"3. 週2～3回",3,null,null,null,null,null,{"$error":"#REF!"}]
[null,"4. 週1回",4,null,null,null,null,null,{"$error":"#REF!"}]
[null,"5. 月2～3回",5,null,null,null,null,null,{"$error":"#REF!"}]
[null,"6. 月1回程度",6,null,null,null,null,null,{"$error":"#REF!"}]
[null,"7. 半年に2～3回",7,null,null,null,null,null,{"$error":"#REF!"}]
[null,"8. 半年に1回",8,null,null,null,null,null,{"$error":"#REF!"}]
[null,"9. 年1回程度",9,null,null,null,null,null,{"$error":"#REF!"}]
[null,"10. 今回が初めて",10,null,null,null,null,null,{"$error":"#REF!"}]
[null,null,null,null,null,null,null,null,{"$error":"#REF!"}]
["②","1. 1人",1,null,null,null,null,null,{"$error":"#REF!"}]
[null,"2. 子供連れ家族",2,null,null,null,null,null,{"$error":"#REF!"}]
[null,"3. 夫婦",3,null,null,null,null,null,{"$error":"#REF!"}]
[null,"4. 友人",4,null,null,null,null,null,{"$error":"#REF!"}]
[null,"5. 仕事関係者",5,null,null,null,null,null,{"$error":"#REF!"}]
[null,"6. 恋人",6,null,null,null,null,null,{"$error":"#REF!"}]
[null,"7. その他",7,null,null,null,null,null,{"$error":"#REF!"}]
[null,null,null,null,null,null,null,null,{"$error":"#REF!"}]
["⑥","1. 10代",1,null,null,null,null,null,{"$error":"#REF!"}]
[null,"2. 20代",2,null,null,null,null,null,{"$error":"#REF!"}]
[null,"3. 30代",3,null,null,null,null,null,{"$error":"#REF!"}]
[null,"4. 40代",4,null,null,null,null,null,{"$error":"#REF!"}]
[null,"5. 50代",5,null,null,null,null,null,{"$error":"#REF!"}]
[null,"6. 60代",6,null,null,null,null,null,{"$error":"#REF!"}]
[null,"7. 70歳以上",7,null,null,null,null,null,{"$error":"#REF!"}]
[null,null,null,null,null,null,null,null,{"$error":"#REF!"}]
["⑦","1. 中高生",1,null,null,null,null,null,{"$error":"#REF!"}]
[null,"2. 短・専・大",2,null,null,null,null,null,{"$error":"#REF!"}]
[null,"3. 事務職",3,null,null,null,null,null,{"$error":"#REF!"}]
[null,"4. 販売・サービス業",4,null,null,null,null,null,{"$error":"#REF!"}]
[null,"5. 建設業",5,null,null,null,null,null,{"$error":"#REF!"}]
[null,"6. 主婦・主夫",6,null,null,null,null,null,{"$error":"#REF!"}]
[null,"7. 無職",7,null,null,null,null,null,{"$error":"#REF!"}]
[null,"8. その他",8,null,null,null,null,null,{"$error":"#REF!"}]
[null,null,null,null,null,null,null,null,{"$error":"#REF!"}]
[null,null,null,null,null,null,null,null,{"$error":"#REF!"}]
[null,null,null,null,null,null,null,null,{"$error":"#REF!"}]
[null,null,null,null,null,null,null,null,{"$error":"#REF!"}]
[null,null,null,null,null,null,null,null,{"$error":"#REF!"}]
[null,null,null,null,null,null,null,null,{"$error":"#REF!"}]
[null,null,null,null,null,null,null,null,{"$error":"#REF!"}]
[null,null,null,null,null,null,null,null,{"$error":"#REF!"}]
[null,null,null,null,null,null,null,null,{"$error":"#REF!"}]
[null,null,null,null,null,null,null,null,{"$error":"#REF!"}]
[null,null,null,null,null,null,null,null,{"$error":"#REF!"}]
[null,null,null,null,null,null,null,null,{"$error":"#REF!"}]
[null,null,null,null,null,null,null,null,{"$error":"#REF!"}]
[null,null,null,null,null,null,null,null,{"$error":"#REF!"}]
[null,null,null,null,null,null,null,null,{"$error":"#REF!"}]
[null,null,null,null,null,null,null,null,{"$error":"#REF!"}]
[null,null,null,null,null,null,null,null,{"$error":"#REF!"}]
[null,null,null,null,null,null,null,null,{"$error":"#REF!"}]
[null,null,null,null,null,null,null,null,{"$f":"IF(H67=INDIRECT(\"Word回答!B\"&(RIGHT(CELL(\"filename\",$A$1),LEN(CELL(\"filename\",$A$1))-FIND(\"]\",CELL(\"filename\",$A$1)))+1)),\"OK\",\"NG\")","v":{"$error":"#REF!"}}]
[null,null,null,null,null,null,null,null,{"$f":"IF(H68=INDIRECT(\"Word回答!B\"&(RIGHT(CELL(\"filename\",$A$1),LEN(CELL(\"filename\",$A$1))-FIND(\"]\",CELL(\"filename\",$A$1)))+1)),\"OK\",\"NG\")","v":{"$error":"#REF!"}}]
[null,null,null,null,null,null,null,null,{"$f":"IF(H69=INDIRECT(\"Word回答!B\"&(RIGHT(CELL(\"filename\",$A$1),LEN(CELL(\"filename\",$A$1))-FIND(\"]\",CELL(\"filename\",$A$1)))+1)),\"OK\",\"NG\")","v":{"$error":"#REF!"}}]
[null,null,null,null,null,null,null,null,{"$f":"IF(H70=INDIRECT(\"Word回答!B\"&(RIGHT(CELL(\"filename\",$A$1),LEN(CELL(\"filename\",$A$1))-FIND(\"]\",CELL(\"filename\",$A$1)))+1)),\"OK\",\"NG\")","v":{"$error":"#REF!"}}]
[null,null,null,null,null,null,null,null,{"$f":"IF(COUNTIF($I$2:$I$12,\"OK\")=11,1,0)","v":0}]

{"sheet":"11","index":20,"n_rows":71,"n_cols":9,"rows_kept":71,"cut":false,"hidden":false,"merged":[[7,1,7,3],[8,1,8,3],[9,1,9,3],[1,1,1,3],[2,1,2,3],[3,1,3,3],[4,1,4,3],[5,1,5,3],[6,1,6,3]]}
["項目","回答"]
["①",null,null,null,null,null,null,{"$f":"VLOOKUP(B2,$B$14:$C$23,2,0)","v":{"$error":"#N/A"}},{"$f":"IF(B2=\"\",\"NG\",IF(H2=INDIRECT(\"Word回答取込!\"&CHAR(66+ROW(A1)-1)&(RIGHT(CELL(\"filename\",$A$1),LEN(CELL(\"filename\",$A$1))-FIND(\"]\",CELL(\"filename\",$A$1)))+1)),\"OK\",\"NG\"))","v":"NG"}]
["②",null,null,null,null,null,null,{"$f":"VLOOKUP(B3,$B$25:$C$31,2,0)","v":{"$error":"#N/A"}},{"$f":"IF(B3=\"\",\"NG\",IF(H3=INDIRECT(\"Word回答取込!\"&CHAR(66+ROW(A2)-1)&(RIGHT(CELL(\"filename\",$A$1),LEN(CELL(\"filename\",$A$1))-FIND(\"]\",CELL(\"filename\",$A$1)))+1)),\"OK\",\"NG\"))","v":"NG"}]
["③",null,null,null,null,null,null,{"$f":"B4","v":0},"NG"]
["④",null,null,null,null,null,null,{"$f":"B5","v":0},"NG"]
["⑤",null,null,null,null,null,null,{"$f":"B6","v":0},"NG"]
["⑥",null,null,null,null,null,null,{"$f":"VLOOKUP(B7,$B$33:$C$39,2,0)","v":{"$error":"#N/A"}},"NG"]
["⑦",null,null,null,null,null,null,{"$f":"VLOOKUP(B8,$B$41:$C$48,2,0)","v":{"$error":"#N/A"}},"NG"]
["⑧",null,null,null,null,null,null,{"$f":"B9","v":0},"NG"]
["⑨",null,null,null,null,null,null,{"$f":"B10","v":0},"NG"]
[null,null,null,null,null,null,null,null,"NG"]
[null,null,null,null,null,null,null,null,"NG"]
[null,null,null,null,null,null,null,null,{"$f":"IF(H13=INDIRECT(\"Word回答!B\"&(RIGHT(CELL(\"filename\",$A$1),LEN(CELL(\"filename\",$A$1))-FIND(\"]\",CELL(\"filename\",$A$1)))+1)),\"OK\",\"NG\")","v":{"$error":"#REF!"}}]
["①","1. ほぼ毎日",1,null,null,null,null,null,{"$error":"#REF!"}]
[null,"2. 週4～5回",2,null,null,null,null,null,{"$error":"#REF!"}]
[null,"3. 週2～3回",3,null,null,null,null,null,{"$error":"#REF!"}]
[null,"4. 週1回",4,null,null,null,null,null,{"$error":"#REF!"}]
[null,"5. 月2～3回",5,null,null,null,null,null,{"$error":"#REF!"}]
[null,"6. 月1回程度",6,null,null,null,null,null,{"$error":"#REF!"}]
[null,"7. 半年に2～3回",7,null,null,null,null,null,{"$error":"#REF!"}]
[null,"8. 半年に1回",8,null,null,null,null,null,{"$error":"#REF!"}]
[null,"9. 年1回程度",9,null,null,null,null,null,{"$error":"#REF!"}]
[null,"10. 今回が初めて",10,null,null,null,null,null,{"$error":"#REF!"}]
[null,null,null,null,null,null,null,null,{"$error":"#REF!"}]
["②","1. 1人",1,null,null,null,null,null,{"$error":"#REF!"}]
[null,"2. 子供連れ家族",2,null,null,null,null,null,{"$error":"#REF!"}]
[null,"3. 夫婦",3,null,null,null,null,null,{"$error":"#REF!"}]
[null,"4. 友人",4,null,null,null,null,null,{"$error":"#REF!"}]
[null,"5. 仕事関係者",5,null,null,null,null,null,{"$error":"#REF!"}]
[null,"6. 恋人",6,null,null,null,null,null,{"$error":"#REF!"}]
[null,"7. その他",7,null,null,null,null,null,{"$error":"#REF!"}]
[null,null,null,null,null,null,null,null,{"$error":"#REF!"}]
["⑥","1. 10代",1,null,null,null,null,null,{"$error":"#REF!"}]
[null,"2. 20代",2,null,null,null,null,null,{"$error":"#REF!"}]
[null,"3. 30代",3,null,null,null,null,null,{"$error":"#REF!"}]
[null,"4. 40代",4,null,null,null,null,null,{"$error":"#REF!"}]
[null,"5. 50代",5,null,null,null,null,null,{"$error":"#REF!"}]
[null,"6. 60代",6,null,null,null,null,null,{"$error":"#REF!"}]
[null,"7. 70歳以上",7,null,null,null,null,null,{"$error":"#REF!"}]
[null,null,null,null,null,null,null,null,{"$error":"#REF!"}]
["⑦","1. 中高生",1,null,null,null,null,null,{"$error":"#REF!"}]
[null,"2. 短・専・大",2,null,null,null,null,null,{"$error":"#REF!"}]
[null,"3. 事務職",3,null,null,null,null,null,{"$error":"#REF!"}]
[null,"4. 販売・サービス業",4,null,null,null,null,null,{"$error":"#REF!"}]
[null,"5. 建設業",5,null,null,null,null,null,{"$error":"#REF!"}]
[null,"6. 主婦・主夫",6,null,null,null,null,null,{"$error":"#REF!"}]
[null,"7. 無職",7,null,null,null,null,null,{"$error":"#REF!"}]
[null,"8. その他",8,null,null,null,null,null,{"$error":"#REF!"}]
[null,null,null,null,null,null,null,null,{"$error":"#REF!"}]
[null,null,null,null,null,null,null,null,{"$error":"#REF!"}]
[null,null,null,null,null,null,null,null,{"$error":"#REF!"}]
[null,null,null,null,null,null,null,null,{"$error":"#REF!"}]
[null,null,null,null,null,null,null,null,{"$error":"#REF!"}]
[null,null,null,null,null,null,null,null,{"$error":"#REF!"}]
[null,null,null,null,null,null,null,null,{"$error":"#REF!"}]
[null,null,null,null,null,null,null,null,{"$error":"#REF!"}]
[null,null,null,null,null,null,null,null,{"$error":"#REF!"}]
[null,null,null,null,null,null,null,null,{"$error":"#REF!"}]
[null,null,null,null,null,null,null,null,{"$error":"#REF!"}]
[null,null,null,null,null,null,null,null,{"$error":"#REF!"}]
[null,null,null,null,null,null,null,null,{"$error":"#REF!"}]
[null,null,null,null,null,null,null,null,{"$error":"#REF!"}]
[null,null,null,null,null,null,null,null,{"$error":"#REF!"}]
[null,null,null,null,null,null,null,null,{"$error":"#REF!"}]
[null,null,null,null,null,null,null,null,{"$error":"#REF!"}]
[null,null,null,null,null,null,null,null,{"$error":"#REF!"}]
[null,null,null,null,null,null,null,null,{"$f":"IF(H67=INDIRECT(\"Word回答!B\"&(RIGHT(CELL(\"filename\",$A$1),LEN(CELL(\"filename\",$A$1))-FIND(\"]\",CELL(\"filename\",$A$1)))+1)),\"OK\",\"NG\")","v":{"$error":"#REF!"}}]
[null,null,null,null,null,null,null,null,{"$f":"IF(H68=INDIRECT(\"Word回答!B\"&(RIGHT(CELL(\"filename\",$A$1),LEN(CELL(\"filename\",$A$1))-FIND(\"]\",CELL(\"filename\",$A$1)))+1)),\"OK\",\"NG\")","v":{"$error":"#REF!"}}]
[null,null,null,null,null,null,null,null,{"$f":"IF(H69=INDIRECT(\"Word回答!B\"&(RIGHT(CELL(\"filename\",$A$1),LEN(CELL(\"filename\",$A$1))-FIND(\"]\",CELL(\"filename\",$A$1)))+1)),\"OK\",\"NG\")","v":{"$error":"#REF!"}}]
[null,null,null,null,null,null,null,null,{"$f":"IF(H70=INDIRECT(\"Word回答!B\"&(RIGHT(CELL(\"filename\",$A$1),LEN(CELL(\"filename\",$A$1))-FIND(\"]\",CELL(\"filename\",$A$1)))+1)),\"OK\",\"NG\")","v":{"$error":"#REF!"}}]
[null,null,null,null,null,null,null,null,{"$f":"IF(COUNTIF($I$2:$I$12,\"OK\")=11,1,0)","v":0}]

{"sheet":"12","index":21,"n_rows":71,"n_cols":9,"rows_kept":71,"cut":false,"hidden":false,"merged":[[7,1,7,3],[8,1,8,3],[9,1,9,3],[1,1,1,3],[2,1,2,3],[3,1,3,3],[4,1,4,3],[5,1,5,3],[6,1,6,3]]}
["項目","回答"]
["①",null,null,null,null,null,null,{"$f":"VLOOKUP(B2,$B$14:$C$23,2,0)","v":{"$error":"#N/A"}},{"$f":"IF(B2=\"\",\"NG\",IF(H2=INDIRECT(\"Word回答取込!\"&CHAR(66+ROW(A1)-1)&(RIGHT(CELL(\"filename\",$A$1),LEN(CELL(\"filename\",$A$1))-FIND(\"]\",CELL(\"filename\",$A$1)))+1)),\"OK\",\"NG\"))","v":"NG"}]
["②",null,null,null,null,null,null,{"$f":"VLOOKUP(B3,$B$25:$C$31,2,0)","v":{"$error":"#N/A"}},{"$f":"IF(B3=\"\",\"NG\",IF(H3=INDIRECT(\"Word回答取込!\"&CHAR(66+ROW(A2)-1)&(RIGHT(CELL(\"filename\",$A$1),LEN(CELL(\"filename\",$A$1))-FIND(\"]\",CELL(\"filename\",$A$1)))+1)),\"OK\",\"NG\"))","v":"NG"}]
["③",null,null,null,null,null,null,{"$f":"B4","v":0},"NG"]
["④",null,null,null,null,null,null,{"$f":"B5","v":0},"NG"]
["⑤",null,null,null,null,null,null,{"$f":"B6","v":0},"NG"]
["⑥",null,null,null,null,null,null,{"$f":"VLOOKUP(B7,$B$33:$C$39,2,0)","v":{"$error":"#N/A"}},"NG"]
["⑦",null,null,null,null,null,null,{"$f":"VLOOKUP(B8,$B$41:$C$48,2,0)","v":{"$error":"#N/A"}},"NG"]
["⑧",null,null,null,null,null,null,{"$f":"B9","v":0},"NG"]
["⑨",null,null,null,null,null,null,{"$f":"B10","v":0},"NG"]
[null,null,null,null,null,null,null,null,"NG"]
[null,null,null,null,null,null,null,null,"NG"]
[null,null,null,null,null,null,null,null,{"$f":"IF(H13=INDIRECT(\"Word回答!B\"&(RIGHT(CELL(\"filename\",$A$1),LEN(CELL(\"filename\",$A$1))-FIND(\"]\",CELL(\"filename\",$A$1)))+1)),\"OK\",\"NG\")","v":{"$error":"#REF!"}}]
["①","1. ほぼ毎日",1,null,null,null,null,null,{"$error":"#REF!"}]
[null,"2. 週4～5回",2,null,null,null,null,null,{"$error":"#REF!"}]
[null,"3. 週2～3回",3,null,null,null,null,null,{"$error":"#REF!"}]
[null,"4. 週1回",4,null,null,null,null,null,{"$error":"#REF!"}]
[null,"5. 月2～3回",5,null,null,null,null,null,{"$error":"#REF!"}]
[null,"6. 月1回程度",6,null,null,null,null,null,{"$error":"#REF!"}]
[null,"7. 半年に2～3回",7,null,null,null,null,null,{"$error":"#REF!"}]
[null,"8. 半年に1回",8,null,null,null,null,null,{"$error":"#REF!"}]
[null,"9. 年1回程度",9,null,null,null,null,null,{"$error":"#REF!"}]
[null,"10. 今回が初めて",10,null,null,null,null,null,{"$error":"#REF!"}]
[null,null,null,null,null,null,null,null,{"$error":"#REF!"}]
["②","1. 1人",1,null,null,null,null,null,{"$error":"#REF!"}]
[null,"2. 子供連れ家族",2,null,null,null,null,null,{"$error":"#REF!"}]
[null,"3. 夫婦",3,null,null,null,null,null,{"$error":"#REF!"}]
[null,"4. 友人",4,null,null,null,null,null,{"$error":"#REF!"}]
[null,"5. 仕事関係者",5,null,null,null,null,null,{"$error":"#REF!"}]
[null,"6. 恋人",6,null,null,null,null,null,{"$error":"#REF!"}]
[null,"7. その他",7,null,null,null,null,null,{"$error":"#REF!"}]
[null,null,null,null,null,null,null,null,{"$error":"#REF!"}]
["⑥","1. 10代",1,null,null,null,null,null,{"$error":"#REF!"}]
[null,"2. 20代",2,null,null,null,null,null,{"$error":"#REF!"}]
[null,"3. 30代",3,null,null,null,null,null,{"$error":"#REF!"}]
[null,"4. 40代",4,null,null,null,null,null,{"$error":"#REF!"}]
[null,"5. 50代",5,null,null,null,null,null,{"$error":"#REF!"}]
[null,"6. 60代",6,null,null,null,null,null,{"$error":"#REF!"}]
[null,"7. 70歳以上",7,null,null,null,null,null,{"$error":"#REF!"}]
[null,null,null,null,null,null,null,null,{"$error":"#REF!"}]
["⑦","1. 中高生",1,null,null,null,null,null,{"$error":"#REF!"}]
[null,"2. 短・専・大",2,null,null,null,null,null,{"$error":"#REF!"}]
[null,"3. 事務職",3,null,null,null,null,null,{"$error":"#REF!"}]
[null,"4. 販売・サービス業",4,null,null,null,null,null,{"$error":"#REF!"}]
[null,"5. 建設業",5,null,null,null,null,null,{"$error":"#REF!"}]
[null,"6. 主婦・主夫",6,null,null,null,null,null,{"$error":"#REF!"}]
[null,"7. 無職",7,null,null,null,null,null,{"$error":"#REF!"}]
[null,"8. その他",8,null,null,null,null,null,{"$error":"#REF!"}]
[null,null,null,null,null,null,null,null,{"$error":"#REF!"}]
[null,null,null,null,null,null,null,null,{"$error":"#REF!"}]
[null,null,null,null,null,null,null,null,{"$error":"#REF!"}]
[null,null,null,null,null,null,null,null,{"$error":"#REF!"}]
[null,null,null,null,null,null,null,null,{"$error":"#REF!"}]
[null,null,null,null,null,null,null,null,{"$error":"#REF!"}]
[null,null,null,null,null,null,null,null,{"$error":"#REF!"}]
[null,null,null,null,null,null,null,null,{"$error":"#REF!"}]
[null,null,null,null,null,null,null,null,{"$error":"#REF!"}]
[null,null,null,null,null,null,null,null,{"$error":"#REF!"}]
[null,null,null,null,null,null,null,null,{"$error":"#REF!"}]
[null,null,null,null,null,null,null,null,{"$error":"#REF!"}]
[null,null,null,null,null,null,null,null,{"$error":"#REF!"}]
[null,null,null,null,null,null,null,null,{"$error":"#REF!"}]
[null,null,null,null,null,null,null,null,{"$error":"#REF!"}]
[null,null,null,null,null,null,null,null,{"$error":"#REF!"}]
[null,null,null,null,null,null,null,null,{"$error":"#REF!"}]
[null,null,null,null,null,null,null,null,{"$error":"#REF!"}]
[null,null,null,null,null,null,null,null,{"$f":"IF(H67=INDIRECT(\"Word回答!B\"&(RIGHT(CELL(\"filename\",$A$1),LEN(CELL(\"filename\",$A$1))-FIND(\"]\",CELL(\"filename\",$A$1)))+1)),\"OK\",\"NG\")","v":{"$error":"#REF!"}}]
[null,null,null,null,null,null,null,null,{"$f":"IF(H68=INDIRECT(\"Word回答!B\"&(RIGHT(CELL(\"filename\",$A$1),LEN(CELL(\"filename\",$A$1))-FIND(\"]\",CELL(\"filename\",$A$1)))+1)),\"OK\",\"NG\")","v":{"$error":"#REF!"}}]
[null,null,null,null,null,null,null,null,{"$f":"IF(H69=INDIRECT(\"Word回答!B\"&(RIGHT(CELL(\"filename\",$A$1),LEN(CELL(\"filename\",$A$1))-FIND(\"]\",CELL(\"filename\",$A$1)))+1)),\"OK\",\"NG\")","v":{"$error":"#REF!"}}]
[null,null,null,null,null,null,null,null,{"$f":"IF(H70=INDIRECT(\"Word回答!B\"&(RIGHT(CELL(\"filename\",$A$1),LEN(CELL(\"filename\",$A$1))-FIND(\"]\",CELL(\"filename\",$A$1)))+1)),\"OK\",\"NG\")","v":{"$error":"#REF!"}}]
[null,null,null,null,null,null,null,null,{"$f":"IF(COUNTIF($I$2:$I$12,\"OK\")=11,1,0)","v":0}]

{"sheet":"13","index":22,"n_rows":71,"n_cols":9,"rows_kept":71,"cut":false,"hidden":false,"merged":[[7,1,7,3],[8,1,8,3],[9,1,9,3],[1,1,1,3],[2,1,2,3],[3,1,3,3],[4,1,4,3],[5,1,5,3],[6,1,6,3]]}
["項目","回答"]
["①",null,null,null,null,null,null,{"$f":"VLOOKUP(B2,$B$14:$C$23,2,0)","v":{"$error":"#N/A"}},{"$f":"IF(B2=\"\",\"NG\",IF(H2=INDIRECT(\"Word回答取込!\"&CHAR(66+ROW(A1)-1)&(RIGHT(CELL(\"filename\",$A$1),LEN(CELL(\"filename\",$A$1))-FIND(\"]\",CELL(\"filename\",$A$1)))+1)),\"OK\",\"NG\"))","v":"NG"}]
["②",null,null,null,null,null,null,{"$f":"VLOOKUP(B3,$B$25:$C$31,2,0)","v":{"$error":"#N/A"}},{"$f":"IF(B3=\"\",\"NG\",IF(H3=INDIRECT(\"Word回答取込!\"&CHAR(66+ROW(A2)-1)&(RIGHT(CELL(\"filename\",$A$1),LEN(CELL(\"filename\",$A$1))-FIND(\"]\",CELL(\"filename\",$A$1)))+1)),\"OK\",\"NG\"))","v":"NG"}]
["③",null,null,null,null,null,null,{"$f":"B4","v":0},"NG"]
["④",null,null,null,null,null,null,{"$f":"B5","v":0},"NG"]
["⑤",null,null,null,null,null,null,{"$f":"B6","v":0},"NG"]
["⑥",null,null,null,null,null,null,{"$f":"VLOOKUP(B7,$B$33:$C$39,2,0)","v":{"$error":"#N/A"}},"NG"]
["⑦",null,null,null,null,null,null,{"$f":"VLOOKUP(B8,$B$41:$C$48,2,0)","v":{"$error":"#N/A"}},"NG"]
["⑧",null,null,null,null,null,null,{"$f":"B9","v":0},"NG"]
["⑨",null,null,null,null,null,null,{"$f":"B10","v":0},"NG"]
[null,null,null,null,null,null,null,null,"NG"]
[null,null,null,null,null,null,null,null,"NG"]
[null,null,null,null,null,null,null,null,{"$f":"IF(H13=INDIRECT(\"Word回答!B\"&(RIGHT(CELL(\"filename\",$A$1),LEN(CELL(\"filename\",$A$1))-FIND(\"]\",CELL(\"filename\",$A$1)))+1)),\"OK\",\"NG\")","v":{"$error":"#REF!"}}]
["①","1. ほぼ毎日",1,null,null,null,null,null,{"$error":"#REF!"}]
[null,"2. 週4～5回",2,null,null,null,null,null,{"$error":"#REF!"}]
[null,"3. 週2～3回",3,null,null,null,null,null,{"$error":"#REF!"}]
[null,"4. 週1回",4,null,null,null,null,null,{"$error":"#REF!"}]
[null,"5. 月2～3回",5,null,null,null,null,null,{"$error":"#REF!"}]
[null,"6. 月1回程度",6,null,null,null,null,null,{"$error":"#REF!"}]
[null,"7. 半年に2～3回",7,null,null,null,null,null,{"$error":"#REF!"}]
[null,"8. 半年に1回",8,null,null,null,null,null,{"$error":"#REF!"}]
[null,"9. 年1回程度",9,null,null,null,null,null,{"$error":"#REF!"}]
[null,"10. 今回が初めて",10,null,null,null,null,null,{"$error":"#REF!"}]
[null,null,null,null,null,null,null,null,{"$error":"#REF!"}]
["②","1. 1人",1,null,null,null,null,null,{"$error":"#REF!"}]
[null,"2. 子供連れ家族",2,null,null,null,null,null,{"$error":"#REF!"}]
[null,"3. 夫婦",3,null,null,null,null,null,{"$error":"#REF!"}]
[null,"4. 友人",4,null,null,null,null,null,{"$error":"#REF!"}]
[null,"5. 仕事関係者",5,null,null,null,null,null,{"$error":"#REF!"}]
[null,"6. 恋人",6,null,null,null,null,null,{"$error":"#REF!"}]
[null,"7. その他",7,null,null,null,null,null,{"$error":"#REF!"}]
[null,null,null,null,null,null,null,null,{"$error":"#REF!"}]
["⑥","1. 10代",1,null,null,null,null,null,{"$error":"#REF!"}]
[null,"2. 20代",2,null,null,null,null,null,{"$error":"#REF!"}]
[null,"3. 30代",3,null,null,null,null,null,{"$error":"#REF!"}]
[null,"4. 40代",4,null,null,null,null,null,{"$error":"#REF!"}]
[null,"5. 50代",5,null,null,null,null,null,{"$error":"#REF!"}]
[null,"6. 60代",6,null,null,null,null,null,{"$error":"#REF!"}]
[null,"7. 70歳以上",7,null,null,null,null,null,{"$error":"#REF!"}]
[null,null,null,null,null,null,null,null,{"$error":"#REF!"}]
["⑦","1. 中高生",1,null,null,null,null,null,{"$error":"#REF!"}]
[null,"2. 短・専・大",2,null,null,null,null,null,{"$error":"#REF!"}]
[null,"3. 事務職",3,null,null,null,null,null,{"$error":"#REF!"}]
[null,"4. 販売・サービス業",4,null,null,null,null,null,{"$error":"#REF!"}]
[null,"5. 建設業",5,null,null,null,null,null,{"$error":"#REF!"}]
[null,"6. 主婦・主夫",6,null,null,null,null,null,{"$error":"#REF!"}]
[null,"7. 無職",7,null,null,null,null,null,{"$error":"#REF!"}]
[null,"8. その他",8,null,null,null,null,null,{"$error":"#REF!"}]
[null,null,null,null,null,null,null,null,{"$error":"#REF!"}]
[null,null,null,null,null,null,null,null,{"$error":"#REF!"}]
[null,null,null,null,null,null,null,null,{"$error":"#REF!"}]
[null,null,null,null,null,null,null,null,{"$error":"#REF!"}]
[null,null,null,null,null,null,null,null,{"$error":"#REF!"}]
[null,null,null,null,null,null,null,null,{"$error":"#REF!"}]
[null,null,null,null,null,null,null,null,{"$error":"#REF!"}]
[null,null,null,null,null,null,null,null,{"$error":"#REF!"}]
[null,null,null,null,null,null,null,null,{"$error":"#REF!"}]
[null,null,null,null,null,null,null,null,{"$error":"#REF!"}]
[null,null,null,null,null,null,null,null,{"$error":"#REF!"}]
[null,null,null,null,null,null,null,null,{"$error":"#REF!"}]
[null,null,null,null,null,null,null,null,{"$error":"#REF!"}]
[null,null,null,null,null,null,null,null,{"$error":"#REF!"}]
[null,null,null,null,null,null,null,null,{"$error":"#REF!"}]
[null,null,null,null,null,null,null,null,{"$error":"#REF!"}]
[null,null,null,null,null,null,null,null,{"$error":"#REF!"}]
[null,null,null,null,null,null,null,null,{"$error":"#REF!"}]
[null,null,null,null,null,null,null,null,{"$f":"IF(H67=INDIRECT(\"Word回答!B\"&(RIGHT(CELL(\"filename\",$A$1),LEN(CELL(\"filename\",$A$1))-FIND(\"]\",CELL(\"filename\",$A$1)))+1)),\"OK\",\"NG\")","v":{"$error":"#REF!"}}]
[null,null,null,null,null,null,null,null,{"$f":"IF(H68=INDIRECT(\"Word回答!B\"&(RIGHT(CELL(\"filename\",$A$1),LEN(CELL(\"filename\",$A$1))-FIND(\"]\",CELL(\"filename\",$A$1)))+1)),\"OK\",\"NG\")","v":{"$error":"#REF!"}}]
[null,null,null,null,null,null,null,null,{"$f":"IF(H69=INDIRECT(\"Word回答!B\"&(RIGHT(CELL(\"filename\",$A$1),LEN(CELL(\"filename\",$A$1))-FIND(\"]\",CELL(\"filename\",$A$1)))+1)),\"OK\",\"NG\")","v":{"$error":"#REF!"}}]
[null,null,null,null,null,null,null,null,{"$f":"IF(H70=INDIRECT(\"Word回答!B\"&(RIGHT(CELL(\"filename\",$A$1),LEN(CELL(\"filename\",$A$1))-FIND(\"]\",CELL(\"filename\",$A$1)))+1)),\"OK\",\"NG\")","v":{"$error":"#REF!"}}]
[null,null,null,null,null,null,null,null,{"$f":"IF(COUNTIF($I$2:$I$12,\"OK\")=11,1,0)","v":0}]

{"sheet":"14","index":23,"n_rows":71,"n_cols":9,"rows_kept":71,"cut":false,"hidden":false,"merged":[[7,1,7,3],[8,1,8,3],[9,1,9,3],[1,1,1,3],[2,1,2,3],[3,1,3,3],[4,1,4,3],[5,1,5,3],[6,1,6,3]]}
["項目","回答"]
["①",null,null,null,null,null,null,{"$f":"VLOOKUP(B2,$B$14:$C$23,2,0)","v":{"$error":"#N/A"}},{"$f":"IF(B2=\"\",\"NG\",IF(H2=INDIRECT(\"Word回答取込!\"&CHAR(66+ROW(A1)-1)&(RIGHT(CELL(\"filename\",$A$1),LEN(CELL(\"filename\",$A$1))-FIND(\"]\",CELL(\"filename\",$A$1)))+1)),\"OK\",\"NG\"))","v":"NG"}]
["②",null,null,null,null,null,null,{"$f":"VLOOKUP(B3,$B$25:$C$31,2,0)","v":{"$error":"#N/A"}},{"$f":"IF(B3=\"\",\"NG\",IF(H3=INDIRECT(\"Word回答取込!\"&CHAR(66+ROW(A2)-1)&(RIGHT(CELL(\"filename\",$A$1),LEN(CELL(\"filename\",$A$1))-FIND(\"]\",CELL(\"filename\",$A$1)))+1)),\"OK\",\"NG\"))","v":"NG"}]
["③",null,null,null,null,null,null,{"$f":"B4","v":0},"NG"]
["④",null,null,null,null,null,null,{"$f":"B5","v":0},"NG"]
["⑤",null,null,null,null,null,null,{"$f":"B6","v":0},"NG"]
["⑥",null,null,null,null,null,null,{"$f":"VLOOKUP(B7,$B$33:$C$39,2,0)","v":{"$error":"#N/A"}},"NG"]
["⑦",null,null,null,null,null,null,{"$f":"VLOOKUP(B8,$B$41:$C$48,2,0)","v":{"$error":"#N/A"}},"NG"]
["⑧",null,null,null,null,null,null,{"$f":"B9","v":0},"NG"]
["⑨",null,null,null,null,null,null,{"$f":"B10","v":0},"NG"]
[null,null,null,null,null,null,null,null,"NG"]
[null,null,null,null,null,null,null,null,"NG"]
[null,null,null,null,null,null,null,null,{"$f":"IF(H13=INDIRECT(\"Word回答!B\"&(RIGHT(CELL(\"filename\",$A$1),LEN(CELL(\"filename\",$A$1))-FIND(\"]\",CELL(\"filename\",$A$1)))+1)),\"OK\",\"NG\")","v":{"$error":"#REF!"}}]
["①","1. ほぼ毎日",1,null,null,null,null,null,{"$error":"#REF!"}]
[null,"2. 週4～5回",2,null,null,null,null,null,{"$error":"#REF!"}]
[null,"3. 週2～3回",3,null,null,null,null,null,{"$error":"#REF!"}]
[null,"4. 週1回",4,null,null,null,null,null,{"$error":"#REF!"}]
[null,"5. 月2～3回",5,null,null,null,null,null,{"$error":"#REF!"}]
[null,"6. 月1回程度",6,null,null,null,null,null,{"$error":"#REF!"}]
[null,"7. 半年に2～3回",7,null,null,null,null,null,{"$error":"#REF!"}]
[null,"8. 半年に1回",8,null,null,null,null,null,{"$error":"#REF!"}]
[null,"9. 年1回程度",9,null,null,null,null,null,{"$error":"#REF!"}]
[null,"10. 今回が初めて",10,null,null,null,null,null,{"$error":"#REF!"}]
[null,null,null,null,null,null,null,null,{"$error":"#REF!"}]
["②","1. 1人",1,null,null,null,null,null,{"$error":"#REF!"}]
[null,"2. 子供連れ家族",2,null,null,null,null,null,{"$error":"#REF!"}]
[null,"3. 夫婦",3,null,null,null,null,null,{"$error":"#REF!"}]
[null,"4. 友人",4,null,null,null,null,null,{"$error":"#REF!"}]
[null,"5. 仕事関係者",5,null,null,null,null,null,{"$error":"#REF!"}]
[null,"6. 恋人",6,null,null,null,null,null,{"$error":"#REF!"}]
[null,"7. その他",7,null,null,null,null,null,{"$error":"#REF!"}]
[null,null,null,null,null,null,null,null,{"$error":"#REF!"}]
["⑥","1. 10代",1,null,null,null,null,null,{"$error":"#REF!"}]
[null,"2. 20代",2,null,null,null,null,null,{"$error":"#REF!"}]
[null,"3. 30代",3,null,null,null,null,null,{"$error":"#REF!"}]
[null,"4. 40代",4,null,null,null,null,null,{"$error":"#REF!"}]
[null,"5. 50代",5,null,null,null,null,null,{"$error":"#REF!"}]
[null,"6. 60代",6,null,null,null,null,null,{"$error":"#REF!"}]
[null,"7. 70歳以上",7,null,null,null,null,null,{"$error":"#REF!"}]
[null,null,null,null,null,null,null,null,{"$error":"#REF!"}]
["⑦","1. 中高生",1,null,null,null,null,null,{"$error":"#REF!"}]
[null,"2. 短・専・大",2,null,null,null,null,null,{"$error":"#REF!"}]
[null,"3. 事務職",3,null,null,null,null,null,{"$error":"#REF!"}]
[null,"4. 販売・サービス業",4,null,null,null,null,null,{"$error":"#REF!"}]
[null,"5. 建設業",5,null,null,null,null,null,{"$error":"#REF!"}]
[null,"6. 主婦・主夫",6,null,null,null,null,null,{"$error":"#REF!"}]
[null,"7. 無職",7,null,null,null,null,null,{"$error":"#REF!"}]
[null,"8. その他",8,null,null,null,null,null,{"$error":"#REF!"}]
[null,null,null,null,null,null,null,null,{"$error":"#REF!"}]
[null,null,null,null,null,null,null,null,{"$error":"#REF!"}]
[null,null,null,null,null,null,null,null,{"$error":"#REF!"}]
[null,null,null,null,null,null,null,null,{"$error":"#REF!"}]
[null,null,null,null,null,null,null,null,{"$error":"#REF!"}]
[null,null,null,null,null,null,null,null,{"$error":"#REF!"}]
[null,null,null,null,null,null,null,null,{"$error":"#REF!"}]
[null,null,null,null,null,null,null,null,{"$error":"#REF!"}]
[null,null,null,null,null,null,null,null,{"$error":"#REF!"}]
[null,null,null,null,null,null,null,null,{"$error":"#REF!"}]
[null,null,null,null,null,null,null,null,{"$error":"#REF!"}]
[null,null,null,null,null,null,null,null,{"$error":"#REF!"}]
[null,null,null,null,null,null,null,null,{"$error":"#REF!"}]
[null,null,null,null,null,null,null,null,{"$error":"#REF!"}]
[null,null,null,null,null,null,null,null,{"$error":"#REF!"}]
[null,null,null,null,null,null,null,null,{"$error":"#REF!"}]
[null,null,null,null,null,null,null,null,{"$error":"#REF!"}]
[null,null,null,null,null,null,null,null,{"$error":"#REF!"}]
[null,null,null,null,null,null,null,null,{"$f":"IF(H67=INDIRECT(\"Word回答!B\"&(RIGHT(CELL(\"filename\",$A$1),LEN(CELL(\"filename\",$A$1))-FIND(\"]\",CELL(\"filename\",$A$1)))+1)),\"OK\",\"NG\")","v":{"$error":"#REF!"}}]
[null,null,null,null,null,null,null,null,{"$f":"IF(H68=INDIRECT(\"Word回答!B\"&(RIGHT(CELL(\"filename\",$A$1),LEN(CELL(\"filename\",$A$1))-FIND(\"]\",CELL(\"filename\",$A$1)))+1)),\"OK\",\"NG\")","v":{"$error":"#REF!"}}]
[null,null,null,null,null,null,null,null,{"$f":"IF(H69=INDIRECT(\"Word回答!B\"&(RIGHT(CELL(\"filename\",$A$1),LEN(CELL(\"filename\",$A$1))-FIND(\"]\",CELL(\"filename\",$A$1)))+1)),\"OK\",\"NG\")","v":{"$error":"#REF!"}}]
[null,null,null,null,null,null,null,null,{"$f":"IF(H70=INDIRECT(\"Word回答!B\"&(RIGHT(CELL(\"filename\",$A$1),LEN(CELL(\"filename\",$A$1))-FIND(\"]\",CELL(\"filename\",$A$1)))+1)),\"OK\",\"NG\")","v":{"$error":"#REF!"}}]
[null,null,null,null,null,null,null,null,{"$f":"IF(COUNTIF($I$2:$I$12,\"OK\")=11,1,0)","v":0}]

{"sheet":"15","index":24,"n_rows":71,"n_cols":9,"rows_kept":71,"cut":false,"hidden":false,"merged":[[7,1,7,3],[8,1,8,3],[9,1,9,3],[1,1,1,3],[2,1,2,3],[3,1,3,3],[4,1,4,3],[5,1,5,3],[6,1,6,3]]}
["項目","回答"]
["①",null,null,null,null,null,null,{"$f":"VLOOKUP(B2,$B$14:$C$23,2,0)","v":{"$error":"#N/A"}},{"$f":"IF(B2=\"\",\"NG\",IF(H2=INDIRECT(\"Word回答取込!\"&CHAR(66+ROW(A1)-1)&(RIGHT(CELL(\"filename\",$A$1),LEN(CELL(\"filename\",$A$1))-FIND(\"]\",CELL(\"filename\",$A$1)))+1)),\"OK\",\"NG\"))","v":"NG"}]
["②",null,null,null,null,null,null,{"$f":"VLOOKUP(B3,$B$25:$C$31,2,0)","v":{"$error":"#N/A"}},{"$f":"IF(B3=\"\",\"NG\",IF(H3=INDIRECT(\"Word回答取込!\"&CHAR(66+ROW(A2)-1)&(RIGHT(CELL(\"filename\",$A$1),LEN(CELL(\"filename\",$A$1))-FIND(\"]\",CELL(\"filename\",$A$1)))+1)),\"OK\",\"NG\"))","v":"NG"}]
["③",null,null,null,null,null,null,{"$f":"B4","v":0},"NG"]
["④",null,null,null,null,null,null,{"$f":"B5","v":0},"NG"]
["⑤",null,null,null,null,null,null,{"$f":"B6","v":0},"NG"]
["⑥",null,null,null,null,null,null,{"$f":"VLOOKUP(B7,$B$33:$C$39,2,0)","v":{"$error":"#N/A"}},"NG"]
["⑦",null,null,null,null,null,null,{"$f":"VLOOKUP(B8,$B$41:$C$48,2,0)","v":{"$error":"#N/A"}},"NG"]
["⑧",null,null,null,null,null,null,{"$f":"B9","v":0},"NG"]
["⑨",null,null,null,null,null,null,{"$f":"B10","v":0},"NG"]
[null,null,null,null,null,null,null,null,"NG"]
[null,null,null,null,null,null,null,null,"NG"]
[null,null,null,null,null,null,null,null,{"$f":"IF(H13=INDIRECT(\"Word回答!B\"&(RIGHT(CELL(\"filename\",$A$1),LEN(CELL(\"filename\",$A$1))-FIND(\"]\",CELL(\"filename\",$A$1)))+1)),\"OK\",\"NG\")","v":{"$error":"#REF!"}}]
["①","1. ほぼ毎日",1,null,null,null,null,null,{"$error":"#REF!"}]
[null,"2. 週4～5回",2,null,null,null,null,null,{"$error":"#REF!"}]
[null,"3. 週2～3回",3,null,null,null,null,null,{"$error":"#REF!"}]
[null,"4. 週1回",4,null,null,null,null,null,{"$error":"#REF!"}]
[null,"5. 月2～3回",5,null,null,null,null,null,{"$error":"#REF!"}]
[null,"6. 月1回程度",6,null,null,null,null,null,{"$error":"#REF!"}]
[null,"7. 半年に2～3回",7,null,null,null,null,null,{"$error":"#REF!"}]
[null,"8. 半年に1回",8,null,null,null,null,null,{"$error":"#REF!"}]
[null,"9. 年1回程度",9,null,null,null,null,null,{"$error":"#REF!"}]
[null,"10. 今回が初めて",10,null,null,null,null,null,{"$error":"#REF!"}]
[null,null,null,null,null,null,null,null,{"$error":"#REF!"}]
["②","1. 1人",1,null,null,null,null,null,{"$error":"#REF!"}]
[null,"2. 子供連れ家族",2,null,null,null,null,null,{"$error":"#REF!"}]
[null,"3. 夫婦",3,null,null,null,null,null,{"$error":"#REF!"}]
[null,"4. 友人",4,null,null,null,null,null,{"$error":"#REF!"}]
[null,"5. 仕事関係者",5,null,null,null,null,null,{"$error":"#REF!"}]
[null,"6. 恋人",6,null,null,null,null,null,{"$error":"#REF!"}]
[null,"7. その他",7,null,null,null,null,null,{"$error":"#REF!"}]
[null,null,null,null,null,null,null,null,{"$error":"#REF!"}]
["⑥","1. 10代",1,null,null,null,null,null,{"$error":"#REF!"}]
[null,"2. 20代",2,null,null,null,null,null,{"$error":"#REF!"}]
[null,"3. 30代",3,null,null,null,null,null,{"$error":"#REF!"}]
[null,"4. 40代",4,null,null,null,null,null,{"$error":"#REF!"}]
[null,"5. 50代",5,null,null,null,null,null,{"$error":"#REF!"}]
[null,"6. 60代",6,null,null,null,null,null,{"$error":"#REF!"}]
[null,"7. 70歳以上",7,null,null,null,null,null,{"$error":"#REF!"}]
[null,null,null,null,null,null,null,null,{"$error":"#REF!"}]
["⑦","1. 中高生",1,null,null,null,null,null,{"$error":"#REF!"}]
[null,"2. 短・専・大",2,null,null,null,null,null,{"$error":"#REF!"}]
[null,"3. 事務職",3,null,null,null,null,null,{"$error":"#REF!"}]
[null,"4. 販売・サービス業",4,null,null,null,null,null,{"$error":"#REF!"}]
[null,"5. 建設業",5,null,null,null,null,null,{"$error":"#REF!"}]
[null,"6. 主婦・主夫",6,null,null,null,null,null,{"$error":"#REF!"}]
[null,"7. 無職",7,null,null,null,null,null,{"$error":"#REF!"}]
[null,"8. その他",8,null,null,null,null,null,{"$error":"#REF!"}]
[null,null,null,null,null,null,null,null,{"$error":"#REF!"}]
[null,null,null,null,null,null,null,null,{"$error":"#REF!"}]
[null,null,null,null,null,null,null,null,{"$error":"#REF!"}]
[null,null,null,null,null,null,null,null,{"$error":"#REF!"}]
[null,null,null,null,null,null,null,null,{"$error":"#REF!"}]
[null,null,null,null,null,null,null,null,{"$error":"#REF!"}]
[null,null,null,null,null,null,null,null,{"$error":"#REF!"}]
[null,null,null,null,null,null,null,null,{"$error":"#REF!"}]
[null,null,null,null,null,null,null,null,{"$error":"#REF!"}]
[null,null,null,null,null,null,null,null,{"$error":"#REF!"}]
[null,null,null,null,null,null,null,null,{"$error":"#REF!"}]
[null,null,null,null,null,null,null,null,{"$error":"#REF!"}]
[null,null,null,null,null,null,null,null,{"$error":"#REF!"}]
[null,null,null,null,null,null,null,null,{"$error":"#REF!"}]
[null,null,null,null,null,null,null,null,{"$error":"#REF!"}]
[null,null,null,null,null,null,null,null,{"$error":"#REF!"}]
[null,null,null,null,null,null,null,null,{"$error":"#REF!"}]
[null,null,null,null,null,null,null,null,{"$error":"#REF!"}]
[null,null,null,null,null,null,null,null,{"$f":"IF(H67=INDIRECT(\"Word回答!B\"&(RIGHT(CELL(\"filename\",$A$1),LEN(CELL(\"filename\",$A$1))-FIND(\"]\",CELL(\"filename\",$A$1)))+1)),\"OK\",\"NG\")","v":{"$error":"#REF!"}}]
[null,null,null,null,null,null,null,null,{"$f":"IF(H68=INDIRECT(\"Word回答!B\"&(RIGHT(CELL(\"filename\",$A$1),LEN(CELL(\"filename\",$A$1))-FIND(\"]\",CELL(\"filename\",$A$1)))+1)),\"OK\",\"NG\")","v":{"$error":"#REF!"}}]
[null,null,null,null,null,null,null,null,{"$f":"IF(H69=INDIRECT(\"Word回答!B\"&(RIGHT(CELL(\"filename\",$A$1),LEN(CELL(\"filename\",$A$1))-FIND(\"]\",CELL(\"filename\",$A$1)))+1)),\"OK\",\"NG\")","v":{"$error":"#REF!"}}]
[null,null,null,null,null,null,null,null,{"$f":"IF(H70=INDIRECT(\"Word回答!B\"&(RIGHT(CELL(\"filename\",$A$1),LEN(CELL(\"filename\",$A$1))-FIND(\"]\",CELL(\"filename\",$A$1)))+1)),\"OK\",\"NG\")","v":{"$error":"#REF!"}}]
[null,null,null,null,null,null,null,null,{"$f":"IF(COUNTIF($I$2:$I$12,\"OK\")=11,1,0)","v":0}]

{"sheet":"16","index":25,"n_rows":71,"n_cols":9,"rows_kept":71,"cut":false,"hidden":false,"merged":[[7,1,7,3],[8,1,8,3],[9,1,9,3],[1,1,1,3],[2,1,2,3],[3,1,3,3],[4,1,4,3],[5,1,5,3],[6,1,6,3]]}
["項目","回答"]
["①",null,null,null,null,null,null,{"$f":"VLOOKUP(B2,$B$14:$C$23,2,0)","v":{"$error":"#N/A"}},{"$f":"IF(B2=\"\",\"NG\",IF(H2=INDIRECT(\"Word回答取込!\"&CHAR(66+ROW(A1)-1)&(RIGHT(CELL(\"filename\",$A$1),LEN(CELL(\"filename\",$A$1))-FIND(\"]\",CELL(\"filename\",$A$1)))+1)),\"OK\",\"NG\"))","v":"NG"}]
["②",null,null,null,null,null,null,{"$f":"VLOOKUP(B3,$B$25:$C$31,2,0)","v":{"$error":"#N/A"}},{"$f":"IF(B3=\"\",\"NG\",IF(H3=INDIRECT(\"Word回答取込!\"&CHAR(66+ROW(A2)-1)&(RIGHT(CELL(\"filename\",$A$1),LEN(CELL(\"filename\",$A$1))-FIND(\"]\",CELL(\"filename\",$A$1)))+1)),\"OK\",\"NG\"))","v":"NG"}]
["③",null,null,null,null,null,null,{"$f":"B4","v":0},"NG"]
["④",null,null,null,null,null,null,{"$f":"B5","v":0},"NG"]
["⑤",null,null,null,null,null,null,{"$f":"B6","v":0},"NG"]
["⑥",null,null,null,null,null,null,{"$f":"VLOOKUP(B7,$B$33:$C$39,2,0)","v":{"$error":"#N/A"}},"NG"]
["⑦",null,null,null,null,null,null,{"$f":"VLOOKUP(B8,$B$41:$C$48,2,0)","v":{"$error":"#N/A"}},"NG"]
["⑧",null,null,null,null,null,null,{"$f":"B9","v":0},"NG"]
["⑨",null,null,null,null,null,null,{"$f":"B10","v":0},"NG"]
[null,null,null,null,null,null,null,null,"NG"]
[null,null,null,null,null,null,null,null,"NG"]
[null,null,null,null,null,null,null,null,{"$f":"IF(H13=INDIRECT(\"Word回答!B\"&(RIGHT(CELL(\"filename\",$A$1),LEN(CELL(\"filename\",$A$1))-FIND(\"]\",CELL(\"filename\",$A$1)))+1)),\"OK\",\"NG\")","v":{"$error":"#REF!"}}]
["①","1. ほぼ毎日",1,null,null,null,null,null,{"$error":"#REF!"}]
[null,"2. 週4～5回",2,null,null,null,null,null,{"$error":"#REF!"}]
[null,"3. 週2～3回",3,null,null,null,null,null,{"$error":"#REF!"}]
[null,"4. 週1回",4,null,null,null,null,null,{"$error":"#REF!"}]
[null,"5. 月2～3回",5,null,null,null,null,null,{"$error":"#REF!"}]
[null,"6. 月1回程度",6,null,null,null,null,null,{"$error":"#REF!"}]
[null,"7. 半年に2～3回",7,null,null,null,null,null,{"$error":"#REF!"}]
[null,"8. 半年に1回",8,null,null,null,null,null,{"$error":"#REF!"}]
[null,"9. 年1回程度",9,null,null,null,null,null,{"$error":"#REF!"}]
[null,"10. 今回が初めて",10,null,null,null,null,null,{"$error":"#REF!"}]
[null,null,null,null,null,null,null,null,{"$error":"#REF!"}]
["②","1. 1人",1,null,null,null,null,null,{"$error":"#REF!"}]
[null,"2. 子供連れ家族",2,null,null,null,null,null,{"$error":"#REF!"}]
[null,"3. 夫婦",3,null,null,null,null,null,{"$error":"#REF!"}]
[null,"4. 友人",4,null,null,null,null,null,{"$error":"#REF!"}]
[null,"5. 仕事関係者",5,null,null,null,null,null,{"$error":"#REF!"}]
[null,"6. 恋人",6,null,null,null,null,null,{"$error":"#REF!"}]
[null,"7. その他",7,null,null,null,null,null,{"$error":"#REF!"}]
[null,null,null,null,null,null,null,null,{"$error":"#REF!"}]
["⑥","1. 10代",1,null,null,null,null,null,{"$error":"#REF!"}]
[null,"2. 20代",2,null,null,null,null,null,{"$error":"#REF!"}]
[null,"3. 30代",3,null,null,null,null,null,{"$error":"#REF!"}]
[null,"4. 40代",4,null,null,null,null,null,{"$error":"#REF!"}]
[null,"5. 50代",5,null,null,null,null,null,{"$error":"#REF!"}]
[null,"6. 60代",6,null,null,null,null,null,{"$error":"#REF!"}]
[null,"7. 70歳以上",7,null,null,null,null,null,{"$error":"#REF!"}]
[null,null,null,null,null,null,null,null,{"$error":"#REF!"}]
["⑦","1. 中高生",1,null,null,null,null,null,{"$error":"#REF!"}]
[null,"2. 短・専・大",2,null,null,null,null,null,{"$error":"#REF!"}]
[null,"3. 事務職",3,null,null,null,null,null,{"$error":"#REF!"}]
[null,"4. 販売・サービス業",4,null,null,null,null,null,{"$error":"#REF!"}]
[null,"5. 建設業",5,null,null,null,null,null,{"$error":"#REF!"}]
[null,"6. 主婦・主夫",6,null,null,null,null,null,{"$error":"#REF!"}]
[null,"7. 無職",7,null,null,null,null,null,{"$error":"#REF!"}]
[null,"8. その他",8,null,null,null,null,null,{"$error":"#REF!"}]
[null,null,null,null,null,null,null,null,{"$error":"#REF!"}]
[null,null,null,null,null,null,null,null,{"$error":"#REF!"}]
[null,null,null,null,null,null,null,null,{"$error":"#REF!"}]
[null,null,null,null,null,null,null,null,{"$error":"#REF!"}]
[null,null,null,null,null,null,null,null,{"$error":"#REF!"}]
[null,null,null,null,null,null,null,null,{"$error":"#REF!"}]
[null,null,null,null,null,null,null,null,{"$error":"#REF!"}]
[null,null,null,null,null,null,null,null,{"$error":"#REF!"}]
[null,null,null,null,null,null,null,null,{"$error":"#REF!"}]
[null,null,null,null,null,null,null,null,{"$error":"#REF!"}]
[null,null,null,null,null,null,null,null,{"$error":"#REF!"}]
[null,null,null,null,null,null,null,null,{"$error":"#REF!"}]
[null,null,null,null,null,null,null,null,{"$error":"#REF!"}]
[null,null,null,null,null,null,null,null,{"$error":"#REF!"}]
[null,null,null,null,null,null,null,null,{"$error":"#REF!"}]
[null,null,null,null,null,null,null,null,{"$error":"#REF!"}]
[null,null,null,null,null,null,null,null,{"$error":"#REF!"}]
[null,null,null,null,null,null,null,null,{"$error":"#REF!"}]
[null,null,null,null,null,null,null,null,{"$f":"IF(H67=INDIRECT(\"Word回答!B\"&(RIGHT(CELL(\"filename\",$A$1),LEN(CELL(\"filename\",$A$1))-FIND(\"]\",CELL(\"filename\",$A$1)))+1)),\"OK\",\"NG\")","v":{"$error":"#REF!"}}]
[null,null,null,null,null,null,null,null,{"$f":"IF(H68=INDIRECT(\"Word回答!B\"&(RIGHT(CELL(\"filename\",$A$1),LEN(CELL(\"filename\",$A$1))-FIND(\"]\",CELL(\"filename\",$A$1)))+1)),\"OK\",\"NG\")","v":{"$error":"#REF!"}}]
[null,null,null,null,null,null,null,null,{"$f":"IF(H69=INDIRECT(\"Word回答!B\"&(RIGHT(CELL(\"filename\",$A$1),LEN(CELL(\"filename\",$A$1))-FIND(\"]\",CELL(\"filename\",$A$1)))+1)),\"OK\",\"NG\")","v":{"$error":"#REF!"}}]
[null,null,null,null,null,null,null,null,{"$f":"IF(H70=INDIRECT(\"Word回答!B\"&(RIGHT(CELL(\"filename\",$A$1),LEN(CELL(\"filename\",$A$1))-FIND(\"]\",CELL(\"filename\",$A$1)))+1)),\"OK\",\"NG\")","v":{"$error":"#REF!"}}]
[null,null,null,null,null,null,null,null,{"$f":"IF(COUNTIF($I$2:$I$12,\"OK\")=11,1,0)","v":0}]

{"sheet":"17","index":26,"n_rows":71,"n_cols":9,"rows_kept":71,"cut":false,"hidden":false,"merged":[[7,1,7,3],[8,1,8,3],[9,1,9,3],[1,1,1,3],[2,1,2,3],[3,1,3,3],[4,1,4,3],[5,1,5,3],[6,1,6,3]]}
["項目","回答"]
["①",null,null,null,null,null,null,{"$f":"VLOOKUP(B2,$B$14:$C$23,2,0)","v":{"$error":"#N/A"}},{"$f":"IF(B2=\"\",\"NG\",IF(H2=INDIRECT(\"Word回答取込!\"&CHAR(66+ROW(A1)-1)&(RIGHT(CELL(\"filename\",$A$1),LEN(CELL(\"filename\",$A$1))-FIND(\"]\",CELL(\"filename\",$A$1)))+1)),\"OK\",\"NG\"))","v":"NG"}]
["②",null,null,null,null,null,null,{"$f":"VLOOKUP(B3,$B$25:$C$31,2,0)","v":{"$error":"#N/A"}},{"$f":"IF(B3=\"\",\"NG\",IF(H3=INDIRECT(\"Word回答取込!\"&CHAR(66+ROW(A2)-1)&(RIGHT(CELL(\"filename\",$A$1),LEN(CELL(\"filename\",$A$1))-FIND(\"]\",CELL(\"filename\",$A$1)))+1)),\"OK\",\"NG\"))","v":"NG"}]
["③",null,null,null,null,null,null,{"$f":"B4","v":0},"NG"]
["④",null,null,null,null,null,null,{"$f":"B5","v":0},"NG"]
["⑤",null,null,null,null,null,null,{"$f":"B6","v":0},"NG"]
["⑥",null,null,null,null,null,null,{"$f":"VLOOKUP(B7,$B$33:$C$39,2,0)","v":{"$error":"#N/A"}},"NG"]
["⑦",null,null,null,null,null,null,{"$f":"VLOOKUP(B8,$B$41:$C$48,2,0)","v":{"$error":"#N/A"}},"NG"]
["⑧",null,null,null,null,null,null,{"$f":"B9","v":0},"NG"]
["⑨",null,null,null,null,null,null,{"$f":"B10","v":0},"NG"]
[null,null,null,null,null,null,null,null,"NG"]
[null,null,null,null,null,null,null,null,"NG"]
[null,null,null,null,null,null,null,null,{"$f":"IF(H13=INDIRECT(\"Word回答!B\"&(RIGHT(CELL(\"filename\",$A$1),LEN(CELL(\"filename\",$A$1))-FIND(\"]\",CELL(\"filename\",$A$1)))+1)),\"OK\",\"NG\")","v":{"$error":"#REF!"}}]
["①","1. ほぼ毎日",1,null,null,null,null,null,{"$error":"#REF!"}]
[null,"2. 週4～5回",2,null,null,null,null,null,{"$error":"#REF!"}]
[null,"3. 週2～3回",3,null,null,null,null,null,{"$error":"#REF!"}]
[null,"4. 週1回",4,null,null,null,null,null,{"$error":"#REF!"}]
[null,"5. 月2～3回",5,null,null,null,null,null,{"$error":"#REF!"}]
[null,"6. 月1回程度",6,null,null,null,null,null,{"$error":"#REF!"}]
[null,"7. 半年に2～3回",7,null,null,null,null,null,{"$error":"#REF!"}]
[null,"8. 半年に1回",8,null,null,null,null,null,{"$error":"#REF!"}]
[null,"9. 年1回程度",9,null,null,null,null,null,{"$error":"#REF!"}]
[null,"10. 今回が初めて",10,null,null,null,null,null,{"$error":"#REF!"}]
[null,null,null,null,null,null,null,null,{"$error":"#REF!"}]
["②","1. 1人",1,null,null,null,null,null,{"$error":"#REF!"}]
[null,"2. 子供連れ家族",2,null,null,null,null,null,{"$error":"#REF!"}]
[null,"3. 夫婦",3,null,null,null,null,null,{"$error":"#REF!"}]
[null,"4. 友人",4,null,null,null,null,null,{"$error":"#REF!"}]
[null,"5. 仕事関係者",5,null,null,null,null,null,{"$error":"#REF!"}]
[null,"6. 恋人",6,null,null,null,null,null,{"$error":"#REF!"}]
[null,"7. その他",7,null,null,null,null,null,{"$error":"#REF!"}]
[null,null,null,null,null,null,null,null,{"$error":"#REF!"}]
["⑥","1. 10代",1,null,null,null,null,null,{"$error":"#REF!"}]
[null,"2. 20代",2,null,null,null,null,null,{"$error":"#REF!"}]
[null,"3. 30代",3,null,null,null,null,null,{"$error":"#REF!"}]
[null,"4. 40代",4,null,null,null,null,null,{"$error":"#REF!"}]
[null,"5. 50代",5,null,null,null,null,null,{"$error":"#REF!"}]
[null,"6. 60代",6,null,null,null,null,null,{"$error":"#REF!"}]
[null,"7. 70歳以上",7,null,null,null,null,null,{"$error":"#REF!"}]
[null,null,null,null,null,null,null,null,{"$error":"#REF!"}]
["⑦","1. 中高生",1,null,null,null,null,null,{"$error":"#REF!"}]
[null,"2. 短・専・大",2,null,null,null,null,null,{"$error":"#REF!"}]
[null,"3. 事務職",3,null,null,null,null,null,{"$error":"#REF!"}]
[null,"4. 販売・サービス業",4,null,null,null,null,null,{"$error":"#REF!"}]
[null,"5. 建設業",5,null,null,null,null,null,{"$error":"#REF!"}]
[null,"6. 主婦・主夫",6,null,null,null,null,null,{"$error":"#REF!"}]
[null,"7. 無職",7,null,null,null,null,null,{"$error":"#REF!"}]
[null,"8. その他",8,null,null,null,null,null,{"$error":"#REF!"}]
[null,null,null,null,null,null,null,null,{"$error":"#REF!"}]
[null,null,null,null,null,null,null,null,{"$error":"#REF!"}]
[null,null,null,null,null,null,null,null,{"$error":"#REF!"}]
[null,null,null,null,null,null,null,null,{"$error":"#REF!"}]
[null,null,null,null,null,null,null,null,{"$error":"#REF!"}]
[null,null,null,null,null,null,null,null,{"$error":"#REF!"}]
[null,null,null,null,null,null,null,null,{"$error":"#REF!"}]
[null,null,null,null,null,null,null,null,{"$error":"#REF!"}]
[null,null,null,null,null,null,null,null,{"$error":"#REF!"}]
[null,null,null,null,null,null,null,null,{"$error":"#REF!"}]
[null,null,null,null,null,null,null,null,{"$error":"#REF!"}]
[null,null,null,null,null,null,null,null,{"$error":"#REF!"}]
[null,null,null,null,null,null,null,null,{"$error":"#REF!"}]
[null,null,null,null,null,null,null,null,{"$error":"#REF!"}]
[null,null,null,null,null,null,null,null,{"$error":"#REF!"}]
[null,null,null,null,null,null,null,null,{"$error":"#REF!"}]
[null,null,null,null,null,null,null,null,{"$error":"#REF!"}]
[null,null,null,null,null,null,null,null,{"$error":"#REF!"}]
[null,null,null,null,null,null,null,null,{"$f":"IF(H67=INDIRECT(\"Word回答!B\"&(RIGHT(CELL(\"filename\",$A$1),LEN(CELL(\"filename\",$A$1))-FIND(\"]\",CELL(\"filename\",$A$1)))+1)),\"OK\",\"NG\")","v":{"$error":"#REF!"}}]
[null,null,null,null,null,null,null,null,{"$f":"IF(H68=INDIRECT(\"Word回答!B\"&(RIGHT(CELL(\"filename\",$A$1),LEN(CELL(\"filename\",$A$1))-FIND(\"]\",CELL(\"filename\",$A$1)))+1)),\"OK\",\"NG\")","v":{"$error":"#REF!"}}]
[null,null,null,null,null,null,null,null,{"$f":"IF(H69=INDIRECT(\"Word回答!B\"&(RIGHT(CELL(\"filename\",$A$1),LEN(CELL(\"filename\",$A$1))-FIND(\"]\",CELL(\"filename\",$A$1)))+1)),\"OK\",\"NG\")","v":{"$error":"#REF!"}}]
[null,null,null,null,null,null,null,null,{"$f":"IF(H70=INDIRECT(\"Word回答!B\"&(RIGHT(CELL(\"filename\",$A$1),LEN(CELL(\"filename\",$A$1))-FIND(\"]\",CELL(\"filename\",$A$1)))+1)),\"OK\",\"NG\")","v":{"$error":"#REF!"}}]
[null,null,null,null,null,null,null,null,{"$f":"IF(COUNTIF($I$2:$I$12,\"OK\")=11,1,0)","v":0}]

{"sheet":"18","index":27,"n_rows":71,"n_cols":9,"rows_kept":71,"cut":false,"hidden":false,"merged":[[7,1,7,3],[8,1,8,3],[9,1,9,3],[1,1,1,3],[2,1,2,3],[3,1,3,3],[4,1,4,3],[5,1,5,3],[6,1,6,3]]}
["項目","回答"]
["①",null,null,null,null,null,null,{"$f":"VLOOKUP(B2,$B$14:$C$23,2,0)","v":{"$error":"#N/A"}},{"$f":"IF(B2=\"\",\"NG\",IF(H2=INDIRECT(\"Word回答取込!\"&CHAR(66+ROW(A1)-1)&(RIGHT(CELL(\"filename\",$A$1),LEN(CELL(\"filename\",$A$1))-FIND(\"]\",CELL(\"filename\",$A$1)))+1)),\"OK\",\"NG\"))","v":"NG"}]
["②",null,null,null,null,null,null,{"$f":"VLOOKUP(B3,$B$25:$C$31,2,0)","v":{"$error":"#N/A"}},{"$f":"IF(B3=\"\",\"NG\",IF(H3=INDIRECT(\"Word回答取込!\"&CHAR(66+ROW(A2)-1)&(RIGHT(CELL(\"filename\",$A$1),LEN(CELL(\"filename\",$A$1))-FIND(\"]\",CELL(\"filename\",$A$1)))+1)),\"OK\",\"NG\"))","v":"NG"}]
["③",null,null,null,null,null,null,{"$f":"B4","v":0},"NG"]
["④",null,null,null,null,null,null,{"$f":"B5","v":0},"NG"]
["⑤",null,null,null,null,null,null,{"$f":"B6","v":0},"NG"]
["⑥",null,null,null,null,null,null,{"$f":"VLOOKUP(B7,$B$33:$C$39,2,0)","v":{"$error":"#N/A"}},"NG"]
["⑦",null,null,null,null,null,null,{"$f":"VLOOKUP(B8,$B$41:$C$48,2,0)","v":{"$error":"#N/A"}},"NG"]
["⑧",null,null,null,null,null,null,{"$f":"B9","v":0},"NG"]
["⑨",null,null,null,null,null,null,{"$f":"B10","v":0},"NG"]
[null,null,null,null,null,null,null,null,"NG"]
[null,null,null,null,null,null,null,null,"NG"]
[null,null,null,null,null,null,null,null,{"$f":"IF(H13=INDIRECT(\"Word回答!B\"&(RIGHT(CELL(\"filename\",$A$1),LEN(CELL(\"filename\",$A$1))-FIND(\"]\",CELL(\"filename\",$A$1)))+1)),\"OK\",\"NG\")","v":{"$error":"#REF!"}}]
["①","1. ほぼ毎日",1,null,null,null,null,null,{"$error":"#REF!"}]
[null,"2. 週4～5回",2,null,null,null,null,null,{"$error":"#REF!"}]
[null,"3. 週2～3回",3,null,null,null,null,null,{"$error":"#REF!"}]
[null,"4. 週1回",4,null,null,null,null,null,{"$error":"#REF!"}]
[null,"5. 月2～3回",5,null,null,null,null,null,{"$error":"#REF!"}]
[null,"6. 月1回程度",6,null,null,null,null,null,{"$error":"#REF!"}]
[null,"7. 半年に2～3回",7,null,null,null,null,null,{"$error":"#REF!"}]
[null,"8. 半年に1回",8,null,null,null,null,null,{"$error":"#REF!"}]
[null,"9. 年1回程度",9,null,null,null,null,null,{"$error":"#REF!"}]
[null,"10. 今回が初めて",10,null,null,null,null,null,{"$error":"#REF!"}]
[null,null,null,null,null,null,null,null,{"$error":"#REF!"}]
["②","1. 1人",1,null,null,null,null,null,{"$error":"#REF!"}]
[null,"2. 子供連れ家族",2,null,null,null,null,null,{"$error":"#REF!"}]
[null,"3. 夫婦",3,null,null,null,null,null,{"$error":"#REF!"}]
[null,"4. 友人",4,null,null,null,null,null,{"$error":"#REF!"}]
[null,"5. 仕事関係者",5,null,null,null,null,null,{"$error":"#REF!"}]
[null,"6. 恋人",6,null,null,null,null,null,{"$error":"#REF!"}]
[null,"7. その他",7,null,null,null,null,null,{"$error":"#REF!"}]
[null,null,null,null,null,null,null,null,{"$error":"#REF!"}]
["⑥","1. 10代",1,null,null,null,null,null,{"$error":"#REF!"}]
[null,"2. 20代",2,null,null,null,null,null,{"$error":"#REF!"}]
[null,"3. 30代",3,null,null,null,null,null,{"$error":"#REF!"}]
[null,"4. 40代",4,null,null,null,null,null,{"$error":"#REF!"}]
[null,"5. 50代",5,null,null,null,null,null,{"$error":"#REF!"}]
[null,"6. 60代",6,null,null,null,null,null,{"$error":"#REF!"}]
[null,"7. 70歳以上",7,null,null,null,null,null,{"$error":"#REF!"}]
[null,null,null,null,null,null,null,null,{"$error":"#REF!"}]
["⑦","1. 中高生",1,null,null,null,null,null,{"$error":"#REF!"}]
[null,"2. 短・専・大",2,null,null,null,null,null,{"$error":"#REF!"}]
[null,"3. 事務職",3,null,null,null,null,null,{"$error":"#REF!"}]
[null,"4. 販売・サービス業",4,null,null,null,null,null,{"$error":"#REF!"}]
[null,"5. 建設業",5,null,null,null,null,null,{"$error":"#REF!"}]
[null,"6. 主婦・主夫",6,null,null,null,null,null,{"$error":"#REF!"}]
[null,"7. 無職",7,null,null,null,null,null,{"$error":"#REF!"}]
[null,"8. その他",8,null,null,null,null,null,{"$error":"#REF!"}]
[null,null,null,null,null,null,null,null,{"$error":"#REF!"}]
[null,null,null,null,null,null,null,null,{"$error":"#REF!"}]
[null,null,null,null,null,null,null,null,{"$error":"#REF!"}]
[null,null,null,null,null,null,null,null,{"$error":"#REF!"}]
[null,null,null,null,null,null,null,null,{"$error":"#REF!"}]
[null,null,null,null,null,null,null,null,{"$error":"#REF!"}]
[null,null,null,null,null,null,null,null,{"$error":"#REF!"}]
[null,null,null,null,null,null,null,null,{"$error":"#REF!"}]
[null,null,null,null,null,null,null,null,{"$error":"#REF!"}]
[null,null,null,null,null,null,null,null,{"$error":"#REF!"}]
[null,null,null,null,null,null,null,null,{"$error":"#REF!"}]
[null,null,null,null,null,null,null,null,{"$error":"#REF!"}]
[null,null,null,null,null,null,null,null,{"$error":"#REF!"}]
[null,null,null,null,null,null,null,null,{"$error":"#REF!"}]
[null,null,null,null,null,null,null,null,{"$error":"#REF!"}]
[null,null,null,null,null,null,null,null,{"$error":"#REF!"}]
[null,null,null,null,null,null,null,null,{"$error":"#REF!"}]
[null,null,null,null,null,null,null,null,{"$error":"#REF!"}]
[null,null,null,null,null,null,null,null,{"$f":"IF(H67=INDIRECT(\"Word回答!B\"&(RIGHT(CELL(\"filename\",$A$1),LEN(CELL(\"filename\",$A$1))-FIND(\"]\",CELL(\"filename\",$A$1)))+1)),\"OK\",\"NG\")","v":{"$error":"#REF!"}}]
[null,null,null,null,null,null,null,null,{"$f":"IF(H68=INDIRECT(\"Word回答!B\"&(RIGHT(CELL(\"filename\",$A$1),LEN(CELL(\"filename\",$A$1))-FIND(\"]\",CELL(\"filename\",$A$1)))+1)),\"OK\",\"NG\")","v":{"$error":"#REF!"}}]
[null,null,null,null,null,null,null,null,{"$f":"IF(H69=INDIRECT(\"Word回答!B\"&(RIGHT(CELL(\"filename\",$A$1),LEN(CELL(\"filename\",$A$1))-FIND(\"]\",CELL(\"filename\",$A$1)))+1)),\"OK\",\"NG\")","v":{"$error":"#REF!"}}]
[null,null,null,null,null,null,null,null,{"$f":"IF(H70=INDIRECT(\"Word回答!B\"&(RIGHT(CELL(\"filename\",$A$1),LEN(CELL(\"filename\",$A$1))-FIND(\"]\",CELL(\"filename\",$A$1)))+1)),\"OK\",\"NG\")","v":{"$error":"#REF!"}}]
[null,null,null,null,null,null,null,null,{"$f":"IF(COUNTIF($I$2:$I$12,\"OK\")=11,1,0)","v":0}]

{"sheet":"19","index":28,"n_rows":71,"n_cols":9,"rows_kept":71,"cut":false,"hidden":false,"merged":[[7,1,7,3],[8,1,8,3],[9,1,9,3],[1,1,1,3],[2,1,2,3],[3,1,3,3],[4,1,4,3],[5,1,5,3],[6,1,6,3]]}
["項目","回答"]
["①",null,null,null,null,null,null,{"$f":"VLOOKUP(B2,$B$14:$C$23,2,0)","v":{"$error":"#N/A"}},{"$f":"IF(B2=\"\",\"NG\",IF(H2=INDIRECT(\"Word回答取込!\"&CHAR(66+ROW(A1)-1)&(RIGHT(CELL(\"filename\",$A$1),LEN(CELL(\"filename\",$A$1))-FIND(\"]\",CELL(\"filename\",$A$1)))+1)),\"OK\",\"NG\"))","v":"NG"}]
["②",null,null,null,null,null,null,{"$f":"VLOOKUP(B3,$B$25:$C$31,2,0)","v":{"$error":"#N/A"}},{"$f":"IF(B3=\"\",\"NG\",IF(H3=INDIRECT(\"Word回答取込!\"&CHAR(66+ROW(A2)-1)&(RIGHT(CELL(\"filename\",$A$1),LEN(CELL(\"filename\",$A$1))-FIND(\"]\",CELL(\"filename\",$A$1)))+1)),\"OK\",\"NG\"))","v":"NG"}]
["③",null,null,null,null,null,null,{"$f":"B4","v":0},"NG"]
["④",null,null,null,null,null,null,{"$f":"B5","v":0},"NG"]
["⑤",null,null,null,null,null,null,{"$f":"B6","v":0},"NG"]
["⑥",null,null,null,null,null,null,{"$f":"VLOOKUP(B7,$B$33:$C$39,2,0)","v":{"$error":"#N/A"}},"NG"]
["⑦",null,null,null,null,null,null,{"$f":"VLOOKUP(B8,$B$41:$C$48,2,0)","v":{"$error":"#N/A"}},"NG"]
["⑧",null,null,null,null,null,null,{"$f":"B9","v":0},"NG"]
["⑨",null,null,null,null,null,null,{"$f":"B10","v":0},"NG"]
[null,null,null,null,null,null,null,null,"NG"]
[null,null,null,null,null,null,null,null,"NG"]
[null,null,null,null,null,null,null,null,{"$f":"IF(H13=INDIRECT(\"Word回答!B\"&(RIGHT(CELL(\"filename\",$A$1),LEN(CELL(\"filename\",$A$1))-FIND(\"]\",CELL(\"filename\",$A$1)))+1)),\"OK\",\"NG\")","v":{"$error":"#REF!"}}]
["①","1. ほぼ毎日",1,null,null,null,null,null,{"$error":"#REF!"}]
[null,"2. 週4～5回",2,null,null,null,null,null,{"$error":"#REF!"}]
[null,"3. 週2～3回",3,null,null,null,null,null,{"$error":"#REF!"}]
[null,"4. 週1回",4,null,null,null,null,null,{"$error":"#REF!"}]
[null,"5. 月2～3回",5,null,null,null,null,null,{"$error":"#REF!"}]
[null,"6. 月1回程度",6,null,null,null,null,null,{"$error":"#REF!"}]
[null,"7. 半年に2～3回",7,null,null,null,null,null,{"$error":"#REF!"}]
[null,"8. 半年に1回",8,null,null,null,null,null,{"$error":"#REF!"}]
[null,"9. 年1回程度",9,null,null,null,null,null,{"$error":"#REF!"}]
[null,"10. 今回が初めて",10,null,null,null,null,null,{"$error":"#REF!"}]
[null,null,null,null,null,null,null,null,{"$error":"#REF!"}]
["②","1. 1人",1,null,null,null,null,null,{"$error":"#REF!"}]
[null,"2. 子供連れ家族",2,null,null,null,null,null,{"$error":"#REF!"}]
[null,"3. 夫婦",3,null,null,null,null,null,{"$error":"#REF!"}]
[null,"4. 友人",4,null,null,null,null,null,{"$error":"#REF!"}]
[null,"5. 仕事関係者",5,null,null,null,null,null,{"$error":"#REF!"}]
[null,"6. 恋人",6,null,null,null,null,null,{"$error":"#REF!"}]
[null,"7. その他",7,null,null,null,null,null,{"$error":"#REF!"}]
[null,null,null,null,null,null,null,null,{"$error":"#REF!"}]
["⑥","1. 10代",1,null,null,null,null,null,{"$error":"#REF!"}]
[null,"2. 20代",2,null,null,null,null,null,{"$error":"#REF!"}]
[null,"3. 30代",3,null,null,null,null,null,{"$error":"#REF!"}]
[null,"4. 40代",4,null,null,null,null,null,{"$error":"#REF!"}]
[null,"5. 50代",5,null,null,null,null,null,{"$error":"#REF!"}]
[null,"6. 60代",6,null,null,null,null,null,{"$error":"#REF!"}]
[null,"7. 70歳以上",7,null,null,null,null,null,{"$error":"#REF!"}]
[null,null,null,null,null,null,null,null,{"$error":"#REF!"}]
["⑦","1. 中高生",1,null,null,null,null,null,{"$error":"#REF!"}]
[null,"2. 短・専・大",2,null,null,null,null,null,{"$error":"#REF!"}]
[null,"3. 事務職",3,null,null,null,null,null,{"$error":"#REF!"}]
[null,"4. 販売・サービス業",4,null,null,null,null,null,{"$error":"#REF!"}]
[null,"5. 建設業",5,null,null,null,null,null,{"$error":"#REF!"}]
[null,"6. 主婦・主夫",6,null,null,null,null,null,{"$error":"#REF!"}]
[null,"7. 無職",7,null,null,null,null,null,{"$error":"#REF!"}]
[null,"8. その他",8,null,null,null,null,null,{"$error":"#REF!"}]
[null,null,null,null,null,null,null,null,{"$error":"#REF!"}]
[null,null,null,null,null,null,null,null,{"$error":"#REF!"}]
[null,null,null,null,null,null,null,null,{"$error":"#REF!"}]
[null,null,null,null,null,null,null,null,{"$error":"#REF!"}]
[null,null,null,null,null,null,null,null,{"$error":"#REF!"}]
[null,null,null,null,null,null,null,null,{"$error":"#REF!"}]
[null,null,null,null,null,null,null,null,{"$error":"#REF!"}]
[null,null,null,null,null,null,null,null,{"$error":"#REF!"}]
[null,null,null,null,null,null,null,null,{"$error":"#REF!"}]
[null,null,null,null,null,null,null,null,{"$error":"#REF!"}]
[null,null,null,null,null,null,null,null,{"$error":"#REF!"}]
[null,null,null,null,null,null,null,null,{"$error":"#REF!"}]
[null,null,null,null,null,null,null,null,{"$error":"#REF!"}]
[null,null,null,null,null,null,null,null,{"$error":"#REF!"}]
[null,null,null,null,null,null,null,null,{"$error":"#REF!"}]
[null,null,null,null,null,null,null,null,{"$error":"#REF!"}]
[null,null,null,null,null,null,null,null,{"$error":"#REF!"}]
[null,null,null,null,null,null,null,null,{"$error":"#REF!"}]
[null,null,null,null,null,null,null,null,{"$f":"IF(H67=INDIRECT(\"Word回答!B\"&(RIGHT(CELL(\"filename\",$A$1),LEN(CELL(\"filename\",$A$1))-FIND(\"]\",CELL(\"filename\",$A$1)))+1)),\"OK\",\"NG\")","v":{"$error":"#REF!"}}]
[null,null,null,null,null,null,null,null,{"$f":"IF(H68=INDIRECT(\"Word回答!B\"&(RIGHT(CELL(\"filename\",$A$1),LEN(CELL(\"filename\",$A$1))-FIND(\"]\",CELL(\"filename\",$A$1)))+1)),\"OK\",\"NG\")","v":{"$error":"#REF!"}}]
[null,null,null,null,null,null,null,null,{"$f":"IF(H69=INDIRECT(\"Word回答!B\"&(RIGHT(CELL(\"filename\",$A$1),LEN(CELL(\"filename\",$A$1))-FIND(\"]\",CELL(\"filename\",$A$1)))+1)),\"OK\",\"NG\")","v":{"$error":"#REF!"}}]
[null,null,null,null,null,null,null,null,{"$f":"IF(H70=INDIRECT(\"Word回答!B\"&(RIGHT(CELL(\"filename\",$A$1),LEN(CELL(\"filename\",$A$1))-FIND(\"]\",CELL(\"filename\",$A$1)))+1)),\"OK\",\"NG\")","v":{"$error":"#REF!"}}]
[null,null,null,null,null,null,null,null,{"$f":"IF(COUNTIF($I$2:$I$12,\"OK\")=11,1,0)","v":0}]

{"sheet":"20","index":29,"n_rows":71,"n_cols":9,"rows_kept":71,"cut":false,"hidden":false,"merged":[[7,1,7,3],[8,1,8,3],[9,1,9,3],[1,1,1,3],[2,1,2,3],[3,1,3,3],[4,1,4,3],[5,1,5,3],[6,1,6,3]]}
["項目","回答"]
["①",null,null,null,null,null,null,{"$f":"VLOOKUP(B2,$B$14:$C$23,2,0)","v":{"$error":"#N/A"}},{"$f":"IF(B2=\"\",\"NG\",IF(H2=INDIRECT(\"Word回答取込!\"&CHAR(66+ROW(A1)-1)&(RIGHT(CELL(\"filename\",$A$1),LEN(CELL(\"filename\",$A$1))-FIND(\"]\",CELL(\"filename\",$A$1)))+1)),\"OK\",\"NG\"))","v":"NG"}]
["②",null,null,null,null,null,null,{"$f":"VLOOKUP(B3,$B$25:$C$31,2,0)","v":{"$error":"#N/A"}},{"$f":"IF(B3=\"\",\"NG\",IF(H3=INDIRECT(\"Word回答取込!\"&CHAR(66+ROW(A2)-1)&(RIGHT(CELL(\"filename\",$A$1),LEN(CELL(\"filename\",$A$1))-FIND(\"]\",CELL(\"filename\",$A$1)))+1)),\"OK\",\"NG\"))","v":"NG"}]
["③",null,null,null,null,null,null,{"$f":"B4","v":0},"NG"]
["④",null,null,null,null,null,null,{"$f":"B5","v":0},"NG"]
["⑤",null,null,null,null,null,null,{"$f":"B6","v":0},"NG"]
["⑥",null,null,null,null,null,null,{"$f":"VLOOKUP(B7,$B$33:$C$39,2,0)","v":{"$error":"#N/A"}},"NG"]
["⑦",null,null,null,null,null,null,{"$f":"VLOOKUP(B8,$B$41:$C$48,2,0)","v":{"$error":"#N/A"}},"NG"]
["⑧",null,null,null,null,null,null,{"$f":"B9","v":0},"NG"]
["⑨",null,null,null,null,null,null,{"$f":"B10","v":0},"NG"]
[null,null,null,null,null,null,null,null,"NG"]
[null,null,null,null,null,null,null,null,"NG"]
[null,null,null,null,null,null,null,null,{"$f":"IF(H13=INDIRECT(\"Word回答!B\"&(RIGHT(CELL(\"filename\",$A$1),LEN(CELL(\"filename\",$A$1))-FIND(\"]\",CELL(\"filename\",$A$1)))+1)),\"OK\",\"NG\")","v":{"$error":"#REF!"}}]
["①","1. ほぼ毎日",1,null,null,null,null,null,{"$error":"#REF!"}]
[null,"2. 週4～5回",2,null,null,null,null,null,{"$error":"#REF!"}]
[null,"3. 週2～3回",3,null,null,null,null,null,{"$error":"#REF!"}]
[null,"4. 週1回",4,null,null,null,null,null,{"$error":"#REF!"}]
[null,"5. 月2～3回",5,null,null,null,null,null,{"$error":"#REF!"}]
[null,"6. 月1回程度",6,null,null,null,null,null,{"$error":"#REF!"}]
[null,"7. 半年に2～3回",7,null,null,null,null,null,{"$error":"#REF!"}]
[null,"8. 半年に1回",8,null,null,null,null,null,{"$error":"#REF!"}]
[null,"9. 年1回程度",9,null,null,null,null,null,{"$error":"#REF!"}]
[null,"10. 今回が初めて",10,null,null,null,null,null,{"$error":"#REF!"}]
[null,null,null,null,null,null,null,null,{"$error":"#REF!"}]
["②","1. 1人",1,null,null,null,null,null,{"$error":"#REF!"}]
[null,"2. 子供連れ家族",2,null,null,null,null,null,{"$error":"#REF!"}]
[null,"3. 夫婦",3,null,null,null,null,null,{"$error":"#REF!"}]
[null,"4. 友人",4,null,null,null,null,null,{"$error":"#REF!"}]
[null,"5. 仕事関係者",5,null,null,null,null,null,{"$error":"#REF!"}]
[null,"6. 恋人",6,null,null,null,null,null,{"$error":"#REF!"}]
[null,"7. その他",7,null,null,null,null,null,{"$error":"#REF!"}]
[null,null,null,null,null,null,null,null,{"$error":"#REF!"}]
["⑥","1. 10代",1,null,null,null,null,null,{"$error":"#REF!"}]
[null,"2. 20代",2,null,null,null,null,null,{"$error":"#REF!"}]
[null,"3. 30代",3,null,null,null,null,null,{"$error":"#REF!"}]
[null,"4. 40代",4,null,null,null,null,null,{"$error":"#REF!"}]
[null,"5. 50代",5,null,null,null,null,null,{"$error":"#REF!"}]
[null,"6. 60代",6,null,null,null,null,null,{"$error":"#REF!"}]
[null,"7. 70歳以上",7,null,null,null,null,null,{"$error":"#REF!"}]
[null,null,null,null,null,null,null,null,{"$error":"#REF!"}]
["⑦","1. 中高生",1,null,null,null,null,null,{"$error":"#REF!"}]
[null,"2. 短・専・大",2,null,null,null,null,null,{"$error":"#REF!"}]
[null,"3. 事務職",3,null,null,null,null,null,{"$error":"#REF!"}]
[null,"4. 販売・サービス業",4,null,null,null,null,null,{"$error":"#REF!"}]
[null,"5. 建設業",5,null,null,null,null,null,{"$error":"#REF!"}]
[null,"6. 主婦・主夫",6,null,null,null,null,null,{"$error":"#REF!"}]
[null,"7. 無職",7,null,null,null,null,null,{"$error":"#REF!"}]
[null,"8. その他",8,null,null,null,null,null,{"$error":"#REF!"}]
[null,null,null,null,null,null,null,null,{"$error":"#REF!"}]
[null,null,null,null,null,null,null,null,{"$error":"#REF!"}]
[null,null,null,null,null,null,null,null,{"$error":"#REF!"}]
[null,null,null,null,null,null,null,null,{"$error":"#REF!"}]
[null,null,null,null,null,null,null,null,{"$error":"#REF!"}]
[null,null,null,null,null,null,null,null,{"$error":"#REF!"}]
[null,null,null,null,null,null,null,null,{"$error":"#REF!"}]
[null,null,null,null,null,null,null,null,{"$error":"#REF!"}]
[null,null,null,null,null,null,null,null,{"$error":"#REF!"}]
[null,null,null,null,null,null,null,null,{"$error":"#REF!"}]
[null,null,null,null,null,null,null,null,{"$error":"#REF!"}]
[null,null,null,null,null,null,null,null,{"$error":"#REF!"}]
[null,null,null,null,null,null,null,null,{"$error":"#REF!"}]
[null,null,null,null,null,null,null,null,{"$error":"#REF!"}]
[null,null,null,null,null,null,null,null,{"$error":"#REF!"}]
[null,null,null,null,null,null,null,null,{"$error":"#REF!"}]
[null,null,null,null,null,null,null,null,{"$error":"#REF!"}]
[null,null,null,null,null,null,null,null,{"$error":"#REF!"}]
[null,null,null,null,null,null,null,null,{"$f":"IF(H67=INDIRECT(\"Word回答!B\"&(RIGHT(CELL(\"filename\",$A$1),LEN(CELL(\"filename\",$A$1))-FIND(\"]\",CELL(\"filename\",$A$1)))+1)),\"OK\",\"NG\")","v":{"$error":"#REF!"}}]
[null,null,null,null,null,null,null,null,{"$f":"IF(H68=INDIRECT(\"Word回答!B\"&(RIGHT(CELL(\"filename\",$A$1),LEN(CELL(\"filename\",$A$1))-FIND(\"]\",CELL(\"filename\",$A$1)))+1)),\"OK\",\"NG\")","v":{"$error":"#REF!"}}]
[null,null,null,null,null,null,null,null,{"$f":"IF(H69=INDIRECT(\"Word回答!B\"&(RIGHT(CELL(\"filename\",$A$1),LEN(CELL(\"filename\",$A$1))-FIND(\"]\",CELL(\"filename\",$A$1)))+1)),\"OK\",\"NG\")","v":{"$error":"#REF!"}}]
[null,null,null,null,null,null,null,null,{"$f":"IF(H70=INDIRECT(\"Word回答!B\"&(RIGHT(CELL(\"filename\",$A$1),LEN(CELL(\"filename\",$A$1))-FIND(\"]\",CELL(\"filename\",$A$1)))+1)),\"OK\",\"NG\")","v":{"$error":"#REF!"}}]
[null,null,null,null,null,null,null,null,{"$f":"IF(COUNTIF($I$2:$I$12,\"OK\")=11,1,0)","v":0}]

{"sheet":"21","index":30,"n_rows":71,"n_cols":9,"rows_kept":71,"cut":false,"hidden":false,"merged":[[7,1,7,3],[8,1,8,3],[9,1,9,3],[1,1,1,3],[2,1,2,3],[3,1,3,3],[4,1,4,3],[5,1,5,3],[6,1,6,3]]}
["項目","回答"]
["①",null,null,null,null,null,null,{"$f":"VLOOKUP(B2,$B$14:$C$23,2,0)","v":{"$error":"#N/A"}},{"$f":"IF(B2=\"\",\"NG\",IF(H2=INDIRECT(\"Word回答取込!\"&CHAR(66+ROW(A1)-1)&(RIGHT(CELL(\"filename\",$A$1),LEN(CELL(\"filename\",$A$1))-FIND(\"]\",CELL(\"filename\",$A$1)))+1)),\"OK\",\"NG\"))","v":"NG"}]
["②",null,null,null,null,null,null,{"$f":"VLOOKUP(B3,$B$25:$C$31,2,0)","v":{"$error":"#N/A"}},{"$f":"IF(B3=\"\",\"NG\",IF(H3=INDIRECT(\"Word回答取込!\"&CHAR(66+ROW(A2)-1)&(RIGHT(CELL(\"filename\",$A$1),LEN(CELL(\"filename\",$A$1))-FIND(\"]\",CELL(\"filename\",$A$1)))+1)),\"OK\",\"NG\"))","v":"NG"}]
["③",null,null,null,null,null,null,{"$f":"B4","v":0},"NG"]
["④",null,null,null,null,null,null,{"$f":"B5","v":0},"NG"]
["⑤",null,null,null,null,null,null,{"$f":"B6","v":0},"NG"]
["⑥",null,null,null,null,null,null,{"$f":"VLOOKUP(B7,$B$33:$C$39,2,0)","v":{"$error":"#N/A"}},"NG"]
["⑦",null,null,null,null,null,null,{"$f":"VLOOKUP(B8,$B$41:$C$48,2,0)","v":{"$error":"#N/A"}},"NG"]
["⑧",null,null,null,null,null,null,{"$f":"B9","v":0},"NG"]
["⑨",null,null,null,null,null,null,{"$f":"B10","v":0},"NG"]
[null,null,null,null,null,null,null,null,"NG"]
[null,null,null,null,null,null,null,null,"NG"]
[null,null,null,null,null,null,null,null,{"$f":"IF(H13=INDIRECT(\"Word回答!B\"&(RIGHT(CELL(\"filename\",$A$1),LEN(CELL(\"filename\",$A$1))-FIND(\"]\",CELL(\"filename\",$A$1)))+1)),\"OK\",\"NG\")","v":{"$error":"#REF!"}}]
["①","1. ほぼ毎日",1,null,null,null,null,null,{"$error":"#REF!"}]
[null,"2. 週4～5回",2,null,null,null,null,null,{"$error":"#REF!"}]
[null,"3. 週2～3回",3,null,null,null,null,null,{"$error":"#REF!"}]
[null,"4. 週1回",4,null,null,null,null,null,{"$error":"#REF!"}]
[null,"5. 月2～3回",5,null,null,null,null,null,{"$error":"#REF!"}]
[null,"6. 月1回程度",6,null,null,null,null,null,{"$error":"#REF!"}]
[null,"7. 半年に2～3回",7,null,null,null,null,null,{"$error":"#REF!"}]
[null,"8. 半年に1回",8,null,null,null,null,null,{"$error":"#REF!"}]
[null,"9. 年1回程度",9,null,null,null,null,null,{"$error":"#REF!"}]
[null,"10. 今回が初めて",10,null,null,null,null,null,{"$error":"#REF!"}]
[null,null,null,null,null,null,null,null,{"$error":"#REF!"}]
["②","1. 1人",1,null,null,null,null,null,{"$error":"#REF!"}]
[null,"2. 子供連れ家族",2,null,null,null,null,null,{"$error":"#REF!"}]
[null,"3. 夫婦",3,null,null,null,null,null,{"$error":"#REF!"}]
[null,"4. 友人",4,null,null,null,null,null,{"$error":"#REF!"}]
[null,"5. 仕事関係者",5,null,null,null,null,null,{"$error":"#REF!"}]
[null,"6. 恋人",6,null,null,null,null,null,{"$error":"#REF!"}]
[null,"7. その他",7,null,null,null,null,null,{"$error":"#REF!"}]
[null,null,null,null,null,null,null,null,{"$error":"#REF!"}]
["⑥","1. 10代",1,null,null,null,null,null,{"$error":"#REF!"}]
[null,"2. 20代",2,null,null,null,null,null,{"$error":"#REF!"}]
[null,"3. 30代",3,null,null,null,null,null,{"$error":"#REF!"}]
[null,"4. 40代",4,null,null,null,null,null,{"$error":"#REF!"}]
[null,"5. 50代",5,null,null,null,null,null,{"$error":"#REF!"}]
[null,"6. 60代",6,null,null,null,null,null,{"$error":"#REF!"}]
[null,"7. 70歳以上",7,null,null,null,null,null,{"$error":"#REF!"}]
[null,null,null,null,null,null,null,null,{"$error":"#REF!"}]
["⑦","1. 中高生",1,null,null,null,null,null,{"$error":"#REF!"}]
[null,"2. 短・専・大",2,null,null,null,null,null,{"$error":"#REF!"}]
[null,"3. 事務職",3,null,null,null,null,null,{"$error":"#REF!"}]
[null,"4. 販売・サービス業",4,null,null,null,null,null,{"$error":"#REF!"}]
[null,"5. 建設業",5,null,null,null,null,null,{"$error":"#REF!"}]
[null,"6. 主婦・主夫",6,null,null,null,null,null,{"$error":"#REF!"}]
[null,"7. 無職",7,null,null,null,null,null,{"$error":"#REF!"}]
[null,"8. その他",8,null,null,null,null,null,{"$error":"#REF!"}]
[null,null,null,null,null,null,null,null,{"$error":"#REF!"}]
[null,null,null,null,null,null,null,null,{"$error":"#REF!"}]
[null,null,null,null,null,null,null,null,{"$error":"#REF!"}]
[null,null,null,null,null,null,null,null,{"$error":"#REF!"}]
[null,null,null,null,null,null,null,null,{"$error":"#REF!"}]
[null,null,null,null,null,null,null,null,{"$error":"#REF!"}]
[null,null,null,null,null,null,null,null,{"$error":"#REF!"}]
[null,null,null,null,null,null,null,null,{"$error":"#REF!"}]
[null,null,null,null,null,null,null,null,{"$error":"#REF!"}]
[null,null,null,null,null,null,null,null,{"$error":"#REF!"}]
[null,null,null,null,null,null,null,null,{"$error":"#REF!"}]
[null,null,null,null,null,null,null,null,{"$error":"#REF!"}]
[null,null,null,null,null,null,null,null,{"$error":"#REF!"}]
[null,null,null,null,null,null,null,null,{"$error":"#REF!"}]
[null,null,null,null,null,null,null,null,{"$error":"#REF!"}]
[null,null,null,null,null,null,null,null,{"$error":"#REF!"}]
[null,null,null,null,null,null,null,null,{"$error":"#REF!"}]
[null,null,null,null,null,null,null,null,{"$error":"#REF!"}]
[null,null,null,null,null,null,null,null,{"$f":"IF(H67=INDIRECT(\"Word回答!B\"&(RIGHT(CELL(\"filename\",$A$1),LEN(CELL(\"filename\",$A$1))-FIND(\"]\",CELL(\"filename\",$A$1)))+1)),\"OK\",\"NG\")","v":{"$error":"#REF!"}}]
[null,null,null,null,null,null,null,null,{"$f":"IF(H68=INDIRECT(\"Word回答!B\"&(RIGHT(CELL(\"filename\",$A$1),LEN(CELL(\"filename\",$A$1))-FIND(\"]\",CELL(\"filename\",$A$1)))+1)),\"OK\",\"NG\")","v":{"$error":"#REF!"}}]
[null,null,null,null,null,null,null,null,{"$f":"IF(H69=INDIRECT(\"Word回答!B\"&(RIGHT(CELL(\"filename\",$A$1),LEN(CELL(\"filename\",$A$1))-FIND(\"]\",CELL(\"filename\",$A$1)))+1)),\"OK\",\"NG\")","v":{"$error":"#REF!"}}]
[null,null,null,null,null,null,null,null,{"$f":"IF(H70=INDIRECT(\"Word回答!B\"&(RIGHT(CELL(\"filename\",$A$1),LEN(CELL(\"filename\",$A$1))-FIND(\"]\",CELL(\"filename\",$A$1)))+1)),\"OK\",\"NG\")","v":{"$error":"#REF!"}}]
[null,null,null,null,null,null,null,null,{"$f":"IF(COUNTIF($I$2:$I$12,\"OK\")=11,1,0)","v":0}]

{"sheet":"22","index":31,"n_rows":71,"n_cols":9,"rows_kept":71,"cut":false,"hidden":false,"merged":[[7,1,7,3],[8,1,8,3],[9,1,9,3],[1,1,1,3],[2,1,2,3],[3,1,3,3],[4,1,4,3],[5,1,5,3],[6,1,6,3]]}
["項目","回答"]
["①",null,null,null,null,null,null,{"$f":"VLOOKUP(B2,$B$14:$C$23,2,0)","v":{"$error":"#N/A"}},{"$f":"IF(B2=\"\",\"NG\",IF(H2=INDIRECT(\"Word回答取込!\"&CHAR(66+ROW(A1)-1)&(RIGHT(CELL(\"filename\",$A$1),LEN(CELL(\"filename\",$A$1))-FIND(\"]\",CELL(\"filename\",$A$1)))+1)),\"OK\",\"NG\"))","v":"NG"}]
["②",null,null,null,null,null,null,{"$f":"VLOOKUP(B3,$B$25:$C$31,2,0)","v":{"$error":"#N/A"}},{"$f":"IF(B3=\"\",\"NG\",IF(H3=INDIRECT(\"Word回答取込!\"&CHAR(66+ROW(A2)-1)&(RIGHT(CELL(\"filename\",$A$1),LEN(CELL(\"filename\",$A$1))-FIND(\"]\",CELL(\"filename\",$A$1)))+1)),\"OK\",\"NG\"))","v":"NG"}]
["③",null,null,null,null,null,null,{"$f":"B4","v":0},"NG"]
["④",null,null,null,null,null,null,{"$f":"B5","v":0},"NG"]
["⑤",null,null,null,null,null,null,{"$f":"B6","v":0},"NG"]
["⑥",null,null,null,null,null,null,{"$f":"VLOOKUP(B7,$B$33:$C$39,2,0)","v":{"$error":"#N/A"}},"NG"]
["⑦",null,null,null,null,null,null,{"$f":"VLOOKUP(B8,$B$41:$C$48,2,0)","v":{"$error":"#N/A"}},"NG"]
["⑧",null,null,null,null,null,null,{"$f":"B9","v":0},"NG"]
["⑨",null,null,null,null,null,null,{"$f":"B10","v":0},"NG"]
[null,null,null,null,null,null,null,null,"NG"]
[null,null,null,null,null,null,null,null,"NG"]
[null,null,null,null,null,null,null,null,{"$f":"IF(H13=INDIRECT(\"Word回答!B\"&(RIGHT(CELL(\"filename\",$A$1),LEN(CELL(\"filename\",$A$1))-FIND(\"]\",CELL(\"filename\",$A$1)))+1)),\"OK\",\"NG\")","v":{"$error":"#REF!"}}]
["①","1. ほぼ毎日",1,null,null,null,null,null,{"$error":"#REF!"}]
[null,"2. 週4～5回",2,null,null,null,null,null,{"$error":"#REF!"}]
[null,"3. 週2～3回",3,null,null,null,null,null,{"$error":"#REF!"}]
[null,"4. 週1回",4,null,null,null,null,null,{"$error":"#REF!"}]
[null,"5. 月2～3回",5,null,null,null,null,null,{"$error":"#REF!"}]
[null,"6. 月1回程度",6,null,null,null,null,null,{"$error":"#REF!"}]
[null,"7. 半年に2～3回",7,null,null,null,null,null,{"$error":"#REF!"}]
[null,"8. 半年に1回",8,null,null,null,null,null,{"$error":"#REF!"}]
[null,"9. 年1回程度",9,null,null,null,null,null,{"$error":"#REF!"}]
[null,"10. 今回が初めて",10,null,null,null,null,null,{"$error":"#REF!"}]
[null,null,null,null,null,null,null,null,{"$error":"#REF!"}]
["②","1. 1人",1,null,null,null,null,null,{"$error":"#REF!"}]
[null,"2. 子供連れ家族",2,null,null,null,null,null,{"$error":"#REF!"}]
[null,"3. 夫婦",3,null,null,null,null,null,{"$error":"#REF!"}]
[null,"4. 友人",4,null,null,null,null,null,{"$error":"#REF!"}]
[null,"5. 仕事関係者",5,null,null,null,null,null,{"$error":"#REF!"}]
[null,"6. 恋人",6,null,null,null,null,null,{"$error":"#REF!"}]
[null,"7. その他",7,null,null,null,null,null,{"$error":"#REF!"}]
[null,null,null,null,null,null,null,null,{"$error":"#REF!"}]
["⑥","1. 10代",1,null,null,null,null,null,{"$error":"#REF!"}]
[null,"2. 20代",2,null,null,null,null,null,{"$error":"#REF!"}]
[null,"3. 30代",3,null,null,null,null,null,{"$error":"#REF!"}]
[null,"4. 40代",4,null,null,null,null,null,{"$error":"#REF!"}]
[null,"5. 50代",5,null,null,null,null,null,{"$error":"#REF!"}]
[null,"6. 60代",6,null,null,null,null,null,{"$error":"#REF!"}]
[null,"7. 70歳以上",7,null,null,null,null,null,{"$error":"#REF!"}]
[null,null,null,null,null,null,null,null,{"$error":"#REF!"}]
["⑦","1. 中高生",1,null,null,null,null,null,{"$error":"#REF!"}]
[null,"2. 短・専・大",2,null,null,null,null,null,{"$error":"#REF!"}]
[null,"3. 事務職",3,null,null,null,null,null,{"$error":"#REF!"}]
[null,"4. 販売・サービス業",4,null,null,null,null,null,{"$error":"#REF!"}]
[null,"5. 建設業",5,null,null,null,null,null,{"$error":"#REF!"}]
[null,"6. 主婦・主夫",6,null,null,null,null,null,{"$error":"#REF!"}]
[null,"7. 無職",7,null,null,null,null,null,{"$error":"#REF!"}]
[null,"8. その他",8,null,null,null,null,null,{"$error":"#REF!"}]
[null,null,null,null,null,null,null,null,{"$error":"#REF!"}]
[null,null,null,null,null,null,null,null,{"$error":"#REF!"}]
[null,null,null,null,null,null,null,null,{"$error":"#REF!"}]
[null,null,null,null,null,null,null,null,{"$error":"#REF!"}]
[null,null,null,null,null,null,null,null,{"$error":"#REF!"}]
[null,null,null,null,null,null,null,null,{"$error":"#REF!"}]
[null,null,null,null,null,null,null,null,{"$error":"#REF!"}]
[null,null,null,null,null,null,null,null,{"$error":"#REF!"}]
[null,null,null,null,null,null,null,null,{"$error":"#REF!"}]
[null,null,null,null,null,null,null,null,{"$error":"#REF!"}]
[null,null,null,null,null,null,null,null,{"$error":"#REF!"}]
[null,null,null,null,null,null,null,null,{"$error":"#REF!"}]
[null,null,null,null,null,null,null,null,{"$error":"#REF!"}]
[null,null,null,null,null,null,null,null,{"$error":"#REF!"}]
[null,null,null,null,null,null,null,null,{"$error":"#REF!"}]
[null,null,null,null,null,null,null,null,{"$error":"#REF!"}]
[null,null,null,null,null,null,null,null,{"$error":"#REF!"}]
[null,null,null,null,null,null,null,null,{"$error":"#REF!"}]
[null,null,null,null,null,null,null,null,{"$f":"IF(H67=INDIRECT(\"Word回答!B\"&(RIGHT(CELL(\"filename\",$A$1),LEN(CELL(\"filename\",$A$1))-FIND(\"]\",CELL(\"filename\",$A$1)))+1)),\"OK\",\"NG\")","v":{"$error":"#REF!"}}]
[null,null,null,null,null,null,null,null,{"$f":"IF(H68=INDIRECT(\"Word回答!B\"&(RIGHT(CELL(\"filename\",$A$1),LEN(CELL(\"filename\",$A$1))-FIND(\"]\",CELL(\"filename\",$A$1)))+1)),\"OK\",\"NG\")","v":{"$error":"#REF!"}}]
[null,null,null,null,null,null,null,null,{"$f":"IF(H69=INDIRECT(\"Word回答!B\"&(RIGHT(CELL(\"filename\",$A$1),LEN(CELL(\"filename\",$A$1))-FIND(\"]\",CELL(\"filename\",$A$1)))+1)),\"OK\",\"NG\")","v":{"$error":"#REF!"}}]
[null,null,null,null,null,null,null,null,{"$f":"IF(H70=INDIRECT(\"Word回答!B\"&(RIGHT(CELL(\"filename\",$A$1),LEN(CELL(\"filename\",$A$1))-FIND(\"]\",CELL(\"filename\",$A$1)))+1)),\"OK\",\"NG\")","v":{"$error":"#REF!"}}]
[null,null,null,null,null,null,null,null,{"$f":"IF(COUNTIF($I$2:$I$12,\"OK\")=11,1,0)","v":0}]

{"sheet":"23","index":32,"n_rows":71,"n_cols":9,"rows_kept":71,"cut":false,"hidden":false,"merged":[[7,1,7,3],[8,1,8,3],[9,1,9,3],[1,1,1,3],[2,1,2,3],[3,1,3,3],[4,1,4,3],[5,1,5,3],[6,1,6,3]]}
["項目","回答"]
["①",null,null,null,null,null,null,{"$f":"VLOOKUP(B2,$B$14:$C$23,2,0)","v":{"$error":"#N/A"}},{"$f":"IF(B2=\"\",\"NG\",IF(H2=INDIRECT(\"Word回答取込!\"&CHAR(66+ROW(A1)-1)&(RIGHT(CELL(\"filename\",$A$1),LEN(CELL(\"filename\",$A$1))-FIND(\"]\",CELL(\"filename\",$A$1)))+1)),\"OK\",\"NG\"))","v":"NG"}]
["②",null,null,null,null,null,null,{"$f":"VLOOKUP(B3,$B$25:$C$31,2,0)","v":{"$error":"#N/A"}},{"$f":"IF(B3=\"\",\"NG\",IF(H3=INDIRECT(\"Word回答取込!\"&CHAR(66+ROW(A2)-1)&(RIGHT(CELL(\"filename\",$A$1),LEN(CELL(\"filename\",$A$1))-FIND(\"]\",CELL(\"filename\",$A$1)))+1)),\"OK\",\"NG\"))","v":"NG"}]
["③",null,null,null,null,null,null,{"$f":"B4","v":0},"NG"]
["④",null,null,null,null,null,null,{"$f":"B5","v":0},"NG"]
["⑤",null,null,null,null,null,null,{"$f":"B6","v":0},"NG"]
["⑥",null,null,null,null,null,null,{"$f":"VLOOKUP(B7,$B$33:$C$39,2,0)","v":{"$error":"#N/A"}},"NG"]
["⑦",null,null,null,null,null,null,{"$f":"VLOOKUP(B8,$B$41:$C$48,2,0)","v":{"$error":"#N/A"}},"NG"]
["⑧",null,null,null,null,null,null,{"$f":"B9","v":0},"NG"]
["⑨",null,null,null,null,null,null,{"$f":"B10","v":0},"NG"]
[null,null,null,null,null,null,null,null,"NG"]
[null,null,null,null,null,null,null,null,"NG"]
[null,null,null,null,null,null,null,null,{"$f":"IF(H13=INDIRECT(\"Word回答!B\"&(RIGHT(CELL(\"filename\",$A$1),LEN(CELL(\"filename\",$A$1))-FIND(\"]\",CELL(\"filename\",$A$1)))+1)),\"OK\",\"NG\")","v":{"$error":"#REF!"}}]
["①","1. ほぼ毎日",1,null,null,null,null,null,{"$error":"#REF!"}]
[null,"2. 週4～5回",2,null,null,null,null,null,{"$error":"#REF!"}]
[null,"3. 週2～3回",3,null,null,null,null,null,{"$error":"#REF!"}]
[null,"4. 週1回",4,null,null,null,null,null,{"$error":"#REF!"}]
[null,"5. 月2～3回",5,null,null,null,null,null,{"$error":"#REF!"}]
[null,"6. 月1回程度",6,null,null,null,null,null,{"$error":"#REF!"}]
[null,"7. 半年に2～3回",7,null,null,null,null,null,{"$error":"#REF!"}]
[null,"8. 半年に1回",8,null,null,null,null,null,{"$error":"#REF!"}]
[null,"9. 年1回程度",9,null,null,null,null,null,{"$error":"#REF!"}]
[null,"10. 今回が初めて",10,null,null,null,null,null,{"$error":"#REF!"}]
[null,null,null,null,null,null,null,null,{"$error":"#REF!"}]
["②","1. 1人",1,null,null,null,null,null,{"$error":"#REF!"}]
[null,"2. 子供連れ家族",2,null,null,null,null,null,{"$error":"#REF!"}]
[null,"3. 夫婦",3,null,null,null,null,null,{"$error":"#REF!"}]
[null,"4. 友人",4,null,null,null,null,null,{"$error":"#REF!"}]
[null,"5. 仕事関係者",5,null,null,null,null,null,{"$error":"#REF!"}]
[null,"6. 恋人",6,null,null,null,null,null,{"$error":"#REF!"}]
[null,"7. その他",7,null,null,null,null,null,{"$error":"#REF!"}]
[null,null,null,null,null,null,null,null,{"$error":"#REF!"}]
["⑥","1. 10代",1,null,null,null,null,null,{"$error":"#REF!"}]
[null,"2. 20代",2,null,null,null,null,null,{"$error":"#REF!"}]
[null,"3. 30代",3,null,null,null,null,null,{"$error":"#REF!"}]
[null,"4. 40代",4,null,null,null,null,null,{"$error":"#REF!"}]
[null,"5. 50代",5,null,null,null,null,null,{"$error":"#REF!"}]
[null,"6. 60代",6,null,null,null,null,null,{"$error":"#REF!"}]
[null,"7. 70歳以上",7,null,null,null,null,null,{"$error":"#REF!"}]
[null,null,null,null,null,null,null,null,{"$error":"#REF!"}]
["⑦","1. 中高生",1,null,null,null,null,null,{"$error":"#REF!"}]
[null,"2. 短・専・大",2,null,null,null,null,null,{"$error":"#REF!"}]
[null,"3. 事務職",3,null,null,null,null,null,{"$error":"#REF!"}]
[null,"4. 販売・サービス業",4,null,null,null,null,null,{"$error":"#REF!"}]
[null,"5. 建設業",5,null,null,null,null,null,{"$error":"#REF!"}]
[null,"6. 主婦・主夫",6,null,null,null,null,null,{"$error":"#REF!"}]
[null,"7. 無職",7,null,null,null,null,null,{"$error":"#REF!"}]
[null,"8. その他",8,null,null,null,null,null,{"$error":"#REF!"}]
[null,null,null,null,null,null,null,null,{"$error":"#REF!"}]
[null,null,null,null,null,null,null,null,{"$error":"#REF!"}]
[null,null,null,null,null,null,null,null,{"$error":"#REF!"}]
[null,null,null,null,null,null,null,null,{"$error":"#REF!"}]
[null,null,null,null,null,null,null,null,{"$error":"#REF!"}]
[null,null,null,null,null,null,null,null,{"$error":"#REF!"}]
[null,null,null,null,null,null,null,null,{"$error":"#REF!"}]
[null,null,null,null,null,null,null,null,{"$error":"#REF!"}]
[null,null,null,null,null,null,null,null,{"$error":"#REF!"}]
[null,null,null,null,null,null,null,null,{"$error":"#REF!"}]
[null,null,null,null,null,null,null,null,{"$error":"#REF!"}]
[null,null,null,null,null,null,null,null,{"$error":"#REF!"}]
[null,null,null,null,null,null,null,null,{"$error":"#REF!"}]
[null,null,null,null,null,null,null,null,{"$error":"#REF!"}]
[null,null,null,null,null,null,null,null,{"$error":"#REF!"}]
[null,null,null,null,null,null,null,null,{"$error":"#REF!"}]
[null,null,null,null,null,null,null,null,{"$error":"#REF!"}]
[null,null,null,null,null,null,null,null,{"$error":"#REF!"}]
[null,null,null,null,null,null,null,null,{"$f":"IF(H67=INDIRECT(\"Word回答!B\"&(RIGHT(CELL(\"filename\",$A$1),LEN(CELL(\"filename\",$A$1))-FIND(\"]\",CELL(\"filename\",$A$1)))+1)),\"OK\",\"NG\")","v":{"$error":"#REF!"}}]
[null,null,null,null,null,null,null,null,{"$f":"IF(H68=INDIRECT(\"Word回答!B\"&(RIGHT(CELL(\"filename\",$A$1),LEN(CELL(\"filename\",$A$1))-FIND(\"]\",CELL(\"filename\",$A$1)))+1)),\"OK\",\"NG\")","v":{"$error":"#REF!"}}]
[null,null,null,null,null,null,null,null,{"$f":"IF(H69=INDIRECT(\"Word回答!B\"&(RIGHT(CELL(\"filename\",$A$1),LEN(CELL(\"filename\",$A$1))-FIND(\"]\",CELL(\"filename\",$A$1)))+1)),\"OK\",\"NG\")","v":{"$error":"#REF!"}}]
[null,null,null,null,null,null,null,null,{"$f":"IF(H70=INDIRECT(\"Word回答!B\"&(RIGHT(CELL(\"filename\",$A$1),LEN(CELL(\"filename\",$A$1))-FIND(\"]\",CELL(\"filename\",$A$1)))+1)),\"OK\",\"NG\")","v":{"$error":"#REF!"}}]
[null,null,null,null,null,null,null,null,{"$f":"IF(COUNTIF($I$2:$I$12,\"OK\")=11,1,0)","v":0}]

{"sheet":"24","index":33,"n_rows":71,"n_cols":9,"rows_kept":71,"cut":false,"hidden":false,"merged":[[7,1,7,3],[8,1,8,3],[9,1,9,3],[1,1,1,3],[2,1,2,3],[3,1,3,3],[4,1,4,3],[5,1,5,3],[6,1,6,3]]}
["項目","回答"]
["①",null,null,null,null,null,null,{"$f":"VLOOKUP(B2,$B$14:$C$23,2,0)","v":{"$error":"#N/A"}},{"$f":"IF(B2=\"\",\"NG\",IF(H2=INDIRECT(\"Word回答取込!\"&CHAR(66+ROW(A1)-1)&(RIGHT(CELL(\"filename\",$A$1),LEN(CELL(\"filename\",$A$1))-FIND(\"]\",CELL(\"filename\",$A$1)))+1)),\"OK\",\"NG\"))","v":"NG"}]
["②",null,null,null,null,null,null,{"$f":"VLOOKUP(B3,$B$25:$C$31,2,0)","v":{"$error":"#N/A"}},{"$f":"IF(B3=\"\",\"NG\",IF(H3=INDIRECT(\"Word回答取込!\"&CHAR(66+ROW(A2)-1)&(RIGHT(CELL(\"filename\",$A$1),LEN(CELL(\"filename\",$A$1))-FIND(\"]\",CELL(\"filename\",$A$1)))+1)),\"OK\",\"NG\"))","v":"NG"}]
["③",null,null,null,null,null,null,{"$f":"B4","v":0},"NG"]
["④",null,null,null,null,null,null,{"$f":"B5","v":0},"NG"]
["⑤",null,null,null,null,null,null,{"$f":"B6","v":0},"NG"]
["⑥",null,null,null,null,null,null,{"$f":"VLOOKUP(B7,$B$33:$C$39,2,0)","v":{"$error":"#N/A"}},"NG"]
["⑦",null,null,null,null,null,null,{"$f":"VLOOKUP(B8,$B$41:$C$48,2,0)","v":{"$error":"#N/A"}},"NG"]
["⑧",null,null,null,null,null,null,{"$f":"B9","v":0},"NG"]
["⑨",null,null,null,null,null,null,{"$f":"B10","v":0},"NG"]
[null,null,null,null,null,null,null,null,"NG"]
[null,null,null,null,null,null,null,null,"NG"]
[null,null,null,null,null,null,null,null,{"$f":"IF(H13=INDIRECT(\"Word回答!B\"&(RIGHT(CELL(\"filename\",$A$1),LEN(CELL(\"filename\",$A$1))-FIND(\"]\",CELL(\"filename\",$A$1)))+1)),\"OK\",\"NG\")","v":{"$error":"#REF!"}}]
["①","1. ほぼ毎日",1,null,null,null,null,null,{"$error":"#REF!"}]
[null,"2. 週4～5回",2,null,null,null,null,null,{"$error":"#REF!"}]
[null,"3. 週2～3回",3,null,null,null,null,null,{"$error":"#REF!"}]
[null,"4. 週1回",4,null,null,null,null,null,{"$error":"#REF!"}]
[null,"5. 月2～3回",5,null,null,null,null,null,{"$error":"#REF!"}]
[null,"6. 月1回程度",6,null,null,null,null,null,{"$error":"#REF!"}]
[null,"7. 半年に2～3回",7,null,null,null,null,null,{"$error":"#REF!"}]
[null,"8. 半年に1回",8,null,null,null,null,null,{"$error":"#REF!"}]
[null,"9. 年1回程度",9,null,null,null,null,null,{"$error":"#REF!"}]
[null,"10. 今回が初めて",10,null,null,null,null,null,{"$error":"#REF!"}]
[null,null,null,null,null,null,null,null,{"$error":"#REF!"}]
["②","1. 1人",1,null,null,null,null,null,{"$error":"#REF!"}]
[null,"2. 子供連れ家族",2,null,null,null,null,null,{"$error":"#REF!"}]
[null,"3. 夫婦",3,null,null,null,null,null,{"$error":"#REF!"}]
[null,"4. 友人",4,null,null,null,null,null,{"$error":"#REF!"}]
[null,"5. 仕事関係者",5,null,null,null,null,null,{"$error":"#REF!"}]
[null,"6. 恋人",6,null,null,null,null,null,{"$error":"#REF!"}]
[null,"7. その他",7,null,null,null,null,null,{"$error":"#REF!"}]
[null,null,null,null,null,null,null,null,{"$error":"#REF!"}]
["⑥","1. 10代",1,null,null,null,null,null,{"$error":"#REF!"}]
[null,"2. 20代",2,null,null,null,null,null,{"$error":"#REF!"}]
[null,"3. 30代",3,null,null,null,null,null,{"$error":"#REF!"}]
[null,"4. 40代",4,null,null,null,null,null,{"$error":"#REF!"}]
[null,"5. 50代",5,null,null,null,null,null,{"$error":"#REF!"}]
[null,"6. 60代",6,null,null,null,null,null,{"$error":"#REF!"}]
[null,"7. 70歳以上",7,null,null,null,null,null,{"$error":"#REF!"}]
[null,null,null,null,null,null,null,null,{"$error":"#REF!"}]
["⑦","1. 中高生",1,null,null,null,null,null,{"$error":"#REF!"}]
[null,"2. 短・専・大",2,null,null,null,null,null,{"$error":"#REF!"}]
[null,"3. 事務職",3,null,null,null,null,null,{"$error":"#REF!"}]
[null,"4. 販売・サービス業",4,null,null,null,null,null,{"$error":"#REF!"}]
[null,"5. 建設業",5,null,null,null,null,null,{"$error":"#REF!"}]
[null,"6. 主婦・主夫",6,null,null,null,null,null,{"$error":"#REF!"}]
[null,"7. 無職",7,null,null,null,null,null,{"$error":"#REF!"}]
[null,"8. その他",8,null,null,null,null,null,{"$error":"#REF!"}]
[null,null,null,null,null,null,null,null,{"$error":"#REF!"}]
[null,null,null,null,null,null,null,null,{"$error":"#REF!"}]
[null,null,null,null,null,null,null,null,{"$error":"#REF!"}]
[null,null,null,null,null,null,null,null,{"$error":"#REF!"}]
[null,null,null,null,null,null,null,null,{"$error":"#REF!"}]
[null,null,null,null,null,null,null,null,{"$error":"#REF!"}]
[null,null,null,null,null,null,null,null,{"$error":"#REF!"}]
[null,null,null,null,null,null,null,null,{"$error":"#REF!"}]
[null,null,null,null,null,null,null,null,{"$error":"#REF!"}]
[null,null,null,null,null,null,null,null,{"$error":"#REF!"}]
[null,null,null,null,null,null,null,null,{"$error":"#REF!"}]
[null,null,null,null,null,null,null,null,{"$error":"#REF!"}]
[null,null,null,null,null,null,null,null,{"$error":"#REF!"}]
[null,null,null,null,null,null,null,null,{"$error":"#REF!"}]
[null,null,null,null,null,null,null,null,{"$error":"#REF!"}]
[null,null,null,null,null,null,null,null,{"$error":"#REF!"}]
[null,null,null,null,null,null,null,null,{"$error":"#REF!"}]
[null,null,null,null,null,null,null,null,{"$error":"#REF!"}]
[null,null,null,null,null,null,null,null,{"$f":"IF(H67=INDIRECT(\"Word回答!B\"&(RIGHT(CELL(\"filename\",$A$1),LEN(CELL(\"filename\",$A$1))-FIND(\"]\",CELL(\"filename\",$A$1)))+1)),\"OK\",\"NG\")","v":{"$error":"#REF!"}}]
[null,null,null,null,null,null,null,null,{"$f":"IF(H68=INDIRECT(\"Word回答!B\"&(RIGHT(CELL(\"filename\",$A$1),LEN(CELL(\"filename\",$A$1))-FIND(\"]\",CELL(\"filename\",$A$1)))+1)),\"OK\",\"NG\")","v":{"$error":"#REF!"}}]
[null,null,null,null,null,null,null,null,{"$f":"IF(H69=INDIRECT(\"Word回答!B\"&(RIGHT(CELL(\"filename\",$A$1),LEN(CELL(\"filename\",$A$1))-FIND(\"]\",CELL(\"filename\",$A$1)))+1)),\"OK\",\"NG\")","v":{"$error":"#REF!"}}]
[null,null,null,null,null,null,null,null,{"$f":"IF(H70=INDIRECT(\"Word回答!B\"&(RIGHT(CELL(\"filename\",$A$1),LEN(CELL(\"filename\",$A$1))-FIND(\"]\",CELL(\"filename\",$A$1)))+1)),\"OK\",\"NG\")","v":{"$error":"#REF!"}}]
[null,null,null,null,null,null,null,null,{"$f":"IF(COUNTIF($I$2:$I$12,\"OK\")=11,1,0)","v":0}]

{"sheet":"25","index":34,"n_rows":71,"n_cols":9,"rows_kept":71,"cut":false,"hidden":false,"merged":[[7,1,7,3],[8,1,8,3],[9,1,9,3],[1,1,1,3],[2,1,2,3],[3,1,3,3],[4,1,4,3],[5,1,5,3],[6,1,6,3]]}
["項目","回答"]
["①",null,null,null,null,null,null,{"$f":"VLOOKUP(B2,$B$14:$C$23,2,0)","v":{"$error":"#N/A"}},{"$f":"IF(B2=\"\",\"NG\",IF(H2=INDIRECT(\"Word回答取込!\"&CHAR(66+ROW(A1)-1)&(RIGHT(CELL(\"filename\",$A$1),LEN(CELL(\"filename\",$A$1))-FIND(\"]\",CELL(\"filename\",$A$1)))+1)),\"OK\",\"NG\"))","v":"NG"}]
["②",null,null,null,null,null,null,{"$f":"VLOOKUP(B3,$B$25:$C$31,2,0)","v":{"$error":"#N/A"}},{"$f":"IF(B3=\"\",\"NG\",IF(H3=INDIRECT(\"Word回答取込!\"&CHAR(66+ROW(A2)-1)&(RIGHT(CELL(\"filename\",$A$1),LEN(CELL(\"filename\",$A$1))-FIND(\"]\",CELL(\"filename\",$A$1)))+1)),\"OK\",\"NG\"))","v":"NG"}]
["③",null,null,null,null,null,null,{"$f":"B4","v":0},"NG"]
["④",null,null,null,null,null,null,{"$f":"B5","v":0},"NG"]
["⑤",null,null,null,null,null,null,{"$f":"B6","v":0},"NG"]
["⑥",null,null,null,null,null,null,{"$f":"VLOOKUP(B7,$B$33:$C$39,2,0)","v":{"$error":"#N/A"}},"NG"]
["⑦",null,null,null,null,null,null,{"$f":"VLOOKUP(B8,$B$41:$C$48,2,0)","v":{"$error":"#N/A"}},"NG"]
["⑧",null,null,null,null,null,null,{"$f":"B9","v":0},"NG"]
["⑨",null,null,null,null,null,null,{"$f":"B10","v":0},"NG"]
[null,null,null,null,null,null,null,null,"NG"]
[null,null,null,null,null,null,null,null,"NG"]
[null,null,null,null,null,null,null,null,{"$f":"IF(H13=INDIRECT(\"Word回答!B\"&(RIGHT(CELL(\"filename\",$A$1),LEN(CELL(\"filename\",$A$1))-FIND(\"]\",CELL(\"filename\",$A$1)))+1)),\"OK\",\"NG\")","v":{"$error":"#REF!"}}]
["①","1. ほぼ毎日",1,null,null,null,null,null,{"$error":"#REF!"}]
[null,"2. 週4～5回",2,null,null,null,null,null,{"$error":"#REF!"}]
[null,"3. 週2～3回",3,null,null,null,null,null,{"$error":"#REF!"}]
[null,"4. 週1回",4,null,null,null,null,null,{"$error":"#REF!"}]
[null,"5. 月2～3回",5,null,null,null,null,null,{"$error":"#REF!"}]
[null,"6. 月1回程度",6,null,null,null,null,null,{"$error":"#REF!"}]
[null,"7. 半年に2～3回",7,null,null,null,null,null,{"$error":"#REF!"}]
[null,"8. 半年に1回",8,null,null,null,null,null,{"$error":"#REF!"}]
[null,"9. 年1回程度",9,null,null,null,null,null,{"$error":"#REF!"}]
[null,"10. 今回が初めて",10,null,null,null,null,null,{"$error":"#REF!"}]
[null,null,null,null,null,null,null,null,{"$error":"#REF!"}]
["②","1. 1人",1,null,null,null,null,null,{"$error":"#REF!"}]
[null,"2. 子供連れ家族",2,null,null,null,null,null,{"$error":"#REF!"}]
[null,"3. 夫婦",3,null,null,null,null,null,{"$error":"#REF!"}]
[null,"4. 友人",4,null,null,null,null,null,{"$error":"#REF!"}]
[null,"5. 仕事関係者",5,null,null,null,null,null,{"$error":"#REF!"}]
[null,"6. 恋人",6,null,null,null,null,null,{"$error":"#REF!"}]
[null,"7. その他",7,null,null,null,null,null,{"$error":"#REF!"}]
[null,null,null,null,null,null,null,null,{"$error":"#REF!"}]
["⑥","1. 10代",1,null,null,null,null,null,{"$error":"#REF!"}]
[null,"2. 20代",2,null,null,null,null,null,{"$error":"#REF!"}]
[null,"3. 30代",3,null,null,null,null,null,{"$error":"#REF!"}]
[null,"4. 40代",4,null,null,null,null,null,{"$error":"#REF!"}]
[null,"5. 50代",5,null,null,null,null,null,{"$error":"#REF!"}]
[null,"6. 60代",6,null,null,null,null,null,{"$error":"#REF!"}]
[null,"7. 70歳以上",7,null,null,null,null,null,{"$error":"#REF!"}]
[null,null,null,null,null,null,null,null,{"$error":"#REF!"}]
["⑦","1. 中高生",1,null,null,null,null,null,{"$error":"#REF!"}]
[null,"2. 短・専・大",2,null,null,null,null,null,{"$error":"#REF!"}]
[null,"3. 事務職",3,null,null,null,null,null,{"$error":"#REF!"}]
[null,"4. 販売・サービス業",4,null,null,null,null,null,{"$error":"#REF!"}]
[null,"5. 建設業",5,null,null,null,null,null,{"$error":"#REF!"}]
[null,"6. 主婦・主夫",6,null,null,null,null,null,{"$error":"#REF!"}]
[null,"7. 無職",7,null,null,null,null,null,{"$error":"#REF!"}]
[null,"8. その他",8,null,null,null,null,null,{"$error":"#REF!"}]
[null,null,null,null,null,null,null,null,{"$error":"#REF!"}]
[null,null,null,null,null,null,null,null,{"$error":"#REF!"}]
[null,null,null,null,null,null,null,null,{"$error":"#REF!"}]
[null,null,null,null,null,null,null,null,{"$error":"#REF!"}]
[null,null,null,null,null,null,null,null,{"$error":"#REF!"}]
[null,null,null,null,null,null,null,null,{"$error":"#REF!"}]
[null,null,null,null,null,null,null,null,{"$error":"#REF!"}]
[null,null,null,null,null,null,null,null,{"$error":"#REF!"}]
[null,null,null,null,null,null,null,null,{"$error":"#REF!"}]
[null,null,null,null,null,null,null,null,{"$error":"#REF!"}]
[null,null,null,null,null,null,null,null,{"$error":"#REF!"}]
[null,null,null,null,null,null,null,null,{"$error":"#REF!"}]
[null,null,null,null,null,null,null,null,{"$error":"#REF!"}]
[null,null,null,null,null,null,null,null,{"$error":"#REF!"}]
[null,null,null,null,null,null,null,null,{"$error":"#REF!"}]
[null,null,null,null,null,null,null,null,{"$error":"#REF!"}]
[null,null,null,null,null,null,null,null,{"$error":"#REF!"}]
[null,null,null,null,null,null,null,null,{"$error":"#REF!"}]
[null,null,null,null,null,null,null,null,{"$f":"IF(H67=INDIRECT(\"Word回答!B\"&(RIGHT(CELL(\"filename\",$A$1),LEN(CELL(\"filename\",$A$1))-FIND(\"]\",CELL(\"filename\",$A$1)))+1)),\"OK\",\"NG\")","v":{"$error":"#REF!"}}]
[null,null,null,null,null,null,null,null,{"$f":"IF(H68=INDIRECT(\"Word回答!B\"&(RIGHT(CELL(\"filename\",$A$1),LEN(CELL(\"filename\",$A$1))-FIND(\"]\",CELL(\"filename\",$A$1)))+1)),\"OK\",\"NG\")","v":{"$error":"#REF!"}}]
[null,null,null,null,null,null,null,null,{"$f":"IF(H69=INDIRECT(\"Word回答!B\"&(RIGHT(CELL(\"filename\",$A$1),LEN(CELL(\"filename\",$A$1))-FIND(\"]\",CELL(\"filename\",$A$1)))+1)),\"OK\",\"NG\")","v":{"$error":"#REF!"}}]
[null,null,null,null,null,null,null,null,{"$f":"IF(H70=INDIRECT(\"Word回答!B\"&(RIGHT(CELL(\"filename\",$A$1),LEN(CELL(\"filename\",$A$1))-FIND(\"]\",CELL(\"filename\",$A$1)))+1)),\"OK\",\"NG\")","v":{"$error":"#REF!"}}]
[null,null,null,null,null,null,null,null,{"$f":"IF(COUNTIF($I$2:$I$12,\"OK\")=11,1,0)","v":0}]

{"sheet":"印刷用(アンケート） (6)","index":35,"n_rows":27,"n_cols":6,"rows_kept":27,"cut":false,"hidden":true,"merged":[[26,3,26,5],[12,0,12,3],[13,1,13,2],[13,3,13,4],[15,3,15,5],[16,3,16,5],[25,3,25,5],[11,0,11,1],[11,2,11,3],[11,4,11,5],[0,0,0,5],[1,0,1,5],[10,0,10,1],[10,2,10,3],[10,4,10,5]]}
["アビリンオート　お客様アンケート"]
["いつもご利用いただき誠にありがとうございます。"]
["アンケートにご協力くださいますようにお願いします。",null,null,null,"No",1]
["１．どのメーカーの車を購入しましたか？　１つだけお選びください。",null,null,null,"回答欄",{"$f":"IF($F$3=\"\",\"\",VLOOKUP($F$3,差し込み用!$A$2:$L$26,2,FALSE))","v":""}]
["１．トヨタ","２．日産","３．本田","４．マツダ","５．スバル"]
["６．スズキ","７．ミツビシ","８．ダイハツ","９．レクサス","１０．輸入車"]
["２．ご購入された車種は？１つだけお選びください。　",null,null,null,"回答欄",{"$f":"IF($F$3=\"\",\"\",VLOOKUP($F$3,差し込み用!$A$2:$L$26,3,FALSE))","v":""}]
["１．軽自動車","２．SUV","３． １BOX","４．ワゴン","５．セダン"]
["６．コンパクト","７．オープン","８．ハイブリッド","９．電気自動車","10．その他"]
["３．購入された理由は何ですか？１つだけお選びください。　",null,null,null,"回答欄",{"$f":"IF($F$3=\"\",\"\",VLOOKUP($F$3,差し込み用!$A$2:$L$26,4,FALSE))","v":0}]
["１．購入したい車だった",null,"２．値段が手ごろだったから",null,"３．ディーラーですすめられた"]
["４．燃費がいいから",null,"５．家族にすすめられたから",null,"６．その他"]
["４．ご購入した車は満足いただけましたでしょうか？",null,null,null,"回答欄",{"$f":"IF($F$3=\"\",\"\",VLOOKUP($F$3,差し込み用!$A$2:$L$26,5,FALSE))","v":0}]
["１．大変満足","２．まあまあ満足",null,"３． どちらかといえば不満足",null,"４．たいへん不満"]
["５．よろしければ、お客様について、お教えください。"]
["5.①","フリガナ","回答欄",{"$f":"IF($F$3=\"\",\"\",VLOOKUP($F$3,差し込み用!$A$2:$L$26,6,FALSE))","v":0}]
["5.②","氏名","回答欄",{"$f":"IF($F$3=\"\",\"\",VLOOKUP($F$3,差し込み用!$A$2:$L$26,7,FALSE))","v":""}]
["5.③","性別","１．男性","2.女性","回答欄",{"$f":"IF($F$3=\"\",\"\",VLOOKUP($F$3,差し込み用!$A$2:$L$26,8,FALSE))","v":""}]
["5.④","年齢",null,null,"回答欄",{"$f":"IF($F$3=\"\",\"\",VLOOKUP($F$3,差し込み用!$A$2:$L$26,9,FALSE))","v":0}]
[null,null,"1.10代","2.20代","3.30代","4.40代"]
[null,null,"5.50代","6.60代","7.70歳以上"]
["5.⑤","職業",null,null,"回答欄",{"$f":"IF($F$3=\"\",\"\",VLOOKUP($F$3,差し込み用!$A$2:$L$26,10,FALSE))","v":0}]
[null,null,"1.公務員","2.団体職員","3.短・専門・大学生","4.管理職"]
[null,null,"5.事務職","6.専門・技術職","7.販売・サービス業","8.建設業"]
[null,null,"9.工場勤務","10.主婦・主夫","11.無職","12.その他"]
["5.⑥","電話番号","回答欄",{"$f":"IF($F$3=\"\",\"\",VLOOKUP($F$3,差し込み用!$A$2:$L$26,11,FALSE))","v":0}]
["5.⑦","メールアドレス","回答欄",{"$f":"IF($F$3=\"\",\"\",VLOOKUP($F$3,差し込み用!$A$2:$L$26,12,FALSE))","v":0}]

{"sheet":"印刷用(アンケート） (5)","index":36,"n_rows":27,"n_cols":6,"rows_kept":27,"cut":false,"hidden":true,"merged":[[26,3,26,5],[12,0,12,3],[13,1,13,2],[13,3,13,4],[15,3,15,5],[16,3,16,5],[25,3,25,5],[11,0,11,1],[11,2,11,3],[11,4,11,5],[0,0,0,5],[1,0,1,5],[10,0,10,1],[10,2,10,3],[10,4,10,5]]}
["アビリン電気店　お客様アンケート"]
["いつもご利用いただき誠にありがとうございます。"]
["アンケートにご協力くださいますようにお願いします。",null,null,null,"No",1]
["１．このたびは何を購入されましたか?１つだけお選びください。　",null,null,null,"回答欄",{"$f":"IF($F$3=\"\",\"\",VLOOKUP($F$3,差し込み用!$A$2:$L$26,2,FALSE))","v":""}]
["１．テレビ","２．冷蔵庫","３．洗濯機","４．電子レンジ","５．掃除機"]
["６．扇風機","７．エアコン","８．炊飯器","９．オーブン","１０．ゲーム機"]
["２．ご購入された商品は何でお知りになりましたか？１つだけお選びください。　",null,null,null,"回答欄",{"$f":"IF($F$3=\"\",\"\",VLOOKUP($F$3,差し込み用!$A$2:$L$26,3,FALSE))","v":""}]
["１．新聞","２．テレビ","３． ラジオ","４．雑誌","５．その他情報誌"]
["６．折込広告","７．車内広告","８．Ｗｅｂ","９．その他広告","10．ご家族、ご友人"]
["３．購入された理由は何ですか？１つだけお選びください。　",null,null,null,"回答欄",{"$f":"IF($F$3=\"\",\"\",VLOOKUP($F$3,差し込み用!$A$2:$L$26,4,FALSE))","v":0}]
["１．使っているものが古くなったから",null,"２．値段が手ごろだったから",null,"３．友人が使っていたから"]
["４．商品が気に入ったから",null,"５．家族にすすめられたから",null,"６．その他"]
["４．ご購入した商品は満足いただけましたでしょうか？",null,null,null,"回答欄",{"$f":"IF($F$3=\"\",\"\",VLOOKUP($F$3,差し込み用!$A$2:$L$26,5,FALSE))","v":0}]
["１．大変満足","２．まあまあ満足",null,"３． どちらかといえば不満足",null,"４．たいへん不満"]
["５．よろしければ、お客様について、お教えください。"]
["5.①","フリガナ","回答欄",{"$f":"IF($F$3=\"\",\"\",VLOOKUP($F$3,差し込み用!$A$2:$L$26,6,FALSE))","v":0}]
["5.②","氏名","回答欄",{"$f":"IF($F$3=\"\",\"\",VLOOKUP($F$3,差し込み用!$A$2:$L$26,7,FALSE))","v":""}]
["5.③","性別","１．男性","2.女性","回答欄",{"$f":"IF($F$3=\"\",\"\",VLOOKUP($F$3,差し込み用!$A$2:$L$26,8,FALSE))","v":""}]
["5.④","年齢",null,null,"回答欄",{"$f":"IF($F$3=\"\",\"\",VLOOKUP($F$3,差し込み用!$A$2:$L$26,9,FALSE))","v":0}]
[null,null,"1.10代","2.20代","3.30代","4.40代"]
[null,null,"5.50代","6.60代","7.70歳以上"]
["5.⑤","職業",null,null,"回答欄",{"$f":"IF($F$3=\"\",\"\",VLOOKUP($F$3,差し込み用!$A$2:$L$26,10,FALSE))","v":0}]
[null,null,"1.小学生","2.中高生","3.短・専門・大学生","4.管理職"]
[null,null,"5.事務職","6.専門・技術職","7.販売・サービス業","8.建設業"]
[null,null,"9.工場勤務","10.主婦・主夫","11.無職","12.その他"]
["5.⑥","電話番号","回答欄",{"$f":"IF($F$3=\"\",\"\",VLOOKUP($F$3,差し込み用!$A$2:$L$26,11,FALSE))","v":0}]
["5.⑦","メールアドレス","回答欄",{"$f":"IF($F$3=\"\",\"\",VLOOKUP($F$3,差し込み用!$A$2:$L$26,12,FALSE))","v":0}]

{"sheet":"課題説明  (106)","index":37,"n_rows":5,"n_cols":1,"rows_kept":5,"cut":false,"hidden":true,"merged":[[0,0,0,13],[1,0,1,13],[2,0,2,13],[3,0,3,13],[4,0,4,13]]}
["当課題及びエクセルファイルの取扱いについての注意事項"]
["○当課題は、パソコンデータ入力競技課題１を想定して作成されており、当エクセルを使用することで、課題作成から選手の入力作業、採点までが可能です。\n\n　　当エクセルファイルの構成及び説明は以下の通りです。\n\n　　　◆「課題説明」　・・・当シート。\n\n　　　◆「印刷用」　　・・・印刷用シートの画面上に「印刷用」ボタンが設置されており、１クリックで「差し込み用\n　　　　　　　　　　　　　　シート」内のアンケートデータを一度に印刷することができます。\n　　　　　　　　　　　　　　ただし、印刷初期設定の給紙トレイは”手差し”、用紙は”ハガキサイズ”となっている\n　　　　　　　　　　　　　　ため、他のサイズの用紙を用意した場合は、プリンターエラーが出る場合があります。\n　　　　　　　　　　　　　　また、一度印刷ボタンを押すと途中で中断できないため、印刷環境を整えてからクリック\n　　　　　　　　　　　　　　してください。\n\n                            ※各施設に設置されているプリンターの仕様によっても、設定方法が異なる可能性があるため\n　　　　　　　　　　　　　　適宜、プリンターにあった設定方法を確認してください。\n\n　　　◆「差し込み用」・・・このシートに入力されているデータは、当課題の”答え”を兼ねていますので、当シート\n　　　　　　　　　　　　　　のデータを変更するとすべてのシートに影響します。\n\n　　　◆「回答参考」　・・・「アンケート入力用フォーマット」構成のためのシートです。\n\n　　　"]
["　　　◆「１」～「２１」の「アンケート入力用フォーマット」\n　　　　　　　　　　　・・・選手が実際に当フォーマットに入力する用に作成しています。\n　　　　　　　　　　　　　　当フォーマットは課題数に応じてシートをコピーし増設してください。\n\n　　　◆「入力フォーム合計」　・・・「アンケート入力用フォーマット」に入力した情報が当シートにまとまります。\n　　　　　　　　　　　　　　　　　　「アンケート入力用フォーマット」を増設した場合は、「入力フォーム合計」に\n　　　　　　　　　　　　　　　　　　 連動しているセルの数式を修正する必要があります。　　　　　　　　　　　　　　\n\n　　　◆「採点例」　　・・・「差し込み用」と「入力フォーマット合計」を比較して採点できるシートです。"]
["○当課題（エクセルファイル）は、マクロは使用しておりませんが、使用するにあたって以下の知識を必要とします。\n　　\n　　　◆エクセル関数（if関数、vlookup関数など）\n　　　◆行・列の表示方法\n　　　◆シートの保護、シートの表示・非表示及びシートへのパスワードの付与"]
["○当エクセルをそのまま地方アビリンピック大会の課題として実施する場合は、以下の点に注意して下さい。\n\n　　■選手が競技を実施するために不要なシートは非表示にし、パスワードをかけること。（選手によるシート再表示防止）\n\n　　　　（操作方法）※Microsoft　Excel2010の場合\n　　　　　１．非表示にしたいシートの名前タブ上で右クリックし「非表示」をクリック\n　　　　　２．左上の「ファイル」をクリック\n　　　　　３．「情報」タブの「ブックの保護」をクリック\n　　　　　４．「ブック構成の保護」をクリックし、「シート構成」にチェックを付けたままパスワードを設定する。\n　\n　　　※シートを再表示したい時は、２→３→４の順に進むと「ブック構成の保護解除」になりパスワードを入力すること\n　　　　で解除できます。　　　\n\n\n\n"]

{"sheet":"回答参考 (2)","index":38,"n_rows":70,"n_cols":8,"rows_kept":70,"cut":false,"hidden":true,"merged":[[7,1,7,2],[8,1,8,2],[9,1,9,3],[10,1,10,3],[11,1,11,3],[6,1,6,3],[1,1,1,3],[2,1,2,3],[3,1,3,3],[4,1,4,3],[5,1,5,3]]}
["項目","回答",null,null,null,null,null,"非表示列"]
["①1",null,null,null,"▼プルダウンメニュー",null,null,{"$f":"VLOOKUP(B2,$B$14:$C$23,2,0)","v":{"$error":"#N/A"}}]
["②1",null,null,null,"▼プルダウンメニュー",null,null,{"$f":"VLOOKUP(B3,$B$25:$C$34,2,0)","v":{"$error":"#N/A"}}]
["③1",null,null,null,"▼プルダウンメニュー",null,null,{"$f":"VLOOKUP(B4,$B$36:$C$41,2,0)","v":{"$error":"#N/A"}}]
["④1",null,null,null,"▼プルダウンメニュー",null,null,{"$f":"VLOOKUP(B5,$B$43:$C$46,2,0)","v":{"$error":"#N/A"}}]
["⑤1"]
["⑤2"]
["⑤3",null,null,null,"▼プルダウンメニュー",null,null,{"$f":"VLOOKUP(B8,$B$48:$C$49,2,0)","v":{"$error":"#N/A"}}]
["⑤4",null,null,null,"▼プルダウンメニュー",null,null,{"$f":"VLOOKUP(B9,$B$51:$C$57,2,0)","v":{"$error":"#N/A"}}]
["⑤5",null,null,null,"▼プルダウンメニュー",null,null,{"$f":"VLOOKUP(B10,$B$59:$C$70,2,0)","v":{"$error":"#N/A"}}]
["⑤6"]
["⑤7"]
[]
["①1","1.テレビ",1,"非表示行"]
[null,"2.冷蔵庫",2]
[null,"3.洗濯機",3]
[null,"4.電子レンジ",4]
[null,"5.掃除機",5]
[null,"6.扇風機",6]
[null,"7.エアコン",7]
[null,"8.炊飯器",8]
[null,"9.オーブン",9]
[null,"10.ゲーム機",10]
[]
["②1","1.新聞",1]
[null,"2.テレビ",2]
[null,"3.ラジオ",3]
[null,"4.雑誌",4]
[null,"5.その他情報誌",5]
[null,"6.折込広告",6]
[null,"7.車内広告",7]
[null,"8.Ｗｅｂ",8]
[null,"9.その他広告",9]
[null,"10.ご家族、ご友人",10]
[]
["③1","1.使っているものが古くなったから",1]
[null,"2.値段が手ごろだったから",2]
[null,"3.友人が使っていたから",3]
[null,"4.商品が気に入ったから",4]
[null,"5.家族にすすめられたから",5]
[null,"6.その他",6]
[]
["④1","1.大変満足",1]
[null,"2.まあまあ満足",2]
[null,"3.どちらかといえば不満足",3]
[null,"4.たいへん不満",4]
[]
["⑤3","1.男性",1]
[null,"2.女性",2]
[]
["⑤4","1.10代",1]
[null,"2.20代",2]
[null,"3.30代",3]
[null,"4.40代",4]
[null,"5.50代",5]
[null,"6.60代",6]
[null,"7.70歳以上",7]
[]
["⑤5","1.小学生",1]
[null,"2.中高生",2]
[null,"3.短・専門・大学生",3]
[null,"4.管理職",4]
[null,"5.事務職",5]
[null,"6.専門・技術職",6]
[null,"7.販売・サービス業",7]
[null,"8.建設業",8]
[null,"9.工場勤務",9]
[null,"10.主婦・主夫",10]
[null,"11.無職",11]
[null,"12.その他",12]

{"sheet":"印刷用(アンケート） (4)","index":39,"n_rows":27,"n_cols":6,"rows_kept":27,"cut":false,"hidden":true,"merged":[[26,3,26,5],[12,0,12,3],[13,1,13,2],[13,3,13,4],[15,3,15,5],[16,3,16,5],[25,3,25,5],[11,0,11,1],[11,2,11,3],[11,4,11,5],[0,0,0,5],[1,0,1,5],[10,0,10,1],[10,2,10,3],[10,4,10,5]]}
["アビリンオート　お客様アンケート"]
["いつもご利用いただき誠にありがとうございます。"]
["アンケートにご協力くださいますようにお願いします。",null,null,null,"No",1]
["１．どのメーカーの車を購入しましたか？　１つだけお選びください。",null,null,null,"回答欄",{"$f":"IF($F$3=\"\",\"\",VLOOKUP($F$3,差し込み用!$A$2:$L$26,2,FALSE))","v":""}]
["１．トヨタ","２．日産","３．本田","４．マツダ","５．スバル"]
["６．スズキ","７．ミツビシ","８．ダイハツ","９．レクサス","１０．輸入車"]
["２．ご購入された車種は？１つだけお選びください。　",null,null,null,"回答欄",{"$f":"IF($F$3=\"\",\"\",VLOOKUP($F$3,差し込み用!$A$2:$L$26,3,FALSE))","v":""}]
["１．軽自動車","２．SUV","３． １BOX","４．ワゴン","５．セダン"]
["６．コンパクト","７．オープン","８．ハイブリッド","９．電気自動車","10．その他"]
["３．購入された理由は何ですか？１つだけお選びください。　",null,null,null,"回答欄",{"$f":"IF($F$3=\"\",\"\",VLOOKUP($F$3,差し込み用!$A$2:$L$26,4,FALSE))","v":0}]
["１．購入したい車だった",null,"２．値段が手ごろだったから",null,"３．ディーラーですすめられた"]
["４．燃費がいいから",null,"５．家族にすすめられたから",null,"６．その他"]
["４．ご購入した車は満足いただけましたでしょうか？",null,null,null,"回答欄",{"$f":"IF($F$3=\"\",\"\",VLOOKUP($F$3,差し込み用!$A$2:$L$26,5,FALSE))","v":0}]
["１．大変満足","２．まあまあ満足",null,"３． どちらかといえば不満足",null,"４．たいへん不満"]
["５．よろしければ、お客様について、お教えください。"]
["5.①","フリガナ","回答欄",{"$f":"IF($F$3=\"\",\"\",VLOOKUP($F$3,差し込み用!$A$2:$L$26,6,FALSE))","v":0}]
["5.②","氏名","回答欄",{"$f":"IF($F$3=\"\",\"\",VLOOKUP($F$3,差し込み用!$A$2:$L$26,7,FALSE))","v":""}]
["5.③","性別","１．男性","2.女性","回答欄",{"$f":"IF($F$3=\"\",\"\",VLOOKUP($F$3,差し込み用!$A$2:$L$26,8,FALSE))","v":""}]
["5.④","年齢",null,null,"回答欄",{"$f":"IF($F$3=\"\",\"\",VLOOKUP($F$3,差し込み用!$A$2:$L$26,9,FALSE))","v":0}]
[null,null,"1.10代","2.20代","3.30代","4.40代"]
[null,null,"5.50代","6.60代","7.70歳以上"]
["5.⑤","職業",null,null,"回答欄",{"$f":"IF($F$3=\"\",\"\",VLOOKUP($F$3,差し込み用!$A$2:$L$26,10,FALSE))","v":0}]
[null,null,"1.公務員","2.団体職員","3.短・専門・大学生","4.管理職"]
[null,null,"5.事務職","6.専門・技術職","7.販売・サービス業","8.建設業"]
[null,null,"9.工場勤務","10.主婦・主夫","11.無職","12.その他"]
["5.⑥","電話番号","回答欄",{"$f":"IF($F$3=\"\",\"\",VLOOKUP($F$3,差し込み用!$A$2:$L$26,11,FALSE))","v":0}]
["5.⑦","メールアドレス","回答欄",{"$f":"IF($F$3=\"\",\"\",VLOOKUP($F$3,差し込み用!$A$2:$L$26,12,FALSE))","v":0}]

{"sheet":"印刷用(アンケート） (3)","index":40,"n_rows":27,"n_cols":6,"rows_kept":27,"cut":false,"hidden":true,"merged":[[26,3,26,5],[12,0,12,3],[13,1,13,2],[13,3,13,4],[15,3,15,5],[16,3,16,5],[25,3,25,5],[11,0,11,1],[11,2,11,3],[11,4,11,5],[0,0,0,5],[1,0,1,5],[10,0,10,1],[10,2,10,3],[10,4,10,5]]}
["アビリン電気店　お客様アンケート"]
["いつもご利用いただき誠にありがとうございます。"]
["アンケートにご協力くださいますようにお願いします。",null,null,null,"No",1]
["１．このたびは何を購入されましたか?１つだけお選びください。　",null,null,null,"回答欄",{"$f":"IF($F$3=\"\",\"\",VLOOKUP($F$3,差し込み用!$A$2:$L$26,2,FALSE))","v":""}]
["１．テレビ","２．冷蔵庫","３．洗濯機","４．電子レンジ","５．掃除機"]
["６．扇風機","７．エアコン","８．炊飯器","９．オーブン","１０．ゲーム機"]
["２．ご購入された商品は何でお知りになりましたか？１つだけお選びください。　",null,null,null,"回答欄",{"$f":"IF($F$3=\"\",\"\",VLOOKUP($F$3,差し込み用!$A$2:$L$26,3,FALSE))","v":""}]
["１．新聞","２．テレビ","３． ラジオ","４．雑誌","５．その他情報誌"]
["６．折込広告","７．車内広告","８．Ｗｅｂ","９．その他広告","10．ご家族、ご友人"]
["３．購入された理由は何ですか？１つだけお選びください。　",null,null,null,"回答欄",{"$f":"IF($F$3=\"\",\"\",VLOOKUP($F$3,差し込み用!$A$2:$L$26,4,FALSE))","v":0}]
["１．使っているものが古くなったから",null,"２．値段が手ごろだったから",null,"３．友人が使っていたから"]
["４．商品が気に入ったから",null,"５．家族にすすめられたから",null,"６．その他"]
["４．ご購入した商品は満足いただけましたでしょうか？",null,null,null,"回答欄",{"$f":"IF($F$3=\"\",\"\",VLOOKUP($F$3,差し込み用!$A$2:$L$26,5,FALSE))","v":0}]
["１．大変満足","２．まあまあ満足",null,"３． どちらかといえば不満足",null,"４．たいへん不満"]
["５．よろしければ、お客様について、お教えください。"]
["5.①","フリガナ","回答欄",{"$f":"IF($F$3=\"\",\"\",VLOOKUP($F$3,差し込み用!$A$2:$L$26,6,FALSE))","v":0}]
["5.②","氏名","回答欄",{"$f":"IF($F$3=\"\",\"\",VLOOKUP($F$3,差し込み用!$A$2:$L$26,7,FALSE))","v":""}]
["5.③","性別","１．男性","2.女性","回答欄",{"$f":"IF($F$3=\"\",\"\",VLOOKUP($F$3,差し込み用!$A$2:$L$26,8,FALSE))","v":""}]
["5.④","年齢",null,null,"回答欄",{"$f":"IF($F$3=\"\",\"\",VLOOKUP($F$3,差し込み用!$A$2:$L$26,9,FALSE))","v":0}]
[null,null,"1.10代","2.20代","3.30代","4.40代"]
[null,null,"5.50代","6.60代","7.70歳以上"]
["5.⑤","職業",null,null,"回答欄",{"$f":"IF($F$3=\"\",\"\",VLOOKUP($F$3,差し込み用!$A$2:$L$26,10,FALSE))","v":0}]
[null,null,"1.小学生","2.中高生","3.短・専門・大学生","4.管理職"]
[null,null,"5.事務職","6.専門・技術職","7.販売・サービス業","8.建設業"]
[null,null,"9.工場勤務","10.主婦・主夫","11.無職","12.その他"]
["5.⑥","電話番号","回答欄",{"$f":"IF($F$3=\"\",\"\",VLOOKUP($F$3,差し込み用!$A$2:$L$26,11,FALSE))","v":0}]
["5.⑦","メールアドレス","回答欄",{"$f":"IF($F$3=\"\",\"\",VLOOKUP($F$3,差し込み用!$A$2:$L$26,12,FALSE))","v":0}]

{"sheet":"課題説明  (105)","index":41,"n_rows":5,"n_cols":1,"rows_kept":5,"cut":false,"hidden":true,"merged":[[0,0,0,13],[1,0,1,13],[2,0,2,13],[3,0,3,13],[4,0,4,13]]}
["当課題及びエクセルファイルの取扱いについての注意事項"]
["○当課題は、パソコンデータ入力競技課題１を想定して作成されており、当エクセルを使用することで、課題作成から選手の入力作業、採点までが可能です。\n\n　　当エクセルファイルの構成及び説明は以下の通りです。\n\n　　　◆「課題説明」　・・・当シート。\n\n　　　◆「印刷用」　　・・・印刷用シートの画面上に「印刷用」ボタンが設置されており、１クリックで「差し込み用\n　　　　　　　　　　　　　　シート」内のアンケートデータを一度に印刷することができます。\n　　　　　　　　　　　　　　ただし、印刷初期設定の給紙トレイは”手差し”、用紙は”ハガキサイズ”となっている\n　　　　　　　　　　　　　　ため、他のサイズの用紙を用意した場合は、プリンターエラーが出る場合があります。\n　　　　　　　　　　　　　　また、一度印刷ボタンを押すと途中で中断できないため、印刷環境を整えてからクリック\n　　　　　　　　　　　　　　してください。\n\n                            ※各施設に設置されているプリンターの仕様によっても、設定方法が異なる可能性があるため\n　　　　　　　　　　　　　　適宜、プリンターにあった設定方法を確認してください。\n\n　　　◆「差し込み用」・・・このシートに入力されているデータは、当課題の”答え”を兼ねていますので、当シート\n　　　　　　　　　　　　　　のデータを変更するとすべてのシートに影響します。\n\n　　　◆「回答参考」　・・・「アンケート入力用フォーマット」構成のためのシートです。\n\n　　　"]
["　　　◆「１」～「２１」の「アンケート入力用フォーマット」\n　　　　　　　　　　　・・・選手が実際に当フォーマットに入力する用に作成しています。\n　　　　　　　　　　　　　　当フォーマットは課題数に応じてシートをコピーし増設してください。\n\n　　　◆「入力フォーム合計」　・・・「アンケート入力用フォーマット」に入力した情報が当シートにまとまります。\n　　　　　　　　　　　　　　　　　　「アンケート入力用フォーマット」を増設した場合は、「入力フォーム合計」に\n　　　　　　　　　　　　　　　　　　 連動しているセルの数式を修正する必要があります。　　　　　　　　　　　　　　\n\n　　　◆「採点例」　　・・・「差し込み用」と「入力フォーマット合計」を比較して採点できるシートです。"]
["○当課題（エクセルファイル）は、マクロは使用しておりませんが、使用するにあたって以下の知識を必要とします。\n　　\n　　　◆エクセル関数（if関数、vlookup関数など）\n　　　◆行・列の表示方法\n　　　◆シートの保護、シートの表示・非表示及びシートへのパスワードの付与"]
["○当エクセルをそのまま地方アビリンピック大会の課題として実施する場合は、以下の点に注意して下さい。\n\n　　■選手が競技を実施するために不要なシートは非表示にし、パスワードをかけること。（選手によるシート再表示防止）\n\n　　　　（操作方法）※Microsoft　Excel2010の場合\n　　　　　１．非表示にしたいシートの名前タブ上で右クリックし「非表示」をクリック\n　　　　　２．左上の「ファイル」をクリック\n　　　　　３．「情報」タブの「ブックの保護」をクリック\n　　　　　４．「ブック構成の保護」をクリックし、「シート構成」にチェックを付けたままパスワードを設定する。\n　\n　　　※シートを再表示したい時は、２→３→４の順に進むと「ブック構成の保護解除」になりパスワードを入力すること\n　　　　で解除できます。　　　\n\n\n\n"]

{"sheet":"課題説明  (104)","index":42,"n_rows":5,"n_cols":1,"rows_kept":5,"cut":false,"hidden":true,"merged":[[0,0,0,13],[1,0,1,13],[2,0,2,13],[3,0,3,13],[4,0,4,13]]}
["当課題及びエクセルファイルの取扱いについての注意事項"]
["○当課題は、パソコンデータ入力競技課題１を想定して作成されており、当エクセルを使用することで、課題作成から選手の入力作業、採点までが可能です。\n\n　　当エクセルファイルの構成及び説明は以下の通りです。\n\n　　　◆「課題説明」　・・・当シート。\n\n　　　◆「印刷用」　　・・・印刷用シートの画面上に「印刷用」ボタンが設置されており、１クリックで「差し込み用\n　　　　　　　　　　　　　　シート」内のアンケートデータを一度に印刷することができます。\n　　　　　　　　　　　　　　ただし、印刷初期設定の給紙トレイは”手差し”、用紙は”ハガキサイズ”となっている\n　　　　　　　　　　　　　　ため、他のサイズの用紙を用意した場合は、プリンターエラーが出る場合があります。\n　　　　　　　　　　　　　　また、一度印刷ボタンを押すと途中で中断できないため、印刷環境を整えてからクリック\n　　　　　　　　　　　　　　してください。\n\n                            ※各施設に設置されているプリンターの仕様によっても、設定方法が異なる可能性があるため\n　　　　　　　　　　　　　　適宜、プリンターにあった設定方法を確認してください。\n\n　　　◆「差し込み用」・・・このシートに入力されているデータは、当課題の”答え”を兼ねていますので、当シート\n　　　　　　　　　　　　　　のデータを変更するとすべてのシートに影響します。\n\n　　　◆「回答参考」　・・・「アンケート入力用フォーマット」構成のためのシートです。\n\n　　　"]
["　　　◆「１」～「２１」の「アンケート入力用フォーマット」\n　　　　　　　　　　　・・・選手が実際に当フォーマットに入力する用に作成しています。\n　　　　　　　　　　　　　　当フォーマットは課題数に応じてシートをコピーし増設してください。\n\n　　　◆「入力フォーム合計」　・・・「アンケート入力用フォーマット」に入力した情報が当シートにまとまります。\n　　　　　　　　　　　　　　　　　　「アンケート入力用フォーマット」を増設した場合は、「入力フォーム合計」に\n　　　　　　　　　　　　　　　　　　 連動しているセルの数式を修正する必要があります。　　　　　　　　　　　　　　\n\n　　　◆「採点例」　　・・・「差し込み用」と「入力フォーマット合計」を比較して採点できるシートです。"]
["○当課題（エクセルファイル）は、マクロは使用しておりませんが、使用するにあたって以下の知識を必要とします。\n　　\n　　　◆エクセル関数（if関数、vlookup関数など）\n　　　◆行・列の表示方法\n　　　◆シートの保護、シートの表示・非表示及びシートへのパスワードの付与"]
["○当エクセルをそのまま地方アビリンピック大会の課題として実施する場合は、以下の点に注意して下さい。\n\n　　■選手が競技を実施するために不要なシートは非表示にし、パスワードをかけること。（選手によるシート再表示防止）\n\n　　　　（操作方法）※Microsoft　Excel2010の場合\n　　　　　１．非表示にしたいシートの名前タブ上で右クリックし「非表示」をクリック\n　　　　　２．左上の「ファイル」をクリック\n　　　　　３．「情報」タブの「ブックの保護」をクリック\n　　　　　４．「ブック構成の保護」をクリックし、「シート構成」にチェックを付けたままパスワードを設定する。\n　\n　　　※シートを再表示したい時は、２→３→４の順に進むと「ブック構成の保護解除」になりパスワードを入力すること\n　　　　で解除できます。　　　\n\n\n\n"]

{"sheet":"課題説明  (103)","index":43,"n_rows":5,"n_cols":1,"rows_kept":5,"cut":false,"hidden":true,"merged":[[0,0,0,13],[1,0,1,13],[2,0,2,13],[3,0,3,13],[4,0,4,13]]}
["当課題及びエクセルファイルの取扱いについての注意事項"]
["○当課題は、パソコンデータ入力競技課題１を想定して作成されており、当エクセルを使用することで、課題作成から選手の入力作業、採点までが可能です。\n\n　　当エクセルファイルの構成及び説明は以下の通りです。\n\n　　　◆「課題説明」　・・・当シート。\n\n　　　◆「印刷用」　　・・・印刷用シートの画面上に「印刷用」ボタンが設置されており、１クリックで「差し込み用\n　　　　　　　　　　　　　　シート」内のアンケートデータを一度に印刷することができます。\n　　　　　　　　　　　　　　ただし、印刷初期設定の給紙トレイは”手差し”、用紙は”ハガキサイズ”となっている\n　　　　　　　　　　　　　　ため、他のサイズの用紙を用意した場合は、プリンターエラーが出る場合があります。\n　　　　　　　　　　　　　　また、一度印刷ボタンを押すと途中で中断できないため、印刷環境を整えてからクリック\n　　　　　　　　　　　　　　してください。\n\n                            ※各施設に設置されているプリンターの仕様によっても、設定方法が異なる可能性があるため\n　　　　　　　　　　　　　　適宜、プリンターにあった設定方法を確認してください。\n\n　　　◆「差し込み用」・・・このシートに入力されているデータは、当課題の”答え”を兼ねていますので、当シート\n　　　　　　　　　　　　　　のデータを変更するとすべてのシートに影響します。\n\n　　　◆「回答参考」　・・・「アンケート入力用フォーマット」構成のためのシートです。\n\n　　　"]
["　　　◆「１」～「２１」の「アンケート入力用フォーマット」\n　　　　　　　　　　　・・・選手が実際に当フォーマットに入力する用に作成しています。\n　　　　　　　　　　　　　　当フォーマットは課題数に応じてシートをコピーし増設してください。\n\n　　　◆「入力フォーム合計」　・・・「アンケート入力用フォーマット」に入力した情報が当シートにまとまります。\n　　　　　　　　　　　　　　　　　　「アンケート入力用フォーマット」を増設した場合は、「入力フォーム合計」に\n　　　　　　　　　　　　　　　　　　 連動しているセルの数式を修正する必要があります。　　　　　　　　　　　　　　\n\n　　　◆「採点例」　　・・・「差し込み用」と「入力フォーマット合計」を比較して採点できるシートです。"]
["○当課題（エクセルファイル）は、マクロは使用しておりませんが、使用するにあたって以下の知識を必要とします。\n　　\n　　　◆エクセル関数（if関数、vlookup関数など）\n　　　◆行・列の表示方法\n　　　◆シートの保護、シートの表示・非表示及びシートへのパスワードの付与"]
["○当エクセルをそのまま地方アビリンピック大会の課題として実施する場合は、以下の点に注意して下さい。\n\n　　■選手が競技を実施するために不要なシートは非表示にし、パスワードをかけること。（選手によるシート再表示防止）\n\n　　　　（操作方法）※Microsoft　Excel2010の場合\n　　　　　１．非表示にしたいシートの名前タブ上で右クリックし「非表示」をクリック\n　　　　　２．左上の「ファイル」をクリック\n　　　　　３．「情報」タブの「ブックの保護」をクリック\n　　　　　４．「ブック構成の保護」をクリックし、「シート構成」にチェックを付けたままパスワードを設定する。\n　\n　　　※シートを再表示したい時は、２→３→４の順に進むと「ブック構成の保護解除」になりパスワードを入力すること\n　　　　で解除できます。　　　\n\n\n\n"]

{"sheet":"課題説明  (102)","index":44,"n_rows":5,"n_cols":1,"rows_kept":5,"cut":false,"hidden":true,"merged":[[0,0,0,13],[1,0,1,13],[2,0,2,13],[3,0,3,13],[4,0,4,13]]}
["当課題及びエクセルファイルの取扱いについての注意事項"]
["○当課題は、パソコンデータ入力競技課題１を想定して作成されており、当エクセルを使用することで、課題作成から選手の入力作業、採点までが可能です。\n\n　　当エクセルファイルの構成及び説明は以下の通りです。\n\n　　　◆「課題説明」　・・・当シート。\n\n　　　◆「印刷用」　　・・・印刷用シートの画面上に「印刷用」ボタンが設置されており、１クリックで「差し込み用\n　　　　　　　　　　　　　　シート」内のアンケートデータを一度に印刷することができます。\n　　　　　　　　　　　　　　ただし、印刷初期設定の給紙トレイは”手差し”、用紙は”ハガキサイズ”となっている\n　　　　　　　　　　　　　　ため、他のサイズの用紙を用意した場合は、プリンターエラーが出る場合があります。\n　　　　　　　　　　　　　　また、一度印刷ボタンを押すと途中で中断できないため、印刷環境を整えてからクリック\n　　　　　　　　　　　　　　してください。\n\n                            ※各施設に設置されているプリンターの仕様によっても、設定方法が異なる可能性があるため\n　　　　　　　　　　　　　　適宜、プリンターにあった設定方法を確認してください。\n\n　　　◆「差し込み用」・・・このシートに入力されているデータは、当課題の”答え”を兼ねていますので、当シート\n　　　　　　　　　　　　　　のデータを変更するとすべてのシートに影響します。\n\n　　　◆「回答参考」　・・・「アンケート入力用フォーマット」構成のためのシートです。\n\n　　　"]
["　　　◆「１」～「２１」の「アンケート入力用フォーマット」\n　　　　　　　　　　　・・・選手が実際に当フォーマットに入力する用に作成しています。\n　　　　　　　　　　　　　　当フォーマットは課題数に応じてシートをコピーし増設してください。\n\n　　　◆「入力フォーム合計」　・・・「アンケート入力用フォーマット」に入力した情報が当シートにまとまります。\n　　　　　　　　　　　　　　　　　　「アンケート入力用フォーマット」を増設した場合は、「入力フォーム合計」に\n　　　　　　　　　　　　　　　　　　 連動しているセルの数式を修正する必要があります。　　　　　　　　　　　　　　\n\n　　　◆「採点例」　　・・・「差し込み用」と「入力フォーマット合計」を比較して採点できるシートです。"]
["○当課題（エクセルファイル）は、マクロは使用しておりませんが、使用するにあたって以下の知識を必要とします。\n　　\n　　　◆エクセル関数（if関数、vlookup関数など）\n　　　◆行・列の表示方法\n　　　◆シートの保護、シートの表示・非表示及びシートへのパスワードの付与"]
["○当エクセルをそのまま地方アビリンピック大会の課題として実施する場合は、以下の点に注意して下さい。\n\n　　■選手が競技を実施するために不要なシートは非表示にし、パスワードをかけること。（選手によるシート再表示防止）\n\n　　　　（操作方法）※Microsoft　Excel2010の場合\n　　　　　１．非表示にしたいシートの名前タブ上で右クリックし「非表示」をクリック\n　　　　　２．左上の「ファイル」をクリック\n　　　　　３．「情報」タブの「ブックの保護」をクリック\n　　　　　４．「ブック構成の保護」をクリックし、「シート構成」にチェックを付けたままパスワードを設定する。\n　\n　　　※シートを再表示したい時は、２→３→４の順に進むと「ブック構成の保護解除」になりパスワードを入力すること\n　　　　で解除できます。　　　\n\n\n\n"]

{"sheet":"課題説明  (101)","index":45,"n_rows":5,"n_cols":1,"rows_kept":5,"cut":false,"hidden":true,"merged":[[0,0,0,13],[1,0,1,13],[2,0,2,13],[3,0,3,13],[4,0,4,13]]}
["当課題及びエクセルファイルの取扱いについての注意事項"]
["○当課題は、パソコンデータ入力競技課題１を想定して作成されており、当エクセルを使用することで、課題作成から選手の入力作業、採点までが可能です。\n\n　　当エクセルファイルの構成及び説明は以下の通りです。\n\n　　　◆「課題説明」　・・・当シート。\n\n　　　◆「印刷用」　　・・・印刷用シートの画面上に「印刷用」ボタンが設置されており、１クリックで「差し込み用\n　　　　　　　　　　　　　　シート」内のアンケートデータを一度に印刷することができます。\n　　　　　　　　　　　　　　ただし、印刷初期設定の給紙トレイは”手差し”、用紙は”ハガキサイズ”となっている\n　　　　　　　　　　　　　　ため、他のサイズの用紙を用意した場合は、プリンターエラーが出る場合があります。\n　　　　　　　　　　　　　　また、一度印刷ボタンを押すと途中で中断できないため、印刷環境を整えてからクリック\n　　　　　　　　　　　　　　してください。\n\n                            ※各施設に設置されているプリンターの仕様によっても、設定方法が異なる可能性があるため\n　　　　　　　　　　　　　　適宜、プリンターにあった設定方法を確認してください。\n\n　　　◆「差し込み用」・・・このシートに入力されているデータは、当課題の”答え”を兼ねていますので、当シート\n　　　　　　　　　　　　　　のデータを変更するとすべてのシートに影響します。\n\n　　　◆「回答参考」　・・・「アンケート入力用フォーマット」構成のためのシートです。\n\n　　　"]
["　　　◆「１」～「２１」の「アンケート入力用フォーマット」\n　　　　　　　　　　　・・・選手が実際に当フォーマットに入力する用に作成しています。\n　　　　　　　　　　　　　　当フォーマットは課題数に応じてシートをコピーし増設してください。\n\n　　　◆「入力フォーム合計」　・・・「アンケート入力用フォーマット」に入力した情報が当シートにまとまります。\n　　　　　　　　　　　　　　　　　　「アンケート入力用フォーマット」を増設した場合は、「入力フォーム合計」に\n　　　　　　　　　　　　　　　　　　 連動しているセルの数式を修正する必要があります。　　　　　　　　　　　　　　\n\n　　　◆「採点例」　　・・・「差し込み用」と「入力フォーマット合計」を比較して採点できるシートです。"]
["○当課題（エクセルファイル）は、マクロは使用しておりませんが、使用するにあたって以下の知識を必要とします。\n　　\n　　　◆エクセル関数（if関数、vlookup関数など）\n　　　◆行・列の表示方法\n　　　◆シートの保護、シートの表示・非表示及びシートへのパスワードの付与"]
["○当エクセルをそのまま地方アビリンピック大会の課題として実施する場合は、以下の点に注意して下さい。\n\n　　■選手が競技を実施するために不要なシートは非表示にし、パスワードをかけること。（選手によるシート再表示防止）\n\n　　　　（操作方法）※Microsoft　Excel2010の場合\n　　　　　１．非表示にしたいシートの名前タブ上で右クリックし「非表示」をクリック\n　　　　　２．左上の「ファイル」をクリック\n　　　　　３．「情報」タブの「ブックの保護」をクリック\n　　　　　４．「ブック構成の保護」をクリックし、「シート構成」にチェックを付けたままパスワードを設定する。\n　\n　　　※シートを再表示したい時は、２→３→４の順に進むと「ブック構成の保護解除」になりパスワードを入力すること\n　　　　で解除できます。　　　\n\n\n\n"]

{"sheet":"課題説明  (100)","index":46,"n_rows":5,"n_cols":1,"rows_kept":5,"cut":false,"hidden":true,"merged":[[0,0,0,13],[1,0,1,13],[2,0,2,13],[3,0,3,13],[4,0,4,13]]}
["当課題及びエクセルファイルの取扱いについての注意事項"]
["○当課題は、パソコンデータ入力競技課題１を想定して作成されており、当エクセルを使用することで、課題作成から選手の入力作業、採点までが可能です。\n\n　　当エクセルファイルの構成及び説明は以下の通りです。\n\n　　　◆「課題説明」　・・・当シート。\n\n　　　◆「印刷用」　　・・・印刷用シートの画面上に「印刷用」ボタンが設置されており、１クリックで「差し込み用\n　　　　　　　　　　　　　　シート」内のアンケートデータを一度に印刷することができます。\n　　　　　　　　　　　　　　ただし、印刷初期設定の給紙トレイは”手差し”、用紙は”ハガキサイズ”となっている\n　　　　　　　　　　　　　　ため、他のサイズの用紙を用意した場合は、プリンターエラーが出る場合があります。\n　　　　　　　　　　　　　　また、一度印刷ボタンを押すと途中で中断できないため、印刷環境を整えてからクリック\n　　　　　　　　　　　　　　してください。\n\n                            ※各施設に設置されているプリンターの仕様によっても、設定方法が異なる可能性があるため\n　　　　　　　　　　　　　　適宜、プリンターにあった設定方法を確認してください。\n\n　　　◆「差し込み用」・・・このシートに入力されているデータは、当課題の”答え”を兼ねていますので、当シート\n　　　　　　　　　　　　　　のデータを変更するとすべてのシートに影響します。\n\n　　　◆「回答参考」　・・・「アンケート入力用フォーマット」構成のためのシートです。\n\n　　　"]
["　　　◆「１」～「２１」の「アンケート入力用フォーマット」\n　　　　　　　　　　　・・・選手が実際に当フォーマットに入力する用に作成しています。\n　　　　　　　　　　　　　　当フォーマットは課題数に応じてシートをコピーし増設してください。\n\n　　　◆「入力フォーム合計」　・・・「アンケート入力用フォーマット」に入力した情報が当シートにまとまります。\n　　　　　　　　　　　　　　　　　　「アンケート入力用フォーマット」を増設した場合は、「入力フォーム合計」に\n　　　　　　　　　　　　　　　　　　 連動しているセルの数式を修正する必要があります。　　　　　　　　　　　　　　\n\n　　　◆「採点例」　　・・・「差し込み用」と「入力フォーマット合計」を比較して採点できるシートです。"]
["○当課題（エクセルファイル）は、マクロは使用しておりませんが、使用するにあたって以下の知識を必要とします。\n　　\n　　　◆エクセル関数（if関数、vlookup関数など）\n　　　◆行・列の表示方法\n　　　◆シートの保護、シートの表示・非表示及びシートへのパスワードの付与"]
["○当エクセルをそのまま地方アビリンピック大会の課題として実施する場合は、以下の点に注意して下さい。\n\n　　■選手が競技を実施するために不要なシートは非表示にし、パスワードをかけること。（選手によるシート再表示防止）\n\n　　　　（操作方法）※Microsoft　Excel2010の場合\n　　　　　１．非表示にしたいシートの名前タブ上で右クリックし「非表示」をクリック\n　　　　　２．左上の「ファイル」をクリック\n　　　　　３．「情報」タブの「ブックの保護」をクリック\n　　　　　４．「ブック構成の保護」をクリックし、「シート構成」にチェックを付けたままパスワードを設定する。\n　\n　　　※シートを再表示したい時は、２→３→４の順に進むと「ブック構成の保護解除」になりパスワードを入力すること\n　　　　で解除できます。　　　\n\n\n\n"]

{"sheet":"課題説明  (99)","index":47,"n_rows":5,"n_cols":1,"rows_kept":5,"cut":false,"hidden":true,"merged":[[0,0,0,13],[1,0,1,13],[2,0,2,13],[3,0,3,13],[4,0,4,13]]}
["当課題及びエクセルファイルの取扱いについての注意事項"]
["○当課題は、パソコンデータ入力競技課題１を想定して作成されており、当エクセルを使用することで、課題作成から選手の入力作業、採点までが可能です。\n\n　　当エクセルファイルの構成及び説明は以下の通りです。\n\n　　　◆「課題説明」　・・・当シート。\n\n　　　◆「印刷用」　　・・・印刷用シートの画面上に「印刷用」ボタンが設置されており、１クリックで「差し込み用\n　　　　　　　　　　　　　　シート」内のアンケートデータを一度に印刷することができます。\n　　　　　　　　　　　　　　ただし、印刷初期設定の給紙トレイは”手差し”、用紙は”ハガキサイズ”となっている\n　　　　　　　　　　　　　　ため、他のサイズの用紙を用意した場合は、プリンターエラーが出る場合があります。\n　　　　　　　　　　　　　　また、一度印刷ボタンを押すと途中で中断できないため、印刷環境を整えてからクリック\n　　　　　　　　　　　　　　してください。\n\n                            ※各施設に設置されているプリンターの仕様によっても、設定方法が異なる可能性があるため\n　　　　　　　　　　　　　　適宜、プリンターにあった設定方法を確認してください。\n\n　　　◆「差し込み用」・・・このシートに入力されているデータは、当課題の”答え”を兼ねていますので、当シート\n　　　　　　　　　　　　　　のデータを変更するとすべてのシートに影響します。\n\n　　　◆「回答参考」　・・・「アンケート入力用フォーマット」構成のためのシートです。\n\n　　　"]
["　　　◆「１」～「２１」の「アンケート入力用フォーマット」\n　　　　　　　　　　　・・・選手が実際に当フォーマットに入力する用に作成しています。\n　　　　　　　　　　　　　　当フォーマットは課題数に応じてシートをコピーし増設してください。\n\n　　　◆「入力フォーム合計」　・・・「アンケート入力用フォーマット」に入力した情報が当シートにまとまります。\n　　　　　　　　　　　　　　　　　　「アンケート入力用フォーマット」を増設した場合は、「入力フォーム合計」に\n　　　　　　　　　　　　　　　　　　 連動しているセルの数式を修正する必要があります。　　　　　　　　　　　　　　\n\n　　　◆「採点例」　　・・・「差し込み用」と「入力フォーマット合計」を比較して採点できるシートです。"]
["○当課題（エクセルファイル）は、マクロは使用しておりませんが、使用するにあたって以下の知識を必要とします。\n　　\n　　　◆エクセル関数（if関数、vlookup関数など）\n　　　◆行・列の表示方法\n　　　◆シートの保護、シートの表示・非表示及びシートへのパスワードの付与"]
["○当エクセルをそのまま地方アビリンピック大会の課題として実施する場合は、以下の点に注意して下さい。\n\n　　■選手が競技を実施するために不要なシートは非表示にし、パスワードをかけること。（選手によるシート再表示防止）\n\n　　　　（操作方法）※Microsoft　Excel2010の場合\n　　　　　１．非表示にしたいシートの名前タブ上で右クリックし「非表示」をクリック\n　　　　　２．左上の「ファイル」をクリック\n　　　　　３．「情報」タブの「ブックの保護」をクリック\n　　　　　４．「ブック構成の保護」をクリックし、「シート構成」にチェックを付けたままパスワードを設定する。\n　\n　　　※シートを再表示したい時は、２→３→４の順に進むと「ブック構成の保護解除」になりパスワードを入力すること\n　　　　で解除できます。　　　\n\n\n\n"]

{"sheet":"課題説明  (98)","index":48,"n_rows":5,"n_cols":1,"rows_kept":5,"cut":false,"hidden":true,"merged":[[0,0,0,13],[1,0,1,13],[2,0,2,13],[3,0,3,13],[4,0,4,13]]}
["当課題及びエクセルファイルの取扱いについての注意事項"]
["○当課題は、パソコンデータ入力競技課題１を想定して作成されており、当エクセルを使用することで、課題作成から選手の入力作業、採点までが可能です。\n\n　　当エクセルファイルの構成及び説明は以下の通りです。\n\n　　　◆「課題説明」　・・・当シート。\n\n　　　◆「印刷用」　　・・・印刷用シートの画面上に「印刷用」ボタンが設置されており、１クリックで「差し込み用\n　　　　　　　　　　　　　　シート」内のアンケートデータを一度に印刷することができます。\n　　　　　　　　　　　　　　ただし、印刷初期設定の給紙トレイは”手差し”、用紙は”ハガキサイズ”となっている\n　　　　　　　　　　　　　　ため、他のサイズの用紙を用意した場合は、プリンターエラーが出る場合があります。\n　　　　　　　　　　　　　　また、一度印刷ボタンを押すと途中で中断できないため、印刷環境を整えてからクリック\n　　　　　　　　　　　　　　してください。\n\n                            ※各施設に設置されているプリンターの仕様によっても、設定方法が異なる可能性があるため\n　　　　　　　　　　　　　　適宜、プリンターにあった設定方法を確認してください。\n\n　　　◆「差し込み用」・・・このシートに入力されているデータは、当課題の”答え”を兼ねていますので、当シート\n　　　　　　　　　　　　　　のデータを変更するとすべてのシートに影響します。\n\n　　　◆「回答参考」　・・・「アンケート入力用フォーマット」構成のためのシートです。\n\n　　　"]
["　　　◆「１」～「２１」の「アンケート入力用フォーマット」\n　　　　　　　　　　　・・・選手が実際に当フォーマットに入力する用に作成しています。\n　　　　　　　　　　　　　　当フォーマットは課題数に応じてシートをコピーし増設してください。\n\n　　　◆「入力フォーム合計」　・・・「アンケート入力用フォーマット」に入力した情報が当シートにまとまります。\n　　　　　　　　　　　　　　　　　　「アンケート入力用フォーマット」を増設した場合は、「入力フォーム合計」に\n　　　　　　　　　　　　　　　　　　 連動しているセルの数式を修正する必要があります。　　　　　　　　　　　　　　\n\n　　　◆「採点例」　　・・・「差し込み用」と「入力フォーマット合計」を比較して採点できるシートです。"]
["○当課題（エクセルファイル）は、マクロは使用しておりませんが、使用するにあたって以下の知識を必要とします。\n　　\n　　　◆エクセル関数（if関数、vlookup関数など）\n　　　◆行・列の表示方法\n　　　◆シートの保護、シートの表示・非表示及びシートへのパスワードの付与"]
["○当エクセルをそのまま地方アビリンピック大会の課題として実施する場合は、以下の点に注意して下さい。\n\n　　■選手が競技を実施するために不要なシートは非表示にし、パスワードをかけること。（選手によるシート再表示防止）\n\n　　　　（操作方法）※Microsoft　Excel2010の場合\n　　　　　１．非表示にしたいシートの名前タブ上で右クリックし「非表示」をクリック\n　　　　　２．左上の「ファイル」をクリック\n　　　　　３．「情報」タブの「ブックの保護」をクリック\n　　　　　４．「ブック構成の保護」をクリックし、「シート構成」にチェックを付けたままパスワードを設定する。\n　\n　　　※シートを再表示したい時は、２→３→４の順に進むと「ブック構成の保護解除」になりパスワードを入力すること\n　　　　で解除できます。　　　\n\n\n\n"]

{"sheet":"課題説明  (97)","index":49,"n_rows":5,"n_cols":1,"rows_kept":5,"cut":false,"hidden":true,"merged":[[0,0,0,13],[1,0,1,13],[2,0,2,13],[3,0,3,13],[4,0,4,13]]}
["当課題及びエクセルファイルの取扱いについての注意事項"]
["○当課題は、パソコンデータ入力競技課題１を想定して作成されており、当エクセルを使用することで、課題作成から選手の入力作業、採点までが可能です。\n\n　　当エクセルファイルの構成及び説明は以下の通りです。\n\n　　　◆「課題説明」　・・・当シート。\n\n　　　◆「印刷用」　　・・・印刷用シートの画面上に「印刷用」ボタンが設置されており、１クリックで「差し込み用\n　　　　　　　　　　　　　　シート」内のアンケートデータを一度に印刷することができます。\n　　　　　　　　　　　　　　ただし、印刷初期設定の給紙トレイは”手差し”、用紙は”ハガキサイズ”となっている\n　　　　　　　　　　　　　　ため、他のサイズの用紙を用意した場合は、プリンターエラーが出る場合があります。\n　　　　　　　　　　　　　　また、一度印刷ボタンを押すと途中で中断できないため、印刷環境を整えてからクリック\n　　　　　　　　　　　　　　してください。\n\n                            ※各施設に設置されているプリンターの仕様によっても、設定方法が異なる可能性があるため\n　　　　　　　　　　　　　　適宜、プリンターにあった設定方法を確認してください。\n\n　　　◆「差し込み用」・・・このシートに入力されているデータは、当課題の”答え”を兼ねていますので、当シート\n　　　　　　　　　　　　　　のデータを変更するとすべてのシートに影響します。\n\n　　　◆「回答参考」　・・・「アンケート入力用フォーマット」構成のためのシートです。\n\n　　　"]
["　　　◆「１」～「２１」の「アンケート入力用フォーマット」\n　　　　　　　　　　　・・・選手が実際に当フォーマットに入力する用に作成しています。\n　　　　　　　　　　　　　　当フォーマットは課題数に応じてシートをコピーし増設してください。\n\n　　　◆「入力フォーム合計」　・・・「アンケート入力用フォーマット」に入力した情報が当シートにまとまります。\n　　　　　　　　　　　　　　　　　　「アンケート入力用フォーマット」を増設した場合は、「入力フォーム合計」に\n　　　　　　　　　　　　　　　　　　 連動しているセルの数式を修正する必要があります。　　　　　　　　　　　　　　\n\n　　　◆「採点例」　　・・・「差し込み用」と「入力フォーマット合計」を比較して採点できるシートです。"]
["○当課題（エクセルファイル）は、マクロは使用しておりませんが、使用するにあたって以下の知識を必要とします。\n　　\n　　　◆エクセル関数（if関数、vlookup関数など）\n　　　◆行・列の表示方法\n　　　◆シートの保護、シートの表示・非表示及びシートへのパスワードの付与"]
["○当エクセルをそのまま地方アビリンピック大会の課題として実施する場合は、以下の点に注意して下さい。\n\n　　■選手が競技を実施するために不要なシートは非表示にし、パスワードをかけること。（選手によるシート再表示防止）\n\n　　　　（操作方法）※Microsoft　Excel2010の場合\n　　　　　１．非表示にしたいシートの名前タブ上で右クリックし「非表示」をクリック\n　　　　　２．左上の「ファイル」をクリック\n　　　　　３．「情報」タブの「ブックの保護」をクリック\n　　　　　４．「ブック構成の保護」をクリックし、「シート構成」にチェックを付けたままパスワードを設定する。\n　\n　　　※シートを再表示したい時は、２→３→４の順に進むと「ブック構成の保護解除」になりパスワードを入力すること\n　　　　で解除できます。　　　\n\n\n\n"]

{"sheet":"課題説明  (96)","index":50,"n_rows":5,"n_cols":1,"rows_kept":5,"cut":false,"hidden":true,"merged":[[0,0,0,13],[1,0,1,13],[2,0,2,13],[3,0,3,13],[4,0,4,13]]}
["当課題及びエクセルファイルの取扱いについての注意事項"]
["○当課題は、パソコンデータ入力競技課題１を想定して作成されており、当エクセルを使用することで、課題作成から選手の入力作業、採点までが可能です。\n\n　　当エクセルファイルの構成及び説明は以下の通りです。\n\n　　　◆「課題説明」　・・・当シート。\n\n　　　◆「印刷用」　　・・・印刷用シートの画面上に「印刷用」ボタンが設置されており、１クリックで「差し込み用\n　　　　　　　　　　　　　　シート」内のアンケートデータを一度に印刷することができます。\n　　　　　　　　　　　　　　ただし、印刷初期設定の給紙トレイは”手差し”、用紙は”ハガキサイズ”となっている\n　　　　　　　　　　　　　　ため、他のサイズの用紙を用意した場合は、プリンターエラーが出る場合があります。\n　　　　　　　　　　　　　　また、一度印刷ボタンを押すと途中で中断できないため、印刷環境を整えてからクリック\n　　　　　　　　　　　　　　してください。\n\n                            ※各施設に設置されているプリンターの仕様によっても、設定方法が異なる可能性があるため\n　　　　　　　　　　　　　　適宜、プリンターにあった設定方法を確認してください。\n\n　　　◆「差し込み用」・・・このシートに入力されているデータは、当課題の”答え”を兼ねていますので、当シート\n　　　　　　　　　　　　　　のデータを変更するとすべてのシートに影響します。\n\n　　　◆「回答参考」　・・・「アンケート入力用フォーマット」構成のためのシートです。\n\n　　　"]
["　　　◆「１」～「２１」の「アンケート入力用フォーマット」\n　　　　　　　　　　　・・・選手が実際に当フォーマットに入力する用に作成しています。\n　　　　　　　　　　　　　　当フォーマットは課題数に応じてシートをコピーし増設してください。\n\n　　　◆「入力フォーム合計」　・・・「アンケート入力用フォーマット」に入力した情報が当シートにまとまります。\n　　　　　　　　　　　　　　　　　　「アンケート入力用フォーマット」を増設した場合は、「入力フォーム合計」に\n　　　　　　　　　　　　　　　　　　 連動しているセルの数式を修正する必要があります。　　　　　　　　　　　　　　\n\n　　　◆「採点例」　　・・・「差し込み用」と「入力フォーマット合計」を比較して採点できるシートです。"]
["○当課題（エクセルファイル）は、マクロは使用しておりませんが、使用するにあたって以下の知識を必要とします。\n　　\n　　　◆エクセル関数（if関数、vlookup関数など）\n　　　◆行・列の表示方法\n　　　◆シートの保護、シートの表示・非表示及びシートへのパスワードの付与"]
["○当エクセルをそのまま地方アビリンピック大会の課題として実施する場合は、以下の点に注意して下さい。\n\n　　■選手が競技を実施するために不要なシートは非表示にし、パスワードをかけること。（選手によるシート再表示防止）\n\n　　　　（操作方法）※Microsoft　Excel2010の場合\n　　　　　１．非表示にしたいシートの名前タブ上で右クリックし「非表示」をクリック\n　　　　　２．左上の「ファイル」をクリック\n　　　　　３．「情報」タブの「ブックの保護」をクリック\n　　　　　４．「ブック構成の保護」をクリックし、「シート構成」にチェックを付けたままパスワードを設定する。\n　\n　　　※シートを再表示したい時は、２→３→４の順に進むと「ブック構成の保護解除」になりパスワードを入力すること\n　　　　で解除できます。　　　\n\n\n\n"]

{"sheet":"課題説明  (95)","index":51,"n_rows":5,"n_cols":1,"rows_kept":5,"cut":false,"hidden":true,"merged":[[0,0,0,13],[1,0,1,13],[2,0,2,13],[3,0,3,13],[4,0,4,13]]}
["当課題及びエクセルファイルの取扱いについての注意事項"]
["○当課題は、パソコンデータ入力競技課題１を想定して作成されており、当エクセルを使用することで、課題作成から選手の入力作業、採点までが可能です。\n\n　　当エクセルファイルの構成及び説明は以下の通りです。\n\n　　　◆「課題説明」　・・・当シート。\n\n　　　◆「印刷用」　　・・・印刷用シートの画面上に「印刷用」ボタンが設置されており、１クリックで「差し込み用\n　　　　　　　　　　　　　　シート」内のアンケートデータを一度に印刷することができます。\n　　　　　　　　　　　　　　ただし、印刷初期設定の給紙トレイは”手差し”、用紙は”ハガキサイズ”となっている\n　　　　　　　　　　　　　　ため、他のサイズの用紙を用意した場合は、プリンターエラーが出る場合があります。\n　　　　　　　　　　　　　　また、一度印刷ボタンを押すと途中で中断できないため、印刷環境を整えてからクリック\n　　　　　　　　　　　　　　してください。\n\n                            ※各施設に設置されているプリンターの仕様によっても、設定方法が異なる可能性があるため\n　　　　　　　　　　　　　　適宜、プリンターにあった設定方法を確認してください。\n\n　　　◆「差し込み用」・・・このシートに入力されているデータは、当課題の”答え”を兼ねていますので、当シート\n　　　　　　　　　　　　　　のデータを変更するとすべてのシートに影響します。\n\n　　　◆「回答参考」　・・・「アンケート入力用フォーマット」構成のためのシートです。\n\n　　　"]
["　　　◆「１」～「２１」の「アンケート入力用フォーマット」\n　　　　　　　　　　　・・・選手が実際に当フォーマットに入力する用に作成しています。\n　　　　　　　　　　　　　　当フォーマットは課題数に応じてシートをコピーし増設してください。\n\n　　　◆「入力フォーム合計」　・・・「アンケート入力用フォーマット」に入力した情報が当シートにまとまります。\n　　　　　　　　　　　　　　　　　　「アンケート入力用フォーマット」を増設した場合は、「入力フォーム合計」に\n　　　　　　　　　　　　　　　　　　 連動しているセルの数式を修正する必要があります。　　　　　　　　　　　　　　\n\n　　　◆「採点例」　　・・・「差し込み用」と「入力フォーマット合計」を比較して採点できるシートです。"]
["○当課題（エクセルファイル）は、マクロは使用しておりませんが、使用するにあたって以下の知識を必要とします。\n　　\n　　　◆エクセル関数（if関数、vlookup関数など）\n　　　◆行・列の表示方法\n　　　◆シートの保護、シートの表示・非表示及びシートへのパスワードの付与"]
["○当エクセルをそのまま地方アビリンピック大会の課題として実施する場合は、以下の点に注意して下さい。\n\n　　■選手が競技を実施するために不要なシートは非表示にし、パスワードをかけること。（選手によるシート再表示防止）\n\n　　　　（操作方法）※Microsoft　Excel2010の場合\n　　　　　１．非表示にしたいシートの名前タブ上で右クリックし「非表示」をクリック\n　　　　　２．左上の「ファイル」をクリック\n　　　　　３．「情報」タブの「ブックの保護」をクリック\n　　　　　４．「ブック構成の保護」をクリックし、「シート構成」にチェックを付けたままパスワードを設定する。\n　\n　　　※シートを再表示したい時は、２→３→４の順に進むと「ブック構成の保護解除」になりパスワードを入力すること\n　　　　で解除できます。　　　\n\n\n\n"]

{"sheet":"課題説明  (94)","index":52,"n_rows":5,"n_cols":1,"rows_kept":5,"cut":false,"hidden":true,"merged":[[0,0,0,13],[1,0,1,13],[2,0,2,13],[3,0,3,13],[4,0,4,13]]}
["当課題及びエクセルファイルの取扱いについての注意事項"]
["○当課題は、パソコンデータ入力競技課題１を想定して作成されており、当エクセルを使用することで、課題作成から選手の入力作業、採点までが可能です。\n\n　　当エクセルファイルの構成及び説明は以下の通りです。\n\n　　　◆「課題説明」　・・・当シート。\n\n　　　◆「印刷用」　　・・・印刷用シートの画面上に「印刷用」ボタンが設置されており、１クリックで「差し込み用\n　　　　　　　　　　　　　　シート」内のアンケートデータを一度に印刷することができます。\n　　　　　　　　　　　　　　ただし、印刷初期設定の給紙トレイは”手差し”、用紙は”ハガキサイズ”となっている\n　　　　　　　　　　　　　　ため、他のサイズの用紙を用意した場合は、プリンターエラーが出る場合があります。\n　　　　　　　　　　　　　　また、一度印刷ボタンを押すと途中で中断できないため、印刷環境を整えてからクリック\n　　　　　　　　　　　　　　してください。\n\n                            ※各施設に設置されているプリンターの仕様によっても、設定方法が異なる可能性があるため\n　　　　　　　　　　　　　　適宜、プリンターにあった設定方法を確認してください。\n\n　　　◆「差し込み用」・・・このシートに入力されているデータは、当課題の”答え”を兼ねていますので、当シート\n　　　　　　　　　　　　　　のデータを変更するとすべてのシートに影響します。\n\n　　　◆「回答参考」　・・・「アンケート入力用フォーマット」構成のためのシートです。\n\n　　　"]
["　　　◆「１」～「２１」の「アンケート入力用フォーマット」\n　　　　　　　　　　　・・・選手が実際に当フォーマットに入力する用に作成しています。\n　　　　　　　　　　　　　　当フォーマットは課題数に応じてシートをコピーし増設してください。\n\n　　　◆「入力フォーム合計」　・・・「アンケート入力用フォーマット」に入力した情報が当シートにまとまります。\n　　　　　　　　　　　　　　　　　　「アンケート入力用フォーマット」を増設した場合は、「入力フォーム合計」に\n　　　　　　　　　　　　　　　　　　 連動しているセルの数式を修正する必要があります。　　　　　　　　　　　　　　\n\n　　　◆「採点例」　　・・・「差し込み用」と「入力フォーマット合計」を比較して採点できるシートです。"]
["○当課題（エクセルファイル）は、マクロは使用しておりませんが、使用するにあたって以下の知識を必要とします。\n　　\n　　　◆エクセル関数（if関数、vlookup関数など）\n　　　◆行・列の表示方法\n　　　◆シートの保護、シートの表示・非表示及びシートへのパスワードの付与"]
["○当エクセルをそのまま地方アビリンピック大会の課題として実施する場合は、以下の点に注意して下さい。\n\n　　■選手が競技を実施するために不要なシートは非表示にし、パスワードをかけること。（選手によるシート再表示防止）\n\n　　　　（操作方法）※Microsoft　Excel2010の場合\n　　　　　１．非表示にしたいシートの名前タブ上で右クリックし「非表示」をクリック\n　　　　　２．左上の「ファイル」をクリック\n　　　　　３．「情報」タブの「ブックの保護」をクリック\n　　　　　４．「ブック構成の保護」をクリックし、「シート構成」にチェックを付けたままパスワードを設定する。\n　\n　　　※シートを再表示したい時は、２→３→４の順に進むと「ブック構成の保護解除」になりパスワードを入力すること\n　　　　で解除できます。　　　\n\n\n\n"]

{"sheet":"課題説明  (93)","index":53,"n_rows":5,"n_cols":1,"rows_kept":5,"cut":false,"hidden":true,"merged":[[0,0,0,13],[1,0,1,13],[2,0,2,13],[3,0,3,13],[4,0,4,13]]}
["当課題及びエクセルファイルの取扱いについての注意事項"]
["○当課題は、パソコンデータ入力競技課題１を想定して作成されており、当エクセルを使用することで、課題作成から選手の入力作業、採点までが可能です。\n\n　　当エクセルファイルの構成及び説明は以下の通りです。\n\n　　　◆「課題説明」　・・・当シート。\n\n　　　◆「印刷用」　　・・・印刷用シートの画面上に「印刷用」ボタンが設置されており、１クリックで「差し込み用\n　　　　　　　　　　　　　　シート」内のアンケートデータを一度に印刷することができます。\n　　　　　　　　　　　　　　ただし、印刷初期設定の給紙トレイは”手差し”、用紙は”ハガキサイズ”となっている\n　　　　　　　　　　　　　　ため、他のサイズの用紙を用意した場合は、プリンターエラーが出る場合があります。\n　　　　　　　　　　　　　　また、一度印刷ボタンを押すと途中で中断できないため、印刷環境を整えてからクリック\n　　　　　　　　　　　　　　してください。\n\n                            ※各施設に設置されているプリンターの仕様によっても、設定方法が異なる可能性があるため\n　　　　　　　　　　　　　　適宜、プリンターにあった設定方法を確認してください。\n\n　　　◆「差し込み用」・・・このシートに入力されているデータは、当課題の”答え”を兼ねていますので、当シート\n　　　　　　　　　　　　　　のデータを変更するとすべてのシートに影響します。\n\n　　　◆「回答参考」　・・・「アンケート入力用フォーマット」構成のためのシートです。\n\n　　　"]
["　　　◆「１」～「２１」の「アンケート入力用フォーマット」\n　　　　　　　　　　　・・・選手が実際に当フォーマットに入力する用に作成しています。\n　　　　　　　　　　　　　　当フォーマットは課題数に応じてシートをコピーし増設してください。\n\n　　　◆「入力フォーム合計」　・・・「アンケート入力用フォーマット」に入力した情報が当シートにまとまります。\n　　　　　　　　　　　　　　　　　　「アンケート入力用フォーマット」を増設した場合は、「入力フォーム合計」に\n　　　　　　　　　　　　　　　　　　 連動しているセルの数式を修正する必要があります。　　　　　　　　　　　　　　\n\n　　　◆「採点例」　　・・・「差し込み用」と「入力フォーマット合計」を比較して採点できるシートです。"]
["○当課題（エクセルファイル）は、マクロは使用しておりませんが、使用するにあたって以下の知識を必要とします。\n　　\n　　　◆エクセル関数（if関数、vlookup関数など）\n　　　◆行・列の表示方法\n　　　◆シートの保護、シートの表示・非表示及びシートへのパスワードの付与"]
["○当エクセルをそのまま地方アビリンピック大会の課題として実施する場合は、以下の点に注意して下さい。\n\n　　■選手が競技を実施するために不要なシートは非表示にし、パスワードをかけること。（選手によるシート再表示防止）\n\n　　　　（操作方法）※Microsoft　Excel2010の場合\n　　　　　１．非表示にしたいシートの名前タブ上で右クリックし「非表示」をクリック\n　　　　　２．左上の「ファイル」をクリック\n　　　　　３．「情報」タブの「ブックの保護」をクリック\n　　　　　４．「ブック構成の保護」をクリックし、「シート構成」にチェックを付けたままパスワードを設定する。\n　\n　　　※シートを再表示したい時は、２→３→４の順に進むと「ブック構成の保護解除」になりパスワードを入力すること\n　　　　で解除できます。　　　\n\n\n\n"]

{"sheet":"課題説明  (92)","index":54,"n_rows":5,"n_cols":1,"rows_kept":5,"cut":false,"hidden":true,"merged":[[0,0,0,13],[1,0,1,13],[2,0,2,13],[3,0,3,13],[4,0,4,13]]}
["当課題及びエクセルファイルの取扱いについての注意事項"]
["○当課題は、パソコンデータ入力競技課題１を想定して作成されており、当エクセルを使用することで、課題作成から選手の入力作業、採点までが可能です。\n\n　　当エクセルファイルの構成及び説明は以下の通りです。\n\n　　　◆「課題説明」　・・・当シート。\n\n　　　◆「印刷用」　　・・・印刷用シートの画面上に「印刷用」ボタンが設置されており、１クリックで「差し込み用\n　　　　　　　　　　　　　　シート」内のアンケートデータを一度に印刷することができます。\n　　　　　　　　　　　　　　ただし、印刷初期設定の給紙トレイは”手差し”、用紙は”ハガキサイズ”となっている\n　　　　　　　　　　　　　　ため、他のサイズの用紙を用意した場合は、プリンターエラーが出る場合があります。\n　　　　　　　　　　　　　　また、一度印刷ボタンを押すと途中で中断できないため、印刷環境を整えてからクリック\n　　　　　　　　　　　　　　してください。\n\n                            ※各施設に設置されているプリンターの仕様によっても、設定方法が異なる可能性があるため\n　　　　　　　　　　　　　　適宜、プリンターにあった設定方法を確認してください。\n\n　　　◆「差し込み用」・・・このシートに入力されているデータは、当課題の”答え”を兼ねていますので、当シート\n　　　　　　　　　　　　　　のデータを変更するとすべてのシートに影響します。\n\n　　　◆「回答参考」　・・・「アンケート入力用フォーマット」構成のためのシートです。\n\n　　　"]
["　　　◆「１」～「２１」の「アンケート入力用フォーマット」\n　　　　　　　　　　　・・・選手が実際に当フォーマットに入力する用に作成しています。\n　　　　　　　　　　　　　　当フォーマットは課題数に応じてシートをコピーし増設してください。\n\n　　　◆「入力フォーム合計」　・・・「アンケート入力用フォーマット」に入力した情報が当シートにまとまります。\n　　　　　　　　　　　　　　　　　　「アンケート入力用フォーマット」を増設した場合は、「入力フォーム合計」に\n　　　　　　　　　　　　　　　　　　 連動しているセルの数式を修正する必要があります。　　　　　　　　　　　　　　\n\n　　　◆「採点例」　　・・・「差し込み用」と「入力フォーマット合計」を比較して採点できるシートです。"]
["○当課題（エクセルファイル）は、マクロは使用しておりませんが、使用するにあたって以下の知識を必要とします。\n　　\n　　　◆エクセル関数（if関数、vlookup関数など）\n　　　◆行・列の表示方法\n　　　◆シートの保護、シートの表示・非表示及びシートへのパスワードの付与"]
["○当エクセルをそのまま地方アビリンピック大会の課題として実施する場合は、以下の点に注意して下さい。\n\n　　■選手が競技を実施するために不要なシートは非表示にし、パスワードをかけること。（選手によるシート再表示防止）\n\n　　　　（操作方法）※Microsoft　Excel2010の場合\n　　　　　１．非表示にしたいシートの名前タブ上で右クリックし「非表示」をクリック\n　　　　　２．左上の「ファイル」をクリック\n　　　　　３．「情報」タブの「ブックの保護」をクリック\n　　　　　４．「ブック構成の保護」をクリックし、「シート構成」にチェックを付けたままパスワードを設定する。\n　\n　　　※シートを再表示したい時は、２→３→４の順に進むと「ブック構成の保護解除」になりパスワードを入力すること\n　　　　で解除できます。　　　\n\n\n\n"]

{"sheet":"課題説明  (91)","index":55,"n_rows":5,"n_cols":1,"rows_kept":5,"cut":false,"hidden":true,"merged":[[0,0,0,13],[1,0,1,13],[2,0,2,13],[3,0,3,13],[4,0,4,13]]}
["当課題及びエクセルファイルの取扱いについての注意事項"]
["○当課題は、パソコンデータ入力競技課題１を想定して作成されており、当エクセルを使用することで、課題作成から選手の入力作業、採点までが可能です。\n\n　　当エクセルファイルの構成及び説明は以下の通りです。\n\n　　　◆「課題説明」　・・・当シート。\n\n　　　◆「印刷用」　　・・・印刷用シートの画面上に「印刷用」ボタンが設置されており、１クリックで「差し込み用\n　　　　　　　　　　　　　　シート」内のアンケートデータを一度に印刷することができます。\n　　　　　　　　　　　　　　ただし、印刷初期設定の給紙トレイは”手差し”、用紙は”ハガキサイズ”となっている\n　　　　　　　　　　　　　　ため、他のサイズの用紙を用意した場合は、プリンターエラーが出る場合があります。\n　　　　　　　　　　　　　　また、一度印刷ボタンを押すと途中で中断できないため、印刷環境を整えてからクリック\n　　　　　　　　　　　　　　してください。\n\n                            ※各施設に設置されているプリンターの仕様によっても、設定方法が異なる可能性があるため\n　　　　　　　　　　　　　　適宜、プリンターにあった設定方法を確認してください。\n\n　　　◆「差し込み用」・・・このシートに入力されているデータは、当課題の”答え”を兼ねていますので、当シート\n　　　　　　　　　　　　　　のデータを変更するとすべてのシートに影響します。\n\n　　　◆「回答参考」　・・・「アンケート入力用フォーマット」構成のためのシートです。\n\n　　　"]
["　　　◆「１」～「２１」の「アンケート入力用フォーマット」\n　　　　　　　　　　　・・・選手が実際に当フォーマットに入力する用に作成しています。\n　　　　　　　　　　　　　　当フォーマットは課題数に応じてシートをコピーし増設してください。\n\n　　　◆「入力フォーム合計」　・・・「アンケート入力用フォーマット」に入力した情報が当シートにまとまります。\n　　　　　　　　　　　　　　　　　　「アンケート入力用フォーマット」を増設した場合は、「入力フォーム合計」に\n　　　　　　　　　　　　　　　　　　 連動しているセルの数式を修正する必要があります。　　　　　　　　　　　　　　\n\n　　　◆「採点例」　　・・・「差し込み用」と「入力フォーマット合計」を比較して採点できるシートです。"]
["○当課題（エクセルファイル）は、マクロは使用しておりませんが、使用するにあたって以下の知識を必要とします。\n　　\n　　　◆エクセル関数（if関数、vlookup関数など）\n　　　◆行・列の表示方法\n　　　◆シートの保護、シートの表示・非表示及びシートへのパスワードの付与"]
["○当エクセルをそのまま地方アビリンピック大会の課題として実施する場合は、以下の点に注意して下さい。\n\n　　■選手が競技を実施するために不要なシートは非表示にし、パスワードをかけること。（選手によるシート再表示防止）\n\n　　　　（操作方法）※Microsoft　Excel2010の場合\n　　　　　１．非表示にしたいシートの名前タブ上で右クリックし「非表示」をクリック\n　　　　　２．左上の「ファイル」をクリック\n　　　　　３．「情報」タブの「ブックの保護」をクリック\n　　　　　４．「ブック構成の保護」をクリックし、「シート構成」にチェックを付けたままパスワードを設定する。\n　\n　　　※シートを再表示したい時は、２→３→４の順に進むと「ブック構成の保護解除」になりパスワードを入力すること\n　　　　で解除できます。　　　\n\n\n\n"]

{"sheet":"課題説明  (90)","index":56,"n_rows":5,"n_cols":1,"rows_kept":5,"cut":false,"hidden":true,"merged":[[0,0,0,13],[1,0,1,13],[2,0,2,13],[3,0,3,13],[4,0,4,13]]}
["当課題及びエクセルファイルの取扱いについての注意事項"]
["○当課題は、パソコンデータ入力競技課題１を想定して作成されており、当エクセルを使用することで、課題作成から選手の入力作業、採点までが可能です。\n\n　　当エクセルファイルの構成及び説明は以下の通りです。\n\n　　　◆「課題説明」　・・・当シート。\n\n　　　◆「印刷用」　　・・・印刷用シートの画面上に「印刷用」ボタンが設置されており、１クリックで「差し込み用\n　　　　　　　　　　　　　　シート」内のアンケートデータを一度に印刷することができます。\n　　　　　　　　　　　　　　ただし、印刷初期設定の給紙トレイは”手差し”、用紙は”ハガキサイズ”となっている\n　　　　　　　　　　　　　　ため、他のサイズの用紙を用意した場合は、プリンターエラーが出る場合があります。\n　　　　　　　　　　　　　　また、一度印刷ボタンを押すと途中で中断できないため、印刷環境を整えてからクリック\n　　　　　　　　　　　　　　してください。\n\n                            ※各施設に設置されているプリンターの仕様によっても、設定方法が異なる可能性があるため\n　　　　　　　　　　　　　　適宜、プリンターにあった設定方法を確認してください。\n\n　　　◆「差し込み用」・・・このシートに入力されているデータは、当課題の”答え”を兼ねていますので、当シート\n　　　　　　　　　　　　　　のデータを変更するとすべてのシートに影響します。\n\n　　　◆「回答参考」　・・・「アンケート入力用フォーマット」構成のためのシートです。\n\n　　　"]
["　　　◆「１」～「２１」の「アンケート入力用フォーマット」\n　　　　　　　　　　　・・・選手が実際に当フォーマットに入力する用に作成しています。\n　　　　　　　　　　　　　　当フォーマットは課題数に応じてシートをコピーし増設してください。\n\n　　　◆「入力フォーム合計」　・・・「アンケート入力用フォーマット」に入力した情報が当シートにまとまります。\n　　　　　　　　　　　　　　　　　　「アンケート入力用フォーマット」を増設した場合は、「入力フォーム合計」に\n　　　　　　　　　　　　　　　　　　 連動しているセルの数式を修正する必要があります。　　　　　　　　　　　　　　\n\n　　　◆「採点例」　　・・・「差し込み用」と「入力フォーマット合計」を比較して採点できるシートです。"]
["○当課題（エクセルファイル）は、マクロは使用しておりませんが、使用するにあたって以下の知識を必要とします。\n　　\n　　　◆エクセル関数（if関数、vlookup関数など）\n　　　◆行・列の表示方法\n　　　◆シートの保護、シートの表示・非表示及びシートへのパスワードの付与"]
["○当エクセルをそのまま地方アビリンピック大会の課題として実施する場合は、以下の点に注意して下さい。\n\n　　■選手が競技を実施するために不要なシートは非表示にし、パスワードをかけること。（選手によるシート再表示防止）\n\n　　　　（操作方法）※Microsoft　Excel2010の場合\n　　　　　１．非表示にしたいシートの名前タブ上で右クリックし「非表示」をクリック\n　　　　　２．左上の「ファイル」をクリック\n　　　　　３．「情報」タブの「ブックの保護」をクリック\n　　　　　４．「ブック構成の保護」をクリックし、「シート構成」にチェックを付けたままパスワードを設定する。\n　\n　　　※シートを再表示したい時は、２→３→４の順に進むと「ブック構成の保護解除」になりパスワードを入力すること\n　　　　で解除できます。　　　\n\n\n\n"]

{"sheet":"課題説明  (89)","index":57,"n_rows":5,"n_cols":1,"rows_kept":5,"cut":false,"hidden":true,"merged":[[0,0,0,13],[1,0,1,13],[2,0,2,13],[3,0,3,13],[4,0,4,13]]}
["当課題及びエクセルファイルの取扱いについての注意事項"]
["○当課題は、パソコンデータ入力競技課題１を想定して作成されており、当エクセルを使用することで、課題作成から選手の入力作業、採点までが可能です。\n\n　　当エクセルファイルの構成及び説明は以下の通りです。\n\n　　　◆「課題説明」　・・・当シート。\n\n　　　◆「印刷用」　　・・・印刷用シートの画面上に「印刷用」ボタンが設置されており、１クリックで「差し込み用\n　　　　　　　　　　　　　　シート」内のアンケートデータを一度に印刷することができます。\n　　　　　　　　　　　　　　ただし、印刷初期設定の給紙トレイは”手差し”、用紙は”ハガキサイズ”となっている\n　　　　　　　　　　　　　　ため、他のサイズの用紙を用意した場合は、プリンターエラーが出る場合があります。\n　　　　　　　　　　　　　　また、一度印刷ボタンを押すと途中で中断できないため、印刷環境を整えてからクリック\n　　　　　　　　　　　　　　してください。\n\n                            ※各施設に設置されているプリンターの仕様によっても、設定方法が異なる可能性があるため\n　　　　　　　　　　　　　　適宜、プリンターにあった設定方法を確認してください。\n\n　　　◆「差し込み用」・・・このシートに入力されているデータは、当課題の”答え”を兼ねていますので、当シート\n　　　　　　　　　　　　　　のデータを変更するとすべてのシートに影響します。\n\n　　　◆「回答参考」　・・・「アンケート入力用フォーマット」構成のためのシートです。\n\n　　　"]
["　　　◆「１」～「２１」の「アンケート入力用フォーマット」\n　　　　　　　　　　　・・・選手が実際に当フォーマットに入力する用に作成しています。\n　　　　　　　　　　　　　　当フォーマットは課題数に応じてシートをコピーし増設してください。\n\n　　　◆「入力フォーム合計」　・・・「アンケート入力用フォーマット」に入力した情報が当シートにまとまります。\n　　　　　　　　　　　　　　　　　　「アンケート入力用フォーマット」を増設した場合は、「入力フォーム合計」に\n　　　　　　　　　　　　　　　　　　 連動しているセルの数式を修正する必要があります。　　　　　　　　　　　　　　\n\n　　　◆「採点例」　　・・・「差し込み用」と「入力フォーマット合計」を比較して採点できるシートです。"]
["○当課題（エクセルファイル）は、マクロは使用しておりませんが、使用するにあたって以下の知識を必要とします。\n　　\n　　　◆エクセル関数（if関数、vlookup関数など）\n　　　◆行・列の表示方法\n　　　◆シートの保護、シートの表示・非表示及びシートへのパスワードの付与"]
["○当エクセルをそのまま地方アビリンピック大会の課題として実施する場合は、以下の点に注意して下さい。\n\n　　■選手が競技を実施するために不要なシートは非表示にし、パスワードをかけること。（選手によるシート再表示防止）\n\n　　　　（操作方法）※Microsoft　Excel2010の場合\n　　　　　１．非表示にしたいシートの名前タブ上で右クリックし「非表示」をクリック\n　　　　　２．左上の「ファイル」をクリック\n　　　　　３．「情報」タブの「ブックの保護」をクリック\n　　　　　４．「ブック構成の保護」をクリックし、「シート構成」にチェックを付けたままパスワードを設定する。\n　\n　　　※シートを再表示したい時は、２→３→４の順に進むと「ブック構成の保護解除」になりパスワードを入力すること\n　　　　で解除できます。　　　\n\n\n\n"]

{"sheet":"課題説明  (88)","index":58,"n_rows":5,"n_cols":1,"rows_kept":5,"cut":false,"hidden":true,"merged":[[0,0,0,13],[1,0,1,13],[2,0,2,13],[3,0,3,13],[4,0,4,13]]}
["当課題及びエクセルファイルの取扱いについての注意事項"]
["○当課題は、パソコンデータ入力競技課題１を想定して作成されており、当エクセルを使用することで、課題作成から選手の入力作業、採点までが可能です。\n\n　　当エクセルファイルの構成及び説明は以下の通りです。\n\n　　　◆「課題説明」　・・・当シート。\n\n　　　◆「印刷用」　　・・・印刷用シートの画面上に「印刷用」ボタンが設置されており、１クリックで「差し込み用\n　　　　　　　　　　　　　　シート」内のアンケートデータを一度に印刷することができます。\n　　　　　　　　　　　　　　ただし、印刷初期設定の給紙トレイは”手差し”、用紙は”ハガキサイズ”となっている\n　　　　　　　　　　　　　　ため、他のサイズの用紙を用意した場合は、プリンターエラーが出る場合があります。\n　　　　　　　　　　　　　　また、一度印刷ボタンを押すと途中で中断できないため、印刷環境を整えてからクリック\n　　　　　　　　　　　　　　してください。\n\n                            ※各施設に設置されているプリンターの仕様によっても、設定方法が異なる可能性があるため\n　　　　　　　　　　　　　　適宜、プリンターにあった設定方法を確認してください。\n\n　　　◆「差し込み用」・・・このシートに入力されているデータは、当課題の”答え”を兼ねていますので、当シート\n　　　　　　　　　　　　　　のデータを変更するとすべてのシートに影響します。\n\n　　　◆「回答参考」　・・・「アンケート入力用フォーマット」構成のためのシートです。\n\n　　　"]
["　　　◆「１」～「２１」の「アンケート入力用フォーマット」\n　　　　　　　　　　　・・・選手が実際に当フォーマットに入力する用に作成しています。\n　　　　　　　　　　　　　　当フォーマットは課題数に応じてシートをコピーし増設してください。\n\n　　　◆「入力フォーム合計」　・・・「アンケート入力用フォーマット」に入力した情報が当シートにまとまります。\n　　　　　　　　　　　　　　　　　　「アンケート入力用フォーマット」を増設した場合は、「入力フォーム合計」に\n　　　　　　　　　　　　　　　　　　 連動しているセルの数式を修正する必要があります。　　　　　　　　　　　　　　\n\n　　　◆「採点例」　　・・・「差し込み用」と「入力フォーマット合計」を比較して採点できるシートです。"]
["○当課題（エクセルファイル）は、マクロは使用しておりませんが、使用するにあたって以下の知識を必要とします。\n　　\n　　　◆エクセル関数（if関数、vlookup関数など）\n　　　◆行・列の表示方法\n　　　◆シートの保護、シートの表示・非表示及びシートへのパスワードの付与"]
["○当エクセルをそのまま地方アビリンピック大会の課題として実施する場合は、以下の点に注意して下さい。\n\n　　■選手が競技を実施するために不要なシートは非表示にし、パスワードをかけること。（選手によるシート再表示防止）\n\n　　　　（操作方法）※Microsoft　Excel2010の場合\n　　　　　１．非表示にしたいシートの名前タブ上で右クリックし「非表示」をクリック\n　　　　　２．左上の「ファイル」をクリック\n　　　　　３．「情報」タブの「ブックの保護」をクリック\n　　　　　４．「ブック構成の保護」をクリックし、「シート構成」にチェックを付けたままパスワードを設定する。\n　\n　　　※シートを再表示したい時は、２→３→４の順に進むと「ブック構成の保護解除」になりパスワードを入力すること\n　　　　で解除できます。　　　\n\n\n\n"]

{"sheet":"課題説明  (87)","index":59,"n_rows":5,"n_cols":1,"rows_kept":5,"cut":false,"hidden":true,"merged":[[0,0,0,13],[1,0,1,13],[2,0,2,13],[3,0,3,13],[4,0,4,13]]}
["当課題及びエクセルファイルの取扱いについての注意事項"]
["○当課題は、パソコンデータ入力競技課題１を想定して作成されており、当エクセルを使用することで、課題作成から選手の入力作業、採点までが可能です。\n\n　　当エクセルファイルの構成及び説明は以下の通りです。\n\n　　　◆「課題説明」　・・・当シート。\n\n　　　◆「印刷用」　　・・・印刷用シートの画面上に「印刷用」ボタンが設置されており、１クリックで「差し込み用\n　　　　　　　　　　　　　　シート」内のアンケートデータを一度に印刷することができます。\n　　　　　　　　　　　　　　ただし、印刷初期設定の給紙トレイは”手差し”、用紙は”ハガキサイズ”となっている\n　　　　　　　　　　　　　　ため、他のサイズの用紙を用意した場合は、プリンターエラーが出る場合があります。\n　　　　　　　　　　　　　　また、一度印刷ボタンを押すと途中で中断できないため、印刷環境を整えてからクリック\n　　　　　　　　　　　　　　してください。\n\n                            ※各施設に設置されているプリンターの仕様によっても、設定方法が異なる可能性があるため\n　　　　　　　　　　　　　　適宜、プリンターにあった設定方法を確認してください。\n\n　　　◆「差し込み用」・・・このシートに入力されているデータは、当課題の”答え”を兼ねていますので、当シート\n　　　　　　　　　　　　　　のデータを変更するとすべてのシートに影響します。\n\n　　　◆「回答参考」　・・・「アンケート入力用フォーマット」構成のためのシートです。\n\n　　　"]
["　　　◆「１」～「２１」の「アンケート入力用フォーマット」\n　　　　　　　　　　　・・・選手が実際に当フォーマットに入力する用に作成しています。\n　　　　　　　　　　　　　　当フォーマットは課題数に応じてシートをコピーし増設してください。\n\n　　　◆「入力フォーム合計」　・・・「アンケート入力用フォーマット」に入力した情報が当シートにまとまります。\n　　　　　　　　　　　　　　　　　　「アンケート入力用フォーマット」を増設した場合は、「入力フォーム合計」に\n　　　　　　　　　　　　　　　　　　 連動しているセルの数式を修正する必要があります。　　　　　　　　　　　　　　\n\n　　　◆「採点例」　　・・・「差し込み用」と「入力フォーマット合計」を比較して採点できるシートです。"]
["○当課題（エクセルファイル）は、マクロは使用しておりませんが、使用するにあたって以下の知識を必要とします。\n　　\n　　　◆エクセル関数（if関数、vlookup関数など）\n　　　◆行・列の表示方法\n　　　◆シートの保護、シートの表示・非表示及びシートへのパスワードの付与"]
["○当エクセルをそのまま地方アビリンピック大会の課題として実施する場合は、以下の点に注意して下さい。\n\n　　■選手が競技を実施するために不要なシートは非表示にし、パスワードをかけること。（選手によるシート再表示防止）\n\n　　　　（操作方法）※Microsoft　Excel2010の場合\n　　　　　１．非表示にしたいシートの名前タブ上で右クリックし「非表示」をクリック\n　　　　　２．左上の「ファイル」をクリック\n　　　　　３．「情報」タブの「ブックの保護」をクリック\n　　　　　４．「ブック構成の保護」をクリックし、「シート構成」にチェックを付けたままパスワードを設定する。\n　\n　　　※シートを再表示したい時は、２→３→４の順に進むと「ブック構成の保護解除」になりパスワードを入力すること\n　　　　で解除できます。　　　\n\n\n\n"]

{"sheet":"課題説明  (86)","index":60,"n_rows":5,"n_cols":1,"rows_kept":5,"cut":false,"hidden":true,"merged":[[0,0,0,13],[1,0,1,13],[2,0,2,13],[3,0,3,13],[4,0,4,13]]}
["当課題及びエクセルファイルの取扱いについての注意事項"]
["○当課題は、パソコンデータ入力競技課題１を想定して作成されており、当エクセルを使用することで、課題作成から選手の入力作業、採点までが可能です。\n\n　　当エクセルファイルの構成及び説明は以下の通りです。\n\n　　　◆「課題説明」　・・・当シート。\n\n　　　◆「印刷用」　　・・・印刷用シートの画面上に「印刷用」ボタンが設置されており、１クリックで「差し込み用\n　　　　　　　　　　　　　　シート」内のアンケートデータを一度に印刷することができます。\n　　　　　　　　　　　　　　ただし、印刷初期設定の給紙トレイは”手差し”、用紙は”ハガキサイズ”となっている\n　　　　　　　　　　　　　　ため、他のサイズの用紙を用意した場合は、プリンターエラーが出る場合があります。\n　　　　　　　　　　　　　　また、一度印刷ボタンを押すと途中で中断できないため、印刷環境を整えてからクリック\n　　　　　　　　　　　　　　してください。\n\n                            ※各施設に設置されているプリンターの仕様によっても、設定方法が異なる可能性があるため\n　　　　　　　　　　　　　　適宜、プリンターにあった設定方法を確認してください。\n\n　　　◆「差し込み用」・・・このシートに入力されているデータは、当課題の”答え”を兼ねていますので、当シート\n　　　　　　　　　　　　　　のデータを変更するとすべてのシートに影響します。\n\n　　　◆「回答参考」　・・・「アンケート入力用フォーマット」構成のためのシートです。\n\n　　　"]
["　　　◆「１」～「２１」の「アンケート入力用フォーマット」\n　　　　　　　　　　　・・・選手が実際に当フォーマットに入力する用に作成しています。\n　　　　　　　　　　　　　　当フォーマットは課題数に応じてシートをコピーし増設してください。\n\n　　　◆「入力フォーム合計」　・・・「アンケート入力用フォーマット」に入力した情報が当シートにまとまります。\n　　　　　　　　　　　　　　　　　　「アンケート入力用フォーマット」を増設した場合は、「入力フォーム合計」に\n　　　　　　　　　　　　　　　　　　 連動しているセルの数式を修正する必要があります。　　　　　　　　　　　　　　\n\n　　　◆「採点例」　　・・・「差し込み用」と「入力フォーマット合計」を比較して採点できるシートです。"]
["○当課題（エクセルファイル）は、マクロは使用しておりませんが、使用するにあたって以下の知識を必要とします。\n　　\n　　　◆エクセル関数（if関数、vlookup関数など）\n　　　◆行・列の表示方法\n　　　◆シートの保護、シートの表示・非表示及びシートへのパスワードの付与"]
["○当エクセルをそのまま地方アビリンピック大会の課題として実施する場合は、以下の点に注意して下さい。\n\n　　■選手が競技を実施するために不要なシートは非表示にし、パスワードをかけること。（選手によるシート再表示防止）\n\n　　　　（操作方法）※Microsoft　Excel2010の場合\n　　　　　１．非表示にしたいシートの名前タブ上で右クリックし「非表示」をクリック\n　　　　　２．左上の「ファイル」をクリック\n　　　　　３．「情報」タブの「ブックの保護」をクリック\n　　　　　４．「ブック構成の保護」をクリックし、「シート構成」にチェックを付けたままパスワードを設定する。\n　\n　　　※シートを再表示したい時は、２→３→４の順に進むと「ブック構成の保護解除」になりパスワードを入力すること\n　　　　で解除できます。　　　\n\n\n\n"]

{"sheet":"課題説明  (85)","index":61,"n_rows":5,"n_cols":1,"rows_kept":5,"cut":false,"hidden":true,"merged":[[0,0,0,13],[1,0,1,13],[2,0,2,13],[3,0,3,13],[4,0,4,13]]}
["当課題及びエクセルファイルの取扱いについての注意事項"]
["○当課題は、パソコンデータ入力競技課題１を想定して作成されており、当エクセルを使用することで、課題作成から選手の入力作業、採点までが可能です。\n\n　　当エクセルファイルの構成及び説明は以下の通りです。\n\n　　　◆「課題説明」　・・・当シート。\n\n　　　◆「印刷用」　　・・・印刷用シートの画面上に「印刷用」ボタンが設置されており、１クリックで「差し込み用\n　　　　　　　　　　　　　　シート」内のアンケートデータを一度に印刷することができます。\n　　　　　　　　　　　　　　ただし、印刷初期設定の給紙トレイは”手差し”、用紙は”ハガキサイズ”となっている\n　　　　　　　　　　　　　　ため、他のサイズの用紙を用意した場合は、プリンターエラーが出る場合があります。\n　　　　　　　　　　　　　　また、一度印刷ボタンを押すと途中で中断できないため、印刷環境を整えてからクリック\n　　　　　　　　　　　　　　してください。\n\n                            ※各施設に設置されているプリンターの仕様によっても、設定方法が異なる可能性があるため\n　　　　　　　　　　　　　　適宜、プリンターにあった設定方法を確認してください。\n\n　　　◆「差し込み用」・・・このシートに入力されているデータは、当課題の”答え”を兼ねていますので、当シート\n　　　　　　　　　　　　　　のデータを変更するとすべてのシートに影響します。\n\n　　　◆「回答参考」　・・・「アンケート入力用フォーマット」構成のためのシートです。\n\n　　　"]
["　　　◆「１」～「２１」の「アンケート入力用フォーマット」\n　　　　　　　　　　　・・・選手が実際に当フォーマットに入力する用に作成しています。\n　　　　　　　　　　　　　　当フォーマットは課題数に応じてシートをコピーし増設してください。\n\n　　　◆「入力フォーム合計」　・・・「アンケート入力用フォーマット」に入力した情報が当シートにまとまります。\n　　　　　　　　　　　　　　　　　　「アンケート入力用フォーマット」を増設した場合は、「入力フォーム合計」に\n　　　　　　　　　　　　　　　　　　 連動しているセルの数式を修正する必要があります。　　　　　　　　　　　　　　\n\n　　　◆「採点例」　　・・・「差し込み用」と「入力フォーマット合計」を比較して採点できるシートです。"]
["○当課題（エクセルファイル）は、マクロは使用しておりませんが、使用するにあたって以下の知識を必要とします。\n　　\n　　　◆エクセル関数（if関数、vlookup関数など）\n　　　◆行・列の表示方法\n　　　◆シートの保護、シートの表示・非表示及びシートへのパスワードの付与"]
["○当エクセルをそのまま地方アビリンピック大会の課題として実施する場合は、以下の点に注意して下さい。\n\n　　■選手が競技を実施するために不要なシートは非表示にし、パスワードをかけること。（選手によるシート再表示防止）\n\n　　　　（操作方法）※Microsoft　Excel2010の場合\n　　　　　１．非表示にしたいシートの名前タブ上で右クリックし「非表示」をクリック\n　　　　　２．左上の「ファイル」をクリック\n　　　　　３．「情報」タブの「ブックの保護」をクリック\n　　　　　４．「ブック構成の保護」をクリックし、「シート構成」にチェックを付けたままパスワードを設定する。\n　\n　　　※シートを再表示したい時は、２→３→４の順に進むと「ブック構成の保護解除」になりパスワードを入力すること\n　　　　で解除できます。　　　\n\n\n\n"]

{"sheet":"課題説明  (84)","index":62,"n_rows":5,"n_cols":1,"rows_kept":5,"cut":false,"hidden":true,"merged":[[0,0,0,13],[1,0,1,13],[2,0,2,13],[3,0,3,13],[4,0,4,13]]}
["当課題及びエクセルファイルの取扱いについての注意事項"]
["○当課題は、パソコンデータ入力競技課題１を想定して作成されており、当エクセルを使用することで、課題作成から選手の入力作業、採点までが可能です。\n\n　　当エクセルファイルの構成及び説明は以下の通りです。\n\n　　　◆「課題説明」　・・・当シート。\n\n　　　◆「印刷用」　　・・・印刷用シートの画面上に「印刷用」ボタンが設置されており、１クリックで「差し込み用\n　　　　　　　　　　　　　　シート」内のアンケートデータを一度に印刷することができます。\n　　　　　　　　　　　　　　ただし、印刷初期設定の給紙トレイは”手差し”、用紙は”ハガキサイズ”となっている\n　　　　　　　　　　　　　　ため、他のサイズの用紙を用意した場合は、プリンターエラーが出る場合があります。\n　　　　　　　　　　　　　　また、一度印刷ボタンを押すと途中で中断できないため、印刷環境を整えてからクリック\n　　　　　　　　　　　　　　してください。\n\n                            ※各施設に設置されているプリンターの仕様によっても、設定方法が異なる可能性があるため\n　　　　　　　　　　　　　　適宜、プリンターにあった設定方法を確認してください。\n\n　　　◆「差し込み用」・・・このシートに入力されているデータは、当課題の”答え”を兼ねていますので、当シート\n　　　　　　　　　　　　　　のデータを変更するとすべてのシートに影響します。\n\n　　　◆「回答参考」　・・・「アンケート入力用フォーマット」構成のためのシートです。\n\n　　　"]
["　　　◆「１」～「２１」の「アンケート入力用フォーマット」\n　　　　　　　　　　　・・・選手が実際に当フォーマットに入力する用に作成しています。\n　　　　　　　　　　　　　　当フォーマットは課題数に応じてシートをコピーし増設してください。\n\n　　　◆「入力フォーム合計」　・・・「アンケート入力用フォーマット」に入力した情報が当シートにまとまります。\n　　　　　　　　　　　　　　　　　　「アンケート入力用フォーマット」を増設した場合は、「入力フォーム合計」に\n　　　　　　　　　　　　　　　　　　 連動しているセルの数式を修正する必要があります。　　　　　　　　　　　　　　\n\n　　　◆「採点例」　　・・・「差し込み用」と「入力フォーマット合計」を比較して採点できるシートです。"]
["○当課題（エクセルファイル）は、マクロは使用しておりませんが、使用するにあたって以下の知識を必要とします。\n　　\n　　　◆エクセル関数（if関数、vlookup関数など）\n　　　◆行・列の表示方法\n　　　◆シートの保護、シートの表示・非表示及びシートへのパスワードの付与"]
["○当エクセルをそのまま地方アビリンピック大会の課題として実施する場合は、以下の点に注意して下さい。\n\n　　■選手が競技を実施するために不要なシートは非表示にし、パスワードをかけること。（選手によるシート再表示防止）\n\n　　　　（操作方法）※Microsoft　Excel2010の場合\n　　　　　１．非表示にしたいシートの名前タブ上で右クリックし「非表示」をクリック\n　　　　　２．左上の「ファイル」をクリック\n　　　　　３．「情報」タブの「ブックの保護」をクリック\n　　　　　４．「ブック構成の保護」をクリックし、「シート構成」にチェックを付けたままパスワードを設定する。\n　\n　　　※シートを再表示したい時は、２→３→４の順に進むと「ブック構成の保護解除」になりパスワードを入力すること\n　　　　で解除できます。　　　\n\n\n\n"]

{"sheet":"課題説明  (83)","index":63,"n_rows":5,"n_cols":1,"rows_kept":5,"cut":false,"hidden":true,"merged":[[0,0,0,13],[1,0,1,13],[2,0,2,13],[3,0,3,13],[4,0,4,13]]}
["当課題及びエクセルファイルの取扱いについての注意事項"]
["○当課題は、パソコンデータ入力競技課題１を想定して作成されており、当エクセルを使用することで、課題作成から選手の入力作業、採点までが可能です。\n\n　　当エクセルファイルの構成及び説明は以下の通りです。\n\n　　　◆「課題説明」　・・・当シート。\n\n　　　◆「印刷用」　　・・・印刷用シートの画面上に「印刷用」ボタンが設置されており、１クリックで「差し込み用\n　　　　　　　　　　　　　　シート」内のアンケートデータを一度に印刷することができます。\n　　　　　　　　　　　　　　ただし、印刷初期設定の給紙トレイは”手差し”、用紙は”ハガキサイズ”となっている\n　　　　　　　　　　　　　　ため、他のサイズの用紙を用意した場合は、プリンターエラーが出る場合があります。\n　　　　　　　　　　　　　　また、一度印刷ボタンを押すと途中で中断できないため、印刷環境を整えてからクリック\n　　　　　　　　　　　　　　してください。\n\n                            ※各施設に設置されているプリンターの仕様によっても、設定方法が異なる可能性があるため\n　　　　　　　　　　　　　　適宜、プリンターにあった設定方法を確認してください。\n\n　　　◆「差し込み用」・・・このシートに入力されているデータは、当課題の”答え”を兼ねていますので、当シート\n　　　　　　　　　　　　　　のデータを変更するとすべてのシートに影響します。\n\n　　　◆「回答参考」　・・・「アンケート入力用フォーマット」構成のためのシートです。\n\n　　　"]
["　　　◆「１」～「２１」の「アンケート入力用フォーマット」\n　　　　　　　　　　　・・・選手が実際に当フォーマットに入力する用に作成しています。\n　　　　　　　　　　　　　　当フォーマットは課題数に応じてシートをコピーし増設してください。\n\n　　　◆「入力フォーム合計」　・・・「アンケート入力用フォーマット」に入力した情報が当シートにまとまります。\n　　　　　　　　　　　　　　　　　　「アンケート入力用フォーマット」を増設した場合は、「入力フォーム合計」に\n　　　　　　　　　　　　　　　　　　 連動しているセルの数式を修正する必要があります。　　　　　　　　　　　　　　\n\n　　　◆「採点例」　　・・・「差し込み用」と「入力フォーマット合計」を比較して採点できるシートです。"]
["○当課題（エクセルファイル）は、マクロは使用しておりませんが、使用するにあたって以下の知識を必要とします。\n　　\n　　　◆エクセル関数（if関数、vlookup関数など）\n　　　◆行・列の表示方法\n　　　◆シートの保護、シートの表示・非表示及びシートへのパスワードの付与"]
["○当エクセルをそのまま地方アビリンピック大会の課題として実施する場合は、以下の点に注意して下さい。\n\n　　■選手が競技を実施するために不要なシートは非表示にし、パスワードをかけること。（選手によるシート再表示防止）\n\n　　　　（操作方法）※Microsoft　Excel2010の場合\n　　　　　１．非表示にしたいシートの名前タブ上で右クリックし「非表示」をクリック\n　　　　　２．左上の「ファイル」をクリック\n　　　　　３．「情報」タブの「ブックの保護」をクリック\n　　　　　４．「ブック構成の保護」をクリックし、「シート構成」にチェックを付けたままパスワードを設定する。\n　\n　　　※シートを再表示したい時は、２→３→４の順に進むと「ブック構成の保護解除」になりパスワードを入力すること\n　　　　で解除できます。　　　\n\n\n\n"]

{"sheet":"課題説明  (82)","index":64,"n_rows":5,"n_cols":1,"rows_kept":5,"cut":false,"hidden":true,"merged":[[0,0,0,13],[1,0,1,13],[2,0,2,13],[3,0,3,13],[4,0,4,13]]}
["当課題及びエクセルファイルの取扱いについての注意事項"]
["○当課題は、パソコンデータ入力競技課題１を想定して作成されており、当エクセルを使用することで、課題作成から選手の入力作業、採点までが可能です。\n\n　　当エクセルファイルの構成及び説明は以下の通りです。\n\n　　　◆「課題説明」　・・・当シート。\n\n　　　◆「印刷用」　　・・・印刷用シートの画面上に「印刷用」ボタンが設置されており、１クリックで「差し込み用\n　　　　　　　　　　　　　　シート」内のアンケートデータを一度に印刷することができます。\n　　　　　　　　　　　　　　ただし、印刷初期設定の給紙トレイは”手差し”、用紙は”ハガキサイズ”となっている\n　　　　　　　　　　　　　　ため、他のサイズの用紙を用意した場合は、プリンターエラーが出る場合があります。\n　　　　　　　　　　　　　　また、一度印刷ボタンを押すと途中で中断できないため、印刷環境を整えてからクリック\n　　　　　　　　　　　　　　してください。\n\n                            ※各施設に設置されているプリンターの仕様によっても、設定方法が異なる可能性があるため\n　　　　　　　　　　　　　　適宜、プリンターにあった設定方法を確認してください。\n\n　　　◆「差し込み用」・・・このシートに入力されているデータは、当課題の”答え”を兼ねていますので、当シート\n　　　　　　　　　　　　　　のデータを変更するとすべてのシートに影響します。\n\n　　　◆「回答参考」　・・・「アンケート入力用フォーマット」構成のためのシートです。\n\n　　　"]
["　　　◆「１」～「２１」の「アンケート入力用フォーマット」\n　　　　　　　　　　　・・・選手が実際に当フォーマットに入力する用に作成しています。\n　　　　　　　　　　　　　　当フォーマットは課題数に応じてシートをコピーし増設してください。\n\n　　　◆「入力フォーム合計」　・・・「アンケート入力用フォーマット」に入力した情報が当シートにまとまります。\n　　　　　　　　　　　　　　　　　　「アンケート入力用フォーマット」を増設した場合は、「入力フォーム合計」に\n　　　　　　　　　　　　　　　　　　 連動しているセルの数式を修正する必要があります。　　　　　　　　　　　　　　\n\n　　　◆「採点例」　　・・・「差し込み用」と「入力フォーマット合計」を比較して採点できるシートです。"]
["○当課題（エクセルファイル）は、マクロは使用しておりませんが、使用するにあたって以下の知識を必要とします。\n　　\n　　　◆エクセル関数（if関数、vlookup関数など）\n　　　◆行・列の表示方法\n　　　◆シートの保護、シートの表示・非表示及びシートへのパスワードの付与"]
["○当エクセルをそのまま地方アビリンピック大会の課題として実施する場合は、以下の点に注意して下さい。\n\n　　■選手が競技を実施するために不要なシートは非表示にし、パスワードをかけること。（選手によるシート再表示防止）\n\n　　　　（操作方法）※Microsoft　Excel2010の場合\n　　　　　１．非表示にしたいシートの名前タブ上で右クリックし「非表示」をクリック\n　　　　　２．左上の「ファイル」をクリック\n　　　　　３．「情報」タブの「ブックの保護」をクリック\n　　　　　４．「ブック構成の保護」をクリックし、「シート構成」にチェックを付けたままパスワードを設定する。\n　\n　　　※シートを再表示したい時は、２→３→４の順に進むと「ブック構成の保護解除」になりパスワードを入力すること\n　　　　で解除できます。　　　\n\n\n\n"]

{"sheet":"課題説明  (81)","index":65,"n_rows":5,"n_cols":1,"rows_kept":5,"cut":false,"hidden":true,"merged":[[0,0,0,13],[1,0,1,13],[2,0,2,13],[3,0,3,13],[4,0,4,13]]}
["当課題及びエクセルファイルの取扱いについての注意事項"]
["○当課題は、パソコンデータ入力競技課題１を想定して作成されており、当エクセルを使用することで、課題作成から選手の入力作業、採点までが可能です。\n\n　　当エクセルファイルの構成及び説明は以下の通りです。\n\n　　　◆「課題説明」　・・・当シート。\n\n　　　◆「印刷用」　　・・・印刷用シートの画面上に「印刷用」ボタンが設置されており、１クリックで「差し込み用\n　　　　　　　　　　　　　　シート」内のアンケートデータを一度に印刷することができます。\n　　　　　　　　　　　　　　ただし、印刷初期設定の給紙トレイは”手差し”、用紙は”ハガキサイズ”となっている\n　　　　　　　　　　　　　　ため、他のサイズの用紙を用意した場合は、プリンターエラーが出る場合があります。\n　　　　　　　　　　　　　　また、一度印刷ボタンを押すと途中で中断できないため、印刷環境を整えてからクリック\n　　　　　　　　　　　　　　してください。\n\n                            ※各施設に設置されているプリンターの仕様によっても、設定方法が異なる可能性があるため\n　　　　　　　　　　　　　　適宜、プリンターにあった設定方法を確認してください。\n\n　　　◆「差し込み用」・・・このシートに入力されているデータは、当課題の”答え”を兼ねていますので、当シート\n　　　　　　　　　　　　　　のデータを変更するとすべてのシートに影響します。\n\n　　　◆「回答参考」　・・・「アンケート入力用フォーマット」構成のためのシートです。\n\n　　　"]
["　　　◆「１」～「２１」の「アンケート入力用フォーマット」\n　　　　　　　　　　　・・・選手が実際に当フォーマットに入力する用に作成しています。\n　　　　　　　　　　　　　　当フォーマットは課題数に応じてシートをコピーし増設してください。\n\n　　　◆「入力フォーム合計」　・・・「アンケート入力用フォーマット」に入力した情報が当シートにまとまります。\n　　　　　　　　　　　　　　　　　　「アンケート入力用フォーマット」を増設した場合は、「入力フォーム合計」に\n　　　　　　　　　　　　　　　　　　 連動しているセルの数式を修正する必要があります。　　　　　　　　　　　　　　\n\n　　　◆「採点例」　　・・・「差し込み用」と「入力フォーマット合計」を比較して採点できるシートです。"]
["○当課題（エクセルファイル）は、マクロは使用しておりませんが、使用するにあたって以下の知識を必要とします。\n　　\n　　　◆エクセル関数（if関数、vlookup関数など）\n　　　◆行・列の表示方法\n　　　◆シートの保護、シートの表示・非表示及びシートへのパスワードの付与"]
["○当エクセルをそのまま地方アビリンピック大会の課題として実施する場合は、以下の点に注意して下さい。\n\n　　■選手が競技を実施するために不要なシートは非表示にし、パスワードをかけること。（選手によるシート再表示防止）\n\n　　　　（操作方法）※Microsoft　Excel2010の場合\n　　　　　１．非表示にしたいシートの名前タブ上で右クリックし「非表示」をクリック\n　　　　　２．左上の「ファイル」をクリック\n　　　　　３．「情報」タブの「ブックの保護」をクリック\n　　　　　４．「ブック構成の保護」をクリックし、「シート構成」にチェックを付けたままパスワードを設定する。\n　\n　　　※シートを再表示したい時は、２→３→４の順に進むと「ブック構成の保護解除」になりパスワードを入力すること\n　　　　で解除できます。　　　\n\n\n\n"]

{"sheet":"課題説明  (80)","index":66,"n_rows":5,"n_cols":1,"rows_kept":5,"cut":false,"hidden":true,"merged":[[0,0,0,13],[1,0,1,13],[2,0,2,13],[3,0,3,13],[4,0,4,13]]}
["当課題及びエクセルファイルの取扱いについての注意事項"]
["○当課題は、パソコンデータ入力競技課題１を想定して作成されており、当エクセルを使用することで、課題作成から選手の入力作業、採点までが可能です。\n\n　　当エクセルファイルの構成及び説明は以下の通りです。\n\n　　　◆「課題説明」　・・・当シート。\n\n　　　◆「印刷用」　　・・・印刷用シートの画面上に「印刷用」ボタンが設置されており、１クリックで「差し込み用\n　　　　　　　　　　　　　　シート」内のアンケートデータを一度に印刷することができます。\n　　　　　　　　　　　　　　ただし、印刷初期設定の給紙トレイは”手差し”、用紙は”ハガキサイズ”となっている\n　　　　　　　　　　　　　　ため、他のサイズの用紙を用意した場合は、プリンターエラーが出る場合があります。\n　　　　　　　　　　　　　　また、一度印刷ボタンを押すと途中で中断できないため、印刷環境を整えてからクリック\n　　　　　　　　　　　　　　してください。\n\n                            ※各施設に設置されているプリンターの仕様によっても、設定方法が異なる可能性があるため\n　　　　　　　　　　　　　　適宜、プリンターにあった設定方法を確認してください。\n\n　　　◆「差し込み用」・・・このシートに入力されているデータは、当課題の”答え”を兼ねていますので、当シート\n　　　　　　　　　　　　　　のデータを変更するとすべてのシートに影響します。\n\n　　　◆「回答参考」　・・・「アンケート入力用フォーマット」構成のためのシートです。\n\n　　　"]
["　　　◆「１」～「２１」の「アンケート入力用フォーマット」\n　　　　　　　　　　　・・・選手が実際に当フォーマットに入力する用に作成しています。\n　　　　　　　　　　　　　　当フォーマットは課題数に応じてシートをコピーし増設してください。\n\n　　　◆「入力フォーム合計」　・・・「アンケート入力用フォーマット」に入力した情報が当シートにまとまります。\n　　　　　　　　　　　　　　　　　　「アンケート入力用フォーマット」を増設した場合は、「入力フォーム合計」に\n　　　　　　　　　　　　　　　　　　 連動しているセルの数式を修正する必要があります。　　　　　　　　　　　　　　\n\n　　　◆「採点例」　　・・・「差し込み用」と「入力フォーマット合計」を比較して採点できるシートです。"]
["○当課題（エクセルファイル）は、マクロは使用しておりませんが、使用するにあたって以下の知識を必要とします。\n　　\n　　　◆エクセル関数（if関数、vlookup関数など）\n　　　◆行・列の表示方法\n　　　◆シートの保護、シートの表示・非表示及びシートへのパスワードの付与"]
["○当エクセルをそのまま地方アビリンピック大会の課題として実施する場合は、以下の点に注意して下さい。\n\n　　■選手が競技を実施するために不要なシートは非表示にし、パスワードをかけること。（選手によるシート再表示防止）\n\n　　　　（操作方法）※Microsoft　Excel2010の場合\n　　　　　１．非表示にしたいシートの名前タブ上で右クリックし「非表示」をクリック\n　　　　　２．左上の「ファイル」をクリック\n　　　　　３．「情報」タブの「ブックの保護」をクリック\n　　　　　４．「ブック構成の保護」をクリックし、「シート構成」にチェックを付けたままパスワードを設定する。\n　\n　　　※シートを再表示したい時は、２→３→４の順に進むと「ブック構成の保護解除」になりパスワードを入力すること\n　　　　で解除できます。　　　\n\n\n\n"]

{"sheet":"課題説明  (79)","index":67,"n_rows":5,"n_cols":1,"rows_kept":5,"cut":false,"hidden":true,"merged":[[0,0,0,13],[1,0,1,13],[2,0,2,13],[3,0,3,13],[4,0,4,13]]}
["当課題及びエクセルファイルの取扱いについての注意事項"]
["○当課題は、パソコンデータ入力競技課題１を想定して作成されており、当エクセルを使用することで、課題作成から選手の入力作業、採点までが可能です。\n\n　　当エクセルファイルの構成及び説明は以下の通りです。\n\n　　　◆「課題説明」　・・・当シート。\n\n　　　◆「印刷用」　　・・・印刷用シートの画面上に「印刷用」ボタンが設置されており、１クリックで「差し込み用\n　　　　　　　　　　　　　　シート」内のアンケートデータを一度に印刷することができます。\n　　　　　　　　　　　　　　ただし、印刷初期設定の給紙トレイは”手差し”、用紙は”ハガキサイズ”となっている\n　　　　　　　　　　　　　　ため、他のサイズの用紙を用意した場合は、プリンターエラーが出る場合があります。\n　　　　　　　　　　　　　　また、一度印刷ボタンを押すと途中で中断できないため、印刷環境を整えてからクリック\n　　　　　　　　　　　　　　してください。\n\n                            ※各施設に設置されているプリンターの仕様によっても、設定方法が異なる可能性があるため\n　　　　　　　　　　　　　　適宜、プリンターにあった設定方法を確認してください。\n\n　　　◆「差し込み用」・・・このシートに入力されているデータは、当課題の”答え”を兼ねていますので、当シート\n　　　　　　　　　　　　　　のデータを変更するとすべてのシートに影響します。\n\n　　　◆「回答参考」　・・・「アンケート入力用フォーマット」構成のためのシートです。\n\n　　　"]
["　　　◆「１」～「２１」の「アンケート入力用フォーマット」\n　　　　　　　　　　　・・・選手が実際に当フォーマットに入力する用に作成しています。\n　　　　　　　　　　　　　　当フォーマットは課題数に応じてシートをコピーし増設してください。\n\n　　　◆「入力フォーム合計」　・・・「アンケート入力用フォーマット」に入力した情報が当シートにまとまります。\n　　　　　　　　　　　　　　　　　　「アンケート入力用フォーマット」を増設した場合は、「入力フォーム合計」に\n　　　　　　　　　　　　　　　　　　 連動しているセルの数式を修正する必要があります。　　　　　　　　　　　　　　\n\n　　　◆「採点例」　　・・・「差し込み用」と「入力フォーマット合計」を比較して採点できるシートです。"]
["○当課題（エクセルファイル）は、マクロは使用しておりませんが、使用するにあたって以下の知識を必要とします。\n　　\n　　　◆エクセル関数（if関数、vlookup関数など）\n　　　◆行・列の表示方法\n　　　◆シートの保護、シートの表示・非表示及びシートへのパスワードの付与"]
["○当エクセルをそのまま地方アビリンピック大会の課題として実施する場合は、以下の点に注意して下さい。\n\n　　■選手が競技を実施するために不要なシートは非表示にし、パスワードをかけること。（選手によるシート再表示防止）\n\n　　　　（操作方法）※Microsoft　Excel2010の場合\n　　　　　１．非表示にしたいシートの名前タブ上で右クリックし「非表示」をクリック\n　　　　　２．左上の「ファイル」をクリック\n　　　　　３．「情報」タブの「ブックの保護」をクリック\n　　　　　４．「ブック構成の保護」をクリックし、「シート構成」にチェックを付けたままパスワードを設定する。\n　\n　　　※シートを再表示したい時は、２→３→４の順に進むと「ブック構成の保護解除」になりパスワードを入力すること\n　　　　で解除できます。　　　\n\n\n\n"]

{"sheet":"課題説明  (78)","index":68,"n_rows":5,"n_cols":1,"rows_kept":5,"cut":false,"hidden":true,"merged":[[0,0,0,13],[1,0,1,13],[2,0,2,13],[3,0,3,13],[4,0,4,13]]}
["当課題及びエクセルファイルの取扱いについての注意事項"]
["○当課題は、パソコンデータ入力競技課題１を想定して作成されており、当エクセルを使用することで、課題作成から選手の入力作業、採点までが可能です。\n\n　　当エクセルファイルの構成及び説明は以下の通りです。\n\n　　　◆「課題説明」　・・・当シート。\n\n　　　◆「印刷用」　　・・・印刷用シートの画面上に「印刷用」ボタンが設置されており、１クリックで「差し込み用\n　　　　　　　　　　　　　　シート」内のアンケートデータを一度に印刷することができます。\n　　　　　　　　　　　　　　ただし、印刷初期設定の給紙トレイは”手差し”、用紙は”ハガキサイズ”となっている\n　　　　　　　　　　　　　　ため、他のサイズの用紙を用意した場合は、プリンターエラーが出る場合があります。\n　　　　　　　　　　　　　　また、一度印刷ボタンを押すと途中で中断できないため、印刷環境を整えてからクリック\n　　　　　　　　　　　　　　してください。\n\n                            ※各施設に設置されているプリンターの仕様によっても、設定方法が異なる可能性があるため\n　　　　　　　　　　　　　　適宜、プリンターにあった設定方法を確認してください。\n\n　　　◆「差し込み用」・・・このシートに入力されているデータは、当課題の”答え”を兼ねていますので、当シート\n　　　　　　　　　　　　　　のデータを変更するとすべてのシートに影響します。\n\n　　　◆「回答参考」　・・・「アンケート入力用フォーマット」構成のためのシートです。\n\n　　　"]
["　　　◆「１」～「２１」の「アンケート入力用フォーマット」\n　　　　　　　　　　　・・・選手が実際に当フォーマットに入力する用に作成しています。\n　　　　　　　　　　　　　　当フォーマットは課題数に応じてシートをコピーし増設してください。\n\n　　　◆「入力フォーム合計」　・・・「アンケート入力用フォーマット」に入力した情報が当シートにまとまります。\n　　　　　　　　　　　　　　　　　　「アンケート入力用フォーマット」を増設した場合は、「入力フォーム合計」に\n　　　　　　　　　　　　　　　　　　 連動しているセルの数式を修正する必要があります。　　　　　　　　　　　　　　\n\n　　　◆「採点例」　　・・・「差し込み用」と「入力フォーマット合計」を比較して採点できるシートです。"]
["○当課題（エクセルファイル）は、マクロは使用しておりませんが、使用するにあたって以下の知識を必要とします。\n　　\n　　　◆エクセル関数（if関数、vlookup関数など）\n　　　◆行・列の表示方法\n　　　◆シートの保護、シートの表示・非表示及びシートへのパスワードの付与"]
["○当エクセルをそのまま地方アビリンピック大会の課題として実施する場合は、以下の点に注意して下さい。\n\n　　■選手が競技を実施するために不要なシートは非表示にし、パスワードをかけること。（選手によるシート再表示防止）\n\n　　　　（操作方法）※Microsoft　Excel2010の場合\n　　　　　１．非表示にしたいシートの名前タブ上で右クリックし「非表示」をクリック\n　　　　　２．左上の「ファイル」をクリック\n　　　　　３．「情報」タブの「ブックの保護」をクリック\n　　　　　４．「ブック構成の保護」をクリックし、「シート構成」にチェックを付けたままパスワードを設定する。\n　\n　　　※シートを再表示したい時は、２→３→４の順に進むと「ブック構成の保護解除」になりパスワードを入力すること\n　　　　で解除できます。　　　\n\n\n\n"]

{"sheet":"課題説明  (77)","index":69,"n_rows":5,"n_cols":1,"rows_kept":5,"cut":false,"hidden":true,"merged":[[0,0,0,13],[1,0,1,13],[2,0,2,13],[3,0,3,13],[4,0,4,13]]}
["当課題及びエクセルファイルの取扱いについての注意事項"]
["○当課題は、パソコンデータ入力競技課題１を想定して作成されており、当エクセルを使用することで、課題作成から選手の入力作業、採点までが可能です。\n\n　　当エクセルファイルの構成及び説明は以下の通りです。\n\n　　　◆「課題説明」　・・・当シート。\n\n　　　◆「印刷用」　　・・・印刷用シートの画面上に「印刷用」ボタンが設置されており、１クリックで「差し込み用\n　　　　　　　　　　　　　　シート」内のアンケートデータを一度に印刷することができます。\n　　　　　　　　　　　　　　ただし、印刷初期設定の給紙トレイは”手差し”、用紙は”ハガキサイズ”となっている\n　　　　　　　　　　　　　　ため、他のサイズの用紙を用意した場合は、プリンターエラーが出る場合があります。\n　　　　　　　　　　　　　　また、一度印刷ボタンを押すと途中で中断できないため、印刷環境を整えてからクリック\n　　　　　　　　　　　　　　してください。\n\n                            ※各施設に設置されているプリンターの仕様によっても、設定方法が異なる可能性があるため\n　　　　　　　　　　　　　　適宜、プリンターにあった設定方法を確認してください。\n\n　　　◆「差し込み用」・・・このシートに入力されているデータは、当課題の”答え”を兼ねていますので、当シート\n　　　　　　　　　　　　　　のデータを変更するとすべてのシートに影響します。\n\n　　　◆「回答参考」　・・・「アンケート入力用フォーマット」構成のためのシートです。\n\n　　　"]
["　　　◆「１」～「２１」の「アンケート入力用フォーマット」\n　　　　　　　　　　　・・・選手が実際に当フォーマットに入力する用に作成しています。\n　　　　　　　　　　　　　　当フォーマットは課題数に応じてシートをコピーし増設してください。\n\n　　　◆「入力フォーム合計」　・・・「アンケート入力用フォーマット」に入力した情報が当シートにまとまります。\n　　　　　　　　　　　　　　　　　　「アンケート入力用フォーマット」を増設した場合は、「入力フォーム合計」に\n　　　　　　　　　　　　　　　　　　 連動しているセルの数式を修正する必要があります。　　　　　　　　　　　　　　\n\n　　　◆「採点例」　　・・・「差し込み用」と「入力フォーマット合計」を比較して採点できるシートです。"]
["○当課題（エクセルファイル）は、マクロは使用しておりませんが、使用するにあたって以下の知識を必要とします。\n　　\n　　　◆エクセル関数（if関数、vlookup関数など）\n　　　◆行・列の表示方法\n　　　◆シートの保護、シートの表示・非表示及びシートへのパスワードの付与"]
["○当エクセルをそのまま地方アビリンピック大会の課題として実施する場合は、以下の点に注意して下さい。\n\n　　■選手が競技を実施するために不要なシートは非表示にし、パスワードをかけること。（選手によるシート再表示防止）\n\n　　　　（操作方法）※Microsoft　Excel2010の場合\n　　　　　１．非表示にしたいシートの名前タブ上で右クリックし「非表示」をクリック\n　　　　　２．左上の「ファイル」をクリック\n　　　　　３．「情報」タブの「ブックの保護」をクリック\n　　　　　４．「ブック構成の保護」をクリックし、「シート構成」にチェックを付けたままパスワードを設定する。\n　\n　　　※シートを再表示したい時は、２→３→４の順に進むと「ブック構成の保護解除」になりパスワードを入力すること\n　　　　で解除できます。　　　\n\n\n\n"]

{"sheet":"課題説明  (76)","index":70,"n_rows":5,"n_cols":1,"rows_kept":5,"cut":false,"hidden":true,"merged":[[0,0,0,13],[1,0,1,13],[2,0,2,13],[3,0,3,13],[4,0,4,13]]}
["当課題及びエクセルファイルの取扱いについての注意事項"]
["○当課題は、パソコンデータ入力競技課題１を想定して作成されており、当エクセルを使用することで、課題作成から選手の入力作業、採点までが可能です。\n\n　　当エクセルファイルの構成及び説明は以下の通りです。\n\n　　　◆「課題説明」　・・・当シート。\n\n　　　◆「印刷用」　　・・・印刷用シートの画面上に「印刷用」ボタンが設置されており、１クリックで「差し込み用\n　　　　　　　　　　　　　　シート」内のアンケートデータを一度に印刷することができます。\n　　　　　　　　　　　　　　ただし、印刷初期設定の給紙トレイは”手差し”、用紙は”ハガキサイズ”となっている\n　　　　　　　　　　　　　　ため、他のサイズの用紙を用意した場合は、プリンターエラーが出る場合があります。\n　　　　　　　　　　　　　　また、一度印刷ボタンを押すと途中で中断できないため、印刷環境を整えてからクリック\n　　　　　　　　　　　　　　してください。\n\n                            ※各施設に設置されているプリンターの仕様によっても、設定方法が異なる可能性があるため\n　　　　　　　　　　　　　　適宜、プリンターにあった設定方法を確認してください。\n\n　　　◆「差し込み用」・・・このシートに入力されているデータは、当課題の”答え”を兼ねていますので、当シート\n　　　　　　　　　　　　　　のデータを変更するとすべてのシートに影響します。\n\n　　　◆「回答参考」　・・・「アンケート入力用フォーマット」構成のためのシートです。\n\n　　　"]
["　　　◆「１」～「２１」の「アンケート入力用フォーマット」\n　　　　　　　　　　　・・・選手が実際に当フォーマットに入力する用に作成しています。\n　　　　　　　　　　　　　　当フォーマットは課題数に応じてシートをコピーし増設してください。\n\n　　　◆「入力フォーム合計」　・・・「アンケート入力用フォーマット」に入力した情報が当シートにまとまります。\n　　　　　　　　　　　　　　　　　　「アンケート入力用フォーマット」を増設した場合は、「入力フォーム合計」に\n　　　　　　　　　　　　　　　　　　 連動しているセルの数式を修正する必要があります。　　　　　　　　　　　　　　\n\n　　　◆「採点例」　　・・・「差し込み用」と「入力フォーマット合計」を比較して採点できるシートです。"]
["○当課題（エクセルファイル）は、マクロは使用しておりませんが、使用するにあたって以下の知識を必要とします。\n　　\n　　　◆エクセル関数（if関数、vlookup関数など）\n　　　◆行・列の表示方法\n　　　◆シートの保護、シートの表示・非表示及びシートへのパスワードの付与"]
["○当エクセルをそのまま地方アビリンピック大会の課題として実施する場合は、以下の点に注意して下さい。\n\n　　■選手が競技を実施するために不要なシートは非表示にし、パスワードをかけること。（選手によるシート再表示防止）\n\n　　　　（操作方法）※Microsoft　Excel2010の場合\n　　　　　１．非表示にしたいシートの名前タブ上で右クリックし「非表示」をクリック\n　　　　　２．左上の「ファイル」をクリック\n　　　　　３．「情報」タブの「ブックの保護」をクリック\n　　　　　４．「ブック構成の保護」をクリックし、「シート構成」にチェックを付けたままパスワードを設定する。\n　\n　　　※シートを再表示したい時は、２→３→４の順に進むと「ブック構成の保護解除」になりパスワードを入力すること\n　　　　で解除できます。　　　\n\n\n\n"]

{"sheet":"課題説明  (75)","index":71,"n_rows":5,"n_cols":1,"rows_kept":5,"cut":false,"hidden":true,"merged":[[0,0,0,13],[1,0,1,13],[2,0,2,13],[3,0,3,13],[4,0,4,13]]}
["当課題及びエクセルファイルの取扱いについての注意事項"]
["○当課題は、パソコンデータ入力競技課題１を想定して作成されており、当エクセルを使用することで、課題作成から選手の入力作業、採点までが可能です。\n\n　　当エクセルファイルの構成及び説明は以下の通りです。\n\n　　　◆「課題説明」　・・・当シート。\n\n　　　◆「印刷用」　　・・・印刷用シートの画面上に「印刷用」ボタンが設置されており、１クリックで「差し込み用\n　　　　　　　　　　　　　　シート」内のアンケートデータを一度に印刷することができます。\n　　　　　　　　　　　　　　ただし、印刷初期設定の給紙トレイは”手差し”、用紙は”ハガキサイズ”となっている\n　　　　　　　　　　　　　　ため、他のサイズの用紙を用意した場合は、プリンターエラーが出る場合があります。\n　　　　　　　　　　　　　　また、一度印刷ボタンを押すと途中で中断できないため、印刷環境を整えてからクリック\n　　　　　　　　　　　　　　してください。\n\n                            ※各施設に設置されているプリンターの仕様によっても、設定方法が異なる可能性があるため\n　　　　　　　　　　　　　　適宜、プリンターにあった設定方法を確認してください。\n\n　　　◆「差し込み用」・・・このシートに入力されているデータは、当課題の”答え”を兼ねていますので、当シート\n　　　　　　　　　　　　　　のデータを変更するとすべてのシートに影響します。\n\n　　　◆「回答参考」　・・・「アンケート入力用フォーマット」構成のためのシートです。\n\n　　　"]
["　　　◆「１」～「２１」の「アンケート入力用フォーマット」\n　　　　　　　　　　　・・・選手が実際に当フォーマットに入力する用に作成しています。\n　　　　　　　　　　　　　　当フォーマットは課題数に応じてシートをコピーし増設してください。\n\n　　　◆「入力フォーム合計」　・・・「アンケート入力用フォーマット」に入力した情報が当シートにまとまります。\n　　　　　　　　　　　　　　　　　　「アンケート入力用フォーマット」を増設した場合は、「入力フォーム合計」に\n　　　　　　　　　　　　　　　　　　 連動しているセルの数式を修正する必要があります。　　　　　　　　　　　　　　\n\n　　　◆「採点例」　　・・・「差し込み用」と「入力フォーマット合計」を比較して採点できるシートです。"]
["○当課題（エクセルファイル）は、マクロは使用しておりませんが、使用するにあたって以下の知識を必要とします。\n　　\n　　　◆エクセル関数（if関数、vlookup関数など）\n　　　◆行・列の表示方法\n　　　◆シートの保護、シートの表示・非表示及びシートへのパスワードの付与"]
["○当エクセルをそのまま地方アビリンピック大会の課題として実施する場合は、以下の点に注意して下さい。\n\n　　■選手が競技を実施するために不要なシートは非表示にし、パスワードをかけること。（選手によるシート再表示防止）\n\n　　　　（操作方法）※Microsoft　Excel2010の場合\n　　　　　１．非表示にしたいシートの名前タブ上で右クリックし「非表示」をクリック\n　　　　　２．左上の「ファイル」をクリック\n　　　　　３．「情報」タブの「ブックの保護」をクリック\n　　　　　４．「ブック構成の保護」をクリックし、「シート構成」にチェックを付けたままパスワードを設定する。\n　\n　　　※シートを再表示したい時は、２→３→４の順に進むと「ブック構成の保護解除」になりパスワードを入力すること\n　　　　で解除できます。　　　\n\n\n\n"]

{"sheet":"課題説明  (74)","index":72,"n_rows":5,"n_cols":1,"rows_kept":5,"cut":false,"hidden":true,"merged":[[0,0,0,13],[1,0,1,13],[2,0,2,13],[3,0,3,13],[4,0,4,13]]}
["当課題及びエクセルファイルの取扱いについての注意事項"]
["○当課題は、パソコンデータ入力競技課題１を想定して作成されており、当エクセルを使用することで、課題作成から選手の入力作業、採点までが可能です。\n\n　　当エクセルファイルの構成及び説明は以下の通りです。\n\n　　　◆「課題説明」　・・・当シート。\n\n　　　◆「印刷用」　　・・・印刷用シートの画面上に「印刷用」ボタンが設置されており、１クリックで「差し込み用\n　　　　　　　　　　　　　　シート」内のアンケートデータを一度に印刷することができます。\n　　　　　　　　　　　　　　ただし、印刷初期設定の給紙トレイは”手差し”、用紙は”ハガキサイズ”となっている\n　　　　　　　　　　　　　　ため、他のサイズの用紙を用意した場合は、プリンターエラーが出る場合があります。\n　　　　　　　　　　　　　　また、一度印刷ボタンを押すと途中で中断できないため、印刷環境を整えてからクリック\n　　　　　　　　　　　　　　してください。\n\n                            ※各施設に設置されているプリンターの仕様によっても、設定方法が異なる可能性があるため\n　　　　　　　　　　　　　　適宜、プリンターにあった設定方法を確認してください。\n\n　　　◆「差し込み用」・・・このシートに入力されているデータは、当課題の”答え”を兼ねていますので、当シート\n　　　　　　　　　　　　　　のデータを変更するとすべてのシートに影響します。\n\n　　　◆「回答参考」　・・・「アンケート入力用フォーマット」構成のためのシートです。\n\n　　　"]
["　　　◆「１」～「２１」の「アンケート入力用フォーマット」\n　　　　　　　　　　　・・・選手が実際に当フォーマットに入力する用に作成しています。\n　　　　　　　　　　　　　　当フォーマットは課題数に応じてシートをコピーし増設してください。\n\n　　　◆「入力フォーム合計」　・・・「アンケート入力用フォーマット」に入力した情報が当シートにまとまります。\n　　　　　　　　　　　　　　　　　　「アンケート入力用フォーマット」を増設した場合は、「入力フォーム合計」に\n　　　　　　　　　　　　　　　　　　 連動しているセルの数式を修正する必要があります。　　　　　　　　　　　　　　\n\n　　　◆「採点例」　　・・・「差し込み用」と「入力フォーマット合計」を比較して採点できるシートです。"]
["○当課題（エクセルファイル）は、マクロは使用しておりませんが、使用するにあたって以下の知識を必要とします。\n　　\n　　　◆エクセル関数（if関数、vlookup関数など）\n　　　◆行・列の表示方法\n　　　◆シートの保護、シートの表示・非表示及びシートへのパスワードの付与"]
["○当エクセルをそのまま地方アビリンピック大会の課題として実施する場合は、以下の点に注意して下さい。\n\n　　■選手が競技を実施するために不要なシートは非表示にし、パスワードをかけること。（選手によるシート再表示防止）\n\n　　　　（操作方法）※Microsoft　Excel2010の場合\n　　　　　１．非表示にしたいシートの名前タブ上で右クリックし「非表示」をクリック\n　　　　　２．左上の「ファイル」をクリック\n　　　　　３．「情報」タブの「ブックの保護」をクリック\n　　　　　４．「ブック構成の保護」をクリックし、「シート構成」にチェックを付けたままパスワードを設定する。\n　\n　　　※シートを再表示したい時は、２→３→４の順に進むと「ブック構成の保護解除」になりパスワードを入力すること\n　　　　で解除できます。　　　\n\n\n\n"]

{"sheet":"課題説明  (73)","index":73,"n_rows":5,"n_cols":1,"rows_kept":5,"cut":false,"hidden":true,"merged":[[0,0,0,13],[1,0,1,13],[2,0,2,13],[3,0,3,13],[4,0,4,13]]}
["当課題及びエクセルファイルの取扱いについての注意事項"]
["○当課題は、パソコンデータ入力競技課題１を想定して作成されており、当エクセルを使用することで、課題作成から選手の入力作業、採点までが可能です。\n\n　　当エクセルファイルの構成及び説明は以下の通りです。\n\n　　　◆「課題説明」　・・・当シート。\n\n　　　◆「印刷用」　　・・・印刷用シートの画面上に「印刷用」ボタンが設置されており、１クリックで「差し込み用\n　　　　　　　　　　　　　　シート」内のアンケートデータを一度に印刷することができます。\n　　　　　　　　　　　　　　ただし、印刷初期設定の給紙トレイは”手差し”、用紙は”ハガキサイズ”となっている\n　　　　　　　　　　　　　　ため、他のサイズの用紙を用意した場合は、プリンターエラーが出る場合があります。\n　　　　　　　　　　　　　　また、一度印刷ボタンを押すと途中で中断できないため、印刷環境を整えてからクリック\n　　　　　　　　　　　　　　してください。\n\n                            ※各施設に設置されているプリンターの仕様によっても、設定方法が異なる可能性があるため\n　　　　　　　　　　　　　　適宜、プリンターにあった設定方法を確認してください。\n\n　　　◆「差し込み用」・・・このシートに入力されているデータは、当課題の”答え”を兼ねていますので、当シート\n　　　　　　　　　　　　　　のデータを変更するとすべてのシートに影響します。\n\n　　　◆「回答参考」　・・・「アンケート入力用フォーマット」構成のためのシートです。\n\n　　　"]
["　　　◆「１」～「２１」の「アンケート入力用フォーマット」\n　　　　　　　　　　　・・・選手が実際に当フォーマットに入力する用に作成しています。\n　　　　　　　　　　　　　　当フォーマットは課題数に応じてシートをコピーし増設してください。\n\n　　　◆「入力フォーム合計」　・・・「アンケート入力用フォーマット」に入力した情報が当シートにまとまります。\n　　　　　　　　　　　　　　　　　　「アンケート入力用フォーマット」を増設した場合は、「入力フォーム合計」に\n　　　　　　　　　　　　　　　　　　 連動しているセルの数式を修正する必要があります。　　　　　　　　　　　　　　\n\n　　　◆「採点例」　　・・・「差し込み用」と「入力フォーマット合計」を比較して採点できるシートです。"]
["○当課題（エクセルファイル）は、マクロは使用しておりませんが、使用するにあたって以下の知識を必要とします。\n　　\n　　　◆エクセル関数（if関数、vlookup関数など）\n　　　◆行・列の表示方法\n　　　◆シートの保護、シートの表示・非表示及びシートへのパスワードの付与"]
["○当エクセルをそのまま地方アビリンピック大会の課題として実施する場合は、以下の点に注意して下さい。\n\n　　■選手が競技を実施するために不要なシートは非表示にし、パスワードをかけること。（選手によるシート再表示防止）\n\n　　　　（操作方法）※Microsoft　Excel2010の場合\n　　　　　１．非表示にしたいシートの名前タブ上で右クリックし「非表示」をクリック\n　　　　　２．左上の「ファイル」をクリック\n　　　　　３．「情報」タブの「ブックの保護」をクリック\n　　　　　４．「ブック構成の保護」をクリックし、「シート構成」にチェックを付けたままパスワードを設定する。\n　\n　　　※シートを再表示したい時は、２→３→４の順に進むと「ブック構成の保護解除」になりパスワードを入力すること\n　　　　で解除できます。　　　\n\n\n\n"]

{"sheet":"課題説明  (72)","index":74,"n_rows":5,"n_cols":1,"rows_kept":5,"cut":false,"hidden":true,"merged":[[0,0,0,13],[1,0,1,13],[2,0,2,13],[3,0,3,13],[4,0,4,13]]}
["当課題及びエクセルファイルの取扱いについての注意事項"]
["○当課題は、パソコンデータ入力競技課題１を想定して作成されており、当エクセルを使用することで、課題作成から選手の入力作業、採点までが可能です。\n\n　　当エクセルファイルの構成及び説明は以下の通りです。\n\n　　　◆「課題説明」　・・・当シート。\n\n　　　◆「印刷用」　　・・・印刷用シートの画面上に「印刷用」ボタンが設置されており、１クリックで「差し込み用\n　　　　　　　　　　　　　　シート」内のアンケートデータを一度に印刷することができます。\n　　　　　　　　　　　　　　ただし、印刷初期設定の給紙トレイは”手差し”、用紙は”ハガキサイズ”となっている\n　　　　　　　　　　　　　　ため、他のサイズの用紙を用意した場合は、プリンターエラーが出る場合があります。\n　　　　　　　　　　　　　　また、一度印刷ボタンを押すと途中で中断できないため、印刷環境を整えてからクリック\n　　　　　　　　　　　　　　してください。\n\n                            ※各施設に設置されているプリンターの仕様によっても、設定方法が異なる可能性があるため\n　　　　　　　　　　　　　　適宜、プリンターにあった設定方法を確認してください。\n\n　　　◆「差し込み用」・・・このシートに入力されているデータは、当課題の”答え”を兼ねていますので、当シート\n　　　　　　　　　　　　　　のデータを変更するとすべてのシートに影響します。\n\n　　　◆「回答参考」　・・・「アンケート入力用フォーマット」構成のためのシートです。\n\n　　　"]
["　　　◆「１」～「２１」の「アンケート入力用フォーマット」\n　　　　　　　　　　　・・・選手が実際に当フォーマットに入力する用に作成しています。\n　　　　　　　　　　　　　　当フォーマットは課題数に応じてシートをコピーし増設してください。\n\n　　　◆「入力フォーム合計」　・・・「アンケート入力用フォーマット」に入力した情報が当シートにまとまります。\n　　　　　　　　　　　　　　　　　　「アンケート入力用フォーマット」を増設した場合は、「入力フォーム合計」に\n　　　　　　　　　　　　　　　　　　 連動しているセルの数式を修正する必要があります。　　　　　　　　　　　　　　\n\n　　　◆「採点例」　　・・・「差し込み用」と「入力フォーマット合計」を比較して採点できるシートです。"]
["○当課題（エクセルファイル）は、マクロは使用しておりませんが、使用するにあたって以下の知識を必要とします。\n　　\n　　　◆エクセル関数（if関数、vlookup関数など）\n　　　◆行・列の表示方法\n　　　◆シートの保護、シートの表示・非表示及びシートへのパスワードの付与"]
["○当エクセルをそのまま地方アビリンピック大会の課題として実施する場合は、以下の点に注意して下さい。\n\n　　■選手が競技を実施するために不要なシートは非表示にし、パスワードをかけること。（選手によるシート再表示防止）\n\n　　　　（操作方法）※Microsoft　Excel2010の場合\n　　　　　１．非表示にしたいシートの名前タブ上で右クリックし「非表示」をクリック\n　　　　　２．左上の「ファイル」をクリック\n　　　　　３．「情報」タブの「ブックの保護」をクリック\n　　　　　４．「ブック構成の保護」をクリックし、「シート構成」にチェックを付けたままパスワードを設定する。\n　\n　　　※シートを再表示したい時は、２→３→４の順に進むと「ブック構成の保護解除」になりパスワードを入力すること\n　　　　で解除できます。　　　\n\n\n\n"]

{"sheet":"課題説明  (71)","index":75,"n_rows":5,"n_cols":1,"rows_kept":5,"cut":false,"hidden":true,"merged":[[0,0,0,13],[1,0,1,13],[2,0,2,13],[3,0,3,13],[4,0,4,13]]}
["当課題及びエクセルファイルの取扱いについての注意事項"]
["○当課題は、パソコンデータ入力競技課題１を想定して作成されており、当エクセルを使用することで、課題作成から選手の入力作業、採点までが可能です。\n\n　　当エクセルファイルの構成及び説明は以下の通りです。\n\n　　　◆「課題説明」　・・・当シート。\n\n　　　◆「印刷用」　　・・・印刷用シートの画面上に「印刷用」ボタンが設置されており、１クリックで「差し込み用\n　　　　　　　　　　　　　　シート」内のアンケートデータを一度に印刷することができます。\n　　　　　　　　　　　　　　ただし、印刷初期設定の給紙トレイは”手差し”、用紙は”ハガキサイズ”となっている\n　　　　　　　　　　　　　　ため、他のサイズの用紙を用意した場合は、プリンターエラーが出る場合があります。\n　　　　　　　　　　　　　　また、一度印刷ボタンを押すと途中で中断できないため、印刷環境を整えてからクリック\n　　　　　　　　　　　　　　してください。\n\n                            ※各施設に設置されているプリンターの仕様によっても、設定方法が異なる可能性があるため\n　　　　　　　　　　　　　　適宜、プリンターにあった設定方法を確認してください。\n\n　　　◆「差し込み用」・・・このシートに入力されているデータは、当課題の”答え”を兼ねていますので、当シート\n　　　　　　　　　　　　　　のデータを変更するとすべてのシートに影響します。\n\n　　　◆「回答参考」　・・・「アンケート入力用フォーマット」構成のためのシートです。\n\n　　　"]
["　　　◆「１」～「２１」の「アンケート入力用フォーマット」\n　　　　　　　　　　　・・・選手が実際に当フォーマットに入力する用に作成しています。\n　　　　　　　　　　　　　　当フォーマットは課題数に応じてシートをコピーし増設してください。\n\n　　　◆「入力フォーム合計」　・・・「アンケート入力用フォーマット」に入力した情報が当シートにまとまります。\n　　　　　　　　　　　　　　　　　　「アンケート入力用フォーマット」を増設した場合は、「入力フォーム合計」に\n　　　　　　　　　　　　　　　　　　 連動しているセルの数式を修正する必要があります。　　　　　　　　　　　　　　\n\n　　　◆「採点例」　　・・・「差し込み用」と「入力フォーマット合計」を比較して採点できるシートです。"]
["○当課題（エクセルファイル）は、マクロは使用しておりませんが、使用するにあたって以下の知識を必要とします。\n　　\n　　　◆エクセル関数（if関数、vlookup関数など）\n　　　◆行・列の表示方法\n　　　◆シートの保護、シートの表示・非表示及びシートへのパスワードの付与"]
["○当エクセルをそのまま地方アビリンピック大会の課題として実施する場合は、以下の点に注意して下さい。\n\n　　■選手が競技を実施するために不要なシートは非表示にし、パスワードをかけること。（選手によるシート再表示防止）\n\n　　　　（操作方法）※Microsoft　Excel2010の場合\n　　　　　１．非表示にしたいシートの名前タブ上で右クリックし「非表示」をクリック\n　　　　　２．左上の「ファイル」をクリック\n　　　　　３．「情報」タブの「ブックの保護」をクリック\n　　　　　４．「ブック構成の保護」をクリックし、「シート構成」にチェックを付けたままパスワードを設定する。\n　\n　　　※シートを再表示したい時は、２→３→４の順に進むと「ブック構成の保護解除」になりパスワードを入力すること\n　　　　で解除できます。　　　\n\n\n\n"]

{"sheet":"課題説明  (70)","index":76,"n_rows":5,"n_cols":1,"rows_kept":5,"cut":false,"hidden":true,"merged":[[0,0,0,13],[1,0,1,13],[2,0,2,13],[3,0,3,13],[4,0,4,13]]}
["当課題及びエクセルファイルの取扱いについての注意事項"]
["○当課題は、パソコンデータ入力競技課題１を想定して作成されており、当エクセルを使用することで、課題作成から選手の入力作業、採点までが可能です。\n\n　　当エクセルファイルの構成及び説明は以下の通りです。\n\n　　　◆「課題説明」　・・・当シート。\n\n　　　◆「印刷用」　　・・・印刷用シートの画面上に「印刷用」ボタンが設置されており、１クリックで「差し込み用\n　　　　　　　　　　　　　　シート」内のアンケートデータを一度に印刷することができます。\n　　　　　　　　　　　　　　ただし、印刷初期設定の給紙トレイは”手差し”、用紙は”ハガキサイズ”となっている\n　　　　　　　　　　　　　　ため、他のサイズの用紙を用意した場合は、プリンターエラーが出る場合があります。\n　　　　　　　　　　　　　　また、一度印刷ボタンを押すと途中で中断できないため、印刷環境を整えてからクリック\n　　　　　　　　　　　　　　してください。\n\n                            ※各施設に設置されているプリンターの仕様によっても、設定方法が異なる可能性があるため\n　　　　　　　　　　　　　　適宜、プリンターにあった設定方法を確認してください。\n\n　　　◆「差し込み用」・・・このシートに入力されているデータは、当課題の”答え”を兼ねていますので、当シート\n　　　　　　　　　　　　　　のデータを変更するとすべてのシートに影響します。\n\n　　　◆「回答参考」　・・・「アンケート入力用フォーマット」構成のためのシートです。\n\n　　　"]
["　　　◆「１」～「２１」の「アンケート入力用フォーマット」\n　　　　　　　　　　　・・・選手が実際に当フォーマットに入力する用に作成しています。\n　　　　　　　　　　　　　　当フォーマットは課題数に応じてシートをコピーし増設してください。\n\n　　　◆「入力フォーム合計」　・・・「アンケート入力用フォーマット」に入力した情報が当シートにまとまります。\n　　　　　　　　　　　　　　　　　　「アンケート入力用フォーマット」を増設した場合は、「入力フォーム合計」に\n　　　　　　　　　　　　　　　　　　 連動しているセルの数式を修正する必要があります。　　　　　　　　　　　　　　\n\n　　　◆「採点例」　　・・・「差し込み用」と「入力フォーマット合計」を比較して採点できるシートです。"]
["○当課題（エクセルファイル）は、マクロは使用しておりませんが、使用するにあたって以下の知識を必要とします。\n　　\n　　　◆エクセル関数（if関数、vlookup関数など）\n　　　◆行・列の表示方法\n　　　◆シートの保護、シートの表示・非表示及びシートへのパスワードの付与"]
["○当エクセルをそのまま地方アビリンピック大会の課題として実施する場合は、以下の点に注意して下さい。\n\n　　■選手が競技を実施するために不要なシートは非表示にし、パスワードをかけること。（選手によるシート再表示防止）\n\n　　　　（操作方法）※Microsoft　Excel2010の場合\n　　　　　１．非表示にしたいシートの名前タブ上で右クリックし「非表示」をクリック\n　　　　　２．左上の「ファイル」をクリック\n　　　　　３．「情報」タブの「ブックの保護」をクリック\n　　　　　４．「ブック構成の保護」をクリックし、「シート構成」にチェックを付けたままパスワードを設定する。\n　\n　　　※シートを再表示したい時は、２→３→４の順に進むと「ブック構成の保護解除」になりパスワードを入力すること\n　　　　で解除できます。　　　\n\n\n\n"]

{"sheet":"課題説明  (69)","index":77,"n_rows":5,"n_cols":1,"rows_kept":5,"cut":false,"hidden":true,"merged":[[0,0,0,13],[1,0,1,13],[2,0,2,13],[3,0,3,13],[4,0,4,13]]}
["当課題及びエクセルファイルの取扱いについての注意事項"]
["○当課題は、パソコンデータ入力競技課題１を想定して作成されており、当エクセルを使用することで、課題作成から選手の入力作業、採点までが可能です。\n\n　　当エクセルファイルの構成及び説明は以下の通りです。\n\n　　　◆「課題説明」　・・・当シート。\n\n　　　◆「印刷用」　　・・・印刷用シートの画面上に「印刷用」ボタンが設置されており、１クリックで「差し込み用\n　　　　　　　　　　　　　　シート」内のアンケートデータを一度に印刷することができます。\n　　　　　　　　　　　　　　ただし、印刷初期設定の給紙トレイは”手差し”、用紙は”ハガキサイズ”となっている\n　　　　　　　　　　　　　　ため、他のサイズの用紙を用意した場合は、プリンターエラーが出る場合があります。\n　　　　　　　　　　　　　　また、一度印刷ボタンを押すと途中で中断できないため、印刷環境を整えてからクリック\n　　　　　　　　　　　　　　してください。\n\n                            ※各施設に設置されているプリンターの仕様によっても、設定方法が異なる可能性があるため\n　　　　　　　　　　　　　　適宜、プリンターにあった設定方法を確認してください。\n\n　　　◆「差し込み用」・・・このシートに入力されているデータは、当課題の”答え”を兼ねていますので、当シート\n　　　　　　　　　　　　　　のデータを変更するとすべてのシートに影響します。\n\n　　　◆「回答参考」　・・・「アンケート入力用フォーマット」構成のためのシートです。\n\n　　　"]
["　　　◆「１」～「２１」の「アンケート入力用フォーマット」\n　　　　　　　　　　　・・・選手が実際に当フォーマットに入力する用に作成しています。\n　　　　　　　　　　　　　　当フォーマットは課題数に応じてシートをコピーし増設してください。\n\n　　　◆「入力フォーム合計」　・・・「アンケート入力用フォーマット」に入力した情報が当シートにまとまります。\n　　　　　　　　　　　　　　　　　　「アンケート入力用フォーマット」を増設した場合は、「入力フォーム合計」に\n　　　　　　　　　　　　　　　　　　 連動しているセルの数式を修正する必要があります。　　　　　　　　　　　　　　\n\n　　　◆「採点例」　　・・・「差し込み用」と「入力フォーマット合計」を比較して採点できるシートです。"]
["○当課題（エクセルファイル）は、マクロは使用しておりませんが、使用するにあたって以下の知識を必要とします。\n　　\n　　　◆エクセル関数（if関数、vlookup関数など）\n　　　◆行・列の表示方法\n　　　◆シートの保護、シートの表示・非表示及びシートへのパスワードの付与"]
["○当エクセルをそのまま地方アビリンピック大会の課題として実施する場合は、以下の点に注意して下さい。\n\n　　■選手が競技を実施するために不要なシートは非表示にし、パスワードをかけること。（選手によるシート再表示防止）\n\n　　　　（操作方法）※Microsoft　Excel2010の場合\n　　　　　１．非表示にしたいシートの名前タブ上で右クリックし「非表示」をクリック\n　　　　　２．左上の「ファイル」をクリック\n　　　　　３．「情報」タブの「ブックの保護」をクリック\n　　　　　４．「ブック構成の保護」をクリックし、「シート構成」にチェックを付けたままパスワードを設定する。\n　\n　　　※シートを再表示したい時は、２→３→４の順に進むと「ブック構成の保護解除」になりパスワードを入力すること\n　　　　で解除できます。　　　\n\n\n\n"]

{"sheet":"課題説明  (68)","index":78,"n_rows":5,"n_cols":1,"rows_kept":5,"cut":false,"hidden":true,"merged":[[0,0,0,13],[1,0,1,13],[2,0,2,13],[3,0,3,13],[4,0,4,13]]}
["当課題及びエクセルファイルの取扱いについての注意事項"]
["○当課題は、パソコンデータ入力競技課題１を想定して作成されており、当エクセルを使用することで、課題作成から選手の入力作業、採点までが可能です。\n\n　　当エクセルファイルの構成及び説明は以下の通りです。\n\n　　　◆「課題説明」　・・・当シート。\n\n　　　◆「印刷用」　　・・・印刷用シートの画面上に「印刷用」ボタンが設置されており、１クリックで「差し込み用\n　　　　　　　　　　　　　　シート」内のアンケートデータを一度に印刷することができます。\n　　　　　　　　　　　　　　ただし、印刷初期設定の給紙トレイは”手差し”、用紙は”ハガキサイズ”となっている\n　　　　　　　　　　　　　　ため、他のサイズの用紙を用意した場合は、プリンターエラーが出る場合があります。\n　　　　　　　　　　　　　　また、一度印刷ボタンを押すと途中で中断できないため、印刷環境を整えてからクリック\n　　　　　　　　　　　　　　してください。\n\n                            ※各施設に設置されているプリンターの仕様によっても、設定方法が異なる可能性があるため\n　　　　　　　　　　　　　　適宜、プリンターにあった設定方法を確認してください。\n\n　　　◆「差し込み用」・・・このシートに入力されているデータは、当課題の”答え”を兼ねていますので、当シート\n　　　　　　　　　　　　　　のデータを変更するとすべてのシートに影響します。\n\n　　　◆「回答参考」　・・・「アンケート入力用フォーマット」構成のためのシートです。\n\n　　　"]
["　　　◆「１」～「２１」の「アンケート入力用フォーマット」\n　　　　　　　　　　　・・・選手が実際に当フォーマットに入力する用に作成しています。\n　　　　　　　　　　　　　　当フォーマットは課題数に応じてシートをコピーし増設してください。\n\n　　　◆「入力フォーム合計」　・・・「アンケート入力用フォーマット」に入力した情報が当シートにまとまります。\n　　　　　　　　　　　　　　　　　　「アンケート入力用フォーマット」を増設した場合は、「入力フォーム合計」に\n　　　　　　　　　　　　　　　　　　 連動しているセルの数式を修正する必要があります。　　　　　　　　　　　　　　\n\n　　　◆「採点例」　　・・・「差し込み用」と「入力フォーマット合計」を比較して採点できるシートです。"]
["○当課題（エクセルファイル）は、マクロは使用しておりませんが、使用するにあたって以下の知識を必要とします。\n　　\n　　　◆エクセル関数（if関数、vlookup関数など）\n　　　◆行・列の表示方法\n　　　◆シートの保護、シートの表示・非表示及びシートへのパスワードの付与"]
["○当エクセルをそのまま地方アビリンピック大会の課題として実施する場合は、以下の点に注意して下さい。\n\n　　■選手が競技を実施するために不要なシートは非表示にし、パスワードをかけること。（選手によるシート再表示防止）\n\n　　　　（操作方法）※Microsoft　Excel2010の場合\n　　　　　１．非表示にしたいシートの名前タブ上で右クリックし「非表示」をクリック\n　　　　　２．左上の「ファイル」をクリック\n　　　　　３．「情報」タブの「ブックの保護」をクリック\n　　　　　４．「ブック構成の保護」をクリックし、「シート構成」にチェックを付けたままパスワードを設定する。\n　\n　　　※シートを再表示したい時は、２→３→４の順に進むと「ブック構成の保護解除」になりパスワードを入力すること\n　　　　で解除できます。　　　\n\n\n\n"]

{"sheet":"課題説明  (67)","index":79,"n_rows":5,"n_cols":1,"rows_kept":5,"cut":false,"hidden":true,"merged":[[0,0,0,13],[1,0,1,13],[2,0,2,13],[3,0,3,13],[4,0,4,13]]}
["当課題及びエクセルファイルの取扱いについての注意事項"]
["○当課題は、パソコンデータ入力競技課題１を想定して作成されており、当エクセルを使用することで、課題作成から選手の入力作業、採点までが可能です。\n\n　　当エクセルファイルの構成及び説明は以下の通りです。\n\n　　　◆「課題説明」　・・・当シート。\n\n　　　◆「印刷用」　　・・・印刷用シートの画面上に「印刷用」ボタンが設置されており、１クリックで「差し込み用\n　　　　　　　　　　　　　　シート」内のアンケートデータを一度に印刷することができます。\n　　　　　　　　　　　　　　ただし、印刷初期設定の給紙トレイは”手差し”、用紙は”ハガキサイズ”となっている\n　　　　　　　　　　　　　　ため、他のサイズの用紙を用意した場合は、プリンターエラーが出る場合があります。\n　　　　　　　　　　　　　　また、一度印刷ボタンを押すと途中で中断できないため、印刷環境を整えてからクリック\n　　　　　　　　　　　　　　してください。\n\n                            ※各施設に設置されているプリンターの仕様によっても、設定方法が異なる可能性があるため\n　　　　　　　　　　　　　　適宜、プリンターにあった設定方法を確認してください。\n\n　　　◆「差し込み用」・・・このシートに入力されているデータは、当課題の”答え”を兼ねていますので、当シート\n　　　　　　　　　　　　　　のデータを変更するとすべてのシートに影響します。\n\n　　　◆「回答参考」　・・・「アンケート入力用フォーマット」構成のためのシートです。\n\n　　　"]
["　　　◆「１」～「２１」の「アンケート入力用フォーマット」\n　　　　　　　　　　　・・・選手が実際に当フォーマットに入力する用に作成しています。\n　　　　　　　　　　　　　　当フォーマットは課題数に応じてシートをコピーし増設してください。\n\n　　　◆「入力フォーム合計」　・・・「アンケート入力用フォーマット」に入力した情報が当シートにまとまります。\n　　　　　　　　　　　　　　　　　　「アンケート入力用フォーマット」を増設した場合は、「入力フォーム合計」に\n　　　　　　　　　　　　　　　　　　 連動しているセルの数式を修正する必要があります。　　　　　　　　　　　　　　\n\n　　　◆「採点例」　　・・・「差し込み用」と「入力フォーマット合計」を比較して採点できるシートです。"]
["○当課題（エクセルファイル）は、マクロは使用しておりませんが、使用するにあたって以下の知識を必要とします。\n　　\n　　　◆エクセル関数（if関数、vlookup関数など）\n　　　◆行・列の表示方法\n　　　◆シートの保護、シートの表示・非表示及びシートへのパスワードの付与"]
["○当エクセルをそのまま地方アビリンピック大会の課題として実施する場合は、以下の点に注意して下さい。\n\n　　■選手が競技を実施するために不要なシートは非表示にし、パスワードをかけること。（選手によるシート再表示防止）\n\n　　　　（操作方法）※Microsoft　Excel2010の場合\n　　　　　１．非表示にしたいシートの名前タブ上で右クリックし「非表示」をクリック\n　　　　　２．左上の「ファイル」をクリック\n　　　　　３．「情報」タブの「ブックの保護」をクリック\n　　　　　４．「ブック構成の保護」をクリックし、「シート構成」にチェックを付けたままパスワードを設定する。\n　\n　　　※シートを再表示したい時は、２→３→４の順に進むと「ブック構成の保護解除」になりパスワードを入力すること\n　　　　で解除できます。　　　\n\n\n\n"]

{"sheet":"課題説明  (66)","index":80,"n_rows":5,"n_cols":1,"rows_kept":5,"cut":false,"hidden":true,"merged":[[0,0,0,13],[1,0,1,13],[2,0,2,13],[3,0,3,13],[4,0,4,13]]}
["当課題及びエクセルファイルの取扱いについての注意事項"]
["○当課題は、パソコンデータ入力競技課題１を想定して作成されており、当エクセルを使用することで、課題作成から選手の入力作業、採点までが可能です。\n\n　　当エクセルファイルの構成及び説明は以下の通りです。\n\n　　　◆「課題説明」　・・・当シート。\n\n　　　◆「印刷用」　　・・・印刷用シートの画面上に「印刷用」ボタンが設置されており、１クリックで「差し込み用\n　　　　　　　　　　　　　　シート」内のアンケートデータを一度に印刷することができます。\n　　　　　　　　　　　　　　ただし、印刷初期設定の給紙トレイは”手差し”、用紙は”ハガキサイズ”となっている\n　　　　　　　　　　　　　　ため、他のサイズの用紙を用意した場合は、プリンターエラーが出る場合があります。\n　　　　　　　　　　　　　　また、一度印刷ボタンを押すと途中で中断できないため、印刷環境を整えてからクリック\n　　　　　　　　　　　　　　してください。\n\n                            ※各施設に設置されているプリンターの仕様によっても、設定方法が異なる可能性があるため\n　　　　　　　　　　　　　　適宜、プリンターにあった設定方法を確認してください。\n\n　　　◆「差し込み用」・・・このシートに入力されているデータは、当課題の”答え”を兼ねていますので、当シート\n　　　　　　　　　　　　　　のデータを変更するとすべてのシートに影響します。\n\n　　　◆「回答参考」　・・・「アンケート入力用フォーマット」構成のためのシートです。\n\n　　　"]
["　　　◆「１」～「２１」の「アンケート入力用フォーマット」\n　　　　　　　　　　　・・・選手が実際に当フォーマットに入力する用に作成しています。\n　　　　　　　　　　　　　　当フォーマットは課題数に応じてシートをコピーし増設してください。\n\n　　　◆「入力フォーム合計」　・・・「アンケート入力用フォーマット」に入力した情報が当シートにまとまります。\n　　　　　　　　　　　　　　　　　　「アンケート入力用フォーマット」を増設した場合は、「入力フォーム合計」に\n　　　　　　　　　　　　　　　　　　 連動しているセルの数式を修正する必要があります。　　　　　　　　　　　　　　\n\n　　　◆「採点例」　　・・・「差し込み用」と「入力フォーマット合計」を比較して採点できるシートです。"]
["○当課題（エクセルファイル）は、マクロは使用しておりませんが、使用するにあたって以下の知識を必要とします。\n　　\n　　　◆エクセル関数（if関数、vlookup関数など）\n　　　◆行・列の表示方法\n　　　◆シートの保護、シートの表示・非表示及びシートへのパスワードの付与"]
["○当エクセルをそのまま地方アビリンピック大会の課題として実施する場合は、以下の点に注意して下さい。\n\n　　■選手が競技を実施するために不要なシートは非表示にし、パスワードをかけること。（選手によるシート再表示防止）\n\n　　　　（操作方法）※Microsoft　Excel2010の場合\n　　　　　１．非表示にしたいシートの名前タブ上で右クリックし「非表示」をクリック\n　　　　　２．左上の「ファイル」をクリック\n　　　　　３．「情報」タブの「ブックの保護」をクリック\n　　　　　４．「ブック構成の保護」をクリックし、「シート構成」にチェックを付けたままパスワードを設定する。\n　\n　　　※シートを再表示したい時は、２→３→４の順に進むと「ブック構成の保護解除」になりパスワードを入力すること\n　　　　で解除できます。　　　\n\n\n\n"]

{"sheet":"課題説明  (65)","index":81,"n_rows":5,"n_cols":1,"rows_kept":5,"cut":false,"hidden":true,"merged":[[0,0,0,13],[1,0,1,13],[2,0,2,13],[3,0,3,13],[4,0,4,13]]}
["当課題及びエクセルファイルの取扱いについての注意事項"]
["○当課題は、パソコンデータ入力競技課題１を想定して作成されており、当エクセルを使用することで、課題作成から選手の入力作業、採点までが可能です。\n\n　　当エクセルファイルの構成及び説明は以下の通りです。\n\n　　　◆「課題説明」　・・・当シート。\n\n　　　◆「印刷用」　　・・・印刷用シートの画面上に「印刷用」ボタンが設置されており、１クリックで「差し込み用\n　　　　　　　　　　　　　　シート」内のアンケートデータを一度に印刷することができます。\n　　　　　　　　　　　　　　ただし、印刷初期設定の給紙トレイは”手差し”、用紙は”ハガキサイズ”となっている\n　　　　　　　　　　　　　　ため、他のサイズの用紙を用意した場合は、プリンターエラーが出る場合があります。\n　　　　　　　　　　　　　　また、一度印刷ボタンを押すと途中で中断できないため、印刷環境を整えてからクリック\n　　　　　　　　　　　　　　してください。\n\n                            ※各施設に設置されているプリンターの仕様によっても、設定方法が異なる可能性があるため\n　　　　　　　　　　　　　　適宜、プリンターにあった設定方法を確認してください。\n\n　　　◆「差し込み用」・・・このシートに入力されているデータは、当課題の”答え”を兼ねていますので、当シート\n　　　　　　　　　　　　　　のデータを変更するとすべてのシートに影響します。\n\n　　　◆「回答参考」　・・・「アンケート入力用フォーマット」構成のためのシートです。\n\n　　　"]
["　　　◆「１」～「２１」の「アンケート入力用フォーマット」\n　　　　　　　　　　　・・・選手が実際に当フォーマットに入力する用に作成しています。\n　　　　　　　　　　　　　　当フォーマットは課題数に応じてシートをコピーし増設してください。\n\n　　　◆「入力フォーム合計」　・・・「アンケート入力用フォーマット」に入力した情報が当シートにまとまります。\n　　　　　　　　　　　　　　　　　　「アンケート入力用フォーマット」を増設した場合は、「入力フォーム合計」に\n　　　　　　　　　　　　　　　　　　 連動しているセルの数式を修正する必要があります。　　　　　　　　　　　　　　\n\n　　　◆「採点例」　　・・・「差し込み用」と「入力フォーマット合計」を比較して採点できるシートです。"]
["○当課題（エクセルファイル）は、マクロは使用しておりませんが、使用するにあたって以下の知識を必要とします。\n　　\n　　　◆エクセル関数（if関数、vlookup関数など）\n　　　◆行・列の表示方法\n　　　◆シートの保護、シートの表示・非表示及びシートへのパスワードの付与"]
["○当エクセルをそのまま地方アビリンピック大会の課題として実施する場合は、以下の点に注意して下さい。\n\n　　■選手が競技を実施するために不要なシートは非表示にし、パスワードをかけること。（選手によるシート再表示防止）\n\n　　　　（操作方法）※Microsoft　Excel2010の場合\n　　　　　１．非表示にしたいシートの名前タブ上で右クリックし「非表示」をクリック\n　　　　　２．左上の「ファイル」をクリック\n　　　　　３．「情報」タブの「ブックの保護」をクリック\n　　　　　４．「ブック構成の保護」をクリックし、「シート構成」にチェックを付けたままパスワードを設定する。\n　\n　　　※シートを再表示したい時は、２→３→４の順に進むと「ブック構成の保護解除」になりパスワードを入力すること\n　　　　で解除できます。　　　\n\n\n\n"]

{"sheet":"課題説明  (64)","index":82,"n_rows":5,"n_cols":1,"rows_kept":5,"cut":false,"hidden":true,"merged":[[0,0,0,13],[1,0,1,13],[2,0,2,13],[3,0,3,13],[4,0,4,13]]}
["当課題及びエクセルファイルの取扱いについての注意事項"]
["○当課題は、パソコンデータ入力競技課題１を想定して作成されており、当エクセルを使用することで、課題作成から選手の入力作業、採点までが可能です。\n\n　　当エクセルファイルの構成及び説明は以下の通りです。\n\n　　　◆「課題説明」　・・・当シート。\n\n　　　◆「印刷用」　　・・・印刷用シートの画面上に「印刷用」ボタンが設置されており、１クリックで「差し込み用\n　　　　　　　　　　　　　　シート」内のアンケートデータを一度に印刷することができます。\n　　　　　　　　　　　　　　ただし、印刷初期設定の給紙トレイは”手差し”、用紙は”ハガキサイズ”となっている\n　　　　　　　　　　　　　　ため、他のサイズの用紙を用意した場合は、プリンターエラーが出る場合があります。\n　　　　　　　　　　　　　　また、一度印刷ボタンを押すと途中で中断できないため、印刷環境を整えてからクリック\n　　　　　　　　　　　　　　してください。\n\n                            ※各施設に設置されているプリンターの仕様によっても、設定方法が異なる可能性があるため\n　　　　　　　　　　　　　　適宜、プリンターにあった設定方法を確認してください。\n\n　　　◆「差し込み用」・・・このシートに入力されているデータは、当課題の”答え”を兼ねていますので、当シート\n　　　　　　　　　　　　　　のデータを変更するとすべてのシートに影響します。\n\n　　　◆「回答参考」　・・・「アンケート入力用フォーマット」構成のためのシートです。\n\n　　　"]
["　　　◆「１」～「２１」の「アンケート入力用フォーマット」\n　　　　　　　　　　　・・・選手が実際に当フォーマットに入力する用に作成しています。\n　　　　　　　　　　　　　　当フォーマットは課題数に応じてシートをコピーし増設してください。\n\n　　　◆「入力フォーム合計」　・・・「アンケート入力用フォーマット」に入力した情報が当シートにまとまります。\n　　　　　　　　　　　　　　　　　　「アンケート入力用フォーマット」を増設した場合は、「入力フォーム合計」に\n　　　　　　　　　　　　　　　　　　 連動しているセルの数式を修正する必要があります。　　　　　　　　　　　　　　\n\n　　　◆「採点例」　　・・・「差し込み用」と「入力フォーマット合計」を比較して採点できるシートです。"]
["○当課題（エクセルファイル）は、マクロは使用しておりませんが、使用するにあたって以下の知識を必要とします。\n　　\n　　　◆エクセル関数（if関数、vlookup関数など）\n　　　◆行・列の表示方法\n　　　◆シートの保護、シートの表示・非表示及びシートへのパスワードの付与"]
["○当エクセルをそのまま地方アビリンピック大会の課題として実施する場合は、以下の点に注意して下さい。\n\n　　■選手が競技を実施するために不要なシートは非表示にし、パスワードをかけること。（選手によるシート再表示防止）\n\n　　　　（操作方法）※Microsoft　Excel2010の場合\n　　　　　１．非表示にしたいシートの名前タブ上で右クリックし「非表示」をクリック\n　　　　　２．左上の「ファイル」をクリック\n　　　　　３．「情報」タブの「ブックの保護」をクリック\n　　　　　４．「ブック構成の保護」をクリックし、「シート構成」にチェックを付けたままパスワードを設定する。\n　\n　　　※シートを再表示したい時は、２→３→４の順に進むと「ブック構成の保護解除」になりパスワードを入力すること\n　　　　で解除できます。　　　\n\n\n\n"]

{"sheet":"課題説明  (63)","index":83,"n_rows":5,"n_cols":1,"rows_kept":5,"cut":false,"hidden":true,"merged":[[0,0,0,13],[1,0,1,13],[2,0,2,13],[3,0,3,13],[4,0,4,13]]}
["当課題及びエクセルファイルの取扱いについての注意事項"]
["○当課題は、パソコンデータ入力競技課題１を想定して作成されており、当エクセルを使用することで、課題作成から選手の入力作業、採点までが可能です。\n\n　　当エクセルファイルの構成及び説明は以下の通りです。\n\n　　　◆「課題説明」　・・・当シート。\n\n　　　◆「印刷用」　　・・・印刷用シートの画面上に「印刷用」ボタンが設置されており、１クリックで「差し込み用\n　　　　　　　　　　　　　　シート」内のアンケートデータを一度に印刷することができます。\n　　　　　　　　　　　　　　ただし、印刷初期設定の給紙トレイは”手差し”、用紙は”ハガキサイズ”となっている\n　　　　　　　　　　　　　　ため、他のサイズの用紙を用意した場合は、プリンターエラーが出る場合があります。\n　　　　　　　　　　　　　　また、一度印刷ボタンを押すと途中で中断できないため、印刷環境を整えてからクリック\n　　　　　　　　　　　　　　してください。\n\n                            ※各施設に設置されているプリンターの仕様によっても、設定方法が異なる可能性があるため\n　　　　　　　　　　　　　　適宜、プリンターにあった設定方法を確認してください。\n\n　　　◆「差し込み用」・・・このシートに入力されているデータは、当課題の”答え”を兼ねていますので、当シート\n　　　　　　　　　　　　　　のデータを変更するとすべてのシートに影響します。\n\n　　　◆「回答参考」　・・・「アンケート入力用フォーマット」構成のためのシートです。\n\n　　　"]
["　　　◆「１」～「２１」の「アンケート入力用フォーマット」\n　　　　　　　　　　　・・・選手が実際に当フォーマットに入力する用に作成しています。\n　　　　　　　　　　　　　　当フォーマットは課題数に応じてシートをコピーし増設してください。\n\n　　　◆「入力フォーム合計」　・・・「アンケート入力用フォーマット」に入力した情報が当シートにまとまります。\n　　　　　　　　　　　　　　　　　　「アンケート入力用フォーマット」を増設した場合は、「入力フォーム合計」に\n　　　　　　　　　　　　　　　　　　 連動しているセルの数式を修正する必要があります。　　　　　　　　　　　　　　\n\n　　　◆「採点例」　　・・・「差し込み用」と「入力フォーマット合計」を比較して採点できるシートです。"]
["○当課題（エクセルファイル）は、マクロは使用しておりませんが、使用するにあたって以下の知識を必要とします。\n　　\n　　　◆エクセル関数（if関数、vlookup関数など）\n　　　◆行・列の表示方法\n　　　◆シートの保護、シートの表示・非表示及びシートへのパスワードの付与"]
["○当エクセルをそのまま地方アビリンピック大会の課題として実施する場合は、以下の点に注意して下さい。\n\n　　■選手が競技を実施するために不要なシートは非表示にし、パスワードをかけること。（選手によるシート再表示防止）\n\n　　　　（操作方法）※Microsoft　Excel2010の場合\n　　　　　１．非表示にしたいシートの名前タブ上で右クリックし「非表示」をクリック\n　　　　　２．左上の「ファイル」をクリック\n　　　　　３．「情報」タブの「ブックの保護」をクリック\n　　　　　４．「ブック構成の保護」をクリックし、「シート構成」にチェックを付けたままパスワードを設定する。\n　\n　　　※シートを再表示したい時は、２→３→４の順に進むと「ブック構成の保護解除」になりパスワードを入力すること\n　　　　で解除できます。　　　\n\n\n\n"]

{"sheet":"課題説明  (62)","index":84,"n_rows":5,"n_cols":1,"rows_kept":5,"cut":false,"hidden":true,"merged":[[0,0,0,13],[1,0,1,13],[2,0,2,13],[3,0,3,13],[4,0,4,13]]}
["当課題及びエクセルファイルの取扱いについての注意事項"]
["○当課題は、パソコンデータ入力競技課題１を想定して作成されており、当エクセルを使用することで、課題作成から選手の入力作業、採点までが可能です。\n\n　　当エクセルファイルの構成及び説明は以下の通りです。\n\n　　　◆「課題説明」　・・・当シート。\n\n　　　◆「印刷用」　　・・・印刷用シートの画面上に「印刷用」ボタンが設置されており、１クリックで「差し込み用\n　　　　　　　　　　　　　　シート」内のアンケートデータを一度に印刷することができます。\n　　　　　　　　　　　　　　ただし、印刷初期設定の給紙トレイは”手差し”、用紙は”ハガキサイズ”となっている\n　　　　　　　　　　　　　　ため、他のサイズの用紙を用意した場合は、プリンターエラーが出る場合があります。\n　　　　　　　　　　　　　　また、一度印刷ボタンを押すと途中で中断できないため、印刷環境を整えてからクリック\n　　　　　　　　　　　　　　してください。\n\n                            ※各施設に設置されているプリンターの仕様によっても、設定方法が異なる可能性があるため\n　　　　　　　　　　　　　　適宜、プリンターにあった設定方法を確認してください。\n\n　　　◆「差し込み用」・・・このシートに入力されているデータは、当課題の”答え”を兼ねていますので、当シート\n　　　　　　　　　　　　　　のデータを変更するとすべてのシートに影響します。\n\n　　　◆「回答参考」　・・・「アンケート入力用フォーマット」構成のためのシートです。\n\n　　　"]
["　　　◆「１」～「２１」の「アンケート入力用フォーマット」\n　　　　　　　　　　　・・・選手が実際に当フォーマットに入力する用に作成しています。\n　　　　　　　　　　　　　　当フォーマットは課題数に応じてシートをコピーし増設してください。\n\n　　　◆「入力フォーム合計」　・・・「アンケート入力用フォーマット」に入力した情報が当シートにまとまります。\n　　　　　　　　　　　　　　　　　　「アンケート入力用フォーマット」を増設した場合は、「入力フォーム合計」に\n　　　　　　　　　　　　　　　　　　 連動しているセルの数式を修正する必要があります。　　　　　　　　　　　　　　\n\n　　　◆「採点例」　　・・・「差し込み用」と「入力フォーマット合計」を比較して採点できるシートです。"]
["○当課題（エクセルファイル）は、マクロは使用しておりませんが、使用するにあたって以下の知識を必要とします。\n　　\n　　　◆エクセル関数（if関数、vlookup関数など）\n　　　◆行・列の表示方法\n　　　◆シートの保護、シートの表示・非表示及びシートへのパスワードの付与"]
["○当エクセルをそのまま地方アビリンピック大会の課題として実施する場合は、以下の点に注意して下さい。\n\n　　■選手が競技を実施するために不要なシートは非表示にし、パスワードをかけること。（選手によるシート再表示防止）\n\n　　　　（操作方法）※Microsoft　Excel2010の場合\n　　　　　１．非表示にしたいシートの名前タブ上で右クリックし「非表示」をクリック\n　　　　　２．左上の「ファイル」をクリック\n　　　　　３．「情報」タブの「ブックの保護」をクリック\n　　　　　４．「ブック構成の保護」をクリックし、「シート構成」にチェックを付けたままパスワードを設定する。\n　\n　　　※シートを再表示したい時は、２→３→４の順に進むと「ブック構成の保護解除」になりパスワードを入力すること\n　　　　で解除できます。　　　\n\n\n\n"]

{"sheet":"課題説明  (61)","index":85,"n_rows":5,"n_cols":1,"rows_kept":5,"cut":false,"hidden":true,"merged":[[0,0,0,13],[1,0,1,13],[2,0,2,13],[3,0,3,13],[4,0,4,13]]}
["当課題及びエクセルファイルの取扱いについての注意事項"]
["○当課題は、パソコンデータ入力競技課題１を想定して作成されており、当エクセルを使用することで、課題作成から選手の入力作業、採点までが可能です。\n\n　　当エクセルファイルの構成及び説明は以下の通りです。\n\n　　　◆「課題説明」　・・・当シート。\n\n　　　◆「印刷用」　　・・・印刷用シートの画面上に「印刷用」ボタンが設置されており、１クリックで「差し込み用\n　　　　　　　　　　　　　　シート」内のアンケートデータを一度に印刷することができます。\n　　　　　　　　　　　　　　ただし、印刷初期設定の給紙トレイは”手差し”、用紙は”ハガキサイズ”となっている\n　　　　　　　　　　　　　　ため、他のサイズの用紙を用意した場合は、プリンターエラーが出る場合があります。\n　　　　　　　　　　　　　　また、一度印刷ボタンを押すと途中で中断できないため、印刷環境を整えてからクリック\n　　　　　　　　　　　　　　してください。\n\n                            ※各施設に設置されているプリンターの仕様によっても、設定方法が異なる可能性があるため\n　　　　　　　　　　　　　　適宜、プリンターにあった設定方法を確認してください。\n\n　　　◆「差し込み用」・・・このシートに入力されているデータは、当課題の”答え”を兼ねていますので、当シート\n　　　　　　　　　　　　　　のデータを変更するとすべてのシートに影響します。\n\n　　　◆「回答参考」　・・・「アンケート入力用フォーマット」構成のためのシートです。\n\n　　　"]
["　　　◆「１」～「２１」の「アンケート入力用フォーマット」\n　　　　　　　　　　　・・・選手が実際に当フォーマットに入力する用に作成しています。\n　　　　　　　　　　　　　　当フォーマットは課題数に応じてシートをコピーし増設してください。\n\n　　　◆「入力フォーム合計」　・・・「アンケート入力用フォーマット」に入力した情報が当シートにまとまります。\n　　　　　　　　　　　　　　　　　　「アンケート入力用フォーマット」を増設した場合は、「入力フォーム合計」に\n　　　　　　　　　　　　　　　　　　 連動しているセルの数式を修正する必要があります。　　　　　　　　　　　　　　\n\n　　　◆「採点例」　　・・・「差し込み用」と「入力フォーマット合計」を比較して採点できるシートです。"]
["○当課題（エクセルファイル）は、マクロは使用しておりませんが、使用するにあたって以下の知識を必要とします。\n　　\n　　　◆エクセル関数（if関数、vlookup関数など）\n　　　◆行・列の表示方法\n　　　◆シートの保護、シートの表示・非表示及びシートへのパスワードの付与"]
["○当エクセルをそのまま地方アビリンピック大会の課題として実施する場合は、以下の点に注意して下さい。\n\n　　■選手が競技を実施するために不要なシートは非表示にし、パスワードをかけること。（選手によるシート再表示防止）\n\n　　　　（操作方法）※Microsoft　Excel2010の場合\n　　　　　１．非表示にしたいシートの名前タブ上で右クリックし「非表示」をクリック\n　　　　　２．左上の「ファイル」をクリック\n　　　　　３．「情報」タブの「ブックの保護」をクリック\n　　　　　４．「ブック構成の保護」をクリックし、「シート構成」にチェックを付けたままパスワードを設定する。\n　\n　　　※シートを再表示したい時は、２→３→４の順に進むと「ブック構成の保護解除」になりパスワードを入力すること\n　　　　で解除できます。　　　\n\n\n\n"]

{"sheet":"課題説明  (60)","index":86,"n_rows":5,"n_cols":1,"rows_kept":5,"cut":false,"hidden":true,"merged":[[0,0,0,13],[1,0,1,13],[2,0,2,13],[3,0,3,13],[4,0,4,13]]}
["当課題及びエクセルファイルの取扱いについての注意事項"]
["○当課題は、パソコンデータ入力競技課題１を想定して作成されており、当エクセルを使用することで、課題作成から選手の入力作業、採点までが可能です。\n\n　　当エクセルファイルの構成及び説明は以下の通りです。\n\n　　　◆「課題説明」　・・・当シート。\n\n　　　◆「印刷用」　　・・・印刷用シートの画面上に「印刷用」ボタンが設置されており、１クリックで「差し込み用\n　　　　　　　　　　　　　　シート」内のアンケートデータを一度に印刷することができます。\n　　　　　　　　　　　　　　ただし、印刷初期設定の給紙トレイは”手差し”、用紙は”ハガキサイズ”となっている\n　　　　　　　　　　　　　　ため、他のサイズの用紙を用意した場合は、プリンターエラーが出る場合があります。\n　　　　　　　　　　　　　　また、一度印刷ボタンを押すと途中で中断できないため、印刷環境を整えてからクリック\n　　　　　　　　　　　　　　してください。\n\n                            ※各施設に設置されているプリンターの仕様によっても、設定方法が異なる可能性があるため\n　　　　　　　　　　　　　　適宜、プリンターにあった設定方法を確認してください。\n\n　　　◆「差し込み用」・・・このシートに入力されているデータは、当課題の”答え”を兼ねていますので、当シート\n　　　　　　　　　　　　　　のデータを変更するとすべてのシートに影響します。\n\n　　　◆「回答参考」　・・・「アンケート入力用フォーマット」構成のためのシートです。\n\n　　　"]
["　　　◆「１」～「２１」の「アンケート入力用フォーマット」\n　　　　　　　　　　　・・・選手が実際に当フォーマットに入力する用に作成しています。\n　　　　　　　　　　　　　　当フォーマットは課題数に応じてシートをコピーし増設してください。\n\n　　　◆「入力フォーム合計」　・・・「アンケート入力用フォーマット」に入力した情報が当シートにまとまります。\n　　　　　　　　　　　　　　　　　　「アンケート入力用フォーマット」を増設した場合は、「入力フォーム合計」に\n　　　　　　　　　　　　　　　　　　 連動しているセルの数式を修正する必要があります。　　　　　　　　　　　　　　\n\n　　　◆「採点例」　　・・・「差し込み用」と「入力フォーマット合計」を比較して採点できるシートです。"]
["○当課題（エクセルファイル）は、マクロは使用しておりませんが、使用するにあたって以下の知識を必要とします。\n　　\n　　　◆エクセル関数（if関数、vlookup関数など）\n　　　◆行・列の表示方法\n　　　◆シートの保護、シートの表示・非表示及びシートへのパスワードの付与"]
["○当エクセルをそのまま地方アビリンピック大会の課題として実施する場合は、以下の点に注意して下さい。\n\n　　■選手が競技を実施するために不要なシートは非表示にし、パスワードをかけること。（選手によるシート再表示防止）\n\n　　　　（操作方法）※Microsoft　Excel2010の場合\n　　　　　１．非表示にしたいシートの名前タブ上で右クリックし「非表示」をクリック\n　　　　　２．左上の「ファイル」をクリック\n　　　　　３．「情報」タブの「ブックの保護」をクリック\n　　　　　４．「ブック構成の保護」をクリックし、「シート構成」にチェックを付けたままパスワードを設定する。\n　\n　　　※シートを再表示したい時は、２→３→４の順に進むと「ブック構成の保護解除」になりパスワードを入力すること\n　　　　で解除できます。　　　\n\n\n\n"]

{"sheet":"課題説明  (59)","index":87,"n_rows":5,"n_cols":1,"rows_kept":5,"cut":false,"hidden":true,"merged":[[0,0,0,13],[1,0,1,13],[2,0,2,13],[3,0,3,13],[4,0,4,13]]}
["当課題及びエクセルファイルの取扱いについての注意事項"]
["○当課題は、パソコンデータ入力競技課題１を想定して作成されており、当エクセルを使用することで、課題作成から選手の入力作業、採点までが可能です。\n\n　　当エクセルファイルの構成及び説明は以下の通りです。\n\n　　　◆「課題説明」　・・・当シート。\n\n　　　◆「印刷用」　　・・・印刷用シートの画面上に「印刷用」ボタンが設置されており、１クリックで「差し込み用\n　　　　　　　　　　　　　　シート」内のアンケートデータを一度に印刷することができます。\n　　　　　　　　　　　　　　ただし、印刷初期設定の給紙トレイは”手差し”、用紙は”ハガキサイズ”となっている\n　　　　　　　　　　　　　　ため、他のサイズの用紙を用意した場合は、プリンターエラーが出る場合があります。\n　　　　　　　　　　　　　　また、一度印刷ボタンを押すと途中で中断できないため、印刷環境を整えてからクリック\n　　　　　　　　　　　　　　してください。\n\n                            ※各施設に設置されているプリンターの仕様によっても、設定方法が異なる可能性があるため\n　　　　　　　　　　　　　　適宜、プリンターにあった設定方法を確認してください。\n\n　　　◆「差し込み用」・・・このシートに入力されているデータは、当課題の”答え”を兼ねていますので、当シート\n　　　　　　　　　　　　　　のデータを変更するとすべてのシートに影響します。\n\n　　　◆「回答参考」　・・・「アンケート入力用フォーマット」構成のためのシートです。\n\n　　　"]
["　　　◆「１」～「２１」の「アンケート入力用フォーマット」\n　　　　　　　　　　　・・・選手が実際に当フォーマットに入力する用に作成しています。\n　　　　　　　　　　　　　　当フォーマットは課題数に応じてシートをコピーし増設してください。\n\n　　　◆「入力フォーム合計」　・・・「アンケート入力用フォーマット」に入力した情報が当シートにまとまります。\n　　　　　　　　　　　　　　　　　　「アンケート入力用フォーマット」を増設した場合は、「入力フォーム合計」に\n　　　　　　　　　　　　　　　　　　 連動しているセルの数式を修正する必要があります。　　　　　　　　　　　　　　\n\n　　　◆「採点例」　　・・・「差し込み用」と「入力フォーマット合計」を比較して採点できるシートです。"]
["○当課題（エクセルファイル）は、マクロは使用しておりませんが、使用するにあたって以下の知識を必要とします。\n　　\n　　　◆エクセル関数（if関数、vlookup関数など）\n　　　◆行・列の表示方法\n　　　◆シートの保護、シートの表示・非表示及びシートへのパスワードの付与"]
["○当エクセルをそのまま地方アビリンピック大会の課題として実施する場合は、以下の点に注意して下さい。\n\n　　■選手が競技を実施するために不要なシートは非表示にし、パスワードをかけること。（選手によるシート再表示防止）\n\n　　　　（操作方法）※Microsoft　Excel2010の場合\n　　　　　１．非表示にしたいシートの名前タブ上で右クリックし「非表示」をクリック\n　　　　　２．左上の「ファイル」をクリック\n　　　　　３．「情報」タブの「ブックの保護」をクリック\n　　　　　４．「ブック構成の保護」をクリックし、「シート構成」にチェックを付けたままパスワードを設定する。\n　\n　　　※シートを再表示したい時は、２→３→４の順に進むと「ブック構成の保護解除」になりパスワードを入力すること\n　　　　で解除できます。　　　\n\n\n\n"]

{"sheet":"課題説明  (58)","index":88,"n_rows":5,"n_cols":1,"rows_kept":5,"cut":false,"hidden":true,"merged":[[0,0,0,13],[1,0,1,13],[2,0,2,13],[3,0,3,13],[4,0,4,13]]}
["当課題及びエクセルファイルの取扱いについての注意事項"]
["○当課題は、パソコンデータ入力競技課題１を想定して作成されており、当エクセルを使用することで、課題作成から選手の入力作業、採点までが可能です。\n\n　　当エクセルファイルの構成及び説明は以下の通りです。\n\n　　　◆「課題説明」　・・・当シート。\n\n　　　◆「印刷用」　　・・・印刷用シートの画面上に「印刷用」ボタンが設置されており、１クリックで「差し込み用\n　　　　　　　　　　　　　　シート」内のアンケートデータを一度に印刷することができます。\n　　　　　　　　　　　　　　ただし、印刷初期設定の給紙トレイは”手差し”、用紙は”ハガキサイズ”となっている\n　　　　　　　　　　　　　　ため、他のサイズの用紙を用意した場合は、プリンターエラーが出る場合があります。\n　　　　　　　　　　　　　　また、一度印刷ボタンを押すと途中で中断できないため、印刷環境を整えてからクリック\n　　　　　　　　　　　　　　してください。\n\n                            ※各施設に設置されているプリンターの仕様によっても、設定方法が異なる可能性があるため\n　　　　　　　　　　　　　　適宜、プリンターにあった設定方法を確認してください。\n\n　　　◆「差し込み用」・・・このシートに入力されているデータは、当課題の”答え”を兼ねていますので、当シート\n　　　　　　　　　　　　　　のデータを変更するとすべてのシートに影響します。\n\n　　　◆「回答参考」　・・・「アンケート入力用フォーマット」構成のためのシートです。\n\n　　　"]
["　　　◆「１」～「２１」の「アンケート入力用フォーマット」\n　　　　　　　　　　　・・・選手が実際に当フォーマットに入力する用に作成しています。\n　　　　　　　　　　　　　　当フォーマットは課題数に応じてシートをコピーし増設してください。\n\n　　　◆「入力フォーム合計」　・・・「アンケート入力用フォーマット」に入力した情報が当シートにまとまります。\n　　　　　　　　　　　　　　　　　　「アンケート入力用フォーマット」を増設した場合は、「入力フォーム合計」に\n　　　　　　　　　　　　　　　　　　 連動しているセルの数式を修正する必要があります。　　　　　　　　　　　　　　\n\n　　　◆「採点例」　　・・・「差し込み用」と「入力フォーマット合計」を比較して採点できるシートです。"]
["○当課題（エクセルファイル）は、マクロは使用しておりませんが、使用するにあたって以下の知識を必要とします。\n　　\n　　　◆エクセル関数（if関数、vlookup関数など）\n　　　◆行・列の表示方法\n　　　◆シートの保護、シートの表示・非表示及びシートへのパスワードの付与"]
["○当エクセルをそのまま地方アビリンピック大会の課題として実施する場合は、以下の点に注意して下さい。\n\n　　■選手が競技を実施するために不要なシートは非表示にし、パスワードをかけること。（選手によるシート再表示防止）\n\n　　　　（操作方法）※Microsoft　Excel2010の場合\n　　　　　１．非表示にしたいシートの名前タブ上で右クリックし「非表示」をクリック\n　　　　　２．左上の「ファイル」をクリック\n　　　　　３．「情報」タブの「ブックの保護」をクリック\n　　　　　４．「ブック構成の保護」をクリックし、「シート構成」にチェックを付けたままパスワードを設定する。\n　\n　　　※シートを再表示したい時は、２→３→４の順に進むと「ブック構成の保護解除」になりパスワードを入力すること\n　　　　で解除できます。　　　\n\n\n\n"]

{"sheet":"課題説明  (57)","index":89,"n_rows":5,"n_cols":1,"rows_kept":5,"cut":false,"hidden":true,"merged":[[0,0,0,13],[1,0,1,13],[2,0,2,13],[3,0,3,13],[4,0,4,13]]}
["当課題及びエクセルファイルの取扱いについての注意事項"]
["○当課題は、パソコンデータ入力競技課題１を想定して作成されており、当エクセルを使用することで、課題作成から選手の入力作業、採点までが可能です。\n\n　　当エクセルファイルの構成及び説明は以下の通りです。\n\n　　　◆「課題説明」　・・・当シート。\n\n　　　◆「印刷用」　　・・・印刷用シートの画面上に「印刷用」ボタンが設置されており、１クリックで「差し込み用\n　　　　　　　　　　　　　　シート」内のアンケートデータを一度に印刷することができます。\n　　　　　　　　　　　　　　ただし、印刷初期設定の給紙トレイは”手差し”、用紙は”ハガキサイズ”となっている\n　　　　　　　　　　　　　　ため、他のサイズの用紙を用意した場合は、プリンターエラーが出る場合があります。\n　　　　　　　　　　　　　　また、一度印刷ボタンを押すと途中で中断できないため、印刷環境を整えてからクリック\n　　　　　　　　　　　　　　してください。\n\n                            ※各施設に設置されているプリンターの仕様によっても、設定方法が異なる可能性があるため\n　　　　　　　　　　　　　　適宜、プリンターにあった設定方法を確認してください。\n\n　　　◆「差し込み用」・・・このシートに入力されているデータは、当課題の”答え”を兼ねていますので、当シート\n　　　　　　　　　　　　　　のデータを変更するとすべてのシートに影響します。\n\n　　　◆「回答参考」　・・・「アンケート入力用フォーマット」構成のためのシートです。\n\n　　　"]
["　　　◆「１」～「２１」の「アンケート入力用フォーマット」\n　　　　　　　　　　　・・・選手が実際に当フォーマットに入力する用に作成しています。\n　　　　　　　　　　　　　　当フォーマットは課題数に応じてシートをコピーし増設してください。\n\n　　　◆「入力フォーム合計」　・・・「アンケート入力用フォーマット」に入力した情報が当シートにまとまります。\n　　　　　　　　　　　　　　　　　　「アンケート入力用フォーマット」を増設した場合は、「入力フォーム合計」に\n　　　　　　　　　　　　　　　　　　 連動しているセルの数式を修正する必要があります。　　　　　　　　　　　　　　\n\n　　　◆「採点例」　　・・・「差し込み用」と「入力フォーマット合計」を比較して採点できるシートです。"]
["○当課題（エクセルファイル）は、マクロは使用しておりませんが、使用するにあたって以下の知識を必要とします。\n　　\n　　　◆エクセル関数（if関数、vlookup関数など）\n　　　◆行・列の表示方法\n　　　◆シートの保護、シートの表示・非表示及びシートへのパスワードの付与"]
["○当エクセルをそのまま地方アビリンピック大会の課題として実施する場合は、以下の点に注意して下さい。\n\n　　■選手が競技を実施するために不要なシートは非表示にし、パスワードをかけること。（選手によるシート再表示防止）\n\n　　　　（操作方法）※Microsoft　Excel2010の場合\n　　　　　１．非表示にしたいシートの名前タブ上で右クリックし「非表示」をクリック\n　　　　　２．左上の「ファイル」をクリック\n　　　　　３．「情報」タブの「ブックの保護」をクリック\n　　　　　４．「ブック構成の保護」をクリックし、「シート構成」にチェックを付けたままパスワードを設定する。\n　\n　　　※シートを再表示したい時は、２→３→４の順に進むと「ブック構成の保護解除」になりパスワードを入力すること\n　　　　で解除できます。　　　\n\n\n\n"]

{"sheet":"課題説明  (56)","index":90,"n_rows":5,"n_cols":1,"rows_kept":5,"cut":false,"hidden":true,"merged":[[0,0,0,13],[1,0,1,13],[2,0,2,13],[3,0,3,13],[4,0,4,13]]}
["当課題及びエクセルファイルの取扱いについての注意事項"]
["○当課題は、パソコンデータ入力競技課題１を想定して作成されており、当エクセルを使用することで、課題作成から選手の入力作業、採点までが可能です。\n\n　　当エクセルファイルの構成及び説明は以下の通りです。\n\n　　　◆「課題説明」　・・・当シート。\n\n　　　◆「印刷用」　　・・・印刷用シートの画面上に「印刷用」ボタンが設置されており、１クリックで「差し込み用\n　　　　　　　　　　　　　　シート」内のアンケートデータを一度に印刷することができます。\n　　　　　　　　　　　　　　ただし、印刷初期設定の給紙トレイは”手差し”、用紙は”ハガキサイズ”となっている\n　　　　　　　　　　　　　　ため、他のサイズの用紙を用意した場合は、プリンターエラーが出る場合があります。\n　　　　　　　　　　　　　　また、一度印刷ボタンを押すと途中で中断できないため、印刷環境を整えてからクリック\n　　　　　　　　　　　　　　してください。\n\n                            ※各施設に設置されているプリンターの仕様によっても、設定方法が異なる可能性があるため\n　　　　　　　　　　　　　　適宜、プリンターにあった設定方法を確認してください。\n\n　　　◆「差し込み用」・・・このシートに入力されているデータは、当課題の”答え”を兼ねていますので、当シート\n　　　　　　　　　　　　　　のデータを変更するとすべてのシートに影響します。\n\n　　　◆「回答参考」　・・・「アンケート入力用フォーマット」構成のためのシートです。\n\n　　　"]
["　　　◆「１」～「２１」の「アンケート入力用フォーマット」\n　　　　　　　　　　　・・・選手が実際に当フォーマットに入力する用に作成しています。\n　　　　　　　　　　　　　　当フォーマットは課題数に応じてシートをコピーし増設してください。\n\n　　　◆「入力フォーム合計」　・・・「アンケート入力用フォーマット」に入力した情報が当シートにまとまります。\n　　　　　　　　　　　　　　　　　　「アンケート入力用フォーマット」を増設した場合は、「入力フォーム合計」に\n　　　　　　　　　　　　　　　　　　 連動しているセルの数式を修正する必要があります。　　　　　　　　　　　　　　\n\n　　　◆「採点例」　　・・・「差し込み用」と「入力フォーマット合計」を比較して採点できるシートです。"]
["○当課題（エクセルファイル）は、マクロは使用しておりませんが、使用するにあたって以下の知識を必要とします。\n　　\n　　　◆エクセル関数（if関数、vlookup関数など）\n　　　◆行・列の表示方法\n　　　◆シートの保護、シートの表示・非表示及びシートへのパスワードの付与"]
["○当エクセルをそのまま地方アビリンピック大会の課題として実施する場合は、以下の点に注意して下さい。\n\n　　■選手が競技を実施するために不要なシートは非表示にし、パスワードをかけること。（選手によるシート再表示防止）\n\n　　　　（操作方法）※Microsoft　Excel2010の場合\n　　　　　１．非表示にしたいシートの名前タブ上で右クリックし「非表示」をクリック\n　　　　　２．左上の「ファイル」をクリック\n　　　　　３．「情報」タブの「ブックの保護」をクリック\n　　　　　４．「ブック構成の保護」をクリックし、「シート構成」にチェックを付けたままパスワードを設定する。\n　\n　　　※シートを再表示したい時は、２→３→４の順に進むと「ブック構成の保護解除」になりパスワードを入力すること\n　　　　で解除できます。　　　\n\n\n\n"]

{"sheet":"課題説明  (55)","index":91,"n_rows":5,"n_cols":1,"rows_kept":5,"cut":false,"hidden":true,"merged":[[0,0,0,13],[1,0,1,13],[2,0,2,13],[3,0,3,13],[4,0,4,13]]}
["当課題及びエクセルファイルの取扱いについての注意事項"]
["○当課題は、パソコンデータ入力競技課題１を想定して作成されており、当エクセルを使用することで、課題作成から選手の入力作業、採点までが可能です。\n\n　　当エクセルファイルの構成及び説明は以下の通りです。\n\n　　　◆「課題説明」　・・・当シート。\n\n　　　◆「印刷用」　　・・・印刷用シートの画面上に「印刷用」ボタンが設置されており、１クリックで「差し込み用\n　　　　　　　　　　　　　　シート」内のアンケートデータを一度に印刷することができます。\n　　　　　　　　　　　　　　ただし、印刷初期設定の給紙トレイは”手差し”、用紙は”ハガキサイズ”となっている\n　　　　　　　　　　　　　　ため、他のサイズの用紙を用意した場合は、プリンターエラーが出る場合があります。\n　　　　　　　　　　　　　　また、一度印刷ボタンを押すと途中で中断できないため、印刷環境を整えてからクリック\n　　　　　　　　　　　　　　してください。\n\n                            ※各施設に設置されているプリンターの仕様によっても、設定方法が異なる可能性があるため\n　　　　　　　　　　　　　　適宜、プリンターにあった設定方法を確認してください。\n\n　　　◆「差し込み用」・・・このシートに入力されているデータは、当課題の”答え”を兼ねていますので、当シート\n　　　　　　　　　　　　　　のデータを変更するとすべてのシートに影響します。\n\n　　　◆「回答参考」　・・・「アンケート入力用フォーマット」構成のためのシートです。\n\n　　　"]
["　　　◆「１」～「２１」の「アンケート入力用フォーマット」\n　　　　　　　　　　　・・・選手が実際に当フォーマットに入力する用に作成しています。\n　　　　　　　　　　　　　　当フォーマットは課題数に応じてシートをコピーし増設してください。\n\n　　　◆「入力フォーム合計」　・・・「アンケート入力用フォーマット」に入力した情報が当シートにまとまります。\n　　　　　　　　　　　　　　　　　　「アンケート入力用フォーマット」を増設した場合は、「入力フォーム合計」に\n　　　　　　　　　　　　　　　　　　 連動しているセルの数式を修正する必要があります。　　　　　　　　　　　　　　\n\n　　　◆「採点例」　　・・・「差し込み用」と「入力フォーマット合計」を比較して採点できるシートです。"]
["○当課題（エクセルファイル）は、マクロは使用しておりませんが、使用するにあたって以下の知識を必要とします。\n　　\n　　　◆エクセル関数（if関数、vlookup関数など）\n　　　◆行・列の表示方法\n　　　◆シートの保護、シートの表示・非表示及びシートへのパスワードの付与"]
["○当エクセルをそのまま地方アビリンピック大会の課題として実施する場合は、以下の点に注意して下さい。\n\n　　■選手が競技を実施するために不要なシートは非表示にし、パスワードをかけること。（選手によるシート再表示防止）\n\n　　　　（操作方法）※Microsoft　Excel2010の場合\n　　　　　１．非表示にしたいシートの名前タブ上で右クリックし「非表示」をクリック\n　　　　　２．左上の「ファイル」をクリック\n　　　　　３．「情報」タブの「ブックの保護」をクリック\n　　　　　４．「ブック構成の保護」をクリックし、「シート構成」にチェックを付けたままパスワードを設定する。\n　\n　　　※シートを再表示したい時は、２→３→４の順に進むと「ブック構成の保護解除」になりパスワードを入力すること\n　　　　で解除できます。　　　\n\n\n\n"]

{"sheet":"課題説明  (54)","index":92,"n_rows":5,"n_cols":1,"rows_kept":5,"cut":false,"hidden":true,"merged":[[0,0,0,13],[1,0,1,13],[2,0,2,13],[3,0,3,13],[4,0,4,13]]}
["当課題及びエクセルファイルの取扱いについての注意事項"]
["○当課題は、パソコンデータ入力競技課題１を想定して作成されており、当エクセルを使用することで、課題作成から選手の入力作業、採点までが可能です。\n\n　　当エクセルファイルの構成及び説明は以下の通りです。\n\n　　　◆「課題説明」　・・・当シート。\n\n　　　◆「印刷用」　　・・・印刷用シートの画面上に「印刷用」ボタンが設置されており、１クリックで「差し込み用\n　　　　　　　　　　　　　　シート」内のアンケートデータを一度に印刷することができます。\n　　　　　　　　　　　　　　ただし、印刷初期設定の給紙トレイは”手差し”、用紙は”ハガキサイズ”となっている\n　　　　　　　　　　　　　　ため、他のサイズの用紙を用意した場合は、プリンターエラーが出る場合があります。\n　　　　　　　　　　　　　　また、一度印刷ボタンを押すと途中で中断できないため、印刷環境を整えてからクリック\n　　　　　　　　　　　　　　してください。\n\n                            ※各施設に設置されているプリンターの仕様によっても、設定方法が異なる可能性があるため\n　　　　　　　　　　　　　　適宜、プリンターにあった設定方法を確認してください。\n\n　　　◆「差し込み用」・・・このシートに入力されているデータは、当課題の”答え”を兼ねていますので、当シート\n　　　　　　　　　　　　　　のデータを変更するとすべてのシートに影響します。\n\n　　　◆「回答参考」　・・・「アンケート入力用フォーマット」構成のためのシートです。\n\n　　　"]
["　　　◆「１」～「２１」の「アンケート入力用フォーマット」\n　　　　　　　　　　　・・・選手が実際に当フォーマットに入力する用に作成しています。\n　　　　　　　　　　　　　　当フォーマットは課題数に応じてシートをコピーし増設してください。\n\n　　　◆「入力フォーム合計」　・・・「アンケート入力用フォーマット」に入力した情報が当シートにまとまります。\n　　　　　　　　　　　　　　　　　　「アンケート入力用フォーマット」を増設した場合は、「入力フォーム合計」に\n　　　　　　　　　　　　　　　　　　 連動しているセルの数式を修正する必要があります。　　　　　　　　　　　　　　\n\n　　　◆「採点例」　　・・・「差し込み用」と「入力フォーマット合計」を比較して採点できるシートです。"]
["○当課題（エクセルファイル）は、マクロは使用しておりませんが、使用するにあたって以下の知識を必要とします。\n　　\n　　　◆エクセル関数（if関数、vlookup関数など）\n　　　◆行・列の表示方法\n　　　◆シートの保護、シートの表示・非表示及びシートへのパスワードの付与"]
["○当エクセルをそのまま地方アビリンピック大会の課題として実施する場合は、以下の点に注意して下さい。\n\n　　■選手が競技を実施するために不要なシートは非表示にし、パスワードをかけること。（選手によるシート再表示防止）\n\n　　　　（操作方法）※Microsoft　Excel2010の場合\n　　　　　１．非表示にしたいシートの名前タブ上で右クリックし「非表示」をクリック\n　　　　　２．左上の「ファイル」をクリック\n　　　　　３．「情報」タブの「ブックの保護」をクリック\n　　　　　４．「ブック構成の保護」をクリックし、「シート構成」にチェックを付けたままパスワードを設定する。\n　\n　　　※シートを再表示したい時は、２→３→４の順に進むと「ブック構成の保護解除」になりパスワードを入力すること\n　　　　で解除できます。　　　\n\n\n\n"]

{"sheet":"課題説明  (53)","index":93,"n_rows":5,"n_cols":1,"rows_kept":5,"cut":false,"hidden":true,"merged":[[0,0,0,13],[1,0,1,13],[2,0,2,13],[3,0,3,13],[4,0,4,13]]}
["当課題及びエクセルファイルの取扱いについての注意事項"]
["○当課題は、パソコンデータ入力競技課題１を想定して作成されており、当エクセルを使用することで、課題作成から選手の入力作業、採点までが可能です。\n\n　　当エクセルファイルの構成及び説明は以下の通りです。\n\n　　　◆「課題説明」　・・・当シート。\n\n　　　◆「印刷用」　　・・・印刷用シートの画面上に「印刷用」ボタンが設置されており、１クリックで「差し込み用\n　　　　　　　　　　　　　　シート」内のアンケートデータを一度に印刷することができます。\n　　　　　　　　　　　　　　ただし、印刷初期設定の給紙トレイは”手差し”、用紙は”ハガキサイズ”となっている\n　　　　　　　　　　　　　　ため、他のサイズの用紙を用意した場合は、プリンターエラーが出る場合があります。\n　　　　　　　　　　　　　　また、一度印刷ボタンを押すと途中で中断できないため、印刷環境を整えてからクリック\n　　　　　　　　　　　　　　してください。\n\n                            ※各施設に設置されているプリンターの仕様によっても、設定方法が異なる可能性があるため\n　　　　　　　　　　　　　　適宜、プリンターにあった設定方法を確認してください。\n\n　　　◆「差し込み用」・・・このシートに入力されているデータは、当課題の”答え”を兼ねていますので、当シート\n　　　　　　　　　　　　　　のデータを変更するとすべてのシートに影響します。\n\n　　　◆「回答参考」　・・・「アンケート入力用フォーマット」構成のためのシートです。\n\n　　　"]
["　　　◆「１」～「２１」の「アンケート入力用フォーマット」\n　　　　　　　　　　　・・・選手が実際に当フォーマットに入力する用に作成しています。\n　　　　　　　　　　　　　　当フォーマットは課題数に応じてシートをコピーし増設してください。\n\n　　　◆「入力フォーム合計」　・・・「アンケート入力用フォーマット」に入力した情報が当シートにまとまります。\n　　　　　　　　　　　　　　　　　　「アンケート入力用フォーマット」を増設した場合は、「入力フォーム合計」に\n　　　　　　　　　　　　　　　　　　 連動しているセルの数式を修正する必要があります。　　　　　　　　　　　　　　\n\n　　　◆「採点例」　　・・・「差し込み用」と「入力フォーマット合計」を比較して採点できるシートです。"]
["○当課題（エクセルファイル）は、マクロは使用しておりませんが、使用するにあたって以下の知識を必要とします。\n　　\n　　　◆エクセル関数（if関数、vlookup関数など）\n　　　◆行・列の表示方法\n　　　◆シートの保護、シートの表示・非表示及びシートへのパスワードの付与"]
["○当エクセルをそのまま地方アビリンピック大会の課題として実施する場合は、以下の点に注意して下さい。\n\n　　■選手が競技を実施するために不要なシートは非表示にし、パスワードをかけること。（選手によるシート再表示防止）\n\n　　　　（操作方法）※Microsoft　Excel2010の場合\n　　　　　１．非表示にしたいシートの名前タブ上で右クリックし「非表示」をクリック\n　　　　　２．左上の「ファイル」をクリック\n　　　　　３．「情報」タブの「ブックの保護」をクリック\n　　　　　４．「ブック構成の保護」をクリックし、「シート構成」にチェックを付けたままパスワードを設定する。\n　\n　　　※シートを再表示したい時は、２→３→４の順に進むと「ブック構成の保護解除」になりパスワードを入力すること\n　　　　で解除できます。　　　\n\n\n\n"]

{"sheet":"課題説明  (52)","index":94,"n_rows":5,"n_cols":1,"rows_kept":5,"cut":false,"hidden":true,"merged":[[0,0,0,13],[1,0,1,13],[2,0,2,13],[3,0,3,13],[4,0,4,13]]}
["当課題及びエクセルファイルの取扱いについての注意事項"]
["○当課題は、パソコンデータ入力競技課題１を想定して作成されており、当エクセルを使用することで、課題作成から選手の入力作業、採点までが可能です。\n\n　　当エクセルファイルの構成及び説明は以下の通りです。\n\n　　　◆「課題説明」　・・・当シート。\n\n　　　◆「印刷用」　　・・・印刷用シートの画面上に「印刷用」ボタンが設置されており、１クリックで「差し込み用\n　　　　　　　　　　　　　　シート」内のアンケートデータを一度に印刷することができます。\n　　　　　　　　　　　　　　ただし、印刷初期設定の給紙トレイは”手差し”、用紙は”ハガキサイズ”となっている\n　　　　　　　　　　　　　　ため、他のサイズの用紙を用意した場合は、プリンターエラーが出る場合があります。\n　　　　　　　　　　　　　　また、一度印刷ボタンを押すと途中で中断できないため、印刷環境を整えてからクリック\n　　　　　　　　　　　　　　してください。\n\n                            ※各施設に設置されているプリンターの仕様によっても、設定方法が異なる可能性があるため\n　　　　　　　　　　　　　　適宜、プリンターにあった設定方法を確認してください。\n\n　　　◆「差し込み用」・・・このシートに入力されているデータは、当課題の”答え”を兼ねていますので、当シート\n　　　　　　　　　　　　　　のデータを変更するとすべてのシートに影響します。\n\n　　　◆「回答参考」　・・・「アンケート入力用フォーマット」構成のためのシートです。\n\n　　　"]
["　　　◆「１」～「２１」の「アンケート入力用フォーマット」\n　　　　　　　　　　　・・・選手が実際に当フォーマットに入力する用に作成しています。\n　　　　　　　　　　　　　　当フォーマットは課題数に応じてシートをコピーし増設してください。\n\n　　　◆「入力フォーム合計」　・・・「アンケート入力用フォーマット」に入力した情報が当シートにまとまります。\n　　　　　　　　　　　　　　　　　　「アンケート入力用フォーマット」を増設した場合は、「入力フォーム合計」に\n　　　　　　　　　　　　　　　　　　 連動しているセルの数式を修正する必要があります。　　　　　　　　　　　　　　\n\n　　　◆「採点例」　　・・・「差し込み用」と「入力フォーマット合計」を比較して採点できるシートです。"]
["○当課題（エクセルファイル）は、マクロは使用しておりませんが、使用するにあたって以下の知識を必要とします。\n　　\n　　　◆エクセル関数（if関数、vlookup関数など）\n　　　◆行・列の表示方法\n　　　◆シートの保護、シートの表示・非表示及びシートへのパスワードの付与"]
["○当エクセルをそのまま地方アビリンピック大会の課題として実施する場合は、以下の点に注意して下さい。\n\n　　■選手が競技を実施するために不要なシートは非表示にし、パスワードをかけること。（選手によるシート再表示防止）\n\n　　　　（操作方法）※Microsoft　Excel2010の場合\n　　　　　１．非表示にしたいシートの名前タブ上で右クリックし「非表示」をクリック\n　　　　　２．左上の「ファイル」をクリック\n　　　　　３．「情報」タブの「ブックの保護」をクリック\n　　　　　４．「ブック構成の保護」をクリックし、「シート構成」にチェックを付けたままパスワードを設定する。\n　\n　　　※シートを再表示したい時は、２→３→４の順に進むと「ブック構成の保護解除」になりパスワードを入力すること\n　　　　で解除できます。　　　\n\n\n\n"]

{"sheet":"課題説明  (51)","index":95,"n_rows":5,"n_cols":1,"rows_kept":5,"cut":false,"hidden":true,"merged":[[0,0,0,13],[1,0,1,13],[2,0,2,13],[3,0,3,13],[4,0,4,13]]}
["当課題及びエクセルファイルの取扱いについての注意事項"]
["○当課題は、パソコンデータ入力競技課題１を想定して作成されており、当エクセルを使用することで、課題作成から選手の入力作業、採点までが可能です。\n\n　　当エクセルファイルの構成及び説明は以下の通りです。\n\n　　　◆「課題説明」　・・・当シート。\n\n　　　◆「印刷用」　　・・・印刷用シートの画面上に「印刷用」ボタンが設置されており、１クリックで「差し込み用\n　　　　　　　　　　　　　　シート」内のアンケートデータを一度に印刷することができます。\n　　　　　　　　　　　　　　ただし、印刷初期設定の給紙トレイは”手差し”、用紙は”ハガキサイズ”となっている\n　　　　　　　　　　　　　　ため、他のサイズの用紙を用意した場合は、プリンターエラーが出る場合があります。\n　　　　　　　　　　　　　　また、一度印刷ボタンを押すと途中で中断できないため、印刷環境を整えてからクリック\n　　　　　　　　　　　　　　してください。\n\n                            ※各施設に設置されているプリンターの仕様によっても、設定方法が異なる可能性があるため\n　　　　　　　　　　　　　　適宜、プリンターにあった設定方法を確認してください。\n\n　　　◆「差し込み用」・・・このシートに入力されているデータは、当課題の”答え”を兼ねていますので、当シート\n　　　　　　　　　　　　　　のデータを変更するとすべてのシートに影響します。\n\n　　　◆「回答参考」　・・・「アンケート入力用フォーマット」構成のためのシートです。\n\n　　　"]
["　　　◆「１」～「２１」の「アンケート入力用フォーマット」\n　　　　　　　　　　　・・・選手が実際に当フォーマットに入力する用に作成しています。\n　　　　　　　　　　　　　　当フォーマットは課題数に応じてシートをコピーし増設してください。\n\n　　　◆「入力フォーム合計」　・・・「アンケート入力用フォーマット」に入力した情報が当シートにまとまります。\n　　　　　　　　　　　　　　　　　　「アンケート入力用フォーマット」を増設した場合は、「入力フォーム合計」に\n　　　　　　　　　　　　　　　　　　 連動しているセルの数式を修正する必要があります。　　　　　　　　　　　　　　\n\n　　　◆「採点例」　　・・・「差し込み用」と「入力フォーマット合計」を比較して採点できるシートです。"]
["○当課題（エクセルファイル）は、マクロは使用しておりませんが、使用するにあたって以下の知識を必要とします。\n　　\n　　　◆エクセル関数（if関数、vlookup関数など）\n　　　◆行・列の表示方法\n　　　◆シートの保護、シートの表示・非表示及びシートへのパスワードの付与"]
["○当エクセルをそのまま地方アビリンピック大会の課題として実施する場合は、以下の点に注意して下さい。\n\n　　■選手が競技を実施するために不要なシートは非表示にし、パスワードをかけること。（選手によるシート再表示防止）\n\n　　　　（操作方法）※Microsoft　Excel2010の場合\n　　　　　１．非表示にしたいシートの名前タブ上で右クリックし「非表示」をクリック\n　　　　　２．左上の「ファイル」をクリック\n　　　　　３．「情報」タブの「ブックの保護」をクリック\n　　　　　４．「ブック構成の保護」をクリックし、「シート構成」にチェックを付けたままパスワードを設定する。\n　\n　　　※シートを再表示したい時は、２→３→４の順に進むと「ブック構成の保護解除」になりパスワードを入力すること\n　　　　で解除できます。　　　\n\n\n\n"]

{"sheet":"課題説明  (50)","index":96,"n_rows":5,"n_cols":1,"rows_kept":5,"cut":false,"hidden":true,"merged":[[0,0,0,13],[1,0,1,13],[2,0,2,13],[3,0,3,13],[4,0,4,13]]}
["当課題及びエクセルファイルの取扱いについての注意事項"]
["○当課題は、パソコンデータ入力競技課題１を想定して作成されており、当エクセルを使用することで、課題作成から選手の入力作業、採点までが可能です。\n\n　　当エクセルファイルの構成及び説明は以下の通りです。\n\n　　　◆「課題説明」　・・・当シート。\n\n　　　◆「印刷用」　　・・・印刷用シートの画面上に「印刷用」ボタンが設置されており、１クリックで「差し込み用\n　　　　　　　　　　　　　　シート」内のアンケートデータを一度に印刷することができます。\n　　　　　　　　　　　　　　ただし、印刷初期設定の給紙トレイは”手差し”、用紙は”ハガキサイズ”となっている\n　　　　　　　　　　　　　　ため、他のサイズの用紙を用意した場合は、プリンターエラーが出る場合があります。\n　　　　　　　　　　　　　　また、一度印刷ボタンを押すと途中で中断できないため、印刷環境を整えてからクリック\n　　　　　　　　　　　　　　してください。\n\n                            ※各施設に設置されているプリンターの仕様によっても、設定方法が異なる可能性があるため\n　　　　　　　　　　　　　　適宜、プリンターにあった設定方法を確認してください。\n\n　　　◆「差し込み用」・・・このシートに入力されているデータは、当課題の”答え”を兼ねていますので、当シート\n　　　　　　　　　　　　　　のデータを変更するとすべてのシートに影響します。\n\n　　　◆「回答参考」　・・・「アンケート入力用フォーマット」構成のためのシートです。\n\n　　　"]
["　　　◆「１」～「２１」の「アンケート入力用フォーマット」\n　　　　　　　　　　　・・・選手が実際に当フォーマットに入力する用に作成しています。\n　　　　　　　　　　　　　　当フォーマットは課題数に応じてシートをコピーし増設してください。\n\n　　　◆「入力フォーム合計」　・・・「アンケート入力用フォーマット」に入力した情報が当シートにまとまります。\n　　　　　　　　　　　　　　　　　　「アンケート入力用フォーマット」を増設した場合は、「入力フォーム合計」に\n　　　　　　　　　　　　　　　　　　 連動しているセルの数式を修正する必要があります。　　　　　　　　　　　　　　\n\n　　　◆「採点例」　　・・・「差し込み用」と「入力フォーマット合計」を比較して採点できるシートです。"]
["○当課題（エクセルファイル）は、マクロは使用しておりませんが、使用するにあたって以下の知識を必要とします。\n　　\n　　　◆エクセル関数（if関数、vlookup関数など）\n　　　◆行・列の表示方法\n　　　◆シートの保護、シートの表示・非表示及びシートへのパスワードの付与"]
["○当エクセルをそのまま地方アビリンピック大会の課題として実施する場合は、以下の点に注意して下さい。\n\n　　■選手が競技を実施するために不要なシートは非表示にし、パスワードをかけること。（選手によるシート再表示防止）\n\n　　　　（操作方法）※Microsoft　Excel2010の場合\n　　　　　１．非表示にしたいシートの名前タブ上で右クリックし「非表示」をクリック\n　　　　　２．左上の「ファイル」をクリック\n　　　　　３．「情報」タブの「ブックの保護」をクリック\n　　　　　４．「ブック構成の保護」をクリックし、「シート構成」にチェックを付けたままパスワードを設定する。\n　\n　　　※シートを再表示したい時は、２→３→４の順に進むと「ブック構成の保護解除」になりパスワードを入力すること\n　　　　で解除できます。　　　\n\n\n\n"]

{"sheet":"課題説明  (49)","index":97,"n_rows":5,"n_cols":1,"rows_kept":5,"cut":false,"hidden":true,"merged":[[0,0,0,13],[1,0,1,13],[2,0,2,13],[3,0,3,13],[4,0,4,13]]}
["当課題及びエクセルファイルの取扱いについての注意事項"]
["○当課題は、パソコンデータ入力競技課題１を想定して作成されており、当エクセルを使用することで、課題作成から選手の入力作業、採点までが可能です。\n\n　　当エクセルファイルの構成及び説明は以下の通りです。\n\n　　　◆「課題説明」　・・・当シート。\n\n　　　◆「印刷用」　　・・・印刷用シートの画面上に「印刷用」ボタンが設置されており、１クリックで「差し込み用\n　　　　　　　　　　　　　　シート」内のアンケートデータを一度に印刷することができます。\n　　　　　　　　　　　　　　ただし、印刷初期設定の給紙トレイは”手差し”、用紙は”ハガキサイズ”となっている\n　　　　　　　　　　　　　　ため、他のサイズの用紙を用意した場合は、プリンターエラーが出る場合があります。\n　　　　　　　　　　　　　　また、一度印刷ボタンを押すと途中で中断できないため、印刷環境を整えてからクリック\n　　　　　　　　　　　　　　してください。\n\n                            ※各施設に設置されているプリンターの仕様によっても、設定方法が異なる可能性があるため\n　　　　　　　　　　　　　　適宜、プリンターにあった設定方法を確認してください。\n\n　　　◆「差し込み用」・・・このシートに入力されているデータは、当課題の”答え”を兼ねていますので、当シート\n　　　　　　　　　　　　　　のデータを変更するとすべてのシートに影響します。\n\n　　　◆「回答参考」　・・・「アンケート入力用フォーマット」構成のためのシートです。\n\n　　　"]
["　　　◆「１」～「２１」の「アンケート入力用フォーマット」\n　　　　　　　　　　　・・・選手が実際に当フォーマットに入力する用に作成しています。\n　　　　　　　　　　　　　　当フォーマットは課題数に応じてシートをコピーし増設してください。\n\n　　　◆「入力フォーム合計」　・・・「アンケート入力用フォーマット」に入力した情報が当シートにまとまります。\n　　　　　　　　　　　　　　　　　　「アンケート入力用フォーマット」を増設した場合は、「入力フォーム合計」に\n　　　　　　　　　　　　　　　　　　 連動しているセルの数式を修正する必要があります。　　　　　　　　　　　　　　\n\n　　　◆「採点例」　　・・・「差し込み用」と「入力フォーマット合計」を比較して採点できるシートです。"]
["○当課題（エクセルファイル）は、マクロは使用しておりませんが、使用するにあたって以下の知識を必要とします。\n　　\n　　　◆エクセル関数（if関数、vlookup関数など）\n　　　◆行・列の表示方法\n　　　◆シートの保護、シートの表示・非表示及びシートへのパスワードの付与"]
["○当エクセルをそのまま地方アビリンピック大会の課題として実施する場合は、以下の点に注意して下さい。\n\n　　■選手が競技を実施するために不要なシートは非表示にし、パスワードをかけること。（選手によるシート再表示防止）\n\n　　　　（操作方法）※Microsoft　Excel2010の場合\n　　　　　１．非表示にしたいシートの名前タブ上で右クリックし「非表示」をクリック\n　　　　　２．左上の「ファイル」をクリック\n　　　　　３．「情報」タブの「ブックの保護」をクリック\n　　　　　４．「ブック構成の保護」をクリックし、「シート構成」にチェックを付けたままパスワードを設定する。\n　\n　　　※シートを再表示したい時は、２→３→４の順に進むと「ブック構成の保護解除」になりパスワードを入力すること\n　　　　で解除できます。　　　\n\n\n\n"]

{"sheet":"課題説明  (48)","index":98,"n_rows":5,"n_cols":1,"rows_kept":5,"cut":false,"hidden":true,"merged":[[0,0,0,13],[1,0,1,13],[2,0,2,13],[3,0,3,13],[4,0,4,13]]}
["当課題及びエクセルファイルの取扱いについての注意事項"]
["○当課題は、パソコンデータ入力競技課題１を想定して作成されており、当エクセルを使用することで、課題作成から選手の入力作業、採点までが可能です。\n\n　　当エクセルファイルの構成及び説明は以下の通りです。\n\n　　　◆「課題説明」　・・・当シート。\n\n　　　◆「印刷用」　　・・・印刷用シートの画面上に「印刷用」ボタンが設置されており、１クリックで「差し込み用\n　　　　　　　　　　　　　　シート」内のアンケートデータを一度に印刷することができます。\n　　　　　　　　　　　　　　ただし、印刷初期設定の給紙トレイは”手差し”、用紙は”ハガキサイズ”となっている\n　　　　　　　　　　　　　　ため、他のサイズの用紙を用意した場合は、プリンターエラーが出る場合があります。\n　　　　　　　　　　　　　　また、一度印刷ボタンを押すと途中で中断できないため、印刷環境を整えてからクリック\n　　　　　　　　　　　　　　してください。\n\n                            ※各施設に設置されているプリンターの仕様によっても、設定方法が異なる可能性があるため\n　　　　　　　　　　　　　　適宜、プリンターにあった設定方法を確認してください。\n\n　　　◆「差し込み用」・・・このシートに入力されているデータは、当課題の”答え”を兼ねていますので、当シート\n　　　　　　　　　　　　　　のデータを変更するとすべてのシートに影響します。\n\n　　　◆「回答参考」　・・・「アンケート入力用フォーマット」構成のためのシートです。\n\n　　　"]
["　　　◆「１」～「２１」の「アンケート入力用フォーマット」\n　　　　　　　　　　　・・・選手が実際に当フォーマットに入力する用に作成しています。\n　　　　　　　　　　　　　　当フォーマットは課題数に応じてシートをコピーし増設してください。\n\n　　　◆「入力フォーム合計」　・・・「アンケート入力用フォーマット」に入力した情報が当シートにまとまります。\n　　　　　　　　　　　　　　　　　　「アンケート入力用フォーマット」を増設した場合は、「入力フォーム合計」に\n　　　　　　　　　　　　　　　　　　 連動しているセルの数式を修正する必要があります。　　　　　　　　　　　　　　\n\n　　　◆「採点例」　　・・・「差し込み用」と「入力フォーマット合計」を比較して採点できるシートです。"]
["○当課題（エクセルファイル）は、マクロは使用しておりませんが、使用するにあたって以下の知識を必要とします。\n　　\n　　　◆エクセル関数（if関数、vlookup関数など）\n　　　◆行・列の表示方法\n　　　◆シートの保護、シートの表示・非表示及びシートへのパスワードの付与"]
["○当エクセルをそのまま地方アビリンピック大会の課題として実施する場合は、以下の点に注意して下さい。\n\n　　■選手が競技を実施するために不要なシートは非表示にし、パスワードをかけること。（選手によるシート再表示防止）\n\n　　　　（操作方法）※Microsoft　Excel2010の場合\n　　　　　１．非表示にしたいシートの名前タブ上で右クリックし「非表示」をクリック\n　　　　　２．左上の「ファイル」をクリック\n　　　　　３．「情報」タブの「ブックの保護」をクリック\n　　　　　４．「ブック構成の保護」をクリックし、「シート構成」にチェックを付けたままパスワードを設定する。\n　\n　　　※シートを再表示したい時は、２→３→４の順に進むと「ブック構成の保護解除」になりパスワードを入力すること\n　　　　で解除できます。　　　\n\n\n\n"]

{"sheet":"課題説明  (47)","index":99,"n_rows":5,"n_cols":1,"rows_kept":5,"cut":false,"hidden":true,"merged":[[0,0,0,13],[1,0,1,13],[2,0,2,13],[3,0,3,13],[4,0,4,13]]}
["当課題及びエクセルファイルの取扱いについての注意事項"]
["○当課題は、パソコンデータ入力競技課題１を想定して作成されており、当エクセルを使用することで、課題作成から選手の入力作業、採点までが可能です。\n\n　　当エクセルファイルの構成及び説明は以下の通りです。\n\n　　　◆「課題説明」　・・・当シート。\n\n　　　◆「印刷用」　　・・・印刷用シートの画面上に「印刷用」ボタンが設置されており、１クリックで「差し込み用\n　　　　　　　　　　　　　　シート」内のアンケートデータを一度に印刷することができます。\n　　　　　　　　　　　　　　ただし、印刷初期設定の給紙トレイは”手差し”、用紙は”ハガキサイズ”となっている\n　　　　　　　　　　　　　　ため、他のサイズの用紙を用意した場合は、プリンターエラーが出る場合があります。\n　　　　　　　　　　　　　　また、一度印刷ボタンを押すと途中で中断できないため、印刷環境を整えてからクリック\n　　　　　　　　　　　　　　してください。\n\n                            ※各施設に設置されているプリンターの仕様によっても、設定方法が異なる可能性があるため\n　　　　　　　　　　　　　　適宜、プリンターにあった設定方法を確認してください。\n\n　　　◆「差し込み用」・・・このシートに入力されているデータは、当課題の”答え”を兼ねていますので、当シート\n　　　　　　　　　　　　　　のデータを変更するとすべてのシートに影響します。\n\n　　　◆「回答参考」　・・・「アンケート入力用フォーマット」構成のためのシートです。\n\n　　　"]
["　　　◆「１」～「２１」の「アンケート入力用フォーマット」\n　　　　　　　　　　　・・・選手が実際に当フォーマットに入力する用に作成しています。\n　　　　　　　　　　　　　　当フォーマットは課題数に応じてシートをコピーし増設してください。\n\n　　　◆「入力フォーム合計」　・・・「アンケート入力用フォーマット」に入力した情報が当シートにまとまります。\n　　　　　　　　　　　　　　　　　　「アンケート入力用フォーマット」を増設した場合は、「入力フォーム合計」に\n　　　　　　　　　　　　　　　　　　 連動しているセルの数式を修正する必要があります。　　　　　　　　　　　　　　\n\n　　　◆「採点例」　　・・・「差し込み用」と「入力フォーマット合計」を比較して採点できるシートです。"]
["○当課題（エクセルファイル）は、マクロは使用しておりませんが、使用するにあたって以下の知識を必要とします。\n　　\n　　　◆エクセル関数（if関数、vlookup関数など）\n　　　◆行・列の表示方法\n　　　◆シートの保護、シートの表示・非表示及びシートへのパスワードの付与"]
["○当エクセルをそのまま地方アビリンピック大会の課題として実施する場合は、以下の点に注意して下さい。\n\n　　■選手が競技を実施するために不要なシートは非表示にし、パスワードをかけること。（選手によるシート再表示防止）\n\n　　　　（操作方法）※Microsoft　Excel2010の場合\n　　　　　１．非表示にしたいシートの名前タブ上で右クリックし「非表示」をクリック\n　　　　　２．左上の「ファイル」をクリック\n　　　　　３．「情報」タブの「ブックの保護」をクリック\n　　　　　４．「ブック構成の保護」をクリックし、「シート構成」にチェックを付けたままパスワードを設定する。\n　\n　　　※シートを再表示したい時は、２→３→４の順に進むと「ブック構成の保護解除」になりパスワードを入力すること\n　　　　で解除できます。　　　\n\n\n\n"]

{"sheet":"課題説明  (46)","index":100,"n_rows":5,"n_cols":1,"rows_kept":5,"cut":false,"hidden":true,"merged":[[0,0,0,13],[1,0,1,13],[2,0,2,13],[3,0,3,13],[4,0,4,13]]}
["当課題及びエクセルファイルの取扱いについての注意事項"]
["○当課題は、パソコンデータ入力競技課題１を想定して作成されており、当エクセルを使用することで、課題作成から選手の入力作業、採点までが可能です。\n\n　　当エクセルファイルの構成及び説明は以下の通りです。\n\n　　　◆「課題説明」　・・・当シート。\n\n　　　◆「印刷用」　　・・・印刷用シートの画面上に「印刷用」ボタンが設置されており、１クリックで「差し込み用\n　　　　　　　　　　　　　　シート」内のアンケートデータを一度に印刷することができます。\n　　　　　　　　　　　　　　ただし、印刷初期設定の給紙トレイは”手差し”、用紙は”ハガキサイズ”となっている\n　　　　　　　　　　　　　　ため、他のサイズの用紙を用意した場合は、プリンターエラーが出る場合があります。\n　　　　　　　　　　　　　　また、一度印刷ボタンを押すと途中で中断できないため、印刷環境を整えてからクリック\n　　　　　　　　　　　　　　してください。\n\n                            ※各施設に設置されているプリンターの仕様によっても、設定方法が異なる可能性があるため\n　　　　　　　　　　　　　　適宜、プリンターにあった設定方法を確認してください。\n\n　　　◆「差し込み用」・・・このシートに入力されているデータは、当課題の”答え”を兼ねていますので、当シート\n　　　　　　　　　　　　　　のデータを変更するとすべてのシートに影響します。\n\n　　　◆「回答参考」　・・・「アンケート入力用フォーマット」構成のためのシートです。\n\n　　　"]
["　　　◆「１」～「２１」の「アンケート入力用フォーマット」\n　　　　　　　　　　　・・・選手が実際に当フォーマットに入力する用に作成しています。\n　　　　　　　　　　　　　　当フォーマットは課題数に応じてシートをコピーし増設してください。\n\n　　　◆「入力フォーム合計」　・・・「アンケート入力用フォーマット」に入力した情報が当シートにまとまります。\n　　　　　　　　　　　　　　　　　　「アンケート入力用フォーマット」を増設した場合は、「入力フォーム合計」に\n　　　　　　　　　　　　　　　　　　 連動しているセルの数式を修正する必要があります。　　　　　　　　　　　　　　\n\n　　　◆「採点例」　　・・・「差し込み用」と「入力フォーマット合計」を比較して採点できるシートです。"]
["○当課題（エクセルファイル）は、マクロは使用しておりませんが、使用するにあたって以下の知識を必要とします。\n　　\n　　　◆エクセル関数（if関数、vlookup関数など）\n　　　◆行・列の表示方法\n　　　◆シートの保護、シートの表示・非表示及びシートへのパスワードの付与"]
["○当エクセルをそのまま地方アビリンピック大会の課題として実施する場合は、以下の点に注意して下さい。\n\n　　■選手が競技を実施するために不要なシートは非表示にし、パスワードをかけること。（選手によるシート再表示防止）\n\n　　　　（操作方法）※Microsoft　Excel2010の場合\n　　　　　１．非表示にしたいシートの名前タブ上で右クリックし「非表示」をクリック\n　　　　　２．左上の「ファイル」をクリック\n　　　　　３．「情報」タブの「ブックの保護」をクリック\n　　　　　４．「ブック構成の保護」をクリックし、「シート構成」にチェックを付けたままパスワードを設定する。\n　\n　　　※シートを再表示したい時は、２→３→４の順に進むと「ブック構成の保護解除」になりパスワードを入力すること\n　　　　で解除できます。　　　\n\n\n\n"]

{"sheet":"課題説明  (45)","index":101,"n_rows":5,"n_cols":1,"rows_kept":5,"cut":false,"hidden":true,"merged":[[0,0,0,13],[1,0,1,13],[2,0,2,13],[3,0,3,13],[4,0,4,13]]}
["当課題及びエクセルファイルの取扱いについての注意事項"]
["○当課題は、パソコンデータ入力競技課題１を想定して作成されており、当エクセルを使用することで、課題作成から選手の入力作業、採点までが可能です。\n\n　　当エクセルファイルの構成及び説明は以下の通りです。\n\n　　　◆「課題説明」　・・・当シート。\n\n　　　◆「印刷用」　　・・・印刷用シートの画面上に「印刷用」ボタンが設置されており、１クリックで「差し込み用\n　　　　　　　　　　　　　　シート」内のアンケートデータを一度に印刷することができます。\n　　　　　　　　　　　　　　ただし、印刷初期設定の給紙トレイは”手差し”、用紙は”ハガキサイズ”となっている\n　　　　　　　　　　　　　　ため、他のサイズの用紙を用意した場合は、プリンターエラーが出る場合があります。\n　　　　　　　　　　　　　　また、一度印刷ボタンを押すと途中で中断できないため、印刷環境を整えてからクリック\n　　　　　　　　　　　　　　してください。\n\n                            ※各施設に設置されているプリンターの仕様によっても、設定方法が異なる可能性があるため\n　　　　　　　　　　　　　　適宜、プリンターにあった設定方法を確認してください。\n\n　　　◆「差し込み用」・・・このシートに入力されているデータは、当課題の”答え”を兼ねていますので、当シート\n　　　　　　　　　　　　　　のデータを変更するとすべてのシートに影響します。\n\n　　　◆「回答参考」　・・・「アンケート入力用フォーマット」構成のためのシートです。\n\n　　　"]
["　　　◆「１」～「２１」の「アンケート入力用フォーマット」\n　　　　　　　　　　　・・・選手が実際に当フォーマットに入力する用に作成しています。\n　　　　　　　　　　　　　　当フォーマットは課題数に応じてシートをコピーし増設してください。\n\n　　　◆「入力フォーム合計」　・・・「アンケート入力用フォーマット」に入力した情報が当シートにまとまります。\n　　　　　　　　　　　　　　　　　　「アンケート入力用フォーマット」を増設した場合は、「入力フォーム合計」に\n　　　　　　　　　　　　　　　　　　 連動しているセルの数式を修正する必要があります。　　　　　　　　　　　　　　\n\n　　　◆「採点例」　　・・・「差し込み用」と「入力フォーマット合計」を比較して採点できるシートです。"]
["○当課題（エクセルファイル）は、マクロは使用しておりませんが、使用するにあたって以下の知識を必要とします。\n　　\n　　　◆エクセル関数（if関数、vlookup関数など）\n　　　◆行・列の表示方法\n　　　◆シートの保護、シートの表示・非表示及びシートへのパスワードの付与"]
["○当エクセルをそのまま地方アビリンピック大会の課題として実施する場合は、以下の点に注意して下さい。\n\n　　■選手が競技を実施するために不要なシートは非表示にし、パスワードをかけること。（選手によるシート再表示防止）\n\n　　　　（操作方法）※Microsoft　Excel2010の場合\n　　　　　１．非表示にしたいシートの名前タブ上で右クリックし「非表示」をクリック\n　　　　　２．左上の「ファイル」をクリック\n　　　　　３．「情報」タブの「ブックの保護」をクリック\n　　　　　４．「ブック構成の保護」をクリックし、「シート構成」にチェックを付けたままパスワードを設定する。\n　\n　　　※シートを再表示したい時は、２→３→４の順に進むと「ブック構成の保護解除」になりパスワードを入力すること\n　　　　で解除できます。　　　\n\n\n\n"]

{"sheet":"課題説明  (44)","index":102,"n_rows":5,"n_cols":1,"rows_kept":5,"cut":false,"hidden":true,"merged":[[0,0,0,13],[1,0,1,13],[2,0,2,13],[3,0,3,13],[4,0,4,13]]}
["当課題及びエクセルファイルの取扱いについての注意事項"]
["○当課題は、パソコンデータ入力競技課題１を想定して作成されており、当エクセルを使用することで、課題作成から選手の入力作業、採点までが可能です。\n\n　　当エクセルファイルの構成及び説明は以下の通りです。\n\n　　　◆「課題説明」　・・・当シート。\n\n　　　◆「印刷用」　　・・・印刷用シートの画面上に「印刷用」ボタンが設置されており、１クリックで「差し込み用\n　　　　　　　　　　　　　　シート」内のアンケートデータを一度に印刷することができます。\n　　　　　　　　　　　　　　ただし、印刷初期設定の給紙トレイは”手差し”、用紙は”ハガキサイズ”となっている\n　　　　　　　　　　　　　　ため、他のサイズの用紙を用意した場合は、プリンターエラーが出る場合があります。\n　　　　　　　　　　　　　　また、一度印刷ボタンを押すと途中で中断できないため、印刷環境を整えてからクリック\n　　　　　　　　　　　　　　してください。\n\n                            ※各施設に設置されているプリンターの仕様によっても、設定方法が異なる可能性があるため\n　　　　　　　　　　　　　　適宜、プリンターにあった設定方法を確認してください。\n\n　　　◆「差し込み用」・・・このシートに入力されているデータは、当課題の”答え”を兼ねていますので、当シート\n　　　　　　　　　　　　　　のデータを変更するとすべてのシートに影響します。\n\n　　　◆「回答参考」　・・・「アンケート入力用フォーマット」構成のためのシートです。\n\n　　　"]
["　　　◆「１」～「２１」の「アンケート入力用フォーマット」\n　　　　　　　　　　　・・・選手が実際に当フォーマットに入力する用に作成しています。\n　　　　　　　　　　　　　　当フォーマットは課題数に応じてシートをコピーし増設してください。\n\n　　　◆「入力フォーム合計」　・・・「アンケート入力用フォーマット」に入力した情報が当シートにまとまります。\n　　　　　　　　　　　　　　　　　　「アンケート入力用フォーマット」を増設した場合は、「入力フォーム合計」に\n　　　　　　　　　　　　　　　　　　 連動しているセルの数式を修正する必要があります。　　　　　　　　　　　　　　\n\n　　　◆「採点例」　　・・・「差し込み用」と「入力フォーマット合計」を比較して採点できるシートです。"]
["○当課題（エクセルファイル）は、マクロは使用しておりませんが、使用するにあたって以下の知識を必要とします。\n　　\n　　　◆エクセル関数（if関数、vlookup関数など）\n　　　◆行・列の表示方法\n　　　◆シートの保護、シートの表示・非表示及びシートへのパスワードの付与"]
["○当エクセルをそのまま地方アビリンピック大会の課題として実施する場合は、以下の点に注意して下さい。\n\n　　■選手が競技を実施するために不要なシートは非表示にし、パスワードをかけること。（選手によるシート再表示防止）\n\n　　　　（操作方法）※Microsoft　Excel2010の場合\n　　　　　１．非表示にしたいシートの名前タブ上で右クリックし「非表示」をクリック\n　　　　　２．左上の「ファイル」をクリック\n　　　　　３．「情報」タブの「ブックの保護」をクリック\n　　　　　４．「ブック構成の保護」をクリックし、「シート構成」にチェックを付けたままパスワードを設定する。\n　\n　　　※シートを再表示したい時は、２→３→４の順に進むと「ブック構成の保護解除」になりパスワードを入力すること\n　　　　で解除できます。　　　\n\n\n\n"]

{"sheet":"課題説明  (43)","index":103,"n_rows":5,"n_cols":1,"rows_kept":5,"cut":false,"hidden":true,"merged":[[0,0,0,13],[1,0,1,13],[2,0,2,13],[3,0,3,13],[4,0,4,13]]}
["当課題及びエクセルファイルの取扱いについての注意事項"]
["○当課題は、パソコンデータ入力競技課題１を想定して作成されており、当エクセルを使用することで、課題作成から選手の入力作業、採点までが可能です。\n\n　　当エクセルファイルの構成及び説明は以下の通りです。\n\n　　　◆「課題説明」　・・・当シート。\n\n　　　◆「印刷用」　　・・・印刷用シートの画面上に「印刷用」ボタンが設置されており、１クリックで「差し込み用\n　　　　　　　　　　　　　　シート」内のアンケートデータを一度に印刷することができます。\n　　　　　　　　　　　　　　ただし、印刷初期設定の給紙トレイは”手差し”、用紙は”ハガキサイズ”となっている\n　　　　　　　　　　　　　　ため、他のサイズの用紙を用意した場合は、プリンターエラーが出る場合があります。\n　　　　　　　　　　　　　　また、一度印刷ボタンを押すと途中で中断できないため、印刷環境を整えてからクリック\n　　　　　　　　　　　　　　してください。\n\n                            ※各施設に設置されているプリンターの仕様によっても、設定方法が異なる可能性があるため\n　　　　　　　　　　　　　　適宜、プリンターにあった設定方法を確認してください。\n\n　　　◆「差し込み用」・・・このシートに入力されているデータは、当課題の”答え”を兼ねていますので、当シート\n　　　　　　　　　　　　　　のデータを変更するとすべてのシートに影響します。\n\n　　　◆「回答参考」　・・・「アンケート入力用フォーマット」構成のためのシートです。\n\n　　　"]
["　　　◆「１」～「２１」の「アンケート入力用フォーマット」\n　　　　　　　　　　　・・・選手が実際に当フォーマットに入力する用に作成しています。\n　　　　　　　　　　　　　　当フォーマットは課題数に応じてシートをコピーし増設してください。\n\n　　　◆「入力フォーム合計」　・・・「アンケート入力用フォーマット」に入力した情報が当シートにまとまります。\n　　　　　　　　　　　　　　　　　　「アンケート入力用フォーマット」を増設した場合は、「入力フォーム合計」に\n　　　　　　　　　　　　　　　　　　 連動しているセルの数式を修正する必要があります。　　　　　　　　　　　　　　\n\n　　　◆「採点例」　　・・・「差し込み用」と「入力フォーマット合計」を比較して採点できるシートです。"]
["○当課題（エクセルファイル）は、マクロは使用しておりませんが、使用するにあたって以下の知識を必要とします。\n　　\n　　　◆エクセル関数（if関数、vlookup関数など）\n　　　◆行・列の表示方法\n　　　◆シートの保護、シートの表示・非表示及びシートへのパスワードの付与"]
["○当エクセルをそのまま地方アビリンピック大会の課題として実施する場合は、以下の点に注意して下さい。\n\n　　■選手が競技を実施するために不要なシートは非表示にし、パスワードをかけること。（選手によるシート再表示防止）\n\n　　　　（操作方法）※Microsoft　Excel2010の場合\n　　　　　１．非表示にしたいシートの名前タブ上で右クリックし「非表示」をクリック\n　　　　　２．左上の「ファイル」をクリック\n　　　　　３．「情報」タブの「ブックの保護」をクリック\n　　　　　４．「ブック構成の保護」をクリックし、「シート構成」にチェックを付けたままパスワードを設定する。\n　\n　　　※シートを再表示したい時は、２→３→４の順に進むと「ブック構成の保護解除」になりパスワードを入力すること\n　　　　で解除できます。　　　\n\n\n\n"]

{"sheet":"課題説明  (42)","index":104,"n_rows":5,"n_cols":1,"rows_kept":5,"cut":false,"hidden":true,"merged":[[0,0,0,13],[1,0,1,13],[2,0,2,13],[3,0,3,13],[4,0,4,13]]}
["当課題及びエクセルファイルの取扱いについての注意事項"]
["○当課題は、パソコンデータ入力競技課題１を想定して作成されており、当エクセルを使用することで、課題作成から選手の入力作業、採点までが可能です。\n\n　　当エクセルファイルの構成及び説明は以下の通りです。\n\n　　　◆「課題説明」　・・・当シート。\n\n　　　◆「印刷用」　　・・・印刷用シートの画面上に「印刷用」ボタンが設置されており、１クリックで「差し込み用\n　　　　　　　　　　　　　　シート」内のアンケートデータを一度に印刷することができます。\n　　　　　　　　　　　　　　ただし、印刷初期設定の給紙トレイは”手差し”、用紙は”ハガキサイズ”となっている\n　　　　　　　　　　　　　　ため、他のサイズの用紙を用意した場合は、プリンターエラーが出る場合があります。\n　　　　　　　　　　　　　　また、一度印刷ボタンを押すと途中で中断できないため、印刷環境を整えてからクリック\n　　　　　　　　　　　　　　してください。\n\n                            ※各施設に設置されているプリンターの仕様によっても、設定方法が異なる可能性があるため\n　　　　　　　　　　　　　　適宜、プリンターにあった設定方法を確認してください。\n\n　　　◆「差し込み用」・・・このシートに入力されているデータは、当課題の”答え”を兼ねていますので、当シート\n　　　　　　　　　　　　　　のデータを変更するとすべてのシートに影響します。\n\n　　　◆「回答参考」　・・・「アンケート入力用フォーマット」構成のためのシートです。\n\n　　　"]
["　　　◆「１」～「２１」の「アンケート入力用フォーマット」\n　　　　　　　　　　　・・・選手が実際に当フォーマットに入力する用に作成しています。\n　　　　　　　　　　　　　　当フォーマットは課題数に応じてシートをコピーし増設してください。\n\n　　　◆「入力フォーム合計」　・・・「アンケート入力用フォーマット」に入力した情報が当シートにまとまります。\n　　　　　　　　　　　　　　　　　　「アンケート入力用フォーマット」を増設した場合は、「入力フォーム合計」に\n　　　　　　　　　　　　　　　　　　 連動しているセルの数式を修正する必要があります。　　　　　　　　　　　　　　\n\n　　　◆「採点例」　　・・・「差し込み用」と「入力フォーマット合計」を比較して採点できるシートです。"]
["○当課題（エクセルファイル）は、マクロは使用しておりませんが、使用するにあたって以下の知識を必要とします。\n　　\n　　　◆エクセル関数（if関数、vlookup関数など）\n　　　◆行・列の表示方法\n　　　◆シートの保護、シートの表示・非表示及びシートへのパスワードの付与"]
["○当エクセルをそのまま地方アビリンピック大会の課題として実施する場合は、以下の点に注意して下さい。\n\n　　■選手が競技を実施するために不要なシートは非表示にし、パスワードをかけること。（選手によるシート再表示防止）\n\n　　　　（操作方法）※Microsoft　Excel2010の場合\n　　　　　１．非表示にしたいシートの名前タブ上で右クリックし「非表示」をクリック\n　　　　　２．左上の「ファイル」をクリック\n　　　　　３．「情報」タブの「ブックの保護」をクリック\n　　　　　４．「ブック構成の保護」をクリックし、「シート構成」にチェックを付けたままパスワードを設定する。\n　\n　　　※シートを再表示したい時は、２→３→４の順に進むと「ブック構成の保護解除」になりパスワードを入力すること\n　　　　で解除できます。　　　\n\n\n\n"]

{"sheet":"課題説明  (41)","index":105,"n_rows":5,"n_cols":1,"rows_kept":5,"cut":false,"hidden":true,"merged":[[0,0,0,13],[1,0,1,13],[2,0,2,13],[3,0,3,13],[4,0,4,13]]}
["当課題及びエクセルファイルの取扱いについての注意事項"]
["○当課題は、パソコンデータ入力競技課題１を想定して作成されており、当エクセルを使用することで、課題作成から選手の入力作業、採点までが可能です。\n\n　　当エクセルファイルの構成及び説明は以下の通りです。\n\n　　　◆「課題説明」　・・・当シート。\n\n　　　◆「印刷用」　　・・・印刷用シートの画面上に「印刷用」ボタンが設置されており、１クリックで「差し込み用\n　　　　　　　　　　　　　　シート」内のアンケートデータを一度に印刷することができます。\n　　　　　　　　　　　　　　ただし、印刷初期設定の給紙トレイは”手差し”、用紙は”ハガキサイズ”となっている\n　　　　　　　　　　　　　　ため、他のサイズの用紙を用意した場合は、プリンターエラーが出る場合があります。\n　　　　　　　　　　　　　　また、一度印刷ボタンを押すと途中で中断できないため、印刷環境を整えてからクリック\n　　　　　　　　　　　　　　してください。\n\n                            ※各施設に設置されているプリンターの仕様によっても、設定方法が異なる可能性があるため\n　　　　　　　　　　　　　　適宜、プリンターにあった設定方法を確認してください。\n\n　　　◆「差し込み用」・・・このシートに入力されているデータは、当課題の”答え”を兼ねていますので、当シート\n　　　　　　　　　　　　　　のデータを変更するとすべてのシートに影響します。\n\n　　　◆「回答参考」　・・・「アンケート入力用フォーマット」構成のためのシートです。\n\n　　　"]
["　　　◆「１」～「２１」の「アンケート入力用フォーマット」\n　　　　　　　　　　　・・・選手が実際に当フォーマットに入力する用に作成しています。\n　　　　　　　　　　　　　　当フォーマットは課題数に応じてシートをコピーし増設してください。\n\n　　　◆「入力フォーム合計」　・・・「アンケート入力用フォーマット」に入力した情報が当シートにまとまります。\n　　　　　　　　　　　　　　　　　　「アンケート入力用フォーマット」を増設した場合は、「入力フォーム合計」に\n　　　　　　　　　　　　　　　　　　 連動しているセルの数式を修正する必要があります。　　　　　　　　　　　　　　\n\n　　　◆「採点例」　　・・・「差し込み用」と「入力フォーマット合計」を比較して採点できるシートです。"]
["○当課題（エクセルファイル）は、マクロは使用しておりませんが、使用するにあたって以下の知識を必要とします。\n　　\n　　　◆エクセル関数（if関数、vlookup関数など）\n　　　◆行・列の表示方法\n　　　◆シートの保護、シートの表示・非表示及びシートへのパスワードの付与"]
["○当エクセルをそのまま地方アビリンピック大会の課題として実施する場合は、以下の点に注意して下さい。\n\n　　■選手が競技を実施するために不要なシートは非表示にし、パスワードをかけること。（選手によるシート再表示防止）\n\n　　　　（操作方法）※Microsoft　Excel2010の場合\n　　　　　１．非表示にしたいシートの名前タブ上で右クリックし「非表示」をクリック\n　　　　　２．左上の「ファイル」をクリック\n　　　　　３．「情報」タブの「ブックの保護」をクリック\n　　　　　４．「ブック構成の保護」をクリックし、「シート構成」にチェックを付けたままパスワードを設定する。\n　\n　　　※シートを再表示したい時は、２→３→４の順に進むと「ブック構成の保護解除」になりパスワードを入力すること\n　　　　で解除できます。　　　\n\n\n\n"]

{"sheet":"課題説明  (40)","index":106,"n_rows":5,"n_cols":1,"rows_kept":5,"cut":false,"hidden":true,"merged":[[0,0,0,13],[1,0,1,13],[2,0,2,13],[3,0,3,13],[4,0,4,13]]}
["当課題及びエクセルファイルの取扱いについての注意事項"]
["○当課題は、パソコンデータ入力競技課題１を想定して作成されており、当エクセルを使用することで、課題作成から選手の入力作業、採点までが可能です。\n\n　　当エクセルファイルの構成及び説明は以下の通りです。\n\n　　　◆「課題説明」　・・・当シート。\n\n　　　◆「印刷用」　　・・・印刷用シートの画面上に「印刷用」ボタンが設置されており、１クリックで「差し込み用\n　　　　　　　　　　　　　　シート」内のアンケートデータを一度に印刷することができます。\n　　　　　　　　　　　　　　ただし、印刷初期設定の給紙トレイは”手差し”、用紙は”ハガキサイズ”となっている\n　　　　　　　　　　　　　　ため、他のサイズの用紙を用意した場合は、プリンターエラーが出る場合があります。\n　　　　　　　　　　　　　　また、一度印刷ボタンを押すと途中で中断できないため、印刷環境を整えてからクリック\n　　　　　　　　　　　　　　してください。\n\n                            ※各施設に設置されているプリンターの仕様によっても、設定方法が異なる可能性があるため\n　　　　　　　　　　　　　　適宜、プリンターにあった設定方法を確認してください。\n\n　　　◆「差し込み用」・・・このシートに入力されているデータは、当課題の”答え”を兼ねていますので、当シート\n　　　　　　　　　　　　　　のデータを変更するとすべてのシートに影響します。\n\n　　　◆「回答参考」　・・・「アンケート入力用フォーマット」構成のためのシートです。\n\n　　　"]
["　　　◆「１」～「２１」の「アンケート入力用フォーマット」\n　　　　　　　　　　　・・・選手が実際に当フォーマットに入力する用に作成しています。\n　　　　　　　　　　　　　　当フォーマットは課題数に応じてシートをコピーし増設してください。\n\n　　　◆「入力フォーム合計」　・・・「アンケート入力用フォーマット」に入力した情報が当シートにまとまります。\n　　　　　　　　　　　　　　　　　　「アンケート入力用フォーマット」を増設した場合は、「入力フォーム合計」に\n　　　　　　　　　　　　　　　　　　 連動しているセルの数式を修正する必要があります。　　　　　　　　　　　　　　\n\n　　　◆「採点例」　　・・・「差し込み用」と「入力フォーマット合計」を比較して採点できるシートです。"]
["○当課題（エクセルファイル）は、マクロは使用しておりませんが、使用するにあたって以下の知識を必要とします。\n　　\n　　　◆エクセル関数（if関数、vlookup関数など）\n　　　◆行・列の表示方法\n　　　◆シートの保護、シートの表示・非表示及びシートへのパスワードの付与"]
["○当エクセルをそのまま地方アビリンピック大会の課題として実施する場合は、以下の点に注意して下さい。\n\n　　■選手が競技を実施するために不要なシートは非表示にし、パスワードをかけること。（選手によるシート再表示防止）\n\n　　　　（操作方法）※Microsoft　Excel2010の場合\n　　　　　１．非表示にしたいシートの名前タブ上で右クリックし「非表示」をクリック\n　　　　　２．左上の「ファイル」をクリック\n　　　　　３．「情報」タブの「ブックの保護」をクリック\n　　　　　４．「ブック構成の保護」をクリックし、「シート構成」にチェックを付けたままパスワードを設定する。\n　\n　　　※シートを再表示したい時は、２→３→４の順に進むと「ブック構成の保護解除」になりパスワードを入力すること\n　　　　で解除できます。　　　\n\n\n\n"]

{"sheet":"課題説明  (39)","index":107,"n_rows":5,"n_cols":1,"rows_kept":5,"cut":false,"hidden":true,"merged":[[0,0,0,13],[1,0,1,13],[2,0,2,13],[3,0,3,13],[4,0,4,13]]}
["当課題及びエクセルファイルの取扱いについての注意事項"]
["○当課題は、パソコンデータ入力競技課題１を想定して作成されており、当エクセルを使用することで、課題作成から選手の入力作業、採点までが可能です。\n\n　　当エクセルファイルの構成及び説明は以下の通りです。\n\n　　　◆「課題説明」　・・・当シート。\n\n　　　◆「印刷用」　　・・・印刷用シートの画面上に「印刷用」ボタンが設置されており、１クリックで「差し込み用\n　　　　　　　　　　　　　　シート」内のアンケートデータを一度に印刷することができます。\n　　　　　　　　　　　　　　ただし、印刷初期設定の給紙トレイは”手差し”、用紙は”ハガキサイズ”となっている\n　　　　　　　　　　　　　　ため、他のサイズの用紙を用意した場合は、プリンターエラーが出る場合があります。\n　　　　　　　　　　　　　　また、一度印刷ボタンを押すと途中で中断できないため、印刷環境を整えてからクリック\n　　　　　　　　　　　　　　してください。\n\n                            ※各施設に設置されているプリンターの仕様によっても、設定方法が異なる可能性があるため\n　　　　　　　　　　　　　　適宜、プリンターにあった設定方法を確認してください。\n\n　　　◆「差し込み用」・・・このシートに入力されているデータは、当課題の”答え”を兼ねていますので、当シート\n　　　　　　　　　　　　　　のデータを変更するとすべてのシートに影響します。\n\n　　　◆「回答参考」　・・・「アンケート入力用フォーマット」構成のためのシートです。\n\n　　　"]
["　　　◆「１」～「２１」の「アンケート入力用フォーマット」\n　　　　　　　　　　　・・・選手が実際に当フォーマットに入力する用に作成しています。\n　　　　　　　　　　　　　　当フォーマットは課題数に応じてシートをコピーし増設してください。\n\n　　　◆「入力フォーム合計」　・・・「アンケート入力用フォーマット」に入力した情報が当シートにまとまります。\n　　　　　　　　　　　　　　　　　　「アンケート入力用フォーマット」を増設した場合は、「入力フォーム合計」に\n　　　　　　　　　　　　　　　　　　 連動しているセルの数式を修正する必要があります。　　　　　　　　　　　　　　\n\n　　　◆「採点例」　　・・・「差し込み用」と「入力フォーマット合計」を比較して採点できるシートです。"]
["○当課題（エクセルファイル）は、マクロは使用しておりませんが、使用するにあたって以下の知識を必要とします。\n　　\n　　　◆エクセル関数（if関数、vlookup関数など）\n　　　◆行・列の表示方法\n　　　◆シートの保護、シートの表示・非表示及びシートへのパスワードの付与"]
["○当エクセルをそのまま地方アビリンピック大会の課題として実施する場合は、以下の点に注意して下さい。\n\n　　■選手が競技を実施するために不要なシートは非表示にし、パスワードをかけること。（選手によるシート再表示防止）\n\n　　　　（操作方法）※Microsoft　Excel2010の場合\n　　　　　１．非表示にしたいシートの名前タブ上で右クリックし「非表示」をクリック\n　　　　　２．左上の「ファイル」をクリック\n　　　　　３．「情報」タブの「ブックの保護」をクリック\n　　　　　４．「ブック構成の保護」をクリックし、「シート構成」にチェックを付けたままパスワードを設定する。\n　\n　　　※シートを再表示したい時は、２→３→４の順に進むと「ブック構成の保護解除」になりパスワードを入力すること\n　　　　で解除できます。　　　\n\n\n\n"]

{"sheet":"課題説明  (38)","index":108,"n_rows":5,"n_cols":1,"rows_kept":5,"cut":false,"hidden":true,"merged":[[0,0,0,13],[1,0,1,13],[2,0,2,13],[3,0,3,13],[4,0,4,13]]}
["当課題及びエクセルファイルの取扱いについての注意事項"]
["○当課題は、パソコンデータ入力競技課題１を想定して作成されており、当エクセルを使用することで、課題作成から選手の入力作業、採点までが可能です。\n\n　　当エクセルファイルの構成及び説明は以下の通りです。\n\n　　　◆「課題説明」　・・・当シート。\n\n　　　◆「印刷用」　　・・・印刷用シートの画面上に「印刷用」ボタンが設置されており、１クリックで「差し込み用\n　　　　　　　　　　　　　　シート」内のアンケートデータを一度に印刷することができます。\n　　　　　　　　　　　　　　ただし、印刷初期設定の給紙トレイは”手差し”、用紙は”ハガキサイズ”となっている\n　　　　　　　　　　　　　　ため、他のサイズの用紙を用意した場合は、プリンターエラーが出る場合があります。\n　　　　　　　　　　　　　　また、一度印刷ボタンを押すと途中で中断できないため、印刷環境を整えてからクリック\n　　　　　　　　　　　　　　してください。\n\n                            ※各施設に設置されているプリンターの仕様によっても、設定方法が異なる可能性があるため\n　　　　　　　　　　　　　　適宜、プリンターにあった設定方法を確認してください。\n\n　　　◆「差し込み用」・・・このシートに入力されているデータは、当課題の”答え”を兼ねていますので、当シート\n　　　　　　　　　　　　　　のデータを変更するとすべてのシートに影響します。\n\n　　　◆「回答参考」　・・・「アンケート入力用フォーマット」構成のためのシートです。\n\n　　　"]
["　　　◆「１」～「２１」の「アンケート入力用フォーマット」\n　　　　　　　　　　　・・・選手が実際に当フォーマットに入力する用に作成しています。\n　　　　　　　　　　　　　　当フォーマットは課題数に応じてシートをコピーし増設してください。\n\n　　　◆「入力フォーム合計」　・・・「アンケート入力用フォーマット」に入力した情報が当シートにまとまります。\n　　　　　　　　　　　　　　　　　　「アンケート入力用フォーマット」を増設した場合は、「入力フォーム合計」に\n　　　　　　　　　　　　　　　　　　 連動しているセルの数式を修正する必要があります。　　　　　　　　　　　　　　\n\n　　　◆「採点例」　　・・・「差し込み用」と「入力フォーマット合計」を比較して採点できるシートです。"]
["○当課題（エクセルファイル）は、マクロは使用しておりませんが、使用するにあたって以下の知識を必要とします。\n　　\n　　　◆エクセル関数（if関数、vlookup関数など）\n　　　◆行・列の表示方法\n　　　◆シートの保護、シートの表示・非表示及びシートへのパスワードの付与"]
["○当エクセルをそのまま地方アビリンピック大会の課題として実施する場合は、以下の点に注意して下さい。\n\n　　■選手が競技を実施するために不要なシートは非表示にし、パスワードをかけること。（選手によるシート再表示防止）\n\n　　　　（操作方法）※Microsoft　Excel2010の場合\n　　　　　１．非表示にしたいシートの名前タブ上で右クリックし「非表示」をクリック\n　　　　　２．左上の「ファイル」をクリック\n　　　　　３．「情報」タブの「ブックの保護」をクリック\n　　　　　４．「ブック構成の保護」をクリックし、「シート構成」にチェックを付けたままパスワードを設定する。\n　\n　　　※シートを再表示したい時は、２→３→４の順に進むと「ブック構成の保護解除」になりパスワードを入力すること\n　　　　で解除できます。　　　\n\n\n\n"]

{"sheet":"課題説明  (37)","index":109,"n_rows":5,"n_cols":1,"rows_kept":5,"cut":false,"hidden":true,"merged":[[0,0,0,13],[1,0,1,13],[2,0,2,13],[3,0,3,13],[4,0,4,13]]}
["当課題及びエクセルファイルの取扱いについての注意事項"]
["○当課題は、パソコンデータ入力競技課題１を想定して作成されており、当エクセルを使用することで、課題作成から選手の入力作業、採点までが可能です。\n\n　　当エクセルファイルの構成及び説明は以下の通りです。\n\n　　　◆「課題説明」　・・・当シート。\n\n　　　◆「印刷用」　　・・・印刷用シートの画面上に「印刷用」ボタンが設置されており、１クリックで「差し込み用\n　　　　　　　　　　　　　　シート」内のアンケートデータを一度に印刷することができます。\n　　　　　　　　　　　　　　ただし、印刷初期設定の給紙トレイは”手差し”、用紙は”ハガキサイズ”となっている\n　　　　　　　　　　　　　　ため、他のサイズの用紙を用意した場合は、プリンターエラーが出る場合があります。\n　　　　　　　　　　　　　　また、一度印刷ボタンを押すと途中で中断できないため、印刷環境を整えてからクリック\n　　　　　　　　　　　　　　してください。\n\n                            ※各施設に設置されているプリンターの仕様によっても、設定方法が異なる可能性があるため\n　　　　　　　　　　　　　　適宜、プリンターにあった設定方法を確認してください。\n\n　　　◆「差し込み用」・・・このシートに入力されているデータは、当課題の”答え”を兼ねていますので、当シート\n　　　　　　　　　　　　　　のデータを変更するとすべてのシートに影響します。\n\n　　　◆「回答参考」　・・・「アンケート入力用フォーマット」構成のためのシートです。\n\n　　　"]
["　　　◆「１」～「２１」の「アンケート入力用フォーマット」\n　　　　　　　　　　　・・・選手が実際に当フォーマットに入力する用に作成しています。\n　　　　　　　　　　　　　　当フォーマットは課題数に応じてシートをコピーし増設してください。\n\n　　　◆「入力フォーム合計」　・・・「アンケート入力用フォーマット」に入力した情報が当シートにまとまります。\n　　　　　　　　　　　　　　　　　　「アンケート入力用フォーマット」を増設した場合は、「入力フォーム合計」に\n　　　　　　　　　　　　　　　　　　 連動しているセルの数式を修正する必要があります。　　　　　　　　　　　　　　\n\n　　　◆「採点例」　　・・・「差し込み用」と「入力フォーマット合計」を比較して採点できるシートです。"]
["○当課題（エクセルファイル）は、マクロは使用しておりませんが、使用するにあたって以下の知識を必要とします。\n　　\n　　　◆エクセル関数（if関数、vlookup関数など）\n　　　◆行・列の表示方法\n　　　◆シートの保護、シートの表示・非表示及びシートへのパスワードの付与"]
["○当エクセルをそのまま地方アビリンピック大会の課題として実施する場合は、以下の点に注意して下さい。\n\n　　■選手が競技を実施するために不要なシートは非表示にし、パスワードをかけること。（選手によるシート再表示防止）\n\n　　　　（操作方法）※Microsoft　Excel2010の場合\n　　　　　１．非表示にしたいシートの名前タブ上で右クリックし「非表示」をクリック\n　　　　　２．左上の「ファイル」をクリック\n　　　　　３．「情報」タブの「ブックの保護」をクリック\n　　　　　４．「ブック構成の保護」をクリックし、「シート構成」にチェックを付けたままパスワードを設定する。\n　\n　　　※シートを再表示したい時は、２→３→４の順に進むと「ブック構成の保護解除」になりパスワードを入力すること\n　　　　で解除できます。　　　\n\n\n\n"]

{"sheet":"課題説明  (36)","index":110,"n_rows":5,"n_cols":1,"rows_kept":5,"cut":false,"hidden":true,"merged":[[0,0,0,13],[1,0,1,13],[2,0,2,13],[3,0,3,13],[4,0,4,13]]}
["当課題及びエクセルファイルの取扱いについての注意事項"]
["○当課題は、パソコンデータ入力競技課題１を想定して作成されており、当エクセルを使用することで、課題作成から選手の入力作業、採点までが可能です。\n\n　　当エクセルファイルの構成及び説明は以下の通りです。\n\n　　　◆「課題説明」　・・・当シート。\n\n　　　◆「印刷用」　　・・・印刷用シートの画面上に「印刷用」ボタンが設置されており、１クリックで「差し込み用\n　　　　　　　　　　　　　　シート」内のアンケートデータを一度に印刷することができます。\n　　　　　　　　　　　　　　ただし、印刷初期設定の給紙トレイは”手差し”、用紙は”ハガキサイズ”となっている\n　　　　　　　　　　　　　　ため、他のサイズの用紙を用意した場合は、プリンターエラーが出る場合があります。\n　　　　　　　　　　　　　　また、一度印刷ボタンを押すと途中で中断できないため、印刷環境を整えてからクリック\n　　　　　　　　　　　　　　してください。\n\n                            ※各施設に設置されているプリンターの仕様によっても、設定方法が異なる可能性があるため\n　　　　　　　　　　　　　　適宜、プリンターにあった設定方法を確認してください。\n\n　　　◆「差し込み用」・・・このシートに入力されているデータは、当課題の”答え”を兼ねていますので、当シート\n　　　　　　　　　　　　　　のデータを変更するとすべてのシートに影響します。\n\n　　　◆「回答参考」　・・・「アンケート入力用フォーマット」構成のためのシートです。\n\n　　　"]
["　　　◆「１」～「２１」の「アンケート入力用フォーマット」\n　　　　　　　　　　　・・・選手が実際に当フォーマットに入力する用に作成しています。\n　　　　　　　　　　　　　　当フォーマットは課題数に応じてシートをコピーし増設してください。\n\n　　　◆「入力フォーム合計」　・・・「アンケート入力用フォーマット」に入力した情報が当シートにまとまります。\n　　　　　　　　　　　　　　　　　　「アンケート入力用フォーマット」を増設した場合は、「入力フォーム合計」に\n　　　　　　　　　　　　　　　　　　 連動しているセルの数式を修正する必要があります。　　　　　　　　　　　　　　\n\n　　　◆「採点例」　　・・・「差し込み用」と「入力フォーマット合計」を比較して採点できるシートです。"]
["○当課題（エクセルファイル）は、マクロは使用しておりませんが、使用するにあたって以下の知識を必要とします。\n　　\n　　　◆エクセル関数（if関数、vlookup関数など）\n　　　◆行・列の表示方法\n　　　◆シートの保護、シートの表示・非表示及びシートへのパスワードの付与"]
["○当エクセルをそのまま地方アビリンピック大会の課題として実施する場合は、以下の点に注意して下さい。\n\n　　■選手が競技を実施するために不要なシートは非表示にし、パスワードをかけること。（選手によるシート再表示防止）\n\n　　　　（操作方法）※Microsoft　Excel2010の場合\n　　　　　１．非表示にしたいシートの名前タブ上で右クリックし「非表示」をクリック\n　　　　　２．左上の「ファイル」をクリック\n　　　　　３．「情報」タブの「ブックの保護」をクリック\n　　　　　４．「ブック構成の保護」をクリックし、「シート構成」にチェックを付けたままパスワードを設定する。\n　\n　　　※シートを再表示したい時は、２→３→４の順に進むと「ブック構成の保護解除」になりパスワードを入力すること\n　　　　で解除できます。　　　\n\n\n\n"]

{"sheet":"課題説明  (35)","index":111,"n_rows":5,"n_cols":1,"rows_kept":5,"cut":false,"hidden":true,"merged":[[0,0,0,13],[1,0,1,13],[2,0,2,13],[3,0,3,13],[4,0,4,13]]}
["当課題及びエクセルファイルの取扱いについての注意事項"]
["○当課題は、パソコンデータ入力競技課題１を想定して作成されており、当エクセルを使用することで、課題作成から選手の入力作業、採点までが可能です。\n\n　　当エクセルファイルの構成及び説明は以下の通りです。\n\n　　　◆「課題説明」　・・・当シート。\n\n　　　◆「印刷用」　　・・・印刷用シートの画面上に「印刷用」ボタンが設置されており、１クリックで「差し込み用\n　　　　　　　　　　　　　　シート」内のアンケートデータを一度に印刷することができます。\n　　　　　　　　　　　　　　ただし、印刷初期設定の給紙トレイは”手差し”、用紙は”ハガキサイズ”となっている\n　　　　　　　　　　　　　　ため、他のサイズの用紙を用意した場合は、プリンターエラーが出る場合があります。\n　　　　　　　　　　　　　　また、一度印刷ボタンを押すと途中で中断できないため、印刷環境を整えてからクリック\n　　　　　　　　　　　　　　してください。\n\n                            ※各施設に設置されているプリンターの仕様によっても、設定方法が異なる可能性があるため\n　　　　　　　　　　　　　　適宜、プリンターにあった設定方法を確認してください。\n\n　　　◆「差し込み用」・・・このシートに入力されているデータは、当課題の”答え”を兼ねていますので、当シート\n　　　　　　　　　　　　　　のデータを変更するとすべてのシートに影響します。\n\n　　　◆「回答参考」　・・・「アンケート入力用フォーマット」構成のためのシートです。\n\n　　　"]
["　　　◆「１」～「２１」の「アンケート入力用フォーマット」\n　　　　　　　　　　　・・・選手が実際に当フォーマットに入力する用に作成しています。\n　　　　　　　　　　　　　　当フォーマットは課題数に応じてシートをコピーし増設してください。\n\n　　　◆「入力フォーム合計」　・・・「アンケート入力用フォーマット」に入力した情報が当シートにまとまります。\n　　　　　　　　　　　　　　　　　　「アンケート入力用フォーマット」を増設した場合は、「入力フォーム合計」に\n　　　　　　　　　　　　　　　　　　 連動しているセルの数式を修正する必要があります。　　　　　　　　　　　　　　\n\n　　　◆「採点例」　　・・・「差し込み用」と「入力フォーマット合計」を比較して採点できるシートです。"]
["○当課題（エクセルファイル）は、マクロは使用しておりませんが、使用するにあたって以下の知識を必要とします。\n　　\n　　　◆エクセル関数（if関数、vlookup関数など）\n　　　◆行・列の表示方法\n　　　◆シートの保護、シートの表示・非表示及びシートへのパスワードの付与"]
["○当エクセルをそのまま地方アビリンピック大会の課題として実施する場合は、以下の点に注意して下さい。\n\n　　■選手が競技を実施するために不要なシートは非表示にし、パスワードをかけること。（選手によるシート再表示防止）\n\n　　　　（操作方法）※Microsoft　Excel2010の場合\n　　　　　１．非表示にしたいシートの名前タブ上で右クリックし「非表示」をクリック\n　　　　　２．左上の「ファイル」をクリック\n　　　　　３．「情報」タブの「ブックの保護」をクリック\n　　　　　４．「ブック構成の保護」をクリックし、「シート構成」にチェックを付けたままパスワードを設定する。\n　\n　　　※シートを再表示したい時は、２→３→４の順に進むと「ブック構成の保護解除」になりパスワードを入力すること\n　　　　で解除できます。　　　\n\n\n\n"]

{"sheet":"課題説明  (34)","index":112,"n_rows":5,"n_cols":1,"rows_kept":5,"cut":false,"hidden":true,"merged":[[0,0,0,13],[1,0,1,13],[2,0,2,13],[3,0,3,13],[4,0,4,13]]}
["当課題及びエクセルファイルの取扱いについての注意事項"]
["○当課題は、パソコンデータ入力競技課題１を想定して作成されており、当エクセルを使用することで、課題作成から選手の入力作業、採点までが可能です。\n\n　　当エクセルファイルの構成及び説明は以下の通りです。\n\n　　　◆「課題説明」　・・・当シート。\n\n　　　◆「印刷用」　　・・・印刷用シートの画面上に「印刷用」ボタンが設置されており、１クリックで「差し込み用\n　　　　　　　　　　　　　　シート」内のアンケートデータを一度に印刷することができます。\n　　　　　　　　　　　　　　ただし、印刷初期設定の給紙トレイは”手差し”、用紙は”ハガキサイズ”となっている\n　　　　　　　　　　　　　　ため、他のサイズの用紙を用意した場合は、プリンターエラーが出る場合があります。\n　　　　　　　　　　　　　　また、一度印刷ボタンを押すと途中で中断できないため、印刷環境を整えてからクリック\n　　　　　　　　　　　　　　してください。\n\n                            ※各施設に設置されているプリンターの仕様によっても、設定方法が異なる可能性があるため\n　　　　　　　　　　　　　　適宜、プリンターにあった設定方法を確認してください。\n\n　　　◆「差し込み用」・・・このシートに入力されているデータは、当課題の”答え”を兼ねていますので、当シート\n　　　　　　　　　　　　　　のデータを変更するとすべてのシートに影響します。\n\n　　　◆「回答参考」　・・・「アンケート入力用フォーマット」構成のためのシートです。\n\n　　　"]
["　　　◆「１」～「２１」の「アンケート入力用フォーマット」\n　　　　　　　　　　　・・・選手が実際に当フォーマットに入力する用に作成しています。\n　　　　　　　　　　　　　　当フォーマットは課題数に応じてシートをコピーし増設してください。\n\n　　　◆「入力フォーム合計」　・・・「アンケート入力用フォーマット」に入力した情報が当シートにまとまります。\n　　　　　　　　　　　　　　　　　　「アンケート入力用フォーマット」を増設した場合は、「入力フォーム合計」に\n　　　　　　　　　　　　　　　　　　 連動しているセルの数式を修正する必要があります。　　　　　　　　　　　　　　\n\n　　　◆「採点例」　　・・・「差し込み用」と「入力フォーマット合計」を比較して採点できるシートです。"]
["○当課題（エクセルファイル）は、マクロは使用しておりませんが、使用するにあたって以下の知識を必要とします。\n　　\n　　　◆エクセル関数（if関数、vlookup関数など）\n　　　◆行・列の表示方法\n　　　◆シートの保護、シートの表示・非表示及びシートへのパスワードの付与"]
["○当エクセルをそのまま地方アビリンピック大会の課題として実施する場合は、以下の点に注意して下さい。\n\n　　■選手が競技を実施するために不要なシートは非表示にし、パスワードをかけること。（選手によるシート再表示防止）\n\n　　　　（操作方法）※Microsoft　Excel2010の場合\n　　　　　１．非表示にしたいシートの名前タブ上で右クリックし「非表示」をクリック\n　　　　　２．左上の「ファイル」をクリック\n　　　　　３．「情報」タブの「ブックの保護」をクリック\n　　　　　４．「ブック構成の保護」をクリックし、「シート構成」にチェックを付けたままパスワードを設定する。\n　\n　　　※シートを再表示したい時は、２→３→４の順に進むと「ブック構成の保護解除」になりパスワードを入力すること\n　　　　で解除できます。　　　\n\n\n\n"]

{"sheet":"課題説明  (33)","index":113,"n_rows":5,"n_cols":1,"rows_kept":5,"cut":false,"hidden":true,"merged":[[0,0,0,13],[1,0,1,13],[2,0,2,13],[3,0,3,13],[4,0,4,13]]}
["当課題及びエクセルファイルの取扱いについての注意事項"]
["○当課題は、パソコンデータ入力競技課題１を想定して作成されており、当エクセルを使用することで、課題作成から選手の入力作業、採点までが可能です。\n\n　　当エクセルファイルの構成及び説明は以下の通りです。\n\n　　　◆「課題説明」　・・・当シート。\n\n　　　◆「印刷用」　　・・・印刷用シートの画面上に「印刷用」ボタンが設置されており、１クリックで「差し込み用\n　　　　　　　　　　　　　　シート」内のアンケートデータを一度に印刷することができます。\n　　　　　　　　　　　　　　ただし、印刷初期設定の給紙トレイは”手差し”、用紙は”ハガキサイズ”となっている\n　　　　　　　　　　　　　　ため、他のサイズの用紙を用意した場合は、プリンターエラーが出る場合があります。\n　　　　　　　　　　　　　　また、一度印刷ボタンを押すと途中で中断できないため、印刷環境を整えてからクリック\n　　　　　　　　　　　　　　してください。\n\n                            ※各施設に設置されているプリンターの仕様によっても、設定方法が異なる可能性があるため\n　　　　　　　　　　　　　　適宜、プリンターにあった設定方法を確認してください。\n\n　　　◆「差し込み用」・・・このシートに入力されているデータは、当課題の”答え”を兼ねていますので、当シート\n　　　　　　　　　　　　　　のデータを変更するとすべてのシートに影響します。\n\n　　　◆「回答参考」　・・・「アンケート入力用フォーマット」構成のためのシートです。\n\n　　　"]
["　　　◆「１」～「２１」の「アンケート入力用フォーマット」\n　　　　　　　　　　　・・・選手が実際に当フォーマットに入力する用に作成しています。\n　　　　　　　　　　　　　　当フォーマットは課題数に応じてシートをコピーし増設してください。\n\n　　　◆「入力フォーム合計」　・・・「アンケート入力用フォーマット」に入力した情報が当シートにまとまります。\n　　　　　　　　　　　　　　　　　　「アンケート入力用フォーマット」を増設した場合は、「入力フォーム合計」に\n　　　　　　　　　　　　　　　　　　 連動しているセルの数式を修正する必要があります。　　　　　　　　　　　　　　\n\n　　　◆「採点例」　　・・・「差し込み用」と「入力フォーマット合計」を比較して採点できるシートです。"]
["○当課題（エクセルファイル）は、マクロは使用しておりませんが、使用するにあたって以下の知識を必要とします。\n　　\n　　　◆エクセル関数（if関数、vlookup関数など）\n　　　◆行・列の表示方法\n　　　◆シートの保護、シートの表示・非表示及びシートへのパスワードの付与"]
["○当エクセルをそのまま地方アビリンピック大会の課題として実施する場合は、以下の点に注意して下さい。\n\n　　■選手が競技を実施するために不要なシートは非表示にし、パスワードをかけること。（選手によるシート再表示防止）\n\n　　　　（操作方法）※Microsoft　Excel2010の場合\n　　　　　１．非表示にしたいシートの名前タブ上で右クリックし「非表示」をクリック\n　　　　　２．左上の「ファイル」をクリック\n　　　　　３．「情報」タブの「ブックの保護」をクリック\n　　　　　４．「ブック構成の保護」をクリックし、「シート構成」にチェックを付けたままパスワードを設定する。\n　\n　　　※シートを再表示したい時は、２→３→４の順に進むと「ブック構成の保護解除」になりパスワードを入力すること\n　　　　で解除できます。　　　\n\n\n\n"]

{"sheet":"課題説明  (32)","index":114,"n_rows":5,"n_cols":1,"rows_kept":5,"cut":false,"hidden":true,"merged":[[0,0,0,13],[1,0,1,13],[2,0,2,13],[3,0,3,13],[4,0,4,13]]}
["当課題及びエクセルファイルの取扱いについての注意事項"]
["○当課題は、パソコンデータ入力競技課題１を想定して作成されており、当エクセルを使用することで、課題作成から選手の入力作業、採点までが可能です。\n\n　　当エクセルファイルの構成及び説明は以下の通りです。\n\n　　　◆「課題説明」　・・・当シート。\n\n　　　◆「印刷用」　　・・・印刷用シートの画面上に「印刷用」ボタンが設置されており、１クリックで「差し込み用\n　　　　　　　　　　　　　　シート」内のアンケートデータを一度に印刷することができます。\n　　　　　　　　　　　　　　ただし、印刷初期設定の給紙トレイは”手差し”、用紙は”ハガキサイズ”となっている\n　　　　　　　　　　　　　　ため、他のサイズの用紙を用意した場合は、プリンターエラーが出る場合があります。\n　　　　　　　　　　　　　　また、一度印刷ボタンを押すと途中で中断できないため、印刷環境を整えてからクリック\n　　　　　　　　　　　　　　してください。\n\n                            ※各施設に設置されているプリンターの仕様によっても、設定方法が異なる可能性があるため\n　　　　　　　　　　　　　　適宜、プリンターにあった設定方法を確認してください。\n\n　　　◆「差し込み用」・・・このシートに入力されているデータは、当課題の”答え”を兼ねていますので、当シート\n　　　　　　　　　　　　　　のデータを変更するとすべてのシートに影響します。\n\n　　　◆「回答参考」　・・・「アンケート入力用フォーマット」構成のためのシートです。\n\n　　　"]
["　　　◆「１」～「２１」の「アンケート入力用フォーマット」\n　　　　　　　　　　　・・・選手が実際に当フォーマットに入力する用に作成しています。\n　　　　　　　　　　　　　　当フォーマットは課題数に応じてシートをコピーし増設してください。\n\n　　　◆「入力フォーム合計」　・・・「アンケート入力用フォーマット」に入力した情報が当シートにまとまります。\n　　　　　　　　　　　　　　　　　　「アンケート入力用フォーマット」を増設した場合は、「入力フォーム合計」に\n　　　　　　　　　　　　　　　　　　 連動しているセルの数式を修正する必要があります。　　　　　　　　　　　　　　\n\n　　　◆「採点例」　　・・・「差し込み用」と「入力フォーマット合計」を比較して採点できるシートです。"]
["○当課題（エクセルファイル）は、マクロは使用しておりませんが、使用するにあたって以下の知識を必要とします。\n　　\n　　　◆エクセル関数（if関数、vlookup関数など）\n　　　◆行・列の表示方法\n　　　◆シートの保護、シートの表示・非表示及びシートへのパスワードの付与"]
["○当エクセルをそのまま地方アビリンピック大会の課題として実施する場合は、以下の点に注意して下さい。\n\n　　■選手が競技を実施するために不要なシートは非表示にし、パスワードをかけること。（選手によるシート再表示防止）\n\n　　　　（操作方法）※Microsoft　Excel2010の場合\n　　　　　１．非表示にしたいシートの名前タブ上で右クリックし「非表示」をクリック\n　　　　　２．左上の「ファイル」をクリック\n　　　　　３．「情報」タブの「ブックの保護」をクリック\n　　　　　４．「ブック構成の保護」をクリックし、「シート構成」にチェックを付けたままパスワードを設定する。\n　\n　　　※シートを再表示したい時は、２→３→４の順に進むと「ブック構成の保護解除」になりパスワードを入力すること\n　　　　で解除できます。　　　\n\n\n\n"]

{"sheet":"課題説明  (31)","index":115,"n_rows":5,"n_cols":1,"rows_kept":5,"cut":false,"hidden":true,"merged":[[0,0,0,13],[1,0,1,13],[2,0,2,13],[3,0,3,13],[4,0,4,13]]}
["当課題及びエクセルファイルの取扱いについての注意事項"]
["○当課題は、パソコンデータ入力競技課題１を想定して作成されており、当エクセルを使用することで、課題作成から選手の入力作業、採点までが可能です。\n\n　　当エクセルファイルの構成及び説明は以下の通りです。\n\n　　　◆「課題説明」　・・・当シート。\n\n　　　◆「印刷用」　　・・・印刷用シートの画面上に「印刷用」ボタンが設置されており、１クリックで「差し込み用\n　　　　　　　　　　　　　　シート」内のアンケートデータを一度に印刷することができます。\n　　　　　　　　　　　　　　ただし、印刷初期設定の給紙トレイは”手差し”、用紙は”ハガキサイズ”となっている\n　　　　　　　　　　　　　　ため、他のサイズの用紙を用意した場合は、プリンターエラーが出る場合があります。\n　　　　　　　　　　　　　　また、一度印刷ボタンを押すと途中で中断できないため、印刷環境を整えてからクリック\n　　　　　　　　　　　　　　してください。\n\n                            ※各施設に設置されているプリンターの仕様によっても、設定方法が異なる可能性があるため\n　　　　　　　　　　　　　　適宜、プリンターにあった設定方法を確認してください。\n\n　　　◆「差し込み用」・・・このシートに入力されているデータは、当課題の”答え”を兼ねていますので、当シート\n　　　　　　　　　　　　　　のデータを変更するとすべてのシートに影響します。\n\n　　　◆「回答参考」　・・・「アンケート入力用フォーマット」構成のためのシートです。\n\n　　　"]
["　　　◆「１」～「２１」の「アンケート入力用フォーマット」\n　　　　　　　　　　　・・・選手が実際に当フォーマットに入力する用に作成しています。\n　　　　　　　　　　　　　　当フォーマットは課題数に応じてシートをコピーし増設してください。\n\n　　　◆「入力フォーム合計」　・・・「アンケート入力用フォーマット」に入力した情報が当シートにまとまります。\n　　　　　　　　　　　　　　　　　　「アンケート入力用フォーマット」を増設した場合は、「入力フォーム合計」に\n　　　　　　　　　　　　　　　　　　 連動しているセルの数式を修正する必要があります。　　　　　　　　　　　　　　\n\n　　　◆「採点例」　　・・・「差し込み用」と「入力フォーマット合計」を比較して採点できるシートです。"]
["○当課題（エクセルファイル）は、マクロは使用しておりませんが、使用するにあたって以下の知識を必要とします。\n　　\n　　　◆エクセル関数（if関数、vlookup関数など）\n　　　◆行・列の表示方法\n　　　◆シートの保護、シートの表示・非表示及びシートへのパスワードの付与"]
["○当エクセルをそのまま地方アビリンピック大会の課題として実施する場合は、以下の点に注意して下さい。\n\n　　■選手が競技を実施するために不要なシートは非表示にし、パスワードをかけること。（選手によるシート再表示防止）\n\n　　　　（操作方法）※Microsoft　Excel2010の場合\n　　　　　１．非表示にしたいシートの名前タブ上で右クリックし「非表示」をクリック\n　　　　　２．左上の「ファイル」をクリック\n　　　　　３．「情報」タブの「ブックの保護」をクリック\n　　　　　４．「ブック構成の保護」をクリックし、「シート構成」にチェックを付けたままパスワードを設定する。\n　\n　　　※シートを再表示したい時は、２→３→４の順に進むと「ブック構成の保護解除」になりパスワードを入力すること\n　　　　で解除できます。　　　\n\n\n\n"]

{"sheet":"課題説明  (30)","index":116,"n_rows":5,"n_cols":1,"rows_kept":5,"cut":false,"hidden":true,"merged":[[0,0,0,13],[1,0,1,13],[2,0,2,13],[3,0,3,13],[4,0,4,13]]}
["当課題及びエクセルファイルの取扱いについての注意事項"]
["○当課題は、パソコンデータ入力競技課題１を想定して作成されており、当エクセルを使用することで、課題作成から選手の入力作業、採点までが可能です。\n\n　　当エクセルファイルの構成及び説明は以下の通りです。\n\n　　　◆「課題説明」　・・・当シート。\n\n　　　◆「印刷用」　　・・・印刷用シートの画面上に「印刷用」ボタンが設置されており、１クリックで「差し込み用\n　　　　　　　　　　　　　　シート」内のアンケートデータを一度に印刷することができます。\n　　　　　　　　　　　　　　ただし、印刷初期設定の給紙トレイは”手差し”、用紙は”ハガキサイズ”となっている\n　　　　　　　　　　　　　　ため、他のサイズの用紙を用意した場合は、プリンターエラーが出る場合があります。\n　　　　　　　　　　　　　　また、一度印刷ボタンを押すと途中で中断できないため、印刷環境を整えてからクリック\n　　　　　　　　　　　　　　してください。\n\n                            ※各施設に設置されているプリンターの仕様によっても、設定方法が異なる可能性があるため\n　　　　　　　　　　　　　　適宜、プリンターにあった設定方法を確認してください。\n\n　　　◆「差し込み用」・・・このシートに入力されているデータは、当課題の”答え”を兼ねていますので、当シート\n　　　　　　　　　　　　　　のデータを変更するとすべてのシートに影響します。\n\n　　　◆「回答参考」　・・・「アンケート入力用フォーマット」構成のためのシートです。\n\n　　　"]
["　　　◆「１」～「２１」の「アンケート入力用フォーマット」\n　　　　　　　　　　　・・・選手が実際に当フォーマットに入力する用に作成しています。\n　　　　　　　　　　　　　　当フォーマットは課題数に応じてシートをコピーし増設してください。\n\n　　　◆「入力フォーム合計」　・・・「アンケート入力用フォーマット」に入力した情報が当シートにまとまります。\n　　　　　　　　　　　　　　　　　　「アンケート入力用フォーマット」を増設した場合は、「入力フォーム合計」に\n　　　　　　　　　　　　　　　　　　 連動しているセルの数式を修正する必要があります。　　　　　　　　　　　　　　\n\n　　　◆「採点例」　　・・・「差し込み用」と「入力フォーマット合計」を比較して採点できるシートです。"]
["○当課題（エクセルファイル）は、マクロは使用しておりませんが、使用するにあたって以下の知識を必要とします。\n　　\n　　　◆エクセル関数（if関数、vlookup関数など）\n　　　◆行・列の表示方法\n　　　◆シートの保護、シートの表示・非表示及びシートへのパスワードの付与"]
["○当エクセルをそのまま地方アビリンピック大会の課題として実施する場合は、以下の点に注意して下さい。\n\n　　■選手が競技を実施するために不要なシートは非表示にし、パスワードをかけること。（選手によるシート再表示防止）\n\n　　　　（操作方法）※Microsoft　Excel2010の場合\n　　　　　１．非表示にしたいシートの名前タブ上で右クリックし「非表示」をクリック\n　　　　　２．左上の「ファイル」をクリック\n　　　　　３．「情報」タブの「ブックの保護」をクリック\n　　　　　４．「ブック構成の保護」をクリックし、「シート構成」にチェックを付けたままパスワードを設定する。\n　\n　　　※シートを再表示したい時は、２→３→４の順に進むと「ブック構成の保護解除」になりパスワードを入力すること\n　　　　で解除できます。　　　\n\n\n\n"]

{"sheet":"課題説明  (29)","index":117,"n_rows":5,"n_cols":1,"rows_kept":5,"cut":false,"hidden":true,"merged":[[0,0,0,13],[1,0,1,13],[2,0,2,13],[3,0,3,13],[4,0,4,13]]}
["当課題及びエクセルファイルの取扱いについての注意事項"]
["○当課題は、パソコンデータ入力競技課題１を想定して作成されており、当エクセルを使用することで、課題作成から選手の入力作業、採点までが可能です。\n\n　　当エクセルファイルの構成及び説明は以下の通りです。\n\n　　　◆「課題説明」　・・・当シート。\n\n　　　◆「印刷用」　　・・・印刷用シートの画面上に「印刷用」ボタンが設置されており、１クリックで「差し込み用\n　　　　　　　　　　　　　　シート」内のアンケートデータを一度に印刷することができます。\n　　　　　　　　　　　　　　ただし、印刷初期設定の給紙トレイは”手差し”、用紙は”ハガキサイズ”となっている\n　　　　　　　　　　　　　　ため、他のサイズの用紙を用意した場合は、プリンターエラーが出る場合があります。\n　　　　　　　　　　　　　　また、一度印刷ボタンを押すと途中で中断できないため、印刷環境を整えてからクリック\n　　　　　　　　　　　　　　してください。\n\n                            ※各施設に設置されているプリンターの仕様によっても、設定方法が異なる可能性があるため\n　　　　　　　　　　　　　　適宜、プリンターにあった設定方法を確認してください。\n\n　　　◆「差し込み用」・・・このシートに入力されているデータは、当課題の”答え”を兼ねていますので、当シート\n　　　　　　　　　　　　　　のデータを変更するとすべてのシートに影響します。\n\n　　　◆「回答参考」　・・・「アンケート入力用フォーマット」構成のためのシートです。\n\n　　　"]
["　　　◆「１」～「２１」の「アンケート入力用フォーマット」\n　　　　　　　　　　　・・・選手が実際に当フォーマットに入力する用に作成しています。\n　　　　　　　　　　　　　　当フォーマットは課題数に応じてシートをコピーし増設してください。\n\n　　　◆「入力フォーム合計」　・・・「アンケート入力用フォーマット」に入力した情報が当シートにまとまります。\n　　　　　　　　　　　　　　　　　　「アンケート入力用フォーマット」を増設した場合は、「入力フォーム合計」に\n　　　　　　　　　　　　　　　　　　 連動しているセルの数式を修正する必要があります。　　　　　　　　　　　　　　\n\n　　　◆「採点例」　　・・・「差し込み用」と「入力フォーマット合計」を比較して採点できるシートです。"]
["○当課題（エクセルファイル）は、マクロは使用しておりませんが、使用するにあたって以下の知識を必要とします。\n　　\n　　　◆エクセル関数（if関数、vlookup関数など）\n　　　◆行・列の表示方法\n　　　◆シートの保護、シートの表示・非表示及びシートへのパスワードの付与"]
["○当エクセルをそのまま地方アビリンピック大会の課題として実施する場合は、以下の点に注意して下さい。\n\n　　■選手が競技を実施するために不要なシートは非表示にし、パスワードをかけること。（選手によるシート再表示防止）\n\n　　　　（操作方法）※Microsoft　Excel2010の場合\n　　　　　１．非表示にしたいシートの名前タブ上で右クリックし「非表示」をクリック\n　　　　　２．左上の「ファイル」をクリック\n　　　　　３．「情報」タブの「ブックの保護」をクリック\n　　　　　４．「ブック構成の保護」をクリックし、「シート構成」にチェックを付けたままパスワードを設定する。\n　\n　　　※シートを再表示したい時は、２→３→４の順に進むと「ブック構成の保護解除」になりパスワードを入力すること\n　　　　で解除できます。　　　\n\n\n\n"]

{"sheet":"課題説明  (28)","index":118,"n_rows":5,"n_cols":1,"rows_kept":5,"cut":false,"hidden":true,"merged":[[0,0,0,13],[1,0,1,13],[2,0,2,13],[3,0,3,13],[4,0,4,13]]}
["当課題及びエクセルファイルの取扱いについての注意事項"]
["○当課題は、パソコンデータ入力競技課題１を想定して作成されており、当エクセルを使用することで、課題作成から選手の入力作業、採点までが可能です。\n\n　　当エクセルファイルの構成及び説明は以下の通りです。\n\n　　　◆「課題説明」　・・・当シート。\n\n　　　◆「印刷用」　　・・・印刷用シートの画面上に「印刷用」ボタンが設置されており、１クリックで「差し込み用\n　　　　　　　　　　　　　　シート」内のアンケートデータを一度に印刷することができます。\n　　　　　　　　　　　　　　ただし、印刷初期設定の給紙トレイは”手差し”、用紙は”ハガキサイズ”となっている\n　　　　　　　　　　　　　　ため、他のサイズの用紙を用意した場合は、プリンターエラーが出る場合があります。\n　　　　　　　　　　　　　　また、一度印刷ボタンを押すと途中で中断できないため、印刷環境を整えてからクリック\n　　　　　　　　　　　　　　してください。\n\n                            ※各施設に設置されているプリンターの仕様によっても、設定方法が異なる可能性があるため\n　　　　　　　　　　　　　　適宜、プリンターにあった設定方法を確認してください。\n\n　　　◆「差し込み用」・・・このシートに入力されているデータは、当課題の”答え”を兼ねていますので、当シート\n　　　　　　　　　　　　　　のデータを変更するとすべてのシートに影響します。\n\n　　　◆「回答参考」　・・・「アンケート入力用フォーマット」構成のためのシートです。\n\n　　　"]
["　　　◆「１」～「２１」の「アンケート入力用フォーマット」\n　　　　　　　　　　　・・・選手が実際に当フォーマットに入力する用に作成しています。\n　　　　　　　　　　　　　　当フォーマットは課題数に応じてシートをコピーし増設してください。\n\n　　　◆「入力フォーム合計」　・・・「アンケート入力用フォーマット」に入力した情報が当シートにまとまります。\n　　　　　　　　　　　　　　　　　　「アンケート入力用フォーマット」を増設した場合は、「入力フォーム合計」に\n　　　　　　　　　　　　　　　　　　 連動しているセルの数式を修正する必要があります。　　　　　　　　　　　　　　\n\n　　　◆「採点例」　　・・・「差し込み用」と「入力フォーマット合計」を比較して採点できるシートです。"]
["○当課題（エクセルファイル）は、マクロは使用しておりませんが、使用するにあたって以下の知識を必要とします。\n　　\n　　　◆エクセル関数（if関数、vlookup関数など）\n　　　◆行・列の表示方法\n　　　◆シートの保護、シートの表示・非表示及びシートへのパスワードの付与"]
["○当エクセルをそのまま地方アビリンピック大会の課題として実施する場合は、以下の点に注意して下さい。\n\n　　■選手が競技を実施するために不要なシートは非表示にし、パスワードをかけること。（選手によるシート再表示防止）\n\n　　　　（操作方法）※Microsoft　Excel2010の場合\n　　　　　１．非表示にしたいシートの名前タブ上で右クリックし「非表示」をクリック\n　　　　　２．左上の「ファイル」をクリック\n　　　　　３．「情報」タブの「ブックの保護」をクリック\n　　　　　４．「ブック構成の保護」をクリックし、「シート構成」にチェックを付けたままパスワードを設定する。\n　\n　　　※シートを再表示したい時は、２→３→４の順に進むと「ブック構成の保護解除」になりパスワードを入力すること\n　　　　で解除できます。　　　\n\n\n\n"]

{"sheet":"課題説明  (27)","index":119,"n_rows":5,"n_cols":1,"rows_kept":5,"cut":false,"hidden":true,"merged":[[0,0,0,13],[1,0,1,13],[2,0,2,13],[3,0,3,13],[4,0,4,13]]}
["当課題及びエクセルファイルの取扱いについての注意事項"]
["○当課題は、パソコンデータ入力競技課題１を想定して作成されており、当エクセルを使用することで、課題作成から選手の入力作業、採点までが可能です。\n\n　　当エクセルファイルの構成及び説明は以下の通りです。\n\n　　　◆「課題説明」　・・・当シート。\n\n　　　◆「印刷用」　　・・・印刷用シートの画面上に「印刷用」ボタンが設置されており、１クリックで「差し込み用\n　　　　　　　　　　　　　　シート」内のアンケートデータを一度に印刷することができます。\n　　　　　　　　　　　　　　ただし、印刷初期設定の給紙トレイは”手差し”、用紙は”ハガキサイズ”となっている\n　　　　　　　　　　　　　　ため、他のサイズの用紙を用意した場合は、プリンターエラーが出る場合があります。\n　　　　　　　　　　　　　　また、一度印刷ボタンを押すと途中で中断できないため、印刷環境を整えてからクリック\n　　　　　　　　　　　　　　してください。\n\n                            ※各施設に設置されているプリンターの仕様によっても、設定方法が異なる可能性があるため\n　　　　　　　　　　　　　　適宜、プリンターにあった設定方法を確認してください。\n\n　　　◆「差し込み用」・・・このシートに入力されているデータは、当課題の”答え”を兼ねていますので、当シート\n　　　　　　　　　　　　　　のデータを変更するとすべてのシートに影響します。\n\n　　　◆「回答参考」　・・・「アンケート入力用フォーマット」構成のためのシートです。\n\n　　　"]
["　　　◆「１」～「２１」の「アンケート入力用フォーマット」\n　　　　　　　　　　　・・・選手が実際に当フォーマットに入力する用に作成しています。\n　　　　　　　　　　　　　　当フォーマットは課題数に応じてシートをコピーし増設してください。\n\n　　　◆「入力フォーム合計」　・・・「アンケート入力用フォーマット」に入力した情報が当シートにまとまります。\n　　　　　　　　　　　　　　　　　　「アンケート入力用フォーマット」を増設した場合は、「入力フォーム合計」に\n　　　　　　　　　　　　　　　　　　 連動しているセルの数式を修正する必要があります。　　　　　　　　　　　　　　\n\n　　　◆「採点例」　　・・・「差し込み用」と「入力フォーマット合計」を比較して採点できるシートです。"]
["○当課題（エクセルファイル）は、マクロは使用しておりませんが、使用するにあたって以下の知識を必要とします。\n　　\n　　　◆エクセル関数（if関数、vlookup関数など）\n　　　◆行・列の表示方法\n　　　◆シートの保護、シートの表示・非表示及びシートへのパスワードの付与"]
["○当エクセルをそのまま地方アビリンピック大会の課題として実施する場合は、以下の点に注意して下さい。\n\n　　■選手が競技を実施するために不要なシートは非表示にし、パスワードをかけること。（選手によるシート再表示防止）\n\n　　　　（操作方法）※Microsoft　Excel2010の場合\n　　　　　１．非表示にしたいシートの名前タブ上で右クリックし「非表示」をクリック\n　　　　　２．左上の「ファイル」をクリック\n　　　　　３．「情報」タブの「ブックの保護」をクリック\n　　　　　４．「ブック構成の保護」をクリックし、「シート構成」にチェックを付けたままパスワードを設定する。\n　\n　　　※シートを再表示したい時は、２→３→４の順に進むと「ブック構成の保護解除」になりパスワードを入力すること\n　　　　で解除できます。　　　\n\n\n\n"]

{"sheet":"課題説明  (26)","index":120,"n_rows":5,"n_cols":1,"rows_kept":5,"cut":false,"hidden":true,"merged":[[0,0,0,13],[1,0,1,13],[2,0,2,13],[3,0,3,13],[4,0,4,13]]}
["当課題及びエクセルファイルの取扱いについての注意事項"]
["○当課題は、パソコンデータ入力競技課題１を想定して作成されており、当エクセルを使用することで、課題作成から選手の入力作業、採点までが可能です。\n\n　　当エクセルファイルの構成及び説明は以下の通りです。\n\n　　　◆「課題説明」　・・・当シート。\n\n　　　◆「印刷用」　　・・・印刷用シートの画面上に「印刷用」ボタンが設置されており、１クリックで「差し込み用\n　　　　　　　　　　　　　　シート」内のアンケートデータを一度に印刷することができます。\n　　　　　　　　　　　　　　ただし、印刷初期設定の給紙トレイは”手差し”、用紙は”ハガキサイズ”となっている\n　　　　　　　　　　　　　　ため、他のサイズの用紙を用意した場合は、プリンターエラーが出る場合があります。\n　　　　　　　　　　　　　　また、一度印刷ボタンを押すと途中で中断できないため、印刷環境を整えてからクリック\n　　　　　　　　　　　　　　してください。\n\n                            ※各施設に設置されているプリンターの仕様によっても、設定方法が異なる可能性があるため\n　　　　　　　　　　　　　　適宜、プリンターにあった設定方法を確認してください。\n\n　　　◆「差し込み用」・・・このシートに入力されているデータは、当課題の”答え”を兼ねていますので、当シート\n　　　　　　　　　　　　　　のデータを変更するとすべてのシートに影響します。\n\n　　　◆「回答参考」　・・・「アンケート入力用フォーマット」構成のためのシートです。\n\n　　　"]
["　　　◆「１」～「２１」の「アンケート入力用フォーマット」\n　　　　　　　　　　　・・・選手が実際に当フォーマットに入力する用に作成しています。\n　　　　　　　　　　　　　　当フォーマットは課題数に応じてシートをコピーし増設してください。\n\n　　　◆「入力フォーム合計」　・・・「アンケート入力用フォーマット」に入力した情報が当シートにまとまります。\n　　　　　　　　　　　　　　　　　　「アンケート入力用フォーマット」を増設した場合は、「入力フォーム合計」に\n　　　　　　　　　　　　　　　　　　 連動しているセルの数式を修正する必要があります。　　　　　　　　　　　　　　\n\n　　　◆「採点例」　　・・・「差し込み用」と「入力フォーマット合計」を比較して採点できるシートです。"]
["○当課題（エクセルファイル）は、マクロは使用しておりませんが、使用するにあたって以下の知識を必要とします。\n　　\n　　　◆エクセル関数（if関数、vlookup関数など）\n　　　◆行・列の表示方法\n　　　◆シートの保護、シートの表示・非表示及びシートへのパスワードの付与"]
["○当エクセルをそのまま地方アビリンピック大会の課題として実施する場合は、以下の点に注意して下さい。\n\n　　■選手が競技を実施するために不要なシートは非表示にし、パスワードをかけること。（選手によるシート再表示防止）\n\n　　　　（操作方法）※Microsoft　Excel2010の場合\n　　　　　１．非表示にしたいシートの名前タブ上で右クリックし「非表示」をクリック\n　　　　　２．左上の「ファイル」をクリック\n　　　　　３．「情報」タブの「ブックの保護」をクリック\n　　　　　４．「ブック構成の保護」をクリックし、「シート構成」にチェックを付けたままパスワードを設定する。\n　\n　　　※シートを再表示したい時は、２→３→４の順に進むと「ブック構成の保護解除」になりパスワードを入力すること\n　　　　で解除できます。　　　\n\n\n\n"]

{"sheet":"課題説明  (25)","index":121,"n_rows":5,"n_cols":1,"rows_kept":5,"cut":false,"hidden":true,"merged":[[0,0,0,13],[1,0,1,13],[2,0,2,13],[3,0,3,13],[4,0,4,13]]}
["当課題及びエクセルファイルの取扱いについての注意事項"]
["○当課題は、パソコンデータ入力競技課題１を想定して作成されており、当エクセルを使用することで、課題作成から選手の入力作業、採点までが可能です。\n\n　　当エクセルファイルの構成及び説明は以下の通りです。\n\n　　　◆「課題説明」　・・・当シート。\n\n　　　◆「印刷用」　　・・・印刷用シートの画面上に「印刷用」ボタンが設置されており、１クリックで「差し込み用\n　　　　　　　　　　　　　　シート」内のアンケートデータを一度に印刷することができます。\n　　　　　　　　　　　　　　ただし、印刷初期設定の給紙トレイは”手差し”、用紙は”ハガキサイズ”となっている\n　　　　　　　　　　　　　　ため、他のサイズの用紙を用意した場合は、プリンターエラーが出る場合があります。\n　　　　　　　　　　　　　　また、一度印刷ボタンを押すと途中で中断できないため、印刷環境を整えてからクリック\n　　　　　　　　　　　　　　してください。\n\n                            ※各施設に設置されているプリンターの仕様によっても、設定方法が異なる可能性があるため\n　　　　　　　　　　　　　　適宜、プリンターにあった設定方法を確認してください。\n\n　　　◆「差し込み用」・・・このシートに入力されているデータは、当課題の”答え”を兼ねていますので、当シート\n　　　　　　　　　　　　　　のデータを変更するとすべてのシートに影響します。\n\n　　　◆「回答参考」　・・・「アンケート入力用フォーマット」構成のためのシートです。\n\n　　　"]
["　　　◆「１」～「２１」の「アンケート入力用フォーマット」\n　　　　　　　　　　　・・・選手が実際に当フォーマットに入力する用に作成しています。\n　　　　　　　　　　　　　　当フォーマットは課題数に応じてシートをコピーし増設してください。\n\n　　　◆「入力フォーム合計」　・・・「アンケート入力用フォーマット」に入力した情報が当シートにまとまります。\n　　　　　　　　　　　　　　　　　　「アンケート入力用フォーマット」を増設した場合は、「入力フォーム合計」に\n　　　　　　　　　　　　　　　　　　 連動しているセルの数式を修正する必要があります。　　　　　　　　　　　　　　\n\n　　　◆「採点例」　　・・・「差し込み用」と「入力フォーマット合計」を比較して採点できるシートです。"]
["○当課題（エクセルファイル）は、マクロは使用しておりませんが、使用するにあたって以下の知識を必要とします。\n　　\n　　　◆エクセル関数（if関数、vlookup関数など）\n　　　◆行・列の表示方法\n　　　◆シートの保護、シートの表示・非表示及びシートへのパスワードの付与"]
["○当エクセルをそのまま地方アビリンピック大会の課題として実施する場合は、以下の点に注意して下さい。\n\n　　■選手が競技を実施するために不要なシートは非表示にし、パスワードをかけること。（選手によるシート再表示防止）\n\n　　　　（操作方法）※Microsoft　Excel2010の場合\n　　　　　１．非表示にしたいシートの名前タブ上で右クリックし「非表示」をクリック\n　　　　　２．左上の「ファイル」をクリック\n　　　　　３．「情報」タブの「ブックの保護」をクリック\n　　　　　４．「ブック構成の保護」をクリックし、「シート構成」にチェックを付けたままパスワードを設定する。\n　\n　　　※シートを再表示したい時は、２→３→４の順に進むと「ブック構成の保護解除」になりパスワードを入力すること\n　　　　で解除できます。　　　\n\n\n\n"]

{"sheet":"課題説明  (24)","index":122,"n_rows":5,"n_cols":1,"rows_kept":5,"cut":false,"hidden":true,"merged":[[0,0,0,13],[1,0,1,13],[2,0,2,13],[3,0,3,13],[4,0,4,13]]}
["当課題及びエクセルファイルの取扱いについての注意事項"]
["○当課題は、パソコンデータ入力競技課題１を想定して作成されており、当エクセルを使用することで、課題作成から選手の入力作業、採点までが可能です。\n\n　　当エクセルファイルの構成及び説明は以下の通りです。\n\n　　　◆「課題説明」　・・・当シート。\n\n　　　◆「印刷用」　　・・・印刷用シートの画面上に「印刷用」ボタンが設置されており、１クリックで「差し込み用\n　　　　　　　　　　　　　　シート」内のアンケートデータを一度に印刷することができます。\n　　　　　　　　　　　　　　ただし、印刷初期設定の給紙トレイは”手差し”、用紙は”ハガキサイズ”となっている\n　　　　　　　　　　　　　　ため、他のサイズの用紙を用意した場合は、プリンターエラーが出る場合があります。\n　　　　　　　　　　　　　　また、一度印刷ボタンを押すと途中で中断できないため、印刷環境を整えてからクリック\n　　　　　　　　　　　　　　してください。\n\n                            ※各施設に設置されているプリンターの仕様によっても、設定方法が異なる可能性があるため\n　　　　　　　　　　　　　　適宜、プリンターにあった設定方法を確認してください。\n\n　　　◆「差し込み用」・・・このシートに入力されているデータは、当課題の”答え”を兼ねていますので、当シート\n　　　　　　　　　　　　　　のデータを変更するとすべてのシートに影響します。\n\n　　　◆「回答参考」　・・・「アンケート入力用フォーマット」構成のためのシートです。\n\n　　　"]
["　　　◆「１」～「２１」の「アンケート入力用フォーマット」\n　　　　　　　　　　　・・・選手が実際に当フォーマットに入力する用に作成しています。\n　　　　　　　　　　　　　　当フォーマットは課題数に応じてシートをコピーし増設してください。\n\n　　　◆「入力フォーム合計」　・・・「アンケート入力用フォーマット」に入力した情報が当シートにまとまります。\n　　　　　　　　　　　　　　　　　　「アンケート入力用フォーマット」を増設した場合は、「入力フォーム合計」に\n　　　　　　　　　　　　　　　　　　 連動しているセルの数式を修正する必要があります。　　　　　　　　　　　　　　\n\n　　　◆「採点例」　　・・・「差し込み用」と「入力フォーマット合計」を比較して採点できるシートです。"]
["○当課題（エクセルファイル）は、マクロは使用しておりませんが、使用するにあたって以下の知識を必要とします。\n　　\n　　　◆エクセル関数（if関数、vlookup関数など）\n　　　◆行・列の表示方法\n　　　◆シートの保護、シートの表示・非表示及びシートへのパスワードの付与"]
["○当エクセルをそのまま地方アビリンピック大会の課題として実施する場合は、以下の点に注意して下さい。\n\n　　■選手が競技を実施するために不要なシートは非表示にし、パスワードをかけること。（選手によるシート再表示防止）\n\n　　　　（操作方法）※Microsoft　Excel2010の場合\n　　　　　１．非表示にしたいシートの名前タブ上で右クリックし「非表示」をクリック\n　　　　　２．左上の「ファイル」をクリック\n　　　　　３．「情報」タブの「ブックの保護」をクリック\n　　　　　４．「ブック構成の保護」をクリックし、「シート構成」にチェックを付けたままパスワードを設定する。\n　\n　　　※シートを再表示したい時は、２→３→４の順に進むと「ブック構成の保護解除」になりパスワードを入力すること\n　　　　で解除できます。　　　\n\n\n\n"]

{"sheet":"課題説明  (23)","index":123,"n_rows":5,"n_cols":1,"rows_kept":5,"cut":false,"hidden":true,"merged":[[0,0,0,13],[1,0,1,13],[2,0,2,13],[3,0,3,13],[4,0,4,13]]}
["当課題及びエクセルファイルの取扱いについての注意事項"]
["○当課題は、パソコンデータ入力競技課題１を想定して作成されており、当エクセルを使用することで、課題作成から選手の入力作業、採点までが可能です。\n\n　　当エクセルファイルの構成及び説明は以下の通りです。\n\n　　　◆「課題説明」　・・・当シート。\n\n　　　◆「印刷用」　　・・・印刷用シートの画面上に「印刷用」ボタンが設置されており、１クリックで「差し込み用\n　　　　　　　　　　　　　　シート」内のアンケートデータを一度に印刷することができます。\n　　　　　　　　　　　　　　ただし、印刷初期設定の給紙トレイは”手差し”、用紙は”ハガキサイズ”となっている\n　　　　　　　　　　　　　　ため、他のサイズの用紙を用意した場合は、プリンターエラーが出る場合があります。\n　　　　　　　　　　　　　　また、一度印刷ボタンを押すと途中で中断できないため、印刷環境を整えてからクリック\n　　　　　　　　　　　　　　してください。\n\n                            ※各施設に設置されているプリンターの仕様によっても、設定方法が異なる可能性があるため\n　　　　　　　　　　　　　　適宜、プリンターにあった設定方法を確認してください。\n\n　　　◆「差し込み用」・・・このシートに入力されているデータは、当課題の”答え”を兼ねていますので、当シート\n　　　　　　　　　　　　　　のデータを変更するとすべてのシートに影響します。\n\n　　　◆「回答参考」　・・・「アンケート入力用フォーマット」構成のためのシートです。\n\n　　　"]
["　　　◆「１」～「２１」の「アンケート入力用フォーマット」\n　　　　　　　　　　　・・・選手が実際に当フォーマットに入力する用に作成しています。\n　　　　　　　　　　　　　　当フォーマットは課題数に応じてシートをコピーし増設してください。\n\n　　　◆「入力フォーム合計」　・・・「アンケート入力用フォーマット」に入力した情報が当シートにまとまります。\n　　　　　　　　　　　　　　　　　　「アンケート入力用フォーマット」を増設した場合は、「入力フォーム合計」に\n　　　　　　　　　　　　　　　　　　 連動しているセルの数式を修正する必要があります。　　　　　　　　　　　　　　\n\n　　　◆「採点例」　　・・・「差し込み用」と「入力フォーマット合計」を比較して採点できるシートです。"]
["○当課題（エクセルファイル）は、マクロは使用しておりませんが、使用するにあたって以下の知識を必要とします。\n　　\n　　　◆エクセル関数（if関数、vlookup関数など）\n　　　◆行・列の表示方法\n　　　◆シートの保護、シートの表示・非表示及びシートへのパスワードの付与"]
["○当エクセルをそのまま地方アビリンピック大会の課題として実施する場合は、以下の点に注意して下さい。\n\n　　■選手が競技を実施するために不要なシートは非表示にし、パスワードをかけること。（選手によるシート再表示防止）\n\n　　　　（操作方法）※Microsoft　Excel2010の場合\n　　　　　１．非表示にしたいシートの名前タブ上で右クリックし「非表示」をクリック\n　　　　　２．左上の「ファイル」をクリック\n　　　　　３．「情報」タブの「ブックの保護」をクリック\n　　　　　４．「ブック構成の保護」をクリックし、「シート構成」にチェックを付けたままパスワードを設定する。\n　\n　　　※シートを再表示したい時は、２→３→４の順に進むと「ブック構成の保護解除」になりパスワードを入力すること\n　　　　で解除できます。　　　\n\n\n\n"]

{"sheet":"課題説明  (22)","index":124,"n_rows":5,"n_cols":1,"rows_kept":5,"cut":false,"hidden":true,"merged":[[0,0,0,13],[1,0,1,13],[2,0,2,13],[3,0,3,13],[4,0,4,13]]}
["当課題及びエクセルファイルの取扱いについての注意事項"]
["○当課題は、パソコンデータ入力競技課題１を想定して作成されており、当エクセルを使用することで、課題作成から選手の入力作業、採点までが可能です。\n\n　　当エクセルファイルの構成及び説明は以下の通りです。\n\n　　　◆「課題説明」　・・・当シート。\n\n　　　◆「印刷用」　　・・・印刷用シートの画面上に「印刷用」ボタンが設置されており、１クリックで「差し込み用\n　　　　　　　　　　　　　　シート」内のアンケートデータを一度に印刷することができます。\n　　　　　　　　　　　　　　ただし、印刷初期設定の給紙トレイは”手差し”、用紙は”ハガキサイズ”となっている\n　　　　　　　　　　　　　　ため、他のサイズの用紙を用意した場合は、プリンターエラーが出る場合があります。\n　　　　　　　　　　　　　　また、一度印刷ボタンを押すと途中で中断できないため、印刷環境を整えてからクリック\n　　　　　　　　　　　　　　してください。\n\n                            ※各施設に設置されているプリンターの仕様によっても、設定方法が異なる可能性があるため\n　　　　　　　　　　　　　　適宜、プリンターにあった設定方法を確認してください。\n\n　　　◆「差し込み用」・・・このシートに入力されているデータは、当課題の”答え”を兼ねていますので、当シート\n　　　　　　　　　　　　　　のデータを変更するとすべてのシートに影響します。\n\n　　　◆「回答参考」　・・・「アンケート入力用フォーマット」構成のためのシートです。\n\n　　　"]
["　　　◆「１」～「２１」の「アンケート入力用フォーマット」\n　　　　　　　　　　　・・・選手が実際に当フォーマットに入力する用に作成しています。\n　　　　　　　　　　　　　　当フォーマットは課題数に応じてシートをコピーし増設してください。\n\n　　　◆「入力フォーム合計」　・・・「アンケート入力用フォーマット」に入力した情報が当シートにまとまります。\n　　　　　　　　　　　　　　　　　　「アンケート入力用フォーマット」を増設した場合は、「入力フォーム合計」に\n　　　　　　　　　　　　　　　　　　 連動しているセルの数式を修正する必要があります。　　　　　　　　　　　　　　\n\n　　　◆「採点例」　　・・・「差し込み用」と「入力フォーマット合計」を比較して採点できるシートです。"]
["○当課題（エクセルファイル）は、マクロは使用しておりませんが、使用するにあたって以下の知識を必要とします。\n　　\n　　　◆エクセル関数（if関数、vlookup関数など）\n　　　◆行・列の表示方法\n　　　◆シートの保護、シートの表示・非表示及びシートへのパスワードの付与"]
["○当エクセルをそのまま地方アビリンピック大会の課題として実施する場合は、以下の点に注意して下さい。\n\n　　■選手が競技を実施するために不要なシートは非表示にし、パスワードをかけること。（選手によるシート再表示防止）\n\n　　　　（操作方法）※Microsoft　Excel2010の場合\n　　　　　１．非表示にしたいシートの名前タブ上で右クリックし「非表示」をクリック\n　　　　　２．左上の「ファイル」をクリック\n　　　　　３．「情報」タブの「ブックの保護」をクリック\n　　　　　４．「ブック構成の保護」をクリックし、「シート構成」にチェックを付けたままパスワードを設定する。\n　\n　　　※シートを再表示したい時は、２→３→４の順に進むと「ブック構成の保護解除」になりパスワードを入力すること\n　　　　で解除できます。　　　\n\n\n\n"]

{"sheet":"課題説明  (21)","index":125,"n_rows":5,"n_cols":1,"rows_kept":5,"cut":false,"hidden":true,"merged":[[0,0,0,13],[1,0,1,13],[2,0,2,13],[3,0,3,13],[4,0,4,13]]}
["当課題及びエクセルファイルの取扱いについての注意事項"]
["○当課題は、パソコンデータ入力競技課題１を想定して作成されており、当エクセルを使用することで、課題作成から選手の入力作業、採点までが可能です。\n\n　　当エクセルファイルの構成及び説明は以下の通りです。\n\n　　　◆「課題説明」　・・・当シート。\n\n　　　◆「印刷用」　　・・・印刷用シートの画面上に「印刷用」ボタンが設置されており、１クリックで「差し込み用\n　　　　　　　　　　　　　　シート」内のアンケートデータを一度に印刷することができます。\n　　　　　　　　　　　　　　ただし、印刷初期設定の給紙トレイは”手差し”、用紙は”ハガキサイズ”となっている\n　　　　　　　　　　　　　　ため、他のサイズの用紙を用意した場合は、プリンターエラーが出る場合があります。\n　　　　　　　　　　　　　　また、一度印刷ボタンを押すと途中で中断できないため、印刷環境を整えてからクリック\n　　　　　　　　　　　　　　してください。\n\n                            ※各施設に設置されているプリンターの仕様によっても、設定方法が異なる可能性があるため\n　　　　　　　　　　　　　　適宜、プリンターにあった設定方法を確認してください。\n\n　　　◆「差し込み用」・・・このシートに入力されているデータは、当課題の”答え”を兼ねていますので、当シート\n　　　　　　　　　　　　　　のデータを変更するとすべてのシートに影響します。\n\n　　　◆「回答参考」　・・・「アンケート入力用フォーマット」構成のためのシートです。\n\n　　　"]
["　　　◆「１」～「２１」の「アンケート入力用フォーマット」\n　　　　　　　　　　　・・・選手が実際に当フォーマットに入力する用に作成しています。\n　　　　　　　　　　　　　　当フォーマットは課題数に応じてシートをコピーし増設してください。\n\n　　　◆「入力フォーム合計」　・・・「アンケート入力用フォーマット」に入力した情報が当シートにまとまります。\n　　　　　　　　　　　　　　　　　　「アンケート入力用フォーマット」を増設した場合は、「入力フォーム合計」に\n　　　　　　　　　　　　　　　　　　 連動しているセルの数式を修正する必要があります。　　　　　　　　　　　　　　\n\n　　　◆「採点例」　　・・・「差し込み用」と「入力フォーマット合計」を比較して採点できるシートです。"]
["○当課題（エクセルファイル）は、マクロは使用しておりませんが、使用するにあたって以下の知識を必要とします。\n　　\n　　　◆エクセル関数（if関数、vlookup関数など）\n　　　◆行・列の表示方法\n　　　◆シートの保護、シートの表示・非表示及びシートへのパスワードの付与"]
["○当エクセルをそのまま地方アビリンピック大会の課題として実施する場合は、以下の点に注意して下さい。\n\n　　■選手が競技を実施するために不要なシートは非表示にし、パスワードをかけること。（選手によるシート再表示防止）\n\n　　　　（操作方法）※Microsoft　Excel2010の場合\n　　　　　１．非表示にしたいシートの名前タブ上で右クリックし「非表示」をクリック\n　　　　　２．左上の「ファイル」をクリック\n　　　　　３．「情報」タブの「ブックの保護」をクリック\n　　　　　４．「ブック構成の保護」をクリックし、「シート構成」にチェックを付けたままパスワードを設定する。\n　\n　　　※シートを再表示したい時は、２→３→４の順に進むと「ブック構成の保護解除」になりパスワードを入力すること\n　　　　で解除できます。　　　\n\n\n\n"]

{"sheet":"課題説明  (20)","index":126,"n_rows":5,"n_cols":1,"rows_kept":5,"cut":false,"hidden":true,"merged":[[0,0,0,13],[1,0,1,13],[2,0,2,13],[3,0,3,13],[4,0,4,13]]}
["当課題及びエクセルファイルの取扱いについての注意事項"]
["○当課題は、パソコンデータ入力競技課題１を想定して作成されており、当エクセルを使用することで、課題作成から選手の入力作業、採点までが可能です。\n\n　　当エクセルファイルの構成及び説明は以下の通りです。\n\n　　　◆「課題説明」　・・・当シート。\n\n　　　◆「印刷用」　　・・・印刷用シートの画面上に「印刷用」ボタンが設置されており、１クリックで「差し込み用\n　　　　　　　　　　　　　　シート」内のアンケートデータを一度に印刷することができます。\n　　　　　　　　　　　　　　ただし、印刷初期設定の給紙トレイは”手差し”、用紙は”ハガキサイズ”となっている\n　　　　　　　　　　　　　　ため、他のサイズの用紙を用意した場合は、プリンターエラーが出る場合があります。\n　　　　　　　　　　　　　　また、一度印刷ボタンを押すと途中で中断できないため、印刷環境を整えてからクリック\n　　　　　　　　　　　　　　してください。\n\n                            ※各施設に設置されているプリンターの仕様によっても、設定方法が異なる可能性があるため\n　　　　　　　　　　　　　　適宜、プリンターにあった設定方法を確認してください。\n\n　　　◆「差し込み用」・・・このシートに入力されているデータは、当課題の”答え”を兼ねていますので、当シート\n　　　　　　　　　　　　　　のデータを変更するとすべてのシートに影響します。\n\n　　　◆「回答参考」　・・・「アンケート入力用フォーマット」構成のためのシートです。\n\n　　　"]
["　　　◆「１」～「２１」の「アンケート入力用フォーマット」\n　　　　　　　　　　　・・・選手が実際に当フォーマットに入力する用に作成しています。\n　　　　　　　　　　　　　　当フォーマットは課題数に応じてシートをコピーし増設してください。\n\n　　　◆「入力フォーム合計」　・・・「アンケート入力用フォーマット」に入力した情報が当シートにまとまります。\n　　　　　　　　　　　　　　　　　　「アンケート入力用フォーマット」を増設した場合は、「入力フォーム合計」に\n　　　　　　　　　　　　　　　　　　 連動しているセルの数式を修正する必要があります。　　　　　　　　　　　　　　\n\n　　　◆「採点例」　　・・・「差し込み用」と「入力フォーマット合計」を比較して採点できるシートです。"]
["○当課題（エクセルファイル）は、マクロは使用しておりませんが、使用するにあたって以下の知識を必要とします。\n　　\n　　　◆エクセル関数（if関数、vlookup関数など）\n　　　◆行・列の表示方法\n　　　◆シートの保護、シートの表示・非表示及びシートへのパスワードの付与"]
["○当エクセルをそのまま地方アビリンピック大会の課題として実施する場合は、以下の点に注意して下さい。\n\n　　■選手が競技を実施するために不要なシートは非表示にし、パスワードをかけること。（選手によるシート再表示防止）\n\n　　　　（操作方法）※Microsoft　Excel2010の場合\n　　　　　１．非表示にしたいシートの名前タブ上で右クリックし「非表示」をクリック\n　　　　　２．左上の「ファイル」をクリック\n　　　　　３．「情報」タブの「ブックの保護」をクリック\n　　　　　４．「ブック構成の保護」をクリックし、「シート構成」にチェックを付けたままパスワードを設定する。\n　\n　　　※シートを再表示したい時は、２→３→４の順に進むと「ブック構成の保護解除」になりパスワードを入力すること\n　　　　で解除できます。　　　\n\n\n\n"]

{"sheet":"課題説明  (19)","index":127,"n_rows":5,"n_cols":1,"rows_kept":5,"cut":false,"hidden":true,"merged":[[0,0,0,13],[1,0,1,13],[2,0,2,13],[3,0,3,13],[4,0,4,13]]}
["当課題及びエクセルファイルの取扱いについての注意事項"]
["○当課題は、パソコンデータ入力競技課題１を想定して作成されており、当エクセルを使用することで、課題作成から選手の入力作業、採点までが可能です。\n\n　　当エクセルファイルの構成及び説明は以下の通りです。\n\n　　　◆「課題説明」　・・・当シート。\n\n　　　◆「印刷用」　　・・・印刷用シートの画面上に「印刷用」ボタンが設置されており、１クリックで「差し込み用\n　　　　　　　　　　　　　　シート」内のアンケートデータを一度に印刷することができます。\n　　　　　　　　　　　　　　ただし、印刷初期設定の給紙トレイは”手差し”、用紙は”ハガキサイズ”となっている\n　　　　　　　　　　　　　　ため、他のサイズの用紙を用意した場合は、プリンターエラーが出る場合があります。\n　　　　　　　　　　　　　　また、一度印刷ボタンを押すと途中で中断できないため、印刷環境を整えてからクリック\n　　　　　　　　　　　　　　してください。\n\n                            ※各施設に設置されているプリンターの仕様によっても、設定方法が異なる可能性があるため\n　　　　　　　　　　　　　　適宜、プリンターにあった設定方法を確認してください。\n\n　　　◆「差し込み用」・・・このシートに入力されているデータは、当課題の”答え”を兼ねていますので、当シート\n　　　　　　　　　　　　　　のデータを変更するとすべてのシートに影響します。\n\n　　　◆「回答参考」　・・・「アンケート入力用フォーマット」構成のためのシートです。\n\n　　　"]
["　　　◆「１」～「２１」の「アンケート入力用フォーマット」\n　　　　　　　　　　　・・・選手が実際に当フォーマットに入力する用に作成しています。\n　　　　　　　　　　　　　　当フォーマットは課題数に応じてシートをコピーし増設してください。\n\n　　　◆「入力フォーム合計」　・・・「アンケート入力用フォーマット」に入力した情報が当シートにまとまります。\n　　　　　　　　　　　　　　　　　　「アンケート入力用フォーマット」を増設した場合は、「入力フォーム合計」に\n　　　　　　　　　　　　　　　　　　 連動しているセルの数式を修正する必要があります。　　　　　　　　　　　　　　\n\n　　　◆「採点例」　　・・・「差し込み用」と「入力フォーマット合計」を比較して採点できるシートです。"]
["○当課題（エクセルファイル）は、マクロは使用しておりませんが、使用するにあたって以下の知識を必要とします。\n　　\n　　　◆エクセル関数（if関数、vlookup関数など）\n　　　◆行・列の表示方法\n　　　◆シートの保護、シートの表示・非表示及びシートへのパスワードの付与"]
["○当エクセルをそのまま地方アビリンピック大会の課題として実施する場合は、以下の点に注意して下さい。\n\n　　■選手が競技を実施するために不要なシートは非表示にし、パスワードをかけること。（選手によるシート再表示防止）\n\n　　　　（操作方法）※Microsoft　Excel2010の場合\n　　　　　１．非表示にしたいシートの名前タブ上で右クリックし「非表示」をクリック\n　　　　　２．左上の「ファイル」をクリック\n　　　　　３．「情報」タブの「ブックの保護」をクリック\n　　　　　４．「ブック構成の保護」をクリックし、「シート構成」にチェックを付けたままパスワードを設定する。\n　\n　　　※シートを再表示したい時は、２→３→４の順に進むと「ブック構成の保護解除」になりパスワードを入力すること\n　　　　で解除できます。　　　\n\n\n\n"]

{"sheet":"課題説明  (18)","index":128,"n_rows":5,"n_cols":1,"rows_kept":5,"cut":false,"hidden":true,"merged":[[0,0,0,13],[1,0,1,13],[2,0,2,13],[3,0,3,13],[4,0,4,13]]}
["当課題及びエクセルファイルの取扱いについての注意事項"]
["○当課題は、パソコンデータ入力競技課題１を想定して作成されており、当エクセルを使用することで、課題作成から選手の入力作業、採点までが可能です。\n\n　　当エクセルファイルの構成及び説明は以下の通りです。\n\n　　　◆「課題説明」　・・・当シート。\n\n　　　◆「印刷用」　　・・・印刷用シートの画面上に「印刷用」ボタンが設置されており、１クリックで「差し込み用\n　　　　　　　　　　　　　　シート」内のアンケートデータを一度に印刷することができます。\n　　　　　　　　　　　　　　ただし、印刷初期設定の給紙トレイは”手差し”、用紙は”ハガキサイズ”となっている\n　　　　　　　　　　　　　　ため、他のサイズの用紙を用意した場合は、プリンターエラーが出る場合があります。\n　　　　　　　　　　　　　　また、一度印刷ボタンを押すと途中で中断できないため、印刷環境を整えてからクリック\n　　　　　　　　　　　　　　してください。\n\n                            ※各施設に設置されているプリンターの仕様によっても、設定方法が異なる可能性があるため\n　　　　　　　　　　　　　　適宜、プリンターにあった設定方法を確認してください。\n\n　　　◆「差し込み用」・・・このシートに入力されているデータは、当課題の”答え”を兼ねていますので、当シート\n　　　　　　　　　　　　　　のデータを変更するとすべてのシートに影響します。\n\n　　　◆「回答参考」　・・・「アンケート入力用フォーマット」構成のためのシートです。\n\n　　　"]
["　　　◆「１」～「２１」の「アンケート入力用フォーマット」\n　　　　　　　　　　　・・・選手が実際に当フォーマットに入力する用に作成しています。\n　　　　　　　　　　　　　　当フォーマットは課題数に応じてシートをコピーし増設してください。\n\n　　　◆「入力フォーム合計」　・・・「アンケート入力用フォーマット」に入力した情報が当シートにまとまります。\n　　　　　　　　　　　　　　　　　　「アンケート入力用フォーマット」を増設した場合は、「入力フォーム合計」に\n　　　　　　　　　　　　　　　　　　 連動しているセルの数式を修正する必要があります。　　　　　　　　　　　　　　\n\n　　　◆「採点例」　　・・・「差し込み用」と「入力フォーマット合計」を比較して採点できるシートです。"]
["○当課題（エクセルファイル）は、マクロは使用しておりませんが、使用するにあたって以下の知識を必要とします。\n　　\n　　　◆エクセル関数（if関数、vlookup関数など）\n　　　◆行・列の表示方法\n　　　◆シートの保護、シートの表示・非表示及びシートへのパスワードの付与"]
["○当エクセルをそのまま地方アビリンピック大会の課題として実施する場合は、以下の点に注意して下さい。\n\n　　■選手が競技を実施するために不要なシートは非表示にし、パスワードをかけること。（選手によるシート再表示防止）\n\n　　　　（操作方法）※Microsoft　Excel2010の場合\n　　　　　１．非表示にしたいシートの名前タブ上で右クリックし「非表示」をクリック\n　　　　　２．左上の「ファイル」をクリック\n　　　　　３．「情報」タブの「ブックの保護」をクリック\n　　　　　４．「ブック構成の保護」をクリックし、「シート構成」にチェックを付けたままパスワードを設定する。\n　\n　　　※シートを再表示したい時は、２→３→４の順に進むと「ブック構成の保護解除」になりパスワードを入力すること\n　　　　で解除できます。　　　\n\n\n\n"]

{"sheet":"課題説明  (17)","index":129,"n_rows":5,"n_cols":1,"rows_kept":5,"cut":false,"hidden":true,"merged":[[0,0,0,13],[1,0,1,13],[2,0,2,13],[3,0,3,13],[4,0,4,13]]}
["当課題及びエクセルファイルの取扱いについての注意事項"]
["○当課題は、パソコンデータ入力競技課題１を想定して作成されており、当エクセルを使用することで、課題作成から選手の入力作業、採点までが可能です。\n\n　　当エクセルファイルの構成及び説明は以下の通りです。\n\n　　　◆「課題説明」　・・・当シート。\n\n　　　◆「印刷用」　　・・・印刷用シートの画面上に「印刷用」ボタンが設置されており、１クリックで「差し込み用\n　　　　　　　　　　　　　　シート」内のアンケートデータを一度に印刷することができます。\n　　　　　　　　　　　　　　ただし、印刷初期設定の給紙トレイは”手差し”、用紙は”ハガキサイズ”となっている\n　　　　　　　　　　　　　　ため、他のサイズの用紙を用意した場合は、プリンターエラーが出る場合があります。\n　　　　　　　　　　　　　　また、一度印刷ボタンを押すと途中で中断できないため、印刷環境を整えてからクリック\n　　　　　　　　　　　　　　してください。\n\n                            ※各施設に設置されているプリンターの仕様によっても、設定方法が異なる可能性があるため\n　　　　　　　　　　　　　　適宜、プリンターにあった設定方法を確認してください。\n\n　　　◆「差し込み用」・・・このシートに入力されているデータは、当課題の”答え”を兼ねていますので、当シート\n　　　　　　　　　　　　　　のデータを変更するとすべてのシートに影響します。\n\n　　　◆「回答参考」　・・・「アンケート入力用フォーマット」構成のためのシートです。\n\n　　　"]
["　　　◆「１」～「２１」の「アンケート入力用フォーマット」\n　　　　　　　　　　　・・・選手が実際に当フォーマットに入力する用に作成しています。\n　　　　　　　　　　　　　　当フォーマットは課題数に応じてシートをコピーし増設してください。\n\n　　　◆「入力フォーム合計」　・・・「アンケート入力用フォーマット」に入力した情報が当シートにまとまります。\n　　　　　　　　　　　　　　　　　　「アンケート入力用フォーマット」を増設した場合は、「入力フォーム合計」に\n　　　　　　　　　　　　　　　　　　 連動しているセルの数式を修正する必要があります。　　　　　　　　　　　　　　\n\n　　　◆「採点例」　　・・・「差し込み用」と「入力フォーマット合計」を比較して採点できるシートです。"]
["○当課題（エクセルファイル）は、マクロは使用しておりませんが、使用するにあたって以下の知識を必要とします。\n　　\n　　　◆エクセル関数（if関数、vlookup関数など）\n　　　◆行・列の表示方法\n　　　◆シートの保護、シートの表示・非表示及びシートへのパスワードの付与"]
["○当エクセルをそのまま地方アビリンピック大会の課題として実施する場合は、以下の点に注意して下さい。\n\n　　■選手が競技を実施するために不要なシートは非表示にし、パスワードをかけること。（選手によるシート再表示防止）\n\n　　　　（操作方法）※Microsoft　Excel2010の場合\n　　　　　１．非表示にしたいシートの名前タブ上で右クリックし「非表示」をクリック\n　　　　　２．左上の「ファイル」をクリック\n　　　　　３．「情報」タブの「ブックの保護」をクリック\n　　　　　４．「ブック構成の保護」をクリックし、「シート構成」にチェックを付けたままパスワードを設定する。\n　\n　　　※シートを再表示したい時は、２→３→４の順に進むと「ブック構成の保護解除」になりパスワードを入力すること\n　　　　で解除できます。　　　\n\n\n\n"]

{"sheet":"課題説明  (16)","index":130,"n_rows":5,"n_cols":1,"rows_kept":5,"cut":false,"hidden":true,"merged":[[0,0,0,13],[1,0,1,13],[2,0,2,13],[3,0,3,13],[4,0,4,13]]}
["当課題及びエクセルファイルの取扱いについての注意事項"]
["○当課題は、パソコンデータ入力競技課題１を想定して作成されており、当エクセルを使用することで、課題作成から選手の入力作業、採点までが可能です。\n\n　　当エクセルファイルの構成及び説明は以下の通りです。\n\n　　　◆「課題説明」　・・・当シート。\n\n　　　◆「印刷用」　　・・・印刷用シートの画面上に「印刷用」ボタンが設置されており、１クリックで「差し込み用\n　　　　　　　　　　　　　　シート」内のアンケートデータを一度に印刷することができます。\n　　　　　　　　　　　　　　ただし、印刷初期設定の給紙トレイは”手差し”、用紙は”ハガキサイズ”となっている\n　　　　　　　　　　　　　　ため、他のサイズの用紙を用意した場合は、プリンターエラーが出る場合があります。\n　　　　　　　　　　　　　　また、一度印刷ボタンを押すと途中で中断できないため、印刷環境を整えてからクリック\n　　　　　　　　　　　　　　してください。\n\n                            ※各施設に設置されているプリンターの仕様によっても、設定方法が異なる可能性があるため\n　　　　　　　　　　　　　　適宜、プリンターにあった設定方法を確認してください。\n\n　　　◆「差し込み用」・・・このシートに入力されているデータは、当課題の”答え”を兼ねていますので、当シート\n　　　　　　　　　　　　　　のデータを変更するとすべてのシートに影響します。\n\n　　　◆「回答参考」　・・・「アンケート入力用フォーマット」構成のためのシートです。\n\n　　　"]
["　　　◆「１」～「２１」の「アンケート入力用フォーマット」\n　　　　　　　　　　　・・・選手が実際に当フォーマットに入力する用に作成しています。\n　　　　　　　　　　　　　　当フォーマットは課題数に応じてシートをコピーし増設してください。\n\n　　　◆「入力フォーム合計」　・・・「アンケート入力用フォーマット」に入力した情報が当シートにまとまります。\n　　　　　　　　　　　　　　　　　　「アンケート入力用フォーマット」を増設した場合は、「入力フォーム合計」に\n　　　　　　　　　　　　　　　　　　 連動しているセルの数式を修正する必要があります。　　　　　　　　　　　　　　\n\n　　　◆「採点例」　　・・・「差し込み用」と「入力フォーマット合計」を比較して採点できるシートです。"]
["○当課題（エクセルファイル）は、マクロは使用しておりませんが、使用するにあたって以下の知識を必要とします。\n　　\n　　　◆エクセル関数（if関数、vlookup関数など）\n　　　◆行・列の表示方法\n　　　◆シートの保護、シートの表示・非表示及びシートへのパスワードの付与"]
["○当エクセルをそのまま地方アビリンピック大会の課題として実施する場合は、以下の点に注意して下さい。\n\n　　■選手が競技を実施するために不要なシートは非表示にし、パスワードをかけること。（選手によるシート再表示防止）\n\n　　　　（操作方法）※Microsoft　Excel2010の場合\n　　　　　１．非表示にしたいシートの名前タブ上で右クリックし「非表示」をクリック\n　　　　　２．左上の「ファイル」をクリック\n　　　　　３．「情報」タブの「ブックの保護」をクリック\n　　　　　４．「ブック構成の保護」をクリックし、「シート構成」にチェックを付けたままパスワードを設定する。\n　\n　　　※シートを再表示したい時は、２→３→４の順に進むと「ブック構成の保護解除」になりパスワードを入力すること\n　　　　で解除できます。　　　\n\n\n\n"]

{"sheet":"課題説明  (15)","index":131,"n_rows":5,"n_cols":1,"rows_kept":5,"cut":false,"hidden":true,"merged":[[0,0,0,13],[1,0,1,13],[2,0,2,13],[3,0,3,13],[4,0,4,13]]}
["当課題及びエクセルファイルの取扱いについての注意事項"]
["○当課題は、パソコンデータ入力競技課題１を想定して作成されており、当エクセルを使用することで、課題作成から選手の入力作業、採点までが可能です。\n\n　　当エクセルファイルの構成及び説明は以下の通りです。\n\n　　　◆「課題説明」　・・・当シート。\n\n　　　◆「印刷用」　　・・・印刷用シートの画面上に「印刷用」ボタンが設置されており、１クリックで「差し込み用\n　　　　　　　　　　　　　　シート」内のアンケートデータを一度に印刷することができます。\n　　　　　　　　　　　　　　ただし、印刷初期設定の給紙トレイは”手差し”、用紙は”ハガキサイズ”となっている\n　　　　　　　　　　　　　　ため、他のサイズの用紙を用意した場合は、プリンターエラーが出る場合があります。\n　　　　　　　　　　　　　　また、一度印刷ボタンを押すと途中で中断できないため、印刷環境を整えてからクリック\n　　　　　　　　　　　　　　してください。\n\n                            ※各施設に設置されているプリンターの仕様によっても、設定方法が異なる可能性があるため\n　　　　　　　　　　　　　　適宜、プリンターにあった設定方法を確認してください。\n\n　　　◆「差し込み用」・・・このシートに入力されているデータは、当課題の”答え”を兼ねていますので、当シート\n　　　　　　　　　　　　　　のデータを変更するとすべてのシートに影響します。\n\n　　　◆「回答参考」　・・・「アンケート入力用フォーマット」構成のためのシートです。\n\n　　　"]
["　　　◆「１」～「２１」の「アンケート入力用フォーマット」\n　　　　　　　　　　　・・・選手が実際に当フォーマットに入力する用に作成しています。\n　　　　　　　　　　　　　　当フォーマットは課題数に応じてシートをコピーし増設してください。\n\n　　　◆「入力フォーム合計」　・・・「アンケート入力用フォーマット」に入力した情報が当シートにまとまります。\n　　　　　　　　　　　　　　　　　　「アンケート入力用フォーマット」を増設した場合は、「入力フォーム合計」に\n　　　　　　　　　　　　　　　　　　 連動しているセルの数式を修正する必要があります。　　　　　　　　　　　　　　\n\n　　　◆「採点例」　　・・・「差し込み用」と「入力フォーマット合計」を比較して採点できるシートです。"]
["○当課題（エクセルファイル）は、マクロは使用しておりませんが、使用するにあたって以下の知識を必要とします。\n　　\n　　　◆エクセル関数（if関数、vlookup関数など）\n　　　◆行・列の表示方法\n　　　◆シートの保護、シートの表示・非表示及びシートへのパスワードの付与"]
["○当エクセルをそのまま地方アビリンピック大会の課題として実施する場合は、以下の点に注意して下さい。\n\n　　■選手が競技を実施するために不要なシートは非表示にし、パスワードをかけること。（選手によるシート再表示防止）\n\n　　　　（操作方法）※Microsoft　Excel2010の場合\n　　　　　１．非表示にしたいシートの名前タブ上で右クリックし「非表示」をクリック\n　　　　　２．左上の「ファイル」をクリック\n　　　　　３．「情報」タブの「ブックの保護」をクリック\n　　　　　４．「ブック構成の保護」をクリックし、「シート構成」にチェックを付けたままパスワードを設定する。\n　\n　　　※シートを再表示したい時は、２→３→４の順に進むと「ブック構成の保護解除」になりパスワードを入力すること\n　　　　で解除できます。　　　\n\n\n\n"]

{"sheet":"課題説明  (14)","index":132,"n_rows":5,"n_cols":1,"rows_kept":5,"cut":false,"hidden":true,"merged":[[0,0,0,13],[1,0,1,13],[2,0,2,13],[3,0,3,13],[4,0,4,13]]}
["当課題及びエクセルファイルの取扱いについての注意事項"]
["○当課題は、パソコンデータ入力競技課題１を想定して作成されており、当エクセルを使用することで、課題作成から選手の入力作業、採点までが可能です。\n\n　　当エクセルファイルの構成及び説明は以下の通りです。\n\n　　　◆「課題説明」　・・・当シート。\n\n　　　◆「印刷用」　　・・・印刷用シートの画面上に「印刷用」ボタンが設置されており、１クリックで「差し込み用\n　　　　　　　　　　　　　　シート」内のアンケートデータを一度に印刷することができます。\n　　　　　　　　　　　　　　ただし、印刷初期設定の給紙トレイは”手差し”、用紙は”ハガキサイズ”となっている\n　　　　　　　　　　　　　　ため、他のサイズの用紙を用意した場合は、プリンターエラーが出る場合があります。\n　　　　　　　　　　　　　　また、一度印刷ボタンを押すと途中で中断できないため、印刷環境を整えてからクリック\n　　　　　　　　　　　　　　してください。\n\n                            ※各施設に設置されているプリンターの仕様によっても、設定方法が異なる可能性があるため\n　　　　　　　　　　　　　　適宜、プリンターにあった設定方法を確認してください。\n\n　　　◆「差し込み用」・・・このシートに入力されているデータは、当課題の”答え”を兼ねていますので、当シート\n　　　　　　　　　　　　　　のデータを変更するとすべてのシートに影響します。\n\n　　　◆「回答参考」　・・・「アンケート入力用フォーマット」構成のためのシートです。\n\n　　　"]
["　　　◆「１」～「２１」の「アンケート入力用フォーマット」\n　　　　　　　　　　　・・・選手が実際に当フォーマットに入力する用に作成しています。\n　　　　　　　　　　　　　　当フォーマットは課題数に応じてシートをコピーし増設してください。\n\n　　　◆「入力フォーム合計」　・・・「アンケート入力用フォーマット」に入力した情報が当シートにまとまります。\n　　　　　　　　　　　　　　　　　　「アンケート入力用フォーマット」を増設した場合は、「入力フォーム合計」に\n　　　　　　　　　　　　　　　　　　 連動しているセルの数式を修正する必要があります。　　　　　　　　　　　　　　\n\n　　　◆「採点例」　　・・・「差し込み用」と「入力フォーマット合計」を比較して採点できるシートです。"]
["○当課題（エクセルファイル）は、マクロは使用しておりませんが、使用するにあたって以下の知識を必要とします。\n　　\n　　　◆エクセル関数（if関数、vlookup関数など）\n　　　◆行・列の表示方法\n　　　◆シートの保護、シートの表示・非表示及びシートへのパスワードの付与"]
["○当エクセルをそのまま地方アビリンピック大会の課題として実施する場合は、以下の点に注意して下さい。\n\n　　■選手が競技を実施するために不要なシートは非表示にし、パスワードをかけること。（選手によるシート再表示防止）\n\n　　　　（操作方法）※Microsoft　Excel2010の場合\n　　　　　１．非表示にしたいシートの名前タブ上で右クリックし「非表示」をクリック\n　　　　　２．左上の「ファイル」をクリック\n　　　　　３．「情報」タブの「ブックの保護」をクリック\n　　　　　４．「ブック構成の保護」をクリックし、「シート構成」にチェックを付けたままパスワードを設定する。\n　\n　　　※シートを再表示したい時は、２→３→４の順に進むと「ブック構成の保護解除」になりパスワードを入力すること\n　　　　で解除できます。　　　\n\n\n\n"]

{"sheet":"課題説明  (13)","index":133,"n_rows":5,"n_cols":1,"rows_kept":5,"cut":false,"hidden":true,"merged":[[0,0,0,13],[1,0,1,13],[2,0,2,13],[3,0,3,13],[4,0,4,13]]}
["当課題及びエクセルファイルの取扱いについての注意事項"]
["○当課題は、パソコンデータ入力競技課題１を想定して作成されており、当エクセルを使用することで、課題作成から選手の入力作業、採点までが可能です。\n\n　　当エクセルファイルの構成及び説明は以下の通りです。\n\n　　　◆「課題説明」　・・・当シート。\n\n　　　◆「印刷用」　　・・・印刷用シートの画面上に「印刷用」ボタンが設置されており、１クリックで「差し込み用\n　　　　　　　　　　　　　　シート」内のアンケートデータを一度に印刷することができます。\n　　　　　　　　　　　　　　ただし、印刷初期設定の給紙トレイは”手差し”、用紙は”ハガキサイズ”となっている\n　　　　　　　　　　　　　　ため、他のサイズの用紙を用意した場合は、プリンターエラーが出る場合があります。\n　　　　　　　　　　　　　　また、一度印刷ボタンを押すと途中で中断できないため、印刷環境を整えてからクリック\n　　　　　　　　　　　　　　してください。\n\n                            ※各施設に設置されているプリンターの仕様によっても、設定方法が異なる可能性があるため\n　　　　　　　　　　　　　　適宜、プリンターにあった設定方法を確認してください。\n\n　　　◆「差し込み用」・・・このシートに入力されているデータは、当課題の”答え”を兼ねていますので、当シート\n　　　　　　　　　　　　　　のデータを変更するとすべてのシートに影響します。\n\n　　　◆「回答参考」　・・・「アンケート入力用フォーマット」構成のためのシートです。\n\n　　　"]
["　　　◆「１」～「２１」の「アンケート入力用フォーマット」\n　　　　　　　　　　　・・・選手が実際に当フォーマットに入力する用に作成しています。\n　　　　　　　　　　　　　　当フォーマットは課題数に応じてシートをコピーし増設してください。\n\n　　　◆「入力フォーム合計」　・・・「アンケート入力用フォーマット」に入力した情報が当シートにまとまります。\n　　　　　　　　　　　　　　　　　　「アンケート入力用フォーマット」を増設した場合は、「入力フォーム合計」に\n　　　　　　　　　　　　　　　　　　 連動しているセルの数式を修正する必要があります。　　　　　　　　　　　　　　\n\n　　　◆「採点例」　　・・・「差し込み用」と「入力フォーマット合計」を比較して採点できるシートです。"]
["○当課題（エクセルファイル）は、マクロは使用しておりませんが、使用するにあたって以下の知識を必要とします。\n　　\n　　　◆エクセル関数（if関数、vlookup関数など）\n　　　◆行・列の表示方法\n　　　◆シートの保護、シートの表示・非表示及びシートへのパスワードの付与"]
["○当エクセルをそのまま地方アビリンピック大会の課題として実施する場合は、以下の点に注意して下さい。\n\n　　■選手が競技を実施するために不要なシートは非表示にし、パスワードをかけること。（選手によるシート再表示防止）\n\n　　　　（操作方法）※Microsoft　Excel2010の場合\n　　　　　１．非表示にしたいシートの名前タブ上で右クリックし「非表示」をクリック\n　　　　　２．左上の「ファイル」をクリック\n　　　　　３．「情報」タブの「ブックの保護」をクリック\n　　　　　４．「ブック構成の保護」をクリックし、「シート構成」にチェックを付けたままパスワードを設定する。\n　\n　　　※シートを再表示したい時は、２→３→４の順に進むと「ブック構成の保護解除」になりパスワードを入力すること\n　　　　で解除できます。　　　\n\n\n\n"]

{"sheet":"課題説明  (12)","index":134,"n_rows":5,"n_cols":1,"rows_kept":5,"cut":false,"hidden":true,"merged":[[0,0,0,13],[1,0,1,13],[2,0,2,13],[3,0,3,13],[4,0,4,13]]}
["当課題及びエクセルファイルの取扱いについての注意事項"]
["○当課題は、パソコンデータ入力競技課題１を想定して作成されており、当エクセルを使用することで、課題作成から選手の入力作業、採点までが可能です。\n\n　　当エクセルファイルの構成及び説明は以下の通りです。\n\n　　　◆「課題説明」　・・・当シート。\n\n　　　◆「印刷用」　　・・・印刷用シートの画面上に「印刷用」ボタンが設置されており、１クリックで「差し込み用\n　　　　　　　　　　　　　　シート」内のアンケートデータを一度に印刷することができます。\n　　　　　　　　　　　　　　ただし、印刷初期設定の給紙トレイは”手差し”、用紙は”ハガキサイズ”となっている\n　　　　　　　　　　　　　　ため、他のサイズの用紙を用意した場合は、プリンターエラーが出る場合があります。\n　　　　　　　　　　　　　　また、一度印刷ボタンを押すと途中で中断できないため、印刷環境を整えてからクリック\n　　　　　　　　　　　　　　してください。\n\n                            ※各施設に設置されているプリンターの仕様によっても、設定方法が異なる可能性があるため\n　　　　　　　　　　　　　　適宜、プリンターにあった設定方法を確認してください。\n\n　　　◆「差し込み用」・・・このシートに入力されているデータは、当課題の”答え”を兼ねていますので、当シート\n　　　　　　　　　　　　　　のデータを変更するとすべてのシートに影響します。\n\n　　　◆「回答参考」　・・・「アンケート入力用フォーマット」構成のためのシートです。\n\n　　　"]
["　　　◆「１」～「２１」の「アンケート入力用フォーマット」\n　　　　　　　　　　　・・・選手が実際に当フォーマットに入力する用に作成しています。\n　　　　　　　　　　　　　　当フォーマットは課題数に応じてシートをコピーし増設してください。\n\n　　　◆「入力フォーム合計」　・・・「アンケート入力用フォーマット」に入力した情報が当シートにまとまります。\n　　　　　　　　　　　　　　　　　　「アンケート入力用フォーマット」を増設した場合は、「入力フォーム合計」に\n　　　　　　　　　　　　　　　　　　 連動しているセルの数式を修正する必要があります。　　　　　　　　　　　　　　\n\n　　　◆「採点例」　　・・・「差し込み用」と「入力フォーマット合計」を比較して採点できるシートです。"]
["○当課題（エクセルファイル）は、マクロは使用しておりませんが、使用するにあたって以下の知識を必要とします。\n　　\n　　　◆エクセル関数（if関数、vlookup関数など）\n　　　◆行・列の表示方法\n　　　◆シートの保護、シートの表示・非表示及びシートへのパスワードの付与"]
["○当エクセルをそのまま地方アビリンピック大会の課題として実施する場合は、以下の点に注意して下さい。\n\n　　■選手が競技を実施するために不要なシートは非表示にし、パスワードをかけること。（選手によるシート再表示防止）\n\n　　　　（操作方法）※Microsoft　Excel2010の場合\n　　　　　１．非表示にしたいシートの名前タブ上で右クリックし「非表示」をクリック\n　　　　　２．左上の「ファイル」をクリック\n　　　　　３．「情報」タブの「ブックの保護」をクリック\n　　　　　４．「ブック構成の保護」をクリックし、「シート構成」にチェックを付けたままパスワードを設定する。\n　\n　　　※シートを再表示したい時は、２→３→４の順に進むと「ブック構成の保護解除」になりパスワードを入力すること\n　　　　で解除できます。　　　\n\n\n\n"]

{"sheet":"課題説明  (11)","index":135,"n_rows":5,"n_cols":1,"rows_kept":5,"cut":false,"hidden":true,"merged":[[0,0,0,13],[1,0,1,13],[2,0,2,13],[3,0,3,13],[4,0,4,13]]}
["当課題及びエクセルファイルの取扱いについての注意事項"]
["○当課題は、パソコンデータ入力競技課題１を想定して作成されており、当エクセルを使用することで、課題作成から選手の入力作業、採点までが可能です。\n\n　　当エクセルファイルの構成及び説明は以下の通りです。\n\n　　　◆「課題説明」　・・・当シート。\n\n　　　◆「印刷用」　　・・・印刷用シートの画面上に「印刷用」ボタンが設置されており、１クリックで「差し込み用\n　　　　　　　　　　　　　　シート」内のアンケートデータを一度に印刷することができます。\n　　　　　　　　　　　　　　ただし、印刷初期設定の給紙トレイは”手差し”、用紙は”ハガキサイズ”となっている\n　　　　　　　　　　　　　　ため、他のサイズの用紙を用意した場合は、プリンターエラーが出る場合があります。\n　　　　　　　　　　　　　　また、一度印刷ボタンを押すと途中で中断できないため、印刷環境を整えてからクリック\n　　　　　　　　　　　　　　してください。\n\n                            ※各施設に設置されているプリンターの仕様によっても、設定方法が異なる可能性があるため\n　　　　　　　　　　　　　　適宜、プリンターにあった設定方法を確認してください。\n\n　　　◆「差し込み用」・・・このシートに入力されているデータは、当課題の”答え”を兼ねていますので、当シート\n　　　　　　　　　　　　　　のデータを変更するとすべてのシートに影響します。\n\n　　　◆「回答参考」　・・・「アンケート入力用フォーマット」構成のためのシートです。\n\n　　　"]
["　　　◆「１」～「２１」の「アンケート入力用フォーマット」\n　　　　　　　　　　　・・・選手が実際に当フォーマットに入力する用に作成しています。\n　　　　　　　　　　　　　　当フォーマットは課題数に応じてシートをコピーし増設してください。\n\n　　　◆「入力フォーム合計」　・・・「アンケート入力用フォーマット」に入力した情報が当シートにまとまります。\n　　　　　　　　　　　　　　　　　　「アンケート入力用フォーマット」を増設した場合は、「入力フォーム合計」に\n　　　　　　　　　　　　　　　　　　 連動しているセルの数式を修正する必要があります。　　　　　　　　　　　　　　\n\n　　　◆「採点例」　　・・・「差し込み用」と「入力フォーマット合計」を比較して採点できるシートです。"]
["○当課題（エクセルファイル）は、マクロは使用しておりませんが、使用するにあたって以下の知識を必要とします。\n　　\n　　　◆エクセル関数（if関数、vlookup関数など）\n　　　◆行・列の表示方法\n　　　◆シートの保護、シートの表示・非表示及びシートへのパスワードの付与"]
["○当エクセルをそのまま地方アビリンピック大会の課題として実施する場合は、以下の点に注意して下さい。\n\n　　■選手が競技を実施するために不要なシートは非表示にし、パスワードをかけること。（選手によるシート再表示防止）\n\n　　　　（操作方法）※Microsoft　Excel2010の場合\n　　　　　１．非表示にしたいシートの名前タブ上で右クリックし「非表示」をクリック\n　　　　　２．左上の「ファイル」をクリック\n　　　　　３．「情報」タブの「ブックの保護」をクリック\n　　　　　４．「ブック構成の保護」をクリックし、「シート構成」にチェックを付けたままパスワードを設定する。\n　\n　　　※シートを再表示したい時は、２→３→４の順に進むと「ブック構成の保護解除」になりパスワードを入力すること\n　　　　で解除できます。　　　\n\n\n\n"]

{"sheet":"課題説明  (10)","index":136,"n_rows":5,"n_cols":1,"rows_kept":5,"cut":false,"hidden":true,"merged":[[0,0,0,13],[1,0,1,13],[2,0,2,13],[3,0,3,13],[4,0,4,13]]}
["当課題及びエクセルファイルの取扱いについての注意事項"]
["○当課題は、パソコンデータ入力競技課題１を想定して作成されており、当エクセルを使用することで、課題作成から選手の入力作業、採点までが可能です。\n\n　　当エクセルファイルの構成及び説明は以下の通りです。\n\n　　　◆「課題説明」　・・・当シート。\n\n　　　◆「印刷用」　　・・・印刷用シートの画面上に「印刷用」ボタンが設置されており、１クリックで「差し込み用\n　　　　　　　　　　　　　　シート」内のアンケートデータを一度に印刷することができます。\n　　　　　　　　　　　　　　ただし、印刷初期設定の給紙トレイは”手差し”、用紙は”ハガキサイズ”となっている\n　　　　　　　　　　　　　　ため、他のサイズの用紙を用意した場合は、プリンターエラーが出る場合があります。\n　　　　　　　　　　　　　　また、一度印刷ボタンを押すと途中で中断できないため、印刷環境を整えてからクリック\n　　　　　　　　　　　　　　してください。\n\n                            ※各施設に設置されているプリンターの仕様によっても、設定方法が異なる可能性があるため\n　　　　　　　　　　　　　　適宜、プリンターにあった設定方法を確認してください。\n\n　　　◆「差し込み用」・・・このシートに入力されているデータは、当課題の”答え”を兼ねていますので、当シート\n　　　　　　　　　　　　　　のデータを変更するとすべてのシートに影響します。\n\n　　　◆「回答参考」　・・・「アンケート入力用フォーマット」構成のためのシートです。\n\n　　　"]
["　　　◆「１」～「２１」の「アンケート入力用フォーマット」\n　　　　　　　　　　　・・・選手が実際に当フォーマットに入力する用に作成しています。\n　　　　　　　　　　　　　　当フォーマットは課題数に応じてシートをコピーし増設してください。\n\n　　　◆「入力フォーム合計」　・・・「アンケート入力用フォーマット」に入力した情報が当シートにまとまります。\n　　　　　　　　　　　　　　　　　　「アンケート入力用フォーマット」を増設した場合は、「入力フォーム合計」に\n　　　　　　　　　　　　　　　　　　 連動しているセルの数式を修正する必要があります。　　　　　　　　　　　　　　\n\n　　　◆「採点例」　　・・・「差し込み用」と「入力フォーマット合計」を比較して採点できるシートです。"]
["○当課題（エクセルファイル）は、マクロは使用しておりませんが、使用するにあたって以下の知識を必要とします。\n　　\n　　　◆エクセル関数（if関数、vlookup関数など）\n　　　◆行・列の表示方法\n　　　◆シートの保護、シートの表示・非表示及びシートへのパスワードの付与"]
["○当エクセルをそのまま地方アビリンピック大会の課題として実施する場合は、以下の点に注意して下さい。\n\n　　■選手が競技を実施するために不要なシートは非表示にし、パスワードをかけること。（選手によるシート再表示防止）\n\n　　　　（操作方法）※Microsoft　Excel2010の場合\n　　　　　１．非表示にしたいシートの名前タブ上で右クリックし「非表示」をクリック\n　　　　　２．左上の「ファイル」をクリック\n　　　　　３．「情報」タブの「ブックの保護」をクリック\n　　　　　４．「ブック構成の保護」をクリックし、「シート構成」にチェックを付けたままパスワードを設定する。\n　\n　　　※シートを再表示したい時は、２→３→４の順に進むと「ブック構成の保護解除」になりパスワードを入力すること\n　　　　で解除できます。　　　\n\n\n\n"]

{"sheet":"課題説明  (9)","index":137,"n_rows":5,"n_cols":1,"rows_kept":5,"cut":false,"hidden":true,"merged":[[0,0,0,13],[1,0,1,13],[2,0,2,13],[3,0,3,13],[4,0,4,13]]}
["当課題及びエクセルファイルの取扱いについての注意事項"]
["○当課題は、パソコンデータ入力競技課題１を想定して作成されており、当エクセルを使用することで、課題作成から選手の入力作業、採点までが可能です。\n\n　　当エクセルファイルの構成及び説明は以下の通りです。\n\n　　　◆「課題説明」　・・・当シート。\n\n　　　◆「印刷用」　　・・・印刷用シートの画面上に「印刷用」ボタンが設置されており、１クリックで「差し込み用\n　　　　　　　　　　　　　　シート」内のアンケートデータを一度に印刷することができます。\n　　　　　　　　　　　　　　ただし、印刷初期設定の給紙トレイは”手差し”、用紙は”ハガキサイズ”となっている\n　　　　　　　　　　　　　　ため、他のサイズの用紙を用意した場合は、プリンターエラーが出る場合があります。\n　　　　　　　　　　　　　　また、一度印刷ボタンを押すと途中で中断できないため、印刷環境を整えてからクリック\n　　　　　　　　　　　　　　してください。\n\n                            ※各施設に設置されているプリンターの仕様によっても、設定方法が異なる可能性があるため\n　　　　　　　　　　　　　　適宜、プリンターにあった設定方法を確認してください。\n\n　　　◆「差し込み用」・・・このシートに入力されているデータは、当課題の”答え”を兼ねていますので、当シート\n　　　　　　　　　　　　　　のデータを変更するとすべてのシートに影響します。\n\n　　　◆「回答参考」　・・・「アンケート入力用フォーマット」構成のためのシートです。\n\n　　　"]
["　　　◆「１」～「２１」の「アンケート入力用フォーマット」\n　　　　　　　　　　　・・・選手が実際に当フォーマットに入力する用に作成しています。\n　　　　　　　　　　　　　　当フォーマットは課題数に応じてシートをコピーし増設してください。\n\n　　　◆「入力フォーム合計」　・・・「アンケート入力用フォーマット」に入力した情報が当シートにまとまります。\n　　　　　　　　　　　　　　　　　　「アンケート入力用フォーマット」を増設した場合は、「入力フォーム合計」に\n　　　　　　　　　　　　　　　　　　 連動しているセルの数式を修正する必要があります。　　　　　　　　　　　　　　\n\n　　　◆「採点例」　　・・・「差し込み用」と「入力フォーマット合計」を比較して採点できるシートです。"]
["○当課題（エクセルファイル）は、マクロは使用しておりませんが、使用するにあたって以下の知識を必要とします。\n　　\n　　　◆エクセル関数（if関数、vlookup関数など）\n　　　◆行・列の表示方法\n　　　◆シートの保護、シートの表示・非表示及びシートへのパスワードの付与"]
["○当エクセルをそのまま地方アビリンピック大会の課題として実施する場合は、以下の点に注意して下さい。\n\n　　■選手が競技を実施するために不要なシートは非表示にし、パスワードをかけること。（選手によるシート再表示防止）\n\n　　　　（操作方法）※Microsoft　Excel2010の場合\n　　　　　１．非表示にしたいシートの名前タブ上で右クリックし「非表示」をクリック\n　　　　　２．左上の「ファイル」をクリック\n　　　　　３．「情報」タブの「ブックの保護」をクリック\n　　　　　４．「ブック構成の保護」をクリックし、「シート構成」にチェックを付けたままパスワードを設定する。\n　\n　　　※シートを再表示したい時は、２→３→４の順に進むと「ブック構成の保護解除」になりパスワードを入力すること\n　　　　で解除できます。　　　\n\n\n\n"]

{"sheet":"課題説明  (8)","index":138,"n_rows":5,"n_cols":1,"rows_kept":5,"cut":false,"hidden":true,"merged":[[0,0,0,13],[1,0,1,13],[2,0,2,13],[3,0,3,13],[4,0,4,13]]}
["当課題及びエクセルファイルの取扱いについての注意事項"]
["○当課題は、パソコンデータ入力競技課題１を想定して作成されており、当エクセルを使用することで、課題作成から選手の入力作業、採点までが可能です。\n\n　　当エクセルファイルの構成及び説明は以下の通りです。\n\n　　　◆「課題説明」　・・・当シート。\n\n　　　◆「印刷用」　　・・・印刷用シートの画面上に「印刷用」ボタンが設置されており、１クリックで「差し込み用\n　　　　　　　　　　　　　　シート」内のアンケートデータを一度に印刷することができます。\n　　　　　　　　　　　　　　ただし、印刷初期設定の給紙トレイは”手差し”、用紙は”ハガキサイズ”となっている\n　　　　　　　　　　　　　　ため、他のサイズの用紙を用意した場合は、プリンターエラーが出る場合があります。\n　　　　　　　　　　　　　　また、一度印刷ボタンを押すと途中で中断できないため、印刷環境を整えてからクリック\n　　　　　　　　　　　　　　してください。\n\n                            ※各施設に設置されているプリンターの仕様によっても、設定方法が異なる可能性があるため\n　　　　　　　　　　　　　　適宜、プリンターにあった設定方法を確認してください。\n\n　　　◆「差し込み用」・・・このシートに入力されているデータは、当課題の”答え”を兼ねていますので、当シート\n　　　　　　　　　　　　　　のデータを変更するとすべてのシートに影響します。\n\n　　　◆「回答参考」　・・・「アンケート入力用フォーマット」構成のためのシートです。\n\n　　　"]
["　　　◆「１」～「２１」の「アンケート入力用フォーマット」\n　　　　　　　　　　　・・・選手が実際に当フォーマットに入力する用に作成しています。\n　　　　　　　　　　　　　　当フォーマットは課題数に応じてシートをコピーし増設してください。\n\n　　　◆「入力フォーム合計」　・・・「アンケート入力用フォーマット」に入力した情報が当シートにまとまります。\n　　　　　　　　　　　　　　　　　　「アンケート入力用フォーマット」を増設した場合は、「入力フォーム合計」に\n　　　　　　　　　　　　　　　　　　 連動しているセルの数式を修正する必要があります。　　　　　　　　　　　　　　\n\n　　　◆「採点例」　　・・・「差し込み用」と「入力フォーマット合計」を比較して採点できるシートです。"]
["○当課題（エクセルファイル）は、マクロは使用しておりませんが、使用するにあたって以下の知識を必要とします。\n　　\n　　　◆エクセル関数（if関数、vlookup関数など）\n　　　◆行・列の表示方法\n　　　◆シートの保護、シートの表示・非表示及びシートへのパスワードの付与"]
["○当エクセルをそのまま地方アビリンピック大会の課題として実施する場合は、以下の点に注意して下さい。\n\n　　■選手が競技を実施するために不要なシートは非表示にし、パスワードをかけること。（選手によるシート再表示防止）\n\n　　　　（操作方法）※Microsoft　Excel2010の場合\n　　　　　１．非表示にしたいシートの名前タブ上で右クリックし「非表示」をクリック\n　　　　　２．左上の「ファイル」をクリック\n　　　　　３．「情報」タブの「ブックの保護」をクリック\n　　　　　４．「ブック構成の保護」をクリックし、「シート構成」にチェックを付けたままパスワードを設定する。\n　\n　　　※シートを再表示したい時は、２→３→４の順に進むと「ブック構成の保護解除」になりパスワードを入力すること\n　　　　で解除できます。　　　\n\n\n\n"]

{"sheet":"課題説明  (7)","index":139,"n_rows":5,"n_cols":1,"rows_kept":5,"cut":false,"hidden":true,"merged":[[0,0,0,13],[1,0,1,13],[2,0,2,13],[3,0,3,13],[4,0,4,13]]}
["当課題及びエクセルファイルの取扱いについての注意事項"]
["○当課題は、パソコンデータ入力競技課題１を想定して作成されており、当エクセルを使用することで、課題作成から選手の入力作業、採点までが可能です。\n\n　　当エクセルファイルの構成及び説明は以下の通りです。\n\n　　　◆「課題説明」　・・・当シート。\n\n　　　◆「印刷用」　　・・・印刷用シートの画面上に「印刷用」ボタンが設置されており、１クリックで「差し込み用\n　　　　　　　　　　　　　　シート」内のアンケートデータを一度に印刷することができます。\n　　　　　　　　　　　　　　ただし、印刷初期設定の給紙トレイは”手差し”、用紙は”ハガキサイズ”となっている\n　　　　　　　　　　　　　　ため、他のサイズの用紙を用意した場合は、プリンターエラーが出る場合があります。\n　　　　　　　　　　　　　　また、一度印刷ボタンを押すと途中で中断できないため、印刷環境を整えてからクリック\n　　　　　　　　　　　　　　してください。\n\n                            ※各施設に設置されているプリンターの仕様によっても、設定方法が異なる可能性があるため\n　　　　　　　　　　　　　　適宜、プリンターにあった設定方法を確認してください。\n\n　　　◆「差し込み用」・・・このシートに入力されているデータは、当課題の”答え”を兼ねていますので、当シート\n　　　　　　　　　　　　　　のデータを変更するとすべてのシートに影響します。\n\n　　　◆「回答参考」　・・・「アンケート入力用フォーマット」構成のためのシートです。\n\n　　　"]
["　　　◆「１」～「２１」の「アンケート入力用フォーマット」\n　　　　　　　　　　　・・・選手が実際に当フォーマットに入力する用に作成しています。\n　　　　　　　　　　　　　　当フォーマットは課題数に応じてシートをコピーし増設してください。\n\n　　　◆「入力フォーム合計」　・・・「アンケート入力用フォーマット」に入力した情報が当シートにまとまります。\n　　　　　　　　　　　　　　　　　　「アンケート入力用フォーマット」を増設した場合は、「入力フォーム合計」に\n　　　　　　　　　　　　　　　　　　 連動しているセルの数式を修正する必要があります。　　　　　　　　　　　　　　\n\n　　　◆「採点例」　　・・・「差し込み用」と「入力フォーマット合計」を比較して採点できるシートです。"]
["○当課題（エクセルファイル）は、マクロは使用しておりませんが、使用するにあたって以下の知識を必要とします。\n　　\n　　　◆エクセル関数（if関数、vlookup関数など）\n　　　◆行・列の表示方法\n　　　◆シートの保護、シートの表示・非表示及びシートへのパスワードの付与"]
["○当エクセルをそのまま地方アビリンピック大会の課題として実施する場合は、以下の点に注意して下さい。\n\n　　■選手が競技を実施するために不要なシートは非表示にし、パスワードをかけること。（選手によるシート再表示防止）\n\n　　　　（操作方法）※Microsoft　Excel2010の場合\n　　　　　１．非表示にしたいシートの名前タブ上で右クリックし「非表示」をクリック\n　　　　　２．左上の「ファイル」をクリック\n　　　　　３．「情報」タブの「ブックの保護」をクリック\n　　　　　４．「ブック構成の保護」をクリックし、「シート構成」にチェックを付けたままパスワードを設定する。\n　\n　　　※シートを再表示したい時は、２→３→４の順に進むと「ブック構成の保護解除」になりパスワードを入力すること\n　　　　で解除できます。　　　\n\n\n\n"]

{"sheet":"課題説明  (6)","index":140,"n_rows":5,"n_cols":1,"rows_kept":5,"cut":false,"hidden":true,"merged":[[0,0,0,13],[1,0,1,13],[2,0,2,13],[3,0,3,13],[4,0,4,13]]}
["当課題及びエクセルファイルの取扱いについての注意事項"]
["○当課題は、パソコンデータ入力競技課題１を想定して作成されており、当エクセルを使用することで、課題作成から選手の入力作業、採点までが可能です。\n\n　　当エクセルファイルの構成及び説明は以下の通りです。\n\n　　　◆「課題説明」　・・・当シート。\n\n　　　◆「印刷用」　　・・・印刷用シートの画面上に「印刷用」ボタンが設置されており、１クリックで「差し込み用\n　　　　　　　　　　　　　　シート」内のアンケートデータを一度に印刷することができます。\n　　　　　　　　　　　　　　ただし、印刷初期設定の給紙トレイは”手差し”、用紙は”ハガキサイズ”となっている\n　　　　　　　　　　　　　　ため、他のサイズの用紙を用意した場合は、プリンターエラーが出る場合があります。\n　　　　　　　　　　　　　　また、一度印刷ボタンを押すと途中で中断できないため、印刷環境を整えてからクリック\n　　　　　　　　　　　　　　してください。\n\n                            ※各施設に設置されているプリンターの仕様によっても、設定方法が異なる可能性があるため\n　　　　　　　　　　　　　　適宜、プリンターにあった設定方法を確認してください。\n\n　　　◆「差し込み用」・・・このシートに入力されているデータは、当課題の”答え”を兼ねていますので、当シート\n　　　　　　　　　　　　　　のデータを変更するとすべてのシートに影響します。\n\n　　　◆「回答参考」　・・・「アンケート入力用フォーマット」構成のためのシートです。\n\n　　　"]
["　　　◆「１」～「２１」の「アンケート入力用フォーマット」\n　　　　　　　　　　　・・・選手が実際に当フォーマットに入力する用に作成しています。\n　　　　　　　　　　　　　　当フォーマットは課題数に応じてシートをコピーし増設してください。\n\n　　　◆「入力フォーム合計」　・・・「アンケート入力用フォーマット」に入力した情報が当シートにまとまります。\n　　　　　　　　　　　　　　　　　　「アンケート入力用フォーマット」を増設した場合は、「入力フォーム合計」に\n　　　　　　　　　　　　　　　　　　 連動しているセルの数式を修正する必要があります。　　　　　　　　　　　　　　\n\n　　　◆「採点例」　　・・・「差し込み用」と「入力フォーマット合計」を比較して採点できるシートです。"]
["○当課題（エクセルファイル）は、マクロは使用しておりませんが、使用するにあたって以下の知識を必要とします。\n　　\n　　　◆エクセル関数（if関数、vlookup関数など）\n　　　◆行・列の表示方法\n　　　◆シートの保護、シートの表示・非表示及びシートへのパスワードの付与"]
["○当エクセルをそのまま地方アビリンピック大会の課題として実施する場合は、以下の点に注意して下さい。\n\n　　■選手が競技を実施するために不要なシートは非表示にし、パスワードをかけること。（選手によるシート再表示防止）\n\n　　　　（操作方法）※Microsoft　Excel2010の場合\n　　　　　１．非表示にしたいシートの名前タブ上で右クリックし「非表示」をクリック\n　　　　　２．左上の「ファイル」をクリック\n　　　　　３．「情報」タブの「ブックの保護」をクリック\n　　　　　４．「ブック構成の保護」をクリックし、「シート構成」にチェックを付けたままパスワードを設定する。\n　\n　　　※シートを再表示したい時は、２→３→４の順に進むと「ブック構成の保護解除」になりパスワードを入力すること\n　　　　で解除できます。　　　\n\n\n\n"]

{"sheet":"課題説明  (5)","index":141,"n_rows":5,"n_cols":1,"rows_kept":5,"cut":false,"hidden":true,"merged":[[0,0,0,13],[1,0,1,13],[2,0,2,13],[3,0,3,13],[4,0,4,13]]}
["当課題及びエクセルファイルの取扱いについての注意事項"]
["○当課題は、パソコンデータ入力競技課題１を想定して作成されており、当エクセルを使用することで、課題作成から選手の入力作業、採点までが可能です。\n\n　　当エクセルファイルの構成及び説明は以下の通りです。\n\n　　　◆「課題説明」　・・・当シート。\n\n　　　◆「印刷用」　　・・・印刷用シートの画面上に「印刷用」ボタンが設置されており、１クリックで「差し込み用\n　　　　　　　　　　　　　　シート」内のアンケートデータを一度に印刷することができます。\n　　　　　　　　　　　　　　ただし、印刷初期設定の給紙トレイは”手差し”、用紙は”ハガキサイズ”となっている\n　　　　　　　　　　　　　　ため、他のサイズの用紙を用意した場合は、プリンターエラーが出る場合があります。\n　　　　　　　　　　　　　　また、一度印刷ボタンを押すと途中で中断できないため、印刷環境を整えてからクリック\n　　　　　　　　　　　　　　してください。\n\n                            ※各施設に設置されているプリンターの仕様によっても、設定方法が異なる可能性があるため\n　　　　　　　　　　　　　　適宜、プリンターにあった設定方法を確認してください。\n\n　　　◆「差し込み用」・・・このシートに入力されているデータは、当課題の”答え”を兼ねていますので、当シート\n　　　　　　　　　　　　　　のデータを変更するとすべてのシートに影響します。\n\n　　　◆「回答参考」　・・・「アンケート入力用フォーマット」構成のためのシートです。\n\n　　　"]
["　　　◆「１」～「２１」の「アンケート入力用フォーマット」\n　　　　　　　　　　　・・・選手が実際に当フォーマットに入力する用に作成しています。\n　　　　　　　　　　　　　　当フォーマットは課題数に応じてシートをコピーし増設してください。\n\n　　　◆「入力フォーム合計」　・・・「アンケート入力用フォーマット」に入力した情報が当シートにまとまります。\n　　　　　　　　　　　　　　　　　　「アンケート入力用フォーマット」を増設した場合は、「入力フォーム合計」に\n　　　　　　　　　　　　　　　　　　 連動しているセルの数式を修正する必要があります。　　　　　　　　　　　　　　\n\n　　　◆「採点例」　　・・・「差し込み用」と「入力フォーマット合計」を比較して採点できるシートです。"]
["○当課題（エクセルファイル）は、マクロは使用しておりませんが、使用するにあたって以下の知識を必要とします。\n　　\n　　　◆エクセル関数（if関数、vlookup関数など）\n　　　◆行・列の表示方法\n　　　◆シートの保護、シートの表示・非表示及びシートへのパスワードの付与"]
["○当エクセルをそのまま地方アビリンピック大会の課題として実施する場合は、以下の点に注意して下さい。\n\n　　■選手が競技を実施するために不要なシートは非表示にし、パスワードをかけること。（選手によるシート再表示防止）\n\n　　　　（操作方法）※Microsoft　Excel2010の場合\n　　　　　１．非表示にしたいシートの名前タブ上で右クリックし「非表示」をクリック\n　　　　　２．左上の「ファイル」をクリック\n　　　　　３．「情報」タブの「ブックの保護」をクリック\n　　　　　４．「ブック構成の保護」をクリックし、「シート構成」にチェックを付けたままパスワードを設定する。\n　\n　　　※シートを再表示したい時は、２→３→４の順に進むと「ブック構成の保護解除」になりパスワードを入力すること\n　　　　で解除できます。　　　\n\n\n\n"]

{"sheet":"課題説明  (4)","index":142,"n_rows":5,"n_cols":1,"rows_kept":5,"cut":false,"hidden":true,"merged":[[0,0,0,13],[1,0,1,13],[2,0,2,13],[3,0,3,13],[4,0,4,13]]}
["当課題及びエクセルファイルの取扱いについての注意事項"]
["○当課題は、パソコンデータ入力競技課題１を想定して作成されており、当エクセルを使用することで、課題作成から選手の入力作業、採点までが可能です。\n\n　　当エクセルファイルの構成及び説明は以下の通りです。\n\n　　　◆「課題説明」　・・・当シート。\n\n　　　◆「印刷用」　　・・・印刷用シートの画面上に「印刷用」ボタンが設置されており、１クリックで「差し込み用\n　　　　　　　　　　　　　　シート」内のアンケートデータを一度に印刷することができます。\n　　　　　　　　　　　　　　ただし、印刷初期設定の給紙トレイは”手差し”、用紙は”ハガキサイズ”となっている\n　　　　　　　　　　　　　　ため、他のサイズの用紙を用意した場合は、プリンターエラーが出る場合があります。\n　　　　　　　　　　　　　　また、一度印刷ボタンを押すと途中で中断できないため、印刷環境を整えてからクリック\n　　　　　　　　　　　　　　してください。\n\n                            ※各施設に設置されているプリンターの仕様によっても、設定方法が異なる可能性があるため\n　　　　　　　　　　　　　　適宜、プリンターにあった設定方法を確認してください。\n\n　　　◆「差し込み用」・・・このシートに入力されているデータは、当課題の”答え”を兼ねていますので、当シート\n　　　　　　　　　　　　　　のデータを変更するとすべてのシートに影響します。\n\n　　　◆「回答参考」　・・・「アンケート入力用フォーマット」構成のためのシートです。\n\n　　　"]
["　　　◆「１」～「２１」の「アンケート入力用フォーマット」\n　　　　　　　　　　　・・・選手が実際に当フォーマットに入力する用に作成しています。\n　　　　　　　　　　　　　　当フォーマットは課題数に応じてシートをコピーし増設してください。\n\n　　　◆「入力フォーム合計」　・・・「アンケート入力用フォーマット」に入力した情報が当シートにまとまります。\n　　　　　　　　　　　　　　　　　　「アンケート入力用フォーマット」を増設した場合は、「入力フォーム合計」に\n　　　　　　　　　　　　　　　　　　 連動しているセルの数式を修正する必要があります。　　　　　　　　　　　　　　\n\n　　　◆「採点例」　　・・・「差し込み用」と「入力フォーマット合計」を比較して採点できるシートです。"]
["○当課題（エクセルファイル）は、マクロは使用しておりませんが、使用するにあたって以下の知識を必要とします。\n　　\n　　　◆エクセル関数（if関数、vlookup関数など）\n　　　◆行・列の表示方法\n　　　◆シートの保護、シートの表示・非表示及びシートへのパスワードの付与"]
["○当エクセルをそのまま地方アビリンピック大会の課題として実施する場合は、以下の点に注意して下さい。\n\n　　■選手が競技を実施するために不要なシートは非表示にし、パスワードをかけること。（選手によるシート再表示防止）\n\n　　　　（操作方法）※Microsoft　Excel2010の場合\n　　　　　１．非表示にしたいシートの名前タブ上で右クリックし「非表示」をクリック\n　　　　　２．左上の「ファイル」をクリック\n　　　　　３．「情報」タブの「ブックの保護」をクリック\n　　　　　４．「ブック構成の保護」をクリックし、「シート構成」にチェックを付けたままパスワードを設定する。\n　\n　　　※シートを再表示したい時は、２→３→４の順に進むと「ブック構成の保護解除」になりパスワードを入力すること\n　　　　で解除できます。　　　\n\n\n\n"]

{"sheet":"課題説明  (3)","index":143,"n_rows":5,"n_cols":1,"rows_kept":5,"cut":false,"hidden":true,"merged":[[0,0,0,13],[1,0,1,13],[2,0,2,13],[3,0,3,13],[4,0,4,13]]}
["当課題及びエクセルファイルの取扱いについての注意事項"]
["○当課題は、パソコンデータ入力競技課題１を想定して作成されており、当エクセルを使用することで、課題作成から選手の入力作業、採点までが可能です。\n\n　　当エクセルファイルの構成及び説明は以下の通りです。\n\n　　　◆「課題説明」　・・・当シート。\n\n　　　◆「印刷用」　　・・・印刷用シートの画面上に「印刷用」ボタンが設置されており、１クリックで「差し込み用\n　　　　　　　　　　　　　　シート」内のアンケートデータを一度に印刷することができます。\n　　　　　　　　　　　　　　ただし、印刷初期設定の給紙トレイは”手差し”、用紙は”ハガキサイズ”となっている\n　　　　　　　　　　　　　　ため、他のサイズの用紙を用意した場合は、プリンターエラーが出る場合があります。\n　　　　　　　　　　　　　　また、一度印刷ボタンを押すと途中で中断できないため、印刷環境を整えてからクリック\n　　　　　　　　　　　　　　してください。\n\n                            ※各施設に設置されているプリンターの仕様によっても、設定方法が異なる可能性があるため\n　　　　　　　　　　　　　　適宜、プリンターにあった設定方法を確認してください。\n\n　　　◆「差し込み用」・・・このシートに入力されているデータは、当課題の”答え”を兼ねていますので、当シート\n　　　　　　　　　　　　　　のデータを変更するとすべてのシートに影響します。\n\n　　　◆「回答参考」　・・・「アンケート入力用フォーマット」構成のためのシートです。\n\n　　　"]
["　　　◆「１」～「２１」の「アンケート入力用フォーマット」\n　　　　　　　　　　　・・・選手が実際に当フォーマットに入力する用に作成しています。\n　　　　　　　　　　　　　　当フォーマットは課題数に応じてシートをコピーし増設してください。\n\n　　　◆「入力フォーム合計」　・・・「アンケート入力用フォーマット」に入力した情報が当シートにまとまります。\n　　　　　　　　　　　　　　　　　　「アンケート入力用フォーマット」を増設した場合は、「入力フォーム合計」に\n　　　　　　　　　　　　　　　　　　 連動しているセルの数式を修正する必要があります。　　　　　　　　　　　　　　\n\n　　　◆「採点例」　　・・・「差し込み用」と「入力フォーマット合計」を比較して採点できるシートです。"]
["○当課題（エクセルファイル）は、マクロは使用しておりませんが、使用するにあたって以下の知識を必要とします。\n　　\n　　　◆エクセル関数（if関数、vlookup関数など）\n　　　◆行・列の表示方法\n　　　◆シートの保護、シートの表示・非表示及びシートへのパスワードの付与"]
["○当エクセルをそのまま地方アビリンピック大会の課題として実施する場合は、以下の点に注意して下さい。\n\n　　■選手が競技を実施するために不要なシートは非表示にし、パスワードをかけること。（選手によるシート再表示防止）\n\n　　　　（操作方法）※Microsoft　Excel2010の場合\n　　　　　１．非表示にしたいシートの名前タブ上で右クリックし「非表示」をクリック\n　　　　　２．左上の「ファイル」をクリック\n　　　　　３．「情報」タブの「ブックの保護」をクリック\n　　　　　４．「ブック構成の保護」をクリックし、「シート構成」にチェックを付けたままパスワードを設定する。\n　\n　　　※シートを再表示したい時は、２→３→４の順に進むと「ブック構成の保護解除」になりパスワードを入力すること\n　　　　で解除できます。　　　\n\n\n\n"]

{"sheet":"課題説明  (2)","index":144,"n_rows":5,"n_cols":1,"rows_kept":5,"cut":false,"hidden":true,"merged":[[0,0,0,13],[1,0,1,13],[2,0,2,13],[3,0,3,13],[4,0,4,13]]}
["当課題及びエクセルファイルの取扱いについての注意事項"]
["○当課題は、パソコンデータ入力競技課題１を想定して作成されており、当エクセルを使用することで、課題作成から選手の入力作業、採点までが可能です。\n\n　　当エクセルファイルの構成及び説明は以下の通りです。\n\n　　　◆「課題説明」　・・・当シート。\n\n　　　◆「印刷用」　　・・・印刷用シートの画面上に「印刷用」ボタンが設置されており、１クリックで「差し込み用\n　　　　　　　　　　　　　　シート」内のアンケートデータを一度に印刷することができます。\n　　　　　　　　　　　　　　ただし、印刷初期設定の給紙トレイは”手差し”、用紙は”ハガキサイズ”となっている\n　　　　　　　　　　　　　　ため、他のサイズの用紙を用意した場合は、プリンターエラーが出る場合があります。\n　　　　　　　　　　　　　　また、一度印刷ボタンを押すと途中で中断できないため、印刷環境を整えてからクリック\n　　　　　　　　　　　　　　してください。\n\n                            ※各施設に設置されているプリンターの仕様によっても、設定方法が異なる可能性があるため\n　　　　　　　　　　　　　　適宜、プリンターにあった設定方法を確認してください。\n\n　　　◆「差し込み用」・・・このシートに入力されているデータは、当課題の”答え”を兼ねていますので、当シート\n　　　　　　　　　　　　　　のデータを変更するとすべてのシートに影響します。\n\n　　　◆「回答参考」　・・・「アンケート入力用フォーマット」構成のためのシートです。\n\n　　　"]
["　　　◆「１」～「２１」の「アンケート入力用フォーマット」\n　　　　　　　　　　　・・・選手が実際に当フォーマットに入力する用に作成しています。\n　　　　　　　　　　　　　　当フォーマットは課題数に応じてシートをコピーし増設してください。\n\n　　　◆「入力フォーム合計」　・・・「アンケート入力用フォーマット」に入力した情報が当シートにまとまります。\n　　　　　　　　　　　　　　　　　　「アンケート入力用フォーマット」を増設した場合は、「入力フォーム合計」に\n　　　　　　　　　　　　　　　　　　 連動しているセルの数式を修正する必要があります。　　　　　　　　　　　　　　\n\n　　　◆「採点例」　　・・・「差し込み用」と「入力フォーマット合計」を比較して採点できるシートです。"]
["○当課題（エクセルファイル）は、マクロは使用しておりませんが、使用するにあたって以下の知識を必要とします。\n　　\n　　　◆エクセル関数（if関数、vlookup関数など）\n　　　◆行・列の表示方法\n　　　◆シートの保護、シートの表示・非表示及びシートへのパスワードの付与"]
["○当エクセルをそのまま地方アビリンピック大会の課題として実施する場合は、以下の点に注意して下さい。\n\n　　■選手が競技を実施するために不要なシートは非表示にし、パスワードをかけること。（選手によるシート再表示防止）\n\n　　　　（操作方法）※Microsoft　Excel2010の場合\n　　　　　１．非表示にしたいシートの名前タブ上で右クリックし「非表示」をクリック\n　　　　　２．左上の「ファイル」をクリック\n　　　　　３．「情報」タブの「ブックの保護」をクリック\n　　　　　４．「ブック構成の保護」をクリックし、「シート構成」にチェックを付けたままパスワードを設定する。\n　\n　　　※シートを再表示したい時は、２→３→４の順に進むと「ブック構成の保護解除」になりパスワードを入力すること\n　　　　で解除できます。　　　\n\n\n\n"]

{"sheet":"原本","index":145,"n_rows":70,"n_cols":8,"rows_kept":70,"cut":false,"hidden":true,"merged":[[7,1,7,2],[8,1,8,2],[9,1,9,3],[10,1,10,3],[11,1,11,3],[6,1,6,3],[1,1,1,3],[2,1,2,3],[3,1,3,3],[4,1,4,3],[5,1,5,3]]}
["項目","回答"]
[1,null,null,null,null,null,null,{"$f":"VLOOKUP(B2,$B$14:$C$23,2,0)","v":{"$error":"#N/A"}}]
[2,null,null,null,null,null,null,{"$f":"VLOOKUP(B3,$B$25:$C$34,2,0)","v":{"$error":"#N/A"}}]
[3,null,null,null,null,null,null,{"$f":"VLOOKUP(B4,$B$36:$C$41,2,0)","v":{"$error":"#N/A"}}]
[4,null,null,null,null,null,null,{"$f":"VLOOKUP(B5,$B$43:$C$46,2,0)","v":{"$error":"#N/A"}}]
["5①"]
["5②"]
["5③",null,null,null,null,null,null,{"$f":"VLOOKUP(B8,$B$48:$C$49,2,0)","v":{"$error":"#N/A"}}]
["5④",null,null,null,null,null,null,{"$f":"VLOOKUP(B9,$B$51:$C$57,2,0)","v":{"$error":"#N/A"}}]
["5⑤",null,null,null,null,null,null,{"$f":"VLOOKUP(B10,$B$59:$C$70,2,0)","v":{"$error":"#N/A"}}]
["5⑥"]
["5⑦"]
[]
["①1","1.文具",1]
[null,"2.キッチン用品",2]
[null,"3.洗濯用品",3]
[null,"4.風呂用品",4]
[null,"5.玄関用品",5]
[null,"6.収納用品",6]
[null,"7.リビング用品",7]
[null,"8.トイレ用品",8]
[null,"9.屋外用品",9]
[null,"10.その他",10]
[]
["②1","1.新聞",1]
[null,"2.テレビ",2]
[null,"3.ラジオ",3]
[null,"4.雑誌",4]
[null,"5.その他情報",5]
[null,"6.折込広告",6]
[null,"7.車内広告",7]
[null,"8.Ｗｅｂ",8]
[null,"9.その他広告",9]
[null,"10.ご家族、ご友人",10]
[]
["③1","1.商品が気にいったから",1]
[null,"2.値段が手ごろだったから",2]
[null,"3.家族にすすめられたから",3]
[null,"4.友人が使っていたから",4]
[null,"5.今使っているものが古くなったから",5]
[null,"6.その他",6]
[]
["④1","1.大変満足",1]
[null,"2.まあまあ満足",2]
[null,"3.どちらかといえば不満足",3]
[null,"4.たいへん不満",4]
[]
["⑤3","1.男性",1]
[null,"2.女性",2]
[]
["⑤4","1.10代",1]
[null,"2.20代",2]
[null,"3.30代",3]
[null,"4.40代",4]
[null,"5.50代",5]
[null,"6.60代",6]
[null,"7.70歳以上",7]
[]
["⑤5","1.小学生",1]
[null,"2.中高生",2]
[null,"3.短・専門・大学生",3]
[null,"4.管理職",4]
[null,"5.事務職",5]
[null,"6.専門・技術職",6]
[null,"7.販売・サービス業",7]
[null,"8.建設業",8]
[null,"9.工場勤務",9]
[null,"10.主婦・主夫",10]
[null,"11.無職",11]
[null,"12.その他",12]